{"text_format":"2","workbook":"xlsx","n_sheets":6,"sheets":["weekly","Work details","monthly","mnth-mnth","graphs","explanations"],"not_rendered":{"charts":9,"images":0,"macros":0,"external_links":0,"defined_names":0,"comments":0,"pivot_tables":0},"unopened":[],"bounds":{"document_bytes":16777216,"sheet_cells":100000,"run_cost":"one","rows_first":2000,"rows_last":500,"rows_between":2000,"halvings":0,"cell_chars":16384,"cell_head_chars":4096},"cells_cut":0,"cells_raw":0,"read":"whole","date_system":"1900"}

{"sheet":"weekly","index":0,"n_rows":838,"n_cols":3,"rows_kept":838,"cut":false,"hidden":false,"merged":[]}
["Week Ending Sat","Chippewa Business Incorporations","Eau Claire Business Incorporations"]
["2001-01-06",2,5]
["2001-01-13",1,7]
["2001-01-20",0,1]
["2001-01-27",3,8]
["2001-02-03",2,3]
["2001-02-10",2,5]
["2001-02-17",3,13]
["2001-02-24",3,5]
["2001-03-03",8,3]
["2001-03-10",2,8]
["2001-03-17",4,5]
["2001-03-24",2,6]
["2001-03-31",7,7]
["2001-04-07",1,3]
["2001-04-14",1,5]
["2001-04-21",0,4]
["2001-04-28",2,6]
["2001-05-05",4,8]
["2001-05-12",4,7]
["2001-05-19",4,5]
["2001-05-26",3,4]
["2001-06-02",3,4]
["2001-06-09",1,5]
["2001-06-16",7,1]
["2001-06-23",1,1]
["2001-06-30",7,8]
["2001-07-07",1,4]
["2001-07-14",1,4]
["2001-07-21",1,6]
["2001-07-28",5,3]
["2001-08-04",2,1]
["2001-08-11",2,2]
["2001-08-18",3,6]
["2001-08-25",5,4]
["2001-09-01",1,8]
["2001-09-08",0,1]
["2001-09-15",2,6]
["2001-09-22",1,4]
["2001-09-29",4,6]
["2001-10-06",1,7]
["2001-10-13",6,4]
["2001-10-20",3,4]
["2001-10-27",2,4]
["2001-11-03",3,6]
["2001-11-10",5,1]
["2001-11-17",4,5]
["2001-11-24",0,0]
["2001-12-01",2,12]
["2001-12-08",5,1]
["2001-12-15",1,3]
["2001-12-22",3,7]
["2001-12-29",2,4]
["2002-01-05",2,8]
["2002-01-12",4,12]
["2002-01-19",1,4]
["2002-01-26",2,5]
["2002-02-02",3,9]
["2002-02-09",0,0]
["2002-02-16",2,5]
["2002-02-23",0,0]
["2002-03-02",6,8]
["2002-03-09",1,6]
["2002-03-16",7,6]
["2002-03-23",1,7]
["2002-03-30",2,4]
["2002-04-06",0,8]
["2002-04-13",3,12]
["2002-04-20",0,0]
["2002-04-27",5,12]
["2002-05-04",7,6]
["2002-05-11",4,5]
["2002-05-18",9,7]
["2002-05-25",0,0]
["2002-06-01",6,18]
["2002-06-08",4,7]
["2002-06-15",2,3]
["2002-06-22",6,8]
["2002-06-29",2,6]
["2002-07-06",0,0]
["2002-07-13",1,12]
["2002-07-20",3,9]
["2002-07-27",3,6]
["2002-08-03",1,8]
["2002-08-10",3,7]
["2002-08-17",4,1]
["2002-08-24",6,4]
["2002-08-31",4,6]
["2002-09-07",0,0]
["2002-09-14",1,7]
["2002-09-21",2,12]
["2002-09-28",4,5]
["2002-10-05",0,0]
["2002-10-12",2,11]
["2002-10-19",1,7]
["2002-10-26",2,7]
["2002-11-02",2,9]
["2002-11-09",4,6]
["2002-11-16",3,12]
["2002-11-23",0,0]
["2002-11-30",3,14]
["2002-12-07",1,5]
["2002-12-14",0,0]
["2002-12-21",4,8]
["2002-12-28",7,7]
["2003-01-04",2,7]
["2003-01-11",7,11]
["2003-01-18",3,6]
["2003-01-25",6,2]
["2003-02-01",1,6]
["2003-02-08",0,0]
["2003-02-15",8,11]
["2003-02-22",4,11]
["2003-03-01",2,3]
["2003-03-08",5,8]
["2003-03-15",2,7]
["2003-03-22",6,10]
["2003-03-29",3,5]
["2003-04-05",6,1]
["2003-04-12",4,4]
["2003-04-19",6,5]
["2003-04-26",3,5]
["2003-05-03",4,7]
["2003-05-10",2,8]
["2003-05-17",5,8]
["2003-05-24",2,11]
["2003-05-31",1,7]
["2003-06-07",5,9]
["2003-06-14",4,4]
["2003-06-21",3,10]
["2003-06-28",5,7]
["2003-07-05",2,6]
["2003-07-12",4,8]
["2003-07-19",5,5]
["2003-07-26",2,7]
["2003-08-02",1,4]
["2003-08-09",2,5]
["2003-08-16",2,10]
["2003-08-23",3,6]
["2003-08-30",7,4]
["2003-09-06",2,3]
["2003-09-13",2,9]
["2003-09-20",4,5]
["2003-09-27",4,4]
["2003-10-04",3,6]
["2003-10-11",2,6]
["2003-10-18",4,6]
["2003-10-25",3,9]
["2003-11-01",5,8]
["2003-11-08",11,6]
["2003-11-15",1,9]
["2003-11-22",3,5]
["2003-11-29",3,7]
["2003-12-06",3,6]
["2003-12-13",0,0]
["2003-12-20",6,19]
["2003-12-27",0,0]
["2004-01-03",9,20]
["2004-01-10",5,13]
["2004-01-17",6,6]
["2004-01-24",10,9]
["2004-01-31",5,8]
["2004-02-07",3,8]
["2004-02-14",1,7]
["2004-02-21",4,1]
["2004-02-28",3,9]
["2004-03-06",4,4]
["2004-03-13",4,18]
["2004-03-20",2,6]
["2004-03-27",6,18]
["2004-04-03",9,14]
["2004-04-10",5,14]
["2004-04-17",5,6]
["2004-04-24",4,7]
["2004-05-01",10,7]
["2004-05-08",6,13]
["2004-05-15",7,6]
["2004-05-22",5,17]
["2004-05-29",2,11]
["2004-06-05",2,11]
["2004-06-12",7,10]
["2004-06-19",5,12]
["2004-06-26",5,9]
["2004-07-03",6,8]
["2004-07-10",0,0]
["2004-07-17",8,12]
["2004-07-24",1,8]
["2004-07-31",6,5]
["2004-08-07",1,5]
["2004-08-14",3,4]
["2004-08-21",0,4]
["2004-08-28",5,10]
["2004-09-04",2,11]
["2004-09-11",2,9]
["2004-09-18",3,12]
["2004-09-25",2,5]
["2004-10-02",3,6]
["2004-10-09",4,5]
["2004-10-16",4,7]
["2004-10-23",1,8]
["2004-10-30",3,8]
["2004-11-06",3,9]
["2004-11-13",3,11]
["2004-11-20",2,4]
["2004-11-27",2,8]
["2004-12-04",22,4]
["2004-12-11",0,7]
["2004-12-18",8,8]
["2004-12-25",0,0]
["2005-01-01",9,12]
["2005-01-08",2,9]
["2005-01-15",4,15]
["2005-01-22",4,5]
["2005-01-29",2,8]
["2005-02-05",3,14]
["2005-02-12",3,10]
["2005-02-19",7,13]
["2005-02-26",6,9]
["2005-03-05",10,11]
["2005-03-12",0,0]
["2005-03-19",4,12]
["2005-03-26",6,16]
["2005-04-02",9,12]
["2005-04-09",5,8]
["2005-04-16",3,8]
["2005-04-23",4,4]
["2005-04-30",0,12]
["2005-05-07",6,16]
["2005-05-14",4,9]
["2005-05-21",2,18]
["2005-05-28",10,10]
["2005-06-04",0,0]
["2005-06-11",0,0]
["2005-06-18",0,0]
["2005-06-25",24,41]
["2005-07-02",9,10]
["2005-07-09",0,0]
["2005-07-16",9,21]
["2005-07-23",0,0]
["2005-07-30",7,16]
["2005-08-06",4,3]
["2005-08-13",6,12]
["2005-08-20",1,10]
["2005-08-27",7,13]
["2005-09-03",9,8]
["2005-09-10",1,3]
["2005-09-17",6,7]
["2005-09-24",1,9]
["2005-10-01",2,10]
["2005-10-08",3,3]
["2005-10-15",9,11]
["2005-10-22",5,13]
["2005-10-29",6,7]
["2005-11-05",3,10]
["2005-11-12",0,0]
["2005-11-19",6,17]
["2005-11-26",2,11]
["2005-12-03",5,7]
["2005-12-10",2,4]
["2005-12-17",7,6]
["2005-12-24",6,10]
["2005-12-31",3,8]
["2006-01-07",7,8]
["2006-01-14",0,0]
["2006-01-21",12,14]
["2006-01-28",10,15]
["2006-02-04",5,11]
["2006-02-11",6,6]
["2006-02-18",7,7]
["2006-02-25",5,16]
["2006-03-04",3,5]
["2006-03-11",5,19]
["2006-03-18",2,12]
["2006-03-25",9,3]
["2006-04-01",6,15]
["2006-04-08",9,11]
["2006-04-15",6,11]
["2006-04-22",11,12]
["2006-04-29",9,11]
["2006-05-06",6,11]
["2006-05-13",1,11]
["2006-05-20",5,10]
["2006-05-27",3,8]
["2006-06-03",3,6]
["2006-06-10",5,8]
["2006-06-17",8,13]
["2006-06-24",4,6]
["2006-07-01",6,10]
["2006-07-08",6,7]
["2006-07-15",3,9]
["2006-07-22",1,9]
["2006-07-29",4,16]
["2006-08-05",8,9]
["2006-08-12",4,4]
["2006-08-19",7,5]
["2006-08-26",3,11]
["2006-09-02",2,6]
["2006-09-09",2,12]
["2006-09-16",7,13]
["2006-09-23",3,14]
["2006-09-30",4,14]
["2006-10-07",6,10]
["2006-10-14",0,0]
["2006-10-21",0,0]
["2006-10-28",7,9]
["2006-11-04",1,17]
["2006-11-11",0,0]
["2006-11-18",10,19]
["2006-11-25",8,9]
["2006-12-02",0,0]
["2006-12-09",3,9]
["2006-12-16",4,7]
["2006-12-23",13,8]
["2006-12-30",1,12]
["2007-01-06",4,6]
["2007-01-13",8,15]
["2007-01-20",4,6]
["2007-01-27",11,9]
["2007-02-03",1,8]
["2007-02-10",4,15]
["2007-02-17",4,16]
["2007-02-24",4,8]
["2007-03-03",7,7]
["2007-03-10",7,5]
["2007-03-17",3,11]
["2007-03-24",8,5]
["2007-03-31",5,19]
["2007-04-07",3,7]
["2007-04-14",2,11]
["2007-04-21",12,6]
["2007-04-28",4,21]
["2007-05-05",11,10]
["2007-05-12",8,10]
["2007-05-19",8,12]
["2007-05-26",10,11]
["2007-06-02"]
["2007-06-09",10,7]
["2007-06-16",5,6]
["2007-06-23",10,6]
["2007-06-30",4,9]
["2007-07-07",3,6]
["2007-07-14",5,8]
["2007-07-21",5,14]
["2007-07-28"]
["2007-08-04",9,13]
["2007-08-11",2,10]
["2007-08-18",3,9]
["2007-08-25",7,14]
["2007-09-01",8,11]
["2007-09-08",6,7]
["2007-09-15",8,14]
["2007-09-22",4,27]
["2007-09-29",4,9]
["2007-10-06",2,7]
["2007-10-13",4,13]
["2007-10-20",6,11]
["2007-10-27"]
["2007-11-03",13,12]
["2007-11-10"]
["2007-11-17",7,18]
["2007-11-24"]
["2007-12-01",6,23]
["2007-12-08",1,13]
["2007-12-15",1,8]
["2007-12-22",8,8]
["2007-12-29",8,6]
["2008-01-05",5,5]
["2008-01-12",7,14]
["2008-01-19",5,14]
["2008-01-26",3,9]
["2008-02-02",5,11]
["2008-02-09",3,9]
["2008-02-16",8,9]
["2008-02-23",5,8]
["2008-03-01",6,5]
["2008-03-08",8,15]
["2008-03-15",10,9]
["2008-03-22",6,10]
["2008-03-29",4,10]
["2008-04-05",6,9]
["2008-04-12",3,11]
["2008-04-19",9,10]
["2008-04-26",6,15]
["2008-05-03",10,18]
["2008-05-10",8,7]
["2008-05-17",10,12]
["2008-05-24",6,4]
["2008-05-31",18,10]
["2008-06-07"]
["2008-06-14",4,9]
["2008-06-21",4,2]
["2008-06-28"]
["2008-07-05",6,19]
["2008-07-12",10,12]
["2008-07-19",8,3]
["2008-07-26",2,9]
["2008-08-02",1,6]
["2008-08-09",4,6]
["2008-08-16",4,8]
["2008-08-23",6,5]
["2008-08-30",4,6]
["2008-09-06",3,6]
["2008-09-13",1,6]
["2008-09-20",3,8]
["2008-09-27",3,9]
["2008-10-04",2,12]
["2008-10-11",3,9]
["2008-10-18"]
["2008-10-25",6,10]
["2008-11-01",7,4]
["2008-11-08",4,13]
["2008-11-15",2,5]
["2008-11-22"]
["2008-11-29",4,17]
["2008-12-06",8,10]
["2008-12-13",6,6]
["2008-12-20",6,14]
["2008-12-27"]
["2009-01-03",6,16]
["2009-01-10",7,8]
["2009-01-17",4,11]
["2009-01-24",3,5]
["2009-01-31",3,6]
["2009-02-07",1,7]
["2009-02-14",4,8]
["2009-02-21",5,11]
["2009-02-28",0,12]
["2009-03-07",4,18]
["2009-03-14",3,5]
["2009-03-21",3,8]
["2009-03-28",8,11]
["2009-04-04",8,12]
["2009-04-11",5,11]
["2009-04-18",4,7]
["2009-04-25",3,9]
["2009-05-02",5,3]
["2009-05-09"]
["2009-05-16",7,15]
["2009-05-23",4,4]
["2009-05-30",7,12]
["2009-06-06",4,7]
["2009-06-13"]
["2009-06-20",3,12]
["2009-06-27",5,8]
["2009-07-04",3,5]
["2009-07-11"]
["2009-07-18",4,18]
["2009-07-25",5,8]
["2009-08-01",6,9]
["2009-08-08",7,2]
["2009-08-15",4,8]
["2009-08-22"]
["2009-08-29",6,20]
["2009-09-05",7,8]
["2009-09-12",2,9]
["2009-09-19",3,7]
["2009-09-26",3,5]
["2009-10-03",10,13]
["2009-10-10",2,7]
["2009-10-17",3,10]
["2009-10-24",5,15]
["2009-10-31",7,9]
["2009-11-07",8,16]
["2009-11-14",6,17]
["2009-11-21",6,9]
["2009-11-28",2,9]
["2009-12-05",2,10]
["2009-12-12",0,0]
["2009-12-19",6,14]
["2009-12-26",0,0]
["2010-01-02",6,14]
["2010-01-09",5,3]
["2010-01-16",1,6]
["2010-01-23",5,6]
["2010-01-30",3,6]
["2010-02-06",4,15]
["2010-02-13",3,9]
["2010-02-20",4,6]
["2010-02-27",6,3]
["2010-03-06",8,10]
["2010-03-13",7,13]
["2010-03-20",3,12]
["2010-03-27",7,5]
["2010-04-03",10,7]
["2010-04-10",3,10]
["2010-04-17",8,9]
["2010-04-24",4,10]
["2010-05-01",5,15]
["2010-05-08",6,4]
["2010-05-15",5,13]
["2010-05-22",7,11]
["2010-05-29"]
["2010-06-05",4,7]
["2010-06-12",4,11]
["2010-06-19",1,4]
["2010-06-26",5,9]
["2010-07-03",4,10]
["2010-07-10",1,8]
["2010-07-17",1,7]
["2010-07-24",2,6]
["2010-07-31",6,12]
["2010-08-07",1,6]
["2010-08-14",6,4]
["2010-08-21",3,7]
["2010-08-28",6,11]
["2010-09-04",3,15]
["2010-09-11",0,0]
["2010-09-18",9,14]
["2010-09-25",2,13]
["2010-10-02",3,6]
["2010-10-09",3,6]
["2010-10-16",4,11]
["2010-10-23",5,15]
["2010-10-30",8,10]
["2010-11-06",4,12]
["2010-11-13",6,9]
["2010-11-20",2,12]
["2010-11-27",3,10]
["2010-12-04",3,6]
["2010-12-11",4,17]
["2010-12-18",6,15]
["2010-12-25",3,14]
["2011-01-01",2,11]
["2011-01-08",6,17]
["2011-01-15",1,8]
["2011-01-22",4,7]
["2011-01-29",4,6]
["2011-02-05",7,5]
["2011-02-12",6,8]
["2011-02-19",6,8]
["2011-02-26",7,9]
["2011-03-05",9,12]
["2011-03-12",8,12]
["2011-03-19",4,15]
["2011-03-26",5,15]
["2011-04-02",10,8]
["2011-04-09",9,8]
["2011-04-16",4,11]
["2011-04-23",4,12]
["2011-04-30",4,17]
["2011-05-07",1,12]
["2011-05-14",3,19]
["2011-05-21",6,7]
["2011-05-28",10,11]
["2011-06-04",5,9]
["2011-06-11",1,12]
["2011-06-18",4,5]
["2011-06-25",8,14]
["2011-07-02",7,7]
["2011-07-09",3,3]
["2011-07-16",6,9]
["2011-07-23",5,9]
["2011-07-30",7,10]
["2011-08-06",7,9]
["2011-08-13",0,0]
["2011-08-20",7,19]
["2011-08-27",2,10]
["2011-09-03",2,9]
["2011-09-10",3,9]
["2011-09-17",3,10]
["2011-09-24",7,11]
["2011-10-01",8,4]
["2011-10-08",6,5]
["2011-10-15",5,8]
["2011-10-22",3,9]
["2011-10-29",3,6]
["2011-11-05",3,5]
["2011-11-12",1,18]
["2011-11-19",4,12]
["2011-11-26",1,13]
["2011-12-03",5,6]
["2011-12-10",8,14]
["2011-12-17",7,8]
["2011-12-24",16,23]
["2011-12-31",8,15]
["2012-01-07",8,19]
["2012-01-14",6,15]
["2012-01-21",7,9]
["2012-01-28",2,6]
["2012-02-04",12,9]
["2012-02-11",7,12]
["2012-02-18",5,12]
["2012-02-25",8,20]
["2012-03-03",4,16]
["2012-03-10",8,14]
["2012-03-17",5,10]
["2012-03-24",3,15]
["2012-03-31",3,15]
["2012-04-07",9,8]
["2012-04-14",3,8]
["2012-04-21",4,9]
["2012-04-28",9,14]
["2012-05-05",4,15]
["2012-05-12",3,14]
["2012-05-19",6,14]
["2012-05-26",5,11]
["2012-06-02",8,11]
["2012-06-09",4,13]
["2012-06-16",2,12]
["2012-06-23",5,6]
["2012-06-30",3,8]
["2012-07-07",1,10]
["2012-07-14",10,20]
["2012-07-21",0,0]
["2012-07-28",7,10]
["2012-08-05",7,7]
["2012-08-12",4,12]
["2012-08-19",0,0]
["2012-08-26",2,10]
["2012-09-03",3,5]
["2012-09-10",2,12]
["2012-09-17",3,10]
["2012-09-24",3,10]
["2012-10-01",14,10]
["2012-10-08",3,9]
["2012-10-15",7,8]
["2012-10-22",10,16]
["2012-10-29",8,21]
["2012-11-05",3,6]
["2012-11-12",4,5]
["2012-11-19",5,14]
["2012-11-26",2,17]
["2012-12-03",4,17]
["2012-12-10",10,14]
["2012-12-17",9,14]
["2012-12-24",5,13]
["2012-12-31",5,11]
["2013-01-07",7,10]
["2013-01-14",6,16]
["2013-01-21",5,12]
["2013-01-28",4,17]
["2013-02-04",5,14]
["2013-02-11",5,7]
["2013-02-18",3,19]
["2013-02-25",6,15]
["2013-03-04",3,10]
["2013-03-11",9,17]
["2013-03-18",6,6]
["2013-03-25",0,0]
["2013-04-01",4,12]
["2013-04-08",0,0]
["2013-04-15",10,27]
["2013-04-22",4,10]
["2013-04-29",6,17]
["2013-05-06",7,13]
["2013-05-13",8,12]
["2013-05-20",6,17]
["2013-05-27",6,17]
["2013-06-03",4,7]
["2013-06-10",10,16]
["2013-06-17",5,10]
["2013-06-24",6,8]
["2013-07-01",5,6]
["2013-07-08",2,9]
["2013-07-15",4,6]
["2013-07-22",8,12]
["2013-07-29",12,24]
["2013-08-05",2,6]
["2013-08-12",7,11]
["2013-08-19",14,5]
["2013-08-26",10,25]
["2013-09-02",4,10]
["2013-09-09",4,12]
["2013-09-16",0,0]
["2013-09-23",5,12]
["2013-09-30",6,3]
["2013-10-07",6,22]
["2013-10-14",4,11]
["2013-10-21",0,0]
["2013-10-28",7,9]
["2013-11-04",4,13]
["2013-11-11",3,12]
["2013-11-18",5,8]
["2013-11-25",5,18]
["2013-12-02",5,5]
["2013-12-09",6,7]
["2013-12-16",9,7]
["2013-12-23",9,9]
["2013-12-30",5,7]
["2014-01-06",5,7]
["2014-01-13",8,12]
["2014-01-20",5,14]
["2014-01-27",4,16]
["2014-02-03",8,10]
["2014-02-10",8,11]
["2014-02-17",8,11]
["2014-02-24",7,9]
["2014-03-03",6,10]
["2014-03-10",12,9]
["2014-03-17",8,16]
["2014-03-24",8,12]
["2014-03-31",8,25]
["2014-04-07",2,6]
["2014-04-14",11,30]
["2014-04-21",0,0]
["2014-04-28",16,21]
["2014-05-05",16,17]
["2014-05-12",0,0]
["2014-05-19",0,0]
["2014-05-26",17,22]
["2014-06-02",6,10]
["2014-06-09",4,8]
["2014-06-16",3,12]
["2014-06-23",6,20]
["2014-06-30",3,9]
["2014-07-07",5,7]
["2014-07-14",5,13]
["2014-07-21",12,19]
["2014-07-28",12,10]
["2014-08-04",2,2]
["2014-08-11",4,19]
["2014-08-18",17,22]
["2014-08-25",8,18]
["2014-09-01",6,5]
["2014-09-08",4,7]
["2014-09-15",3,6]
["2014-09-22",5,7]
["2014-09-29",6,6]
["2014-10-06",11,15]
["2014-10-13",5,5]
["2014-10-20",7,14]
["2014-10-27",12,11]
["2014-11-03",2,6]
["2014-11-10",6,16]
["2014-11-17",2,9]
["2014-11-24",5,10]
["2014-12-01",4,10]
["2014-12-08",2,9]
["2014-12-15",9,20]
["2014-12-22",9,14]
["2014-12-29",17,26]
["2015-01-05",11,17]
["2015-01-12",7,14]
["2015-01-19",6,11]
["2015-01-26",7,11]
["2015-02-02",6,17]
["2015-02-09",8,14]
["2015-02-16",6,15]
["2015-02-23",8,9]
["2015-03-02",16,19]
["2015-03-09",11,14]
["2015-03-13",8,13]
["2015-03-20",13,10]
["2015-03-27",5,17]
["2015-04-03",7,6]
["2015-04-10",4,7]
["2015-04-17",6,7]
["2015-04-24",6,15]
["2015-05-01",5,8]
["2015-05-08",8,21]
["2015-05-15",9,7]
["2015-05-22",5,10]
["2015-06-05",1,13]
["2015-06-12",7,11]
["2015-06-19",12,8]
["2015-06-26",11,14]
["2015-07-10",13,22]
["2015-07-17",7,28]
["2015-07-24",4,8]
["2015-07-31",8,13]
["2015-08-07"]
["2015-08-15"]
["2015-08-21"]
["2015-08-28"]
["2015-09-11"]
["2015-09-18"]
["2015-09-26"]
["2015-10-04"]
["2015-10-10"]
["2015-10-17"]
["2015-10-24"]
["2015-10-31"]
["2015-11-07"]
["2015-11-14"]
["2015-11-21"]
["2015-11-28"]
["2015-12-05"]
["2015-12-12"]
["2015-12-19"]
["2015-12-26"]
["2016-01-02"]
["2016-01-09",4,9]
["2016-01-16",2,12]
["2016-01-23",7,9]
["2016-01-30",4,7]
["2016-02-06",10,19]
["2016-02-13",5,11]
["2016-02-20",10,28]
["2016-02-27",7,14]
["2016-03-05",4,13]
["2016-03-12",7,13]
["2016-03-19",8,6]
["2016-03-26",10,12]
["2016-04-02",12,19]
["2016-04-09",9,20]
["2016-04-16",5,16]
["2016-04-23",4,9]
["2016-04-30",18,20]
["2016-05-07",5,12]
["2016-05-14",9,20]
["2016-05-21",3,9]
["2016-05-28"]
["2016-06-04",15,16]
["2016-06-11",8,16]
["2016-06-18",6,20]
["2016-06-25",13,27]
["2016-07-02"]
["2016-07-09",5,16]
["2016-07-16",4,8]
["2016-07-23",5,14]
["2016-07-30",6,12]
["2016-08-06",3,7]
["2016-08-13",8,8]
["2016-08-20",2,6]
["2016-08-27",0,0]
["2016-09-03"]
["2016-09-10",6,3]
["2016-09-17",5,15]
["2016-09-24",5,9]
["2016-10-01",3,17]
["2016-10-08",4,9]
["2016-10-15",3,13]
["2016-10-22",9,14]
["2016-10-29"]
["2016-11-05"]
["2016-11-12"]
["2016-11-19"]
["2016-11-26"]
["2016-12-03"]
["2016-12-10"]
["2016-12-17"]
["2016-12-24"]
["2016-12-31"]
["2017-01-07"]
["2017-01-14"]
["2017-01-21"]
["2017-01-28"]
["2017-02-04"]

{"sheet":"Work details","index":1,"n_rows":57,"n_cols":1,"rows_kept":57,"cut":false,"hidden":false,"merged":[]}
["Bottom Line Newsletter"]
[]
["Dates in the data refer to the dates of the Bottom Line issues in which the information is provided, not the dates when the activities are reported to government agencies."]
["Bottom Line issues are dated on Fridays, and entered in the data for the following Saturdays."]
[]
["Data on incorporations are for about five weeks before the date in the data.  (For example, data from Feb. 14 - 23 appear on April 1st.)  Data on bankruptcies and building permits are for the week before."]
[]
["The Bottom Line gets data on incorporations from the WI Secretary of State's office; data on building permits from the county Inspectors' offices; and data on bankruptcies from the Eau Claire US Clerk of Bankruptcy office."]
[]
[]
[]
[]
["cvcerd folder, economic indicators folder, data, folder, bldperm_bankrupt_businc folder"]
["File Name: bot_line_data.xls (w = weekly, m = monthly)"]
[]
["Contact: Dan Ropa: Bottom Line Editor   715-834-7337"]
["-Sent directly to me by mail weekly (on Friday) (incorporations have longer lag than BP and Bank)"]
[]
["-Count weekly Numbers"]
["-Calculate Total for Each Month (sum weekly), Use Data Timing Rule"]
[]
["ec_wbr-----Eau Claire County Bankruptcies, weekly"]
["ch_wbr-----Chippewa County Bankruptcies, weekly"]
["ecch_wbr-----Bankruptcies (Eau Claire MSA), weekly"]
["ec_wbp-----Eau Claire Commercial County Building Permits, at least $40,000, weekly"]
["ch_wbp-----Chippewa County Commercial Building Permits, at least $40,000, weekly"]
["ecch_wbp-----Commercial Building Permits (Eau Claire MSA), at least $40,000, weekly"]
["ec_vwbp-----Value Eau Claire Commercial County Building Permits, weekly"]
["ch_vwbp-----Value Chippewa County Commercial Building Permits, weekly"]
["ecch_vwbp-----Value Commercial Building Permits (Eau Claire MSA), weekly"]
["ec_wbi-----New Business Incorporations in Eau Claire County, weekly"]
["ch_wbi-----New Business Incorporations in Chippewa County, weekly"]
["ecch_wbi-----New Business Incorporations (Eau Claire MSA), weekly"]
["ec_mbr-----Eau Claire County Bankruptcies, monthly"]
["ch_mbr-----Chippewa County Bankruptcies, monthly"]
["ecch_mbr-----Bankruptcies (Eau Claire MSA), monthly"]
["ec_mbp-----Eau Claire County Commercial Building Permits, at least $40,000, monthly"]
["ch_mbp-----Chippewa County Commercial Building Permits, at least $40,000, monthly"]
["ecch_mbp-----Commercial Building Permits (Eau Claire MSA), at least $40,000, monthly"]
["ec_vmbp_r96-----Real (96) Value Eau Claire Commercial County Building Permits , weekly"]
["ch_vmbp_r96-----Real (96) Value Chippewa County Commercial Building Permits, weekly"]
["ecch_vmbp_r96-----Real (96) Value Commercial Building Permits (Eau Claire MSA), weekly"]
["ec_mbi----- New Business Incorporations in Eau Claire County, monthly"]
["ch_mbi----- New Business Incorporations in Chippewa County, monthly"]
["ecch_mbi-----New Business Incorporations (Eau Claire MSA), monthly"]
[]
["Data Timing if week goes into next month."]
["If new month is 3 or less it is part of previous month. "]
["If new month is 4 or more it is part of the new month."]
[]
["*Calculate real $ for value"]
[]
["Report: Page 17   "]
["Web Data Folder, sales_economic_activity folder, cvcerd_bankrupt_bus-inc_data_2010-2019.xls"]
[]
["Report: Page 18     "]
["Web Data Folder, construction_building folder, cvcerd_com-ind_build_permit_data_2010-2019.xls"]

{"sheet":"monthly","index":2,"n_rows":181,"n_cols":19,"rows_kept":181,"cut":false,"hidden":false,"merged":[]}
["month","ch_mbr","ch_mbp","ch_vmbp","ch_vmbp_r96","ch_mbi","ec_mbr","ec_mbp","ec_vmbp","ec_vmbp_r96","ec_mbi","ecch_mbr","ecch_mbp","ecch_vmbp","ecch_vmbp_r96","ecch_mbi","mw_u_cpi","mw_u_cpi_96","base: 1996=100"]
["2001-01-01",{"$f":"SUM(weekly!#REF!)","v":{"$error":"#REF!"}},{"$f":"SUM(weekly!#REF!)","v":{"$error":"#REF!"}},null,null,{"$f":"SUM(weekly!B2:B6)","v":8},{"$f":"SUM(weekly!#REF!)","v":{"$error":"#REF!"}},{"$f":"SUM(weekly!#REF!)","v":{"$error":"#REF!"}},null,null,{"$f":"SUM(weekly!C2:C6)","v":24},{"$f":"SUM(weekly!#REF!)","v":{"$error":"#REF!"}},{"$f":"SUM(weekly!#REF!)","v":{"$error":"#REF!"}},{"$f":"SUM(weekly!#REF!)","v":{"$error":"#REF!"}},{"$f":"(N2/R2)*100","v":{"$error":"#REF!"}},{"$f":"SUM(weekly!#REF!)","v":{"$error":"#REF!"}},171.9,{"$f":"(Q2/$S$2)*100","v":112.35906095103219},152.99166666666667]
["2001-02-01",{"$f":"SUM(weekly!#REF!)","v":{"$error":"#REF!"}},{"$f":"SUM(weekly!#REF!)","v":{"$error":"#REF!"}},null,null,{"$f":"SUM(weekly!B7:B10)","v":16},{"$f":"SUM(weekly!#REF!)","v":{"$error":"#REF!"}},{"$f":"SUM(weekly!#REF!)","v":{"$error":"#REF!"}},null,null,{"$f":"SUM(weekly!C7:C10)","v":26},{"$f":"SUM(weekly!#REF!)","v":{"$error":"#REF!"}},{"$f":"SUM(weekly!#REF!)","v":{"$error":"#REF!"}},{"$f":"SUM(weekly!#REF!)","v":{"$error":"#REF!"}},{"$error":"#REF!"},{"$f":"SUM(weekly!#REF!)","v":{"$error":"#REF!"}},172.1,{"$f":"(Q3/$S$2)*100","v":112.48978702543711}]
["2001-03-01",{"$f":"SUM(weekly!#REF!)","v":{"$error":"#REF!"}},{"$f":"SUM(weekly!#REF!)","v":{"$error":"#REF!"}},null,null,{"$f":"SUM(weekly!B11:B14)","v":15},{"$f":"SUM(weekly!#REF!)","v":{"$error":"#REF!"}},{"$f":"SUM(weekly!#REF!)","v":{"$error":"#REF!"}},null,null,{"$f":"SUM(weekly!C11:C14)","v":26},{"$f":"SUM(weekly!#REF!)","v":{"$error":"#REF!"}},{"$f":"SUM(weekly!#REF!)","v":{"$error":"#REF!"}},{"$f":"SUM(weekly!#REF!)","v":{"$error":"#REF!"}},{"$error":"#REF!"},{"$f":"SUM(weekly!#REF!)","v":{"$error":"#REF!"}},171.7,112.22833487662724]
["2001-04-01",{"$f":"SUM(weekly!#REF!)","v":{"$error":"#REF!"}},{"$f":"SUM(weekly!#REF!)","v":{"$error":"#REF!"}},null,null,{"$f":"SUM(weekly!B15:B18)","v":4},{"$f":"SUM(weekly!#REF!)","v":{"$error":"#REF!"}},{"$f":"SUM(weekly!#REF!)","v":{"$error":"#REF!"}},null,null,{"$f":"SUM(weekly!C15:C18)","v":18},{"$f":"SUM(weekly!#REF!)","v":{"$error":"#REF!"}},{"$f":"SUM(weekly!#REF!)","v":{"$error":"#REF!"}},{"$f":"SUM(weekly!#REF!)","v":{"$error":"#REF!"}},{"$error":"#REF!"},{"$f":"SUM(weekly!#REF!)","v":{"$error":"#REF!"}},172.8,112.94732828585434]
["2001-05-01",{"$f":"SUM(weekly!#REF!)","v":{"$error":"#REF!"}},{"$f":"SUM(weekly!#REF!)","v":{"$error":"#REF!"}},null,null,{"$f":"SUM(weekly!B19:B23)","v":18},{"$f":"SUM(weekly!#REF!)","v":{"$error":"#REF!"}},{"$f":"SUM(weekly!#REF!)","v":{"$error":"#REF!"}},null,null,{"$f":"SUM(weekly!C19:C23)","v":28},{"$f":"SUM(weekly!#REF!)","v":{"$error":"#REF!"}},{"$f":"SUM(weekly!#REF!)","v":{"$error":"#REF!"}},{"$f":"SUM(weekly!#REF!)","v":{"$error":"#REF!"}},{"$error":"#REF!"},{"$f":"SUM(weekly!#REF!)","v":{"$error":"#REF!"}},174.2,113.8624108066888]
["2001-06-01",{"$f":"SUM(weekly!#REF!)","v":{"$error":"#REF!"}},{"$f":"SUM(weekly!#REF!)","v":{"$error":"#REF!"}},null,null,{"$f":"SUM(weekly!B24:B27)","v":16},{"$f":"SUM(weekly!#REF!)","v":{"$error":"#REF!"}},{"$f":"SUM(weekly!#REF!)","v":{"$error":"#REF!"}},null,null,{"$f":"SUM(weekly!C24:C27)","v":15},{"$f":"SUM(weekly!#REF!)","v":{"$error":"#REF!"}},{"$f":"SUM(weekly!#REF!)","v":{"$error":"#REF!"}},{"$f":"SUM(weekly!#REF!)","v":{"$error":"#REF!"}},{"$error":"#REF!"},{"$f":"SUM(weekly!#REF!)","v":{"$error":"#REF!"}},173.8,113.60095865787898]
["2001-07-01",{"$f":"SUM(weekly!#REF!)","v":{"$error":"#REF!"}},{"$f":"SUM(weekly!#REF!)","v":{"$error":"#REF!"}},null,null,{"$f":"SUM(weekly!B28:B31)","v":8},{"$f":"SUM(weekly!#REF!)","v":{"$error":"#REF!"}},{"$f":"SUM(weekly!#REF!)","v":{"$error":"#REF!"}},null,null,{"$f":"SUM(weekly!C28:C31)","v":17},{"$f":"SUM(weekly!#REF!)","v":{"$error":"#REF!"}},{"$f":"SUM(weekly!#REF!)","v":{"$error":"#REF!"}},{"$f":"SUM(weekly!#REF!)","v":{"$error":"#REF!"}},{"$error":"#REF!"},{"$f":"SUM(weekly!#REF!)","v":{"$error":"#REF!"}},172.5,112.75123917424696]
["2001-08-01",{"$f":"SUM(weekly!#REF!)","v":{"$error":"#REF!"}},{"$f":"SUM(weekly!#REF!)","v":{"$error":"#REF!"}},null,null,{"$f":"SUM(weekly!B32:B36)","v":13},{"$f":"SUM(weekly!#REF!)","v":{"$error":"#REF!"}},{"$f":"SUM(weekly!#REF!)","v":{"$error":"#REF!"}},null,null,{"$f":"SUM(weekly!C32:C36)","v":21},{"$f":"SUM(weekly!#REF!)","v":{"$error":"#REF!"}},{"$f":"SUM(weekly!#REF!)","v":{"$error":"#REF!"}},{"$f":"SUM(weekly!#REF!)","v":{"$error":"#REF!"}},{"$error":"#REF!"},{"$f":"SUM(weekly!#REF!)","v":{"$error":"#REF!"}},173,113.07805436025926]
["2001-09-01",{"$f":"SUM(weekly!#REF!)","v":{"$error":"#REF!"}},{"$f":"SUM(weekly!#REF!)","v":{"$error":"#REF!"}},null,null,{"$f":"SUM(weekly!B37:B40)","v":7},{"$f":"SUM(weekly!#REF!)","v":{"$error":"#REF!"}},{"$f":"SUM(weekly!#REF!)","v":{"$error":"#REF!"}},null,null,{"$f":"SUM(weekly!C37:C40)","v":17},{"$f":"SUM(weekly!#REF!)","v":{"$error":"#REF!"}},{"$f":"SUM(weekly!#REF!)","v":{"$error":"#REF!"}},{"$f":"SUM(weekly!#REF!)","v":{"$error":"#REF!"}},{"$error":"#REF!"},{"$f":"SUM(weekly!#REF!)","v":{"$error":"#REF!"}},174.6,114.12386295549865]
["2001-10-01",{"$f":"SUM(weekly!#REF!)","v":{"$error":"#REF!"}},{"$f":"SUM(weekly!#REF!)","v":{"$error":"#REF!"}},null,null,{"$f":"SUM(weekly!B41:B45)","v":15},{"$f":"SUM(weekly!#REF!)","v":{"$error":"#REF!"}},{"$f":"SUM(weekly!#REF!)","v":{"$error":"#REF!"}},null,null,{"$f":"SUM(weekly!C41:C45)","v":25},{"$f":"SUM(weekly!#REF!)","v":{"$error":"#REF!"}},{"$f":"SUM(weekly!#REF!)","v":{"$error":"#REF!"}},{"$f":"SUM(weekly!#REF!)","v":{"$error":"#REF!"}},{"$error":"#REF!"},{"$f":"SUM(weekly!#REF!)","v":{"$error":"#REF!"}},172.6,112.81660221144942]
["2001-11-01",{"$f":"SUM(weekly!#REF!)","v":{"$error":"#REF!"}},{"$f":"SUM(weekly!#REF!)","v":{"$error":"#REF!"}},null,null,{"$f":"SUM(weekly!B46:B49)","v":11},{"$f":"SUM(weekly!#REF!)","v":{"$error":"#REF!"}},{"$f":"SUM(weekly!#REF!)","v":{"$error":"#REF!"}},null,null,{"$f":"SUM(weekly!C46:C49)","v":18},{"$f":"SUM(weekly!#REF!)","v":{"$error":"#REF!"}},{"$f":"SUM(weekly!#REF!)","v":{"$error":"#REF!"}},{"$f":"SUM(weekly!#REF!)","v":{"$error":"#REF!"}},{"$error":"#REF!"},{"$f":"SUM(weekly!#REF!)","v":{"$error":"#REF!"}},172.5,112.75123917424696]
["2001-12-01",{"$f":"SUM(weekly!#REF!)","v":{"$error":"#REF!"}},{"$f":"SUM(weekly!#REF!)","v":{"$error":"#REF!"}},null,null,{"$f":"SUM(weekly!B50:B53)","v":11},{"$f":"SUM(weekly!#REF!)","v":{"$error":"#REF!"}},{"$f":"SUM(weekly!#REF!)","v":{"$error":"#REF!"}},null,null,{"$f":"SUM(weekly!C50:C53)","v":15},{"$f":"SUM(weekly!#REF!)","v":{"$error":"#REF!"}},{"$f":"SUM(weekly!#REF!)","v":{"$error":"#REF!"}},{"$f":"SUM(weekly!#REF!)","v":{"$error":"#REF!"}},{"$error":"#REF!"},{"$f":"SUM(weekly!#REF!)","v":{"$error":"#REF!"}},171.9,112.35906095103219]
["2002-01-01",{"$f":"SUM(weekly!#REF!)","v":{"$error":"#REF!"}},{"$f":"SUM(weekly!#REF!)","v":{"$error":"#REF!"}},{"$f":"SUM(weekly!#REF!)","v":{"$error":"#REF!"}},{"$f":"(D14/R14)*100","v":{"$error":"#REF!"}},{"$f":"SUM(weekly!B54:B58)","v":12},{"$f":"SUM(weekly!#REF!)","v":{"$error":"#REF!"}},{"$f":"SUM(weekly!#REF!)","v":{"$error":"#REF!"}},{"$f":"SUM(weekly!#REF!)","v":{"$error":"#REF!"}},{"$f":"(I14/R14)*100","v":{"$error":"#REF!"}},{"$f":"SUM(weekly!C54:C58)","v":38},{"$f":"SUM(weekly!#REF!)","v":{"$error":"#REF!"}},{"$f":"SUM(weekly!#REF!)","v":{"$error":"#REF!"}},{"$f":"SUM(weekly!#REF!)","v":{"$error":"#REF!"}},{"$f":"(N14/R14)*100","v":{"$error":"#REF!"}},{"$f":"SUM(weekly!#REF!)","v":{"$error":"#REF!"}},172.1,112.48978702543711]
["2002-02-01",{"$f":"SUM(weekly!#REF!)","v":{"$error":"#REF!"}},{"$f":"SUM(weekly!#REF!)","v":{"$error":"#REF!"}},{"$f":"SUM(weekly!#REF!)","v":{"$error":"#REF!"}},{"$f":"(D15/R15)*100","v":{"$error":"#REF!"}},{"$f":"SUM(weekly!B59:B62)","v":8},{"$f":"SUM(weekly!#REF!)","v":{"$error":"#REF!"}},{"$f":"SUM(weekly!#REF!)","v":{"$error":"#REF!"}},{"$f":"SUM(weekly!#REF!)","v":{"$error":"#REF!"}},{"$f":"(I15/R15)*100","v":{"$error":"#REF!"}},{"$f":"SUM(weekly!C59:C62)","v":13},{"$f":"SUM(weekly!#REF!)","v":{"$error":"#REF!"}},{"$f":"SUM(weekly!#REF!)","v":{"$error":"#REF!"}},{"$f":"SUM(weekly!#REF!)","v":{"$error":"#REF!"}},{"$f":"(N15/R15)*100","v":{"$error":"#REF!"}},{"$f":"SUM(weekly!#REF!)","v":{"$error":"#REF!"}},172.5,112.75123917424696]
["2002-03-01",{"$f":"SUM(weekly!#REF!)","v":{"$error":"#REF!"}},{"$f":"SUM(weekly!#REF!)","v":{"$error":"#REF!"}},{"$f":"SUM(weekly!#REF!)","v":{"$error":"#REF!"}},{"$error":"#REF!"},{"$f":"SUM(weekly!B63:B66)","v":11},{"$f":"SUM(weekly!#REF!)","v":{"$error":"#REF!"}},{"$f":"SUM(weekly!#REF!)","v":{"$error":"#REF!"}},{"$f":"SUM(weekly!#REF!)","v":{"$error":"#REF!"}},{"$error":"#REF!"},{"$f":"SUM(weekly!C63:C66)","v":23},{"$f":"SUM(weekly!#REF!)","v":{"$error":"#REF!"}},{"$f":"SUM(weekly!#REF!)","v":{"$error":"#REF!"}},{"$f":"SUM(weekly!#REF!)","v":{"$error":"#REF!"}},{"$error":"#REF!"},{"$f":"SUM(weekly!#REF!)","v":{"$error":"#REF!"}},173.6,113.47023258347404]
["2002-04-01",{"$f":"SUM(weekly!#REF!)","v":{"$error":"#REF!"}},{"$f":"SUM(weekly!#REF!)","v":{"$error":"#REF!"}},{"$f":"SUM(weekly!#REF!)","v":{"$error":"#REF!"}},{"$error":"#REF!"},{"$f":"SUM(weekly!B67:B70)","v":8},{"$f":"SUM(weekly!#REF!)","v":{"$error":"#REF!"}},{"$f":"SUM(weekly!#REF!)","v":{"$error":"#REF!"}},{"$f":"SUM(weekly!#REF!)","v":{"$error":"#REF!"}},{"$error":"#REF!"},{"$f":"SUM(weekly!C67:C70)","v":32},{"$f":"SUM(weekly!#REF!)","v":{"$error":"#REF!"}},{"$f":"SUM(weekly!#REF!)","v":{"$error":"#REF!"}},{"$f":"SUM(weekly!#REF!)","v":{"$error":"#REF!"}},{"$error":"#REF!"},{"$f":"SUM(weekly!#REF!)","v":{"$error":"#REF!"}},174.7,114.18922599270111]
["2002-05-01",{"$f":"SUM(weekly!#REF!)","v":{"$error":"#REF!"}},{"$f":"SUM(weekly!#REF!)","v":{"$error":"#REF!"}},{"$f":"SUM(weekly!#REF!)","v":{"$error":"#REF!"}},{"$error":"#REF!"},{"$f":"SUM(weekly!B71:B75)","v":26},{"$f":"SUM(weekly!#REF!)","v":{"$error":"#REF!"}},{"$f":"SUM(weekly!#REF!)","v":{"$error":"#REF!"}},{"$f":"SUM(weekly!#REF!)","v":{"$error":"#REF!"}},{"$error":"#REF!"},{"$f":"SUM(weekly!C71:C75)","v":36},{"$f":"SUM(weekly!#REF!)","v":{"$error":"#REF!"}},{"$f":"SUM(weekly!#REF!)","v":{"$error":"#REF!"}},{"$f":"SUM(weekly!#REF!)","v":{"$error":"#REF!"}},{"$error":"#REF!"},{"$f":"SUM(weekly!#REF!)","v":{"$error":"#REF!"}},174.8,114.2545890299036]
["2002-06-01",{"$f":"SUM(weekly!#REF!)","v":{"$error":"#REF!"}},{"$f":"SUM(weekly!#REF!)","v":{"$error":"#REF!"}},{"$f":"SUM(weekly!#REF!)","v":{"$error":"#REF!"}},{"$error":"#REF!"},{"$f":"SUM(weekly!B76:B79)","v":14},{"$f":"SUM(weekly!#REF!)","v":{"$error":"#REF!"}},{"$f":"SUM(weekly!#REF!)","v":{"$error":"#REF!"}},{"$f":"SUM(weekly!#REF!)","v":{"$error":"#REF!"}},{"$error":"#REF!"},{"$f":"SUM(weekly!C76:C79)","v":24},{"$f":"SUM(weekly!#REF!)","v":{"$error":"#REF!"}},{"$f":"SUM(weekly!#REF!)","v":{"$error":"#REF!"}},{"$f":"SUM(weekly!#REF!)","v":{"$error":"#REF!"}},{"$error":"#REF!"},{"$f":"SUM(weekly!#REF!)","v":{"$error":"#REF!"}},175.3,114.5814042159159]
["2002-07-01",{"$f":"SUM(weekly!#REF!)","v":{"$error":"#REF!"}},{"$f":"SUM(weekly!#REF!)","v":{"$error":"#REF!"}},{"$f":"SUM(weekly!#REF!)","v":{"$error":"#REF!"}},{"$error":"#REF!"},{"$f":"SUM(weekly!B80:B84)","v":8},{"$f":"SUM(weekly!#REF!)","v":{"$error":"#REF!"}},{"$f":"SUM(weekly!#REF!)","v":{"$error":"#REF!"}},{"$f":"SUM(weekly!#REF!)","v":{"$error":"#REF!"}},{"$error":"#REF!"},{"$f":"SUM(weekly!C80:C84)","v":35},{"$f":"SUM(weekly!#REF!)","v":{"$error":"#REF!"}},{"$f":"SUM(weekly!#REF!)","v":{"$error":"#REF!"}},{"$f":"SUM(weekly!#REF!)","v":{"$error":"#REF!"}},{"$error":"#REF!"},{"$f":"SUM(weekly!#REF!)","v":{"$error":"#REF!"}},175.3,114.5814042159159]
["2002-08-01",{"$f":"SUM(weekly!#REF!)","v":{"$error":"#REF!"}},{"$f":"SUM(weekly!#REF!)","v":{"$error":"#REF!"}},{"$f":"SUM(weekly!#REF!)","v":{"$error":"#REF!"}},{"$error":"#REF!"},{"$f":"SUM(weekly!B85:B88)","v":17},{"$f":"SUM(weekly!#REF!)","v":{"$error":"#REF!"}},{"$f":"SUM(weekly!#REF!)","v":{"$error":"#REF!"}},{"$f":"SUM(weekly!#REF!)","v":{"$error":"#REF!"}},{"$error":"#REF!"},{"$f":"SUM(weekly!C85:C88)","v":18},{"$f":"SUM(weekly!#REF!)","v":{"$error":"#REF!"}},{"$f":"SUM(weekly!#REF!)","v":{"$error":"#REF!"}},{"$f":"SUM(weekly!#REF!)","v":{"$error":"#REF!"}},{"$error":"#REF!"},{"$f":"SUM(weekly!#REF!)","v":{"$error":"#REF!"}},175.8,114.90821940192821]
["2002-09-01",{"$f":"SUM(weekly!#REF!)","v":{"$error":"#REF!"}},{"$f":"SUM(weekly!#REF!)","v":{"$error":"#REF!"}},{"$f":"SUM(weekly!#REF!)","v":{"$error":"#REF!"}},{"$error":"#REF!"},{"$f":"SUM(weekly!B89:B92)","v":7},{"$f":"SUM(weekly!#REF!)","v":{"$error":"#REF!"}},{"$f":"SUM(weekly!#REF!)","v":{"$error":"#REF!"}},{"$f":"SUM(weekly!#REF!)","v":{"$error":"#REF!"}},{"$error":"#REF!"},{"$f":"SUM(weekly!C89:C92)","v":24},{"$f":"SUM(weekly!#REF!)","v":{"$error":"#REF!"}},{"$f":"SUM(weekly!#REF!)","v":{"$error":"#REF!"}},{"$f":"SUM(weekly!#REF!)","v":{"$error":"#REF!"}},{"$error":"#REF!"},{"$f":"SUM(weekly!#REF!)","v":{"$error":"#REF!"}},176.2,115.16967155073804]
["2002-10-01",{"$f":"SUM(weekly!#REF!)","v":{"$error":"#REF!"}},{"$f":"SUM(weekly!#REF!)","v":{"$error":"#REF!"}},{"$f":"SUM(weekly!#REF!)","v":{"$error":"#REF!"}},{"$error":"#REF!"},{"$f":"SUM(weekly!B93:B97)","v":7},{"$f":"SUM(weekly!#REF!)","v":{"$error":"#REF!"}},{"$f":"SUM(weekly!#REF!)","v":{"$error":"#REF!"}},{"$f":"SUM(weekly!#REF!)","v":{"$error":"#REF!"}},{"$error":"#REF!"},{"$f":"SUM(weekly!C93:C97)","v":34},{"$f":"SUM(weekly!#REF!)","v":{"$error":"#REF!"}},{"$f":"SUM(weekly!#REF!)","v":{"$error":"#REF!"}},{"$f":"SUM(weekly!#REF!)","v":{"$error":"#REF!"}},{"$error":"#REF!"},{"$f":"SUM(weekly!#REF!)","v":{"$error":"#REF!"}},176.3,115.23503458794053]
["2002-11-01",{"$f":"SUM(weekly!#REF!)","v":{"$error":"#REF!"}},{"$f":"SUM(weekly!#REF!)","v":{"$error":"#REF!"}},{"$f":"SUM(weekly!#REF!)","v":{"$error":"#REF!"}},{"$error":"#REF!"},{"$f":"SUM(weekly!B98:B101)","v":10},{"$f":"SUM(weekly!#REF!)","v":{"$error":"#REF!"}},{"$f":"SUM(weekly!#REF!)","v":{"$error":"#REF!"}},{"$f":"SUM(weekly!#REF!)","v":{"$error":"#REF!"}},{"$error":"#REF!"},{"$f":"SUM(weekly!C98:C101)","v":32},{"$f":"SUM(weekly!#REF!)","v":{"$error":"#REF!"}},{"$f":"SUM(weekly!#REF!)","v":{"$error":"#REF!"}},{"$f":"SUM(weekly!#REF!)","v":{"$error":"#REF!"}},{"$error":"#REF!"},{"$f":"SUM(weekly!#REF!)","v":{"$error":"#REF!"}},176.1,115.10430851353559]
["2002-12-01",{"$f":"SUM(weekly!#REF!)","v":{"$error":"#REF!"}},{"$f":"SUM(weekly!#REF!)","v":{"$error":"#REF!"}},{"$f":"SUM(weekly!#REF!)","v":{"$error":"#REF!"}},{"$error":"#REF!"},{"$f":"SUM(weekly!B102:B105)","v":12},{"$f":"SUM(weekly!#REF!)","v":{"$error":"#REF!"}},{"$f":"SUM(weekly!#REF!)","v":{"$error":"#REF!"}},{"$f":"SUM(weekly!#REF!)","v":{"$error":"#REF!"}},{"$error":"#REF!"},{"$f":"SUM(weekly!C102:C105)","v":20},{"$f":"SUM(weekly!#REF!)","v":{"$error":"#REF!"}},{"$f":"SUM(weekly!#REF!)","v":{"$error":"#REF!"}},{"$f":"SUM(weekly!#REF!)","v":{"$error":"#REF!"}},{"$error":"#REF!"},{"$f":"SUM(weekly!#REF!)","v":{"$error":"#REF!"}},175.5,114.71213029032081]
["2003-01-01",{"$f":"SUM(weekly!#REF!)","v":{"$error":"#REF!"}},{"$f":"SUM(weekly!#REF!)","v":{"$error":"#REF!"}},{"$f":"SUM(weekly!#REF!)","v":{"$error":"#REF!"}},{"$error":"#REF!"},{"$f":"SUM(weekly!B106:B110)","v":19},{"$f":"SUM(weekly!#REF!)","v":{"$error":"#REF!"}},{"$f":"SUM(weekly!#REF!)","v":{"$error":"#REF!"}},{"$f":"SUM(weekly!#REF!)","v":{"$error":"#REF!"}},{"$error":"#REF!"},{"$f":"SUM(weekly!C106:C110)","v":32},{"$f":"SUM(weekly!#REF!)","v":{"$error":"#REF!"}},{"$f":"SUM(weekly!#REF!)","v":{"$error":"#REF!"}},{"$f":"SUM(weekly!#REF!)","v":{"$error":"#REF!"}},{"$error":"#REF!"},{"$f":"SUM(weekly!#REF!)","v":{"$error":"#REF!"}},176.2,115.16967155073804]
["2003-02-01",{"$f":"SUM(weekly!#REF!)","v":{"$error":"#REF!"}},{"$f":"SUM(weekly!#REF!)","v":{"$error":"#REF!"}},{"$f":"SUM(weekly!#REF!)","v":{"$error":"#REF!"}},{"$error":"#REF!"},{"$f":"SUM(weekly!B111:B114)","v":14},{"$f":"SUM(weekly!#REF!)","v":{"$error":"#REF!"}},{"$f":"SUM(weekly!#REF!)","v":{"$error":"#REF!"}},{"$f":"SUM(weekly!#REF!)","v":{"$error":"#REF!"}},{"$error":"#REF!"},{"$f":"SUM(weekly!C111:C114)","v":25},{"$f":"SUM(weekly!#REF!)","v":{"$error":"#REF!"}},{"$f":"SUM(weekly!#REF!)","v":{"$error":"#REF!"}},{"$f":"SUM(weekly!#REF!)","v":{"$error":"#REF!"}},{"$error":"#REF!"},{"$f":"SUM(weekly!#REF!)","v":{"$error":"#REF!"}},177.8,116.21548014597745]
["2003-03-01",{"$f":"SUM(weekly!#REF!)","v":{"$error":"#REF!"}},{"$f":"SUM(weekly!#REF!)","v":{"$error":"#REF!"}},{"$f":"SUM(weekly!#REF!)","v":{"$error":"#REF!"}},{"$error":"#REF!"},{"$f":"SUM(weekly!B115:B118)","v":16},{"$f":"SUM(weekly!#REF!)","v":{"$error":"#REF!"}},{"$f":"SUM(weekly!#REF!)","v":{"$error":"#REF!"}},{"$f":"SUM(weekly!#REF!)","v":{"$error":"#REF!"}},{"$error":"#REF!"},{"$f":"SUM(weekly!C115:C118)","v":30},{"$f":"SUM(weekly!#REF!)","v":{"$error":"#REF!"}},{"$f":"SUM(weekly!#REF!)","v":{"$error":"#REF!"}},{"$f":"SUM(weekly!#REF!)","v":{"$error":"#REF!"}},{"$error":"#REF!"},{"$f":"SUM(weekly!#REF!)","v":{"$error":"#REF!"}},178.6,116.73838444359714]
["2003-04-01",{"$f":"SUM(weekly!#REF!)","v":{"$error":"#REF!"}},{"$f":"SUM(weekly!#REF!)","v":{"$error":"#REF!"}},{"$f":"SUM(weekly!#REF!)","v":{"$error":"#REF!"}},{"$error":"#REF!"},{"$f":"SUM(weekly!B119:B123)","v":23},{"$f":"SUM(weekly!#REF!)","v":{"$error":"#REF!"}},{"$f":"SUM(weekly!#REF!)","v":{"$error":"#REF!"}},{"$f":"SUM(weekly!#REF!)","v":{"$error":"#REF!"}},{"$error":"#REF!"},{"$f":"SUM(weekly!C119:C123)","v":22},{"$f":"SUM(weekly!#REF!)","v":{"$error":"#REF!"}},{"$f":"SUM(weekly!#REF!)","v":{"$error":"#REF!"}},{"$f":"SUM(weekly!#REF!)","v":{"$error":"#REF!"}},{"$error":"#REF!"},{"$f":"SUM(weekly!#REF!)","v":{"$error":"#REF!"}},177.8,116.21548014597745]
["2003-05-01",{"$f":"SUM(weekly!#REF!)","v":{"$error":"#REF!"}},{"$f":"SUM(weekly!#REF!)","v":{"$error":"#REF!"}},{"$f":"SUM(weekly!#REF!)","v":{"$error":"#REF!"}},{"$error":"#REF!"},{"$f":"SUM(weekly!B124:B127)","v":10},{"$f":"SUM(weekly!#REF!)","v":{"$error":"#REF!"}},{"$f":"SUM(weekly!#REF!)","v":{"$error":"#REF!"}},{"$f":"SUM(weekly!#REF!)","v":{"$error":"#REF!"}},{"$error":"#REF!"},{"$f":"SUM(weekly!C124:C127)","v":34},{"$f":"SUM(weekly!#REF!)","v":{"$error":"#REF!"}},{"$f":"SUM(weekly!#REF!)","v":{"$error":"#REF!"}},{"$f":"SUM(weekly!#REF!)","v":{"$error":"#REF!"}},{"$error":"#REF!"},{"$f":"SUM(weekly!#REF!)","v":{"$error":"#REF!"}},177.7,116.15011710877496]
["2003-06-01",{"$f":"SUM(weekly!#REF!)","v":{"$error":"#REF!"}},{"$f":"SUM(weekly!#REF!)","v":{"$error":"#REF!"}},{"$f":"SUM(weekly!#REF!)","v":{"$error":"#REF!"}},{"$error":"#REF!"},{"$f":"SUM(weekly!B128:B131)","v":17},{"$f":"SUM(weekly!#REF!)","v":{"$error":"#REF!"}},{"$f":"SUM(weekly!#REF!)","v":{"$error":"#REF!"}},{"$f":"SUM(weekly!#REF!)","v":{"$error":"#REF!"}},{"$error":"#REF!"},{"$f":"SUM(weekly!C128:C131)","v":30},{"$f":"SUM(weekly!#REF!)","v":{"$error":"#REF!"}},{"$f":"SUM(weekly!#REF!)","v":{"$error":"#REF!"}},{"$f":"SUM(weekly!#REF!)","v":{"$error":"#REF!"}},{"$error":"#REF!"},{"$f":"SUM(weekly!#REF!)","v":{"$error":"#REF!"}},178.4,116.60765836919222]
["2003-07-01",{"$f":"SUM(weekly!#REF!)","v":{"$error":"#REF!"}},{"$f":"SUM(weekly!#REF!)","v":{"$error":"#REF!"}},{"$f":"SUM(weekly!#REF!)","v":{"$error":"#REF!"}},{"$error":"#REF!"},{"$f":"SUM(weekly!B132:B136)","v":14},{"$f":"SUM(weekly!#REF!)","v":{"$error":"#REF!"}},{"$f":"SUM(weekly!#REF!)","v":{"$error":"#REF!"}},{"$f":"SUM(weekly!#REF!)","v":{"$error":"#REF!"}},{"$error":"#REF!"},{"$f":"SUM(weekly!C132:C136)","v":30},{"$f":"SUM(weekly!#REF!)","v":{"$error":"#REF!"}},{"$f":"SUM(weekly!#REF!)","v":{"$error":"#REF!"}},{"$f":"SUM(weekly!#REF!)","v":{"$error":"#REF!"}},{"$error":"#REF!"},{"$f":"SUM(weekly!#REF!)","v":{"$error":"#REF!"}},178.1,116.41156925758483]
["2003-08-01",{"$f":"SUM(weekly!#REF!)","v":{"$error":"#REF!"}},{"$f":"SUM(weekly!#REF!)","v":{"$error":"#REF!"}},{"$f":"SUM(weekly!#REF!)","v":{"$error":"#REF!"}},{"$error":"#REF!"},{"$f":"SUM(weekly!B137:B140)","v":14},{"$f":"SUM(weekly!#REF!)","v":{"$error":"#REF!"}},{"$f":"SUM(weekly!#REF!)","v":{"$error":"#REF!"}},{"$f":"SUM(weekly!#REF!)","v":{"$error":"#REF!"}},{"$error":"#REF!"},{"$f":"SUM(weekly!C137:C140)","v":25},{"$f":"SUM(weekly!#REF!)","v":{"$error":"#REF!"}},{"$f":"SUM(weekly!#REF!)","v":{"$error":"#REF!"}},{"$f":"SUM(weekly!#REF!)","v":{"$error":"#REF!"}},{"$error":"#REF!"},{"$f":"SUM(weekly!#REF!)","v":{"$error":"#REF!"}},178.8,116.86911051800206]
["2003-09-01",{"$f":"SUM(weekly!#REF!)","v":{"$error":"#REF!"}},{"$f":"SUM(weekly!#REF!)","v":{"$error":"#REF!"}},{"$f":"SUM(weekly!#REF!)","v":{"$error":"#REF!"}},{"$error":"#REF!"},{"$f":"SUM(weekly!B141:B144)","v":12},{"$f":"SUM(weekly!#REF!)","v":{"$error":"#REF!"}},{"$f":"SUM(weekly!#REF!)","v":{"$error":"#REF!"}},{"$f":"SUM(weekly!#REF!)","v":{"$error":"#REF!"}},{"$error":"#REF!"},{"$f":"SUM(weekly!C141:C144)","v":21},{"$f":"SUM(weekly!#REF!)","v":{"$error":"#REF!"}},{"$f":"SUM(weekly!#REF!)","v":{"$error":"#REF!"}},{"$f":"SUM(weekly!#REF!)","v":{"$error":"#REF!"}},{"$error":"#REF!"},{"$f":"SUM(weekly!#REF!)","v":{"$error":"#REF!"}},179.5,117.3266517784193]
["2003-10-01",{"$f":"SUM(weekly!#REF!)","v":{"$error":"#REF!"}},{"$f":"SUM(weekly!#REF!)","v":{"$error":"#REF!"}},{"$f":"SUM(weekly!#REF!)","v":{"$error":"#REF!"}},{"$error":"#REF!"},{"$f":"SUM(weekly!B145:B149)","v":17},{"$f":"SUM(weekly!#REF!)","v":{"$error":"#REF!"}},{"$f":"SUM(weekly!#REF!)","v":{"$error":"#REF!"}},{"$f":"SUM(weekly!#REF!)","v":{"$error":"#REF!"}},{"$error":"#REF!"},{"$f":"SUM(weekly!C145:C149)","v":35},{"$f":"SUM(weekly!#REF!)","v":{"$error":"#REF!"}},{"$f":"SUM(weekly!#REF!)","v":{"$error":"#REF!"}},{"$f":"SUM(weekly!#REF!)","v":{"$error":"#REF!"}},{"$error":"#REF!"},{"$f":"SUM(weekly!#REF!)","v":{"$error":"#REF!"}},179.1,117.06519962960944]
["2003-11-01",{"$f":"SUM(weekly!#REF!)","v":{"$error":"#REF!"}},{"$f":"SUM(weekly!#REF!)","v":{"$error":"#REF!"}},{"$f":"SUM(weekly!#REF!)","v":{"$error":"#REF!"}},{"$error":"#REF!"},{"$f":"SUM(weekly!B150:B153)","v":18},{"$f":"SUM(weekly!#REF!)","v":{"$error":"#REF!"}},{"$f":"SUM(weekly!#REF!)","v":{"$error":"#REF!"}},{"$f":"SUM(weekly!#REF!)","v":{"$error":"#REF!"}},{"$error":"#REF!"},{"$f":"SUM(weekly!C150:C153)","v":27},{"$f":"SUM(weekly!#REF!)","v":{"$error":"#REF!"}},{"$f":"SUM(weekly!#REF!)","v":{"$error":"#REF!"}},{"$f":"SUM(weekly!#REF!)","v":{"$error":"#REF!"}},{"$error":"#REF!"},{"$f":"SUM(weekly!#REF!)","v":{"$error":"#REF!"}},178.9,116.93447355520452]
["2003-12-01",{"$f":"SUM(weekly!#REF!)","v":{"$error":"#REF!"}},{"$f":"SUM(weekly!#REF!)","v":{"$error":"#REF!"}},{"$f":"SUM(weekly!#REF!)","v":{"$error":"#REF!"}},{"$error":"#REF!"},{"$f":"SUM(weekly!B154:B158)","v":18},{"$f":"SUM(weekly!#REF!)","v":{"$error":"#REF!"}},{"$f":"SUM(weekly!#REF!)","v":{"$error":"#REF!"}},{"$f":"SUM(weekly!#REF!)","v":{"$error":"#REF!"}},{"$error":"#REF!"},{"$f":"SUM(weekly!C154:C158)","v":45},{"$f":"SUM(weekly!#REF!)","v":{"$error":"#REF!"}},{"$f":"SUM(weekly!#REF!)","v":{"$error":"#REF!"}},{"$f":"SUM(weekly!#REF!)","v":{"$error":"#REF!"}},{"$error":"#REF!"},{"$f":"SUM(weekly!#REF!)","v":{"$error":"#REF!"}},178.4,116.60765836919222]
["2004-01-01",{"$f":"SUM(weekly!#REF!)","v":{"$error":"#REF!"}},{"$f":"SUM(weekly!#REF!)","v":{"$error":"#REF!"}},{"$f":"SUM(weekly!#REF!)","v":{"$error":"#REF!"}},{"$error":"#REF!"},{"$f":"SUM(weekly!B159:B162)","v":26},{"$f":"SUM(weekly!#REF!)","v":{"$error":"#REF!"}},{"$f":"SUM(weekly!#REF!)","v":{"$error":"#REF!"}},{"$f":"SUM(weekly!#REF!)","v":{"$error":"#REF!"}},{"$error":"#REF!"},{"$f":"SUM(weekly!C159:C162)","v":36},{"$f":"SUM(weekly!#REF!)","v":{"$error":"#REF!"}},{"$f":"SUM(weekly!#REF!)","v":{"$error":"#REF!"}},{"$f":"SUM(weekly!#REF!)","v":{"$error":"#REF!"}},{"$error":"#REF!"},{"$f":"SUM(weekly!#REF!)","v":{"$error":"#REF!"}},179.4,117.26128874121684]
["2004-02-01",{"$f":"SUM(weekly!#REF!)","v":{"$error":"#REF!"}},{"$f":"SUM(weekly!#REF!)","v":{"$error":"#REF!"}},{"$f":"SUM(weekly!#REF!)","v":{"$error":"#REF!"}},{"$error":"#REF!"},{"$f":"SUM(weekly!B163:B166)","v":11},{"$f":"SUM(weekly!#REF!)","v":{"$error":"#REF!"}},{"$f":"SUM(weekly!#REF!)","v":{"$error":"#REF!"}},{"$f":"SUM(weekly!#REF!)","v":{"$error":"#REF!"}},{"$error":"#REF!"},{"$f":"SUM(weekly!C163:C166)","v":25},{"$f":"SUM(weekly!#REF!)","v":{"$error":"#REF!"}},{"$f":"SUM(weekly!#REF!)","v":{"$error":"#REF!"}},{"$f":"SUM(weekly!#REF!)","v":{"$error":"#REF!"}},{"$error":"#REF!"},{"$f":"SUM(weekly!#REF!)","v":{"$error":"#REF!"}},180.2,117.78419303883652]
["2004-03-01",{"$f":"SUM(weekly!#REF!)","v":{"$error":"#REF!"}},{"$f":"SUM(weekly!#REF!)","v":{"$error":"#REF!"}},{"$f":"SUM(weekly!#REF!)","v":{"$error":"#REF!"}},{"$error":"#REF!"},{"$f":"SUM(weekly!B167:B171)","v":25},{"$f":"SUM(weekly!#REF!)","v":{"$error":"#REF!"}},{"$f":"SUM(weekly!#REF!)","v":{"$error":"#REF!"}},{"$f":"SUM(weekly!#REF!)","v":{"$error":"#REF!"}},{"$error":"#REF!"},{"$f":"SUM(weekly!C167:C171)","v":60},{"$f":"SUM(weekly!#REF!)","v":{"$error":"#REF!"}},{"$f":"SUM(weekly!#REF!)","v":{"$error":"#REF!"}},{"$f":"SUM(weekly!#REF!)","v":{"$error":"#REF!"}},{"$error":"#REF!"},{"$f":"SUM(weekly!#REF!)","v":{"$error":"#REF!"}},181,118.30709733645624]
["2004-04-01",{"$f":"SUM(weekly!#REF!)","v":{"$error":"#REF!"}},{"$f":"SUM(weekly!#REF!)","v":{"$error":"#REF!"}},{"$f":"SUM(weekly!#REF!)","v":{"$error":"#REF!"}},{"$error":"#REF!"},{"$f":"SUM(weekly!B172:B175)","v":24},{"$f":"SUM(weekly!#REF!)","v":{"$error":"#REF!"}},{"$f":"SUM(weekly!#REF!)","v":{"$error":"#REF!"}},{"$f":"SUM(weekly!#REF!)","v":{"$error":"#REF!"}},{"$error":"#REF!"},{"$f":"SUM(weekly!C172:C175)","v":34},{"$f":"SUM(weekly!#REF!)","v":{"$error":"#REF!"}},{"$f":"SUM(weekly!#REF!)","v":{"$error":"#REF!"}},{"$f":"SUM(weekly!#REF!)","v":{"$error":"#REF!"}},{"$error":"#REF!"},{"$f":"SUM(weekly!#REF!)","v":{"$error":"#REF!"}},181.5,118.63391252246853]
["2004-05-01",{"$f":"SUM(weekly!#REF!)","v":{"$error":"#REF!"}},{"$f":"SUM(weekly!#REF!)","v":{"$error":"#REF!"}},{"$f":"SUM(weekly!#REF!)","v":{"$error":"#REF!"}},{"$error":"#REF!"},{"$f":"SUM(weekly!B176:B179)","v":20},{"$f":"SUM(weekly!#REF!)","v":{"$error":"#REF!"}},{"$f":"SUM(weekly!#REF!)","v":{"$error":"#REF!"}},{"$f":"SUM(weekly!#REF!)","v":{"$error":"#REF!"}},{"$error":"#REF!"},{"$f":"SUM(weekly!C176:C179)","v":47},{"$f":"SUM(weekly!#REF!)","v":{"$error":"#REF!"}},{"$f":"SUM(weekly!#REF!)","v":{"$error":"#REF!"}},{"$f":"SUM(weekly!#REF!)","v":{"$error":"#REF!"}},{"$error":"#REF!"},{"$f":"SUM(weekly!#REF!)","v":{"$error":"#REF!"}},182.9,119.54899504330301]
["2004-06-01",{"$f":"SUM(weekly!#REF!)","v":{"$error":"#REF!"}},{"$f":"SUM(weekly!#REF!)","v":{"$error":"#REF!"}},{"$f":"SUM(weekly!#REF!)","v":{"$error":"#REF!"}},{"$error":"#REF!"},{"$f":"SUM(weekly!B180:B184)","v":25},{"$f":"SUM(weekly!#REF!)","v":{"$error":"#REF!"}},{"$f":"SUM(weekly!#REF!)","v":{"$error":"#REF!"}},{"$f":"SUM(weekly!#REF!)","v":{"$error":"#REF!"}},{"$error":"#REF!"},{"$f":"SUM(weekly!C180:C184)","v":50},{"$f":"SUM(weekly!#REF!)","v":{"$error":"#REF!"}},{"$f":"SUM(weekly!#REF!)","v":{"$error":"#REF!"}},{"$f":"SUM(weekly!#REF!)","v":{"$error":"#REF!"}},{"$error":"#REF!"},{"$f":"SUM(weekly!#REF!)","v":{"$error":"#REF!"}},183.3,119.81044719211286]
["2004-07-01",{"$f":"SUM(weekly!#REF!)","v":{"$error":"#REF!"}},{"$f":"SUM(weekly!#REF!)","v":{"$error":"#REF!"}},{"$f":"SUM(weekly!#REF!)","v":{"$error":"#REF!"}},{"$error":"#REF!"},{"$f":"SUM(weekly!B185:B188)","v":15},{"$f":"SUM(weekly!#REF!)","v":{"$error":"#REF!"}},{"$f":"SUM(weekly!#REF!)","v":{"$error":"#REF!"}},{"$f":"SUM(weekly!#REF!)","v":{"$error":"#REF!"}},{"$error":"#REF!"},{"$f":"SUM(weekly!C185:C188)","v":25},{"$f":"SUM(weekly!#REF!)","v":{"$error":"#REF!"}},{"$f":"SUM(weekly!#REF!)","v":{"$error":"#REF!"}},{"$f":"SUM(weekly!#REF!)","v":{"$error":"#REF!"}},{"$error":"#REF!"},{"$f":"SUM(weekly!#REF!)","v":{"$error":"#REF!"}},183.2,119.74508415491039]
["2004-08-01",{"$f":"SUM(weekly!#REF!)","v":{"$error":"#REF!"}},{"$f":"SUM(weekly!#REF!)","v":{"$error":"#REF!"}},{"$f":"SUM(weekly!#REF!)","v":{"$error":"#REF!"}},{"$error":"#REF!"},{"$f":"SUM(weekly!B193:B197)","v":12},{"$f":"SUM(weekly!#REF!)","v":{"$error":"#REF!"}},{"$f":"SUM(weekly!#REF!)","v":{"$error":"#REF!"}},{"$f":"SUM(weekly!#REF!)","v":{"$error":"#REF!"}},{"$error":"#REF!"},{"$f":"SUM(weekly!C189:C192)","v":23},{"$f":"SUM(weekly!#REF!)","v":{"$error":"#REF!"}},{"$f":"SUM(weekly!#REF!)","v":{"$error":"#REF!"}},{"$f":"SUM(weekly!#REF!)","v":{"$error":"#REF!"}},{"$error":"#REF!"},{"$f":"SUM(weekly!#REF!)","v":{"$error":"#REF!"}},183.3,119.81044719211286]
["2004-09-01",{"$f":"SUM(weekly!#REF!)","v":{"$error":"#REF!"}},{"$f":"SUM(weekly!#REF!)","v":{"$error":"#REF!"}},{"$f":"SUM(weekly!#REF!)","v":{"$error":"#REF!"}},{"$error":"#REF!"},{"$f":"SUM(weekly!B190:B193)","v":10},{"$f":"SUM(weekly!#REF!)","v":{"$error":"#REF!"}},{"$f":"SUM(weekly!#REF!)","v":{"$error":"#REF!"}},{"$f":"SUM(weekly!#REF!)","v":{"$error":"#REF!"}},{"$error":"#REF!"},{"$f":"SUM(weekly!C193:C197)","v":43},{"$f":"SUM(weekly!#REF!)","v":{"$error":"#REF!"}},{"$f":"SUM(weekly!#REF!)","v":{"$error":"#REF!"}},{"$f":"SUM(weekly!#REF!)","v":{"$error":"#REF!"}},{"$error":"#REF!"},{"$f":"SUM(weekly!#REF!)","v":{"$error":"#REF!"}},183.6,120.00653630372025]
["2004-10-01",{"$f":"SUM(weekly!#REF!)","v":{"$error":"#REF!"}},{"$f":"SUM(weekly!#REF!)","v":{"$error":"#REF!"}},{"$f":"SUM(weekly!#REF!)","v":{"$error":"#REF!"}},{"$error":"#REF!"},{"$f":"SUM(weekly!B198:B202)","v":15},{"$f":"SUM(weekly!#REF!)","v":{"$error":"#REF!"}},{"$f":"SUM(weekly!#REF!)","v":{"$error":"#REF!"}},{"$f":"SUM(weekly!#REF!)","v":{"$error":"#REF!"}},{"$error":"#REF!"},{"$f":"SUM(weekly!C198:C201)","v":28},{"$f":"SUM(weekly!#REF!)","v":{"$error":"#REF!"}},{"$f":"SUM(weekly!#REF!)","v":{"$error":"#REF!"}},{"$f":"SUM(weekly!#REF!)","v":{"$error":"#REF!"}},{"$error":"#REF!"},{"$f":"SUM(weekly!#REF!)","v":{"$error":"#REF!"}},184.5,120.5948036385424]
["2004-11-01",{"$f":"SUM(weekly!#REF!)","v":{"$error":"#REF!"}},{"$f":"SUM(weekly!#REF!)","v":{"$error":"#REF!"}},{"$f":"SUM(weekly!#REF!)","v":{"$error":"#REF!"}},{"$error":"#REF!"},{"$f":"SUM(weekly!B202:B205)","v":10},{"$f":"SUM(weekly!#REF!)","v":{"$error":"#REF!"}},{"$f":"SUM(weekly!#REF!)","v":{"$error":"#REF!"}},{"$f":"SUM(weekly!#REF!)","v":{"$error":"#REF!"}},{"$error":"#REF!"},{"$f":"SUM(weekly!C202:C205)","v":32},{"$f":"SUM(weekly!#REF!)","v":{"$error":"#REF!"}},{"$f":"SUM(weekly!#REF!)","v":{"$error":"#REF!"}},{"$f":"SUM(weekly!#REF!)","v":{"$error":"#REF!"}},{"$error":"#REF!"},{"$f":"SUM(weekly!#REF!)","v":{"$error":"#REF!"}},184.8,120.79089275014978]
["2004-12-01",{"$f":"SUM(weekly!#REF!)","v":{"$error":"#REF!"}},{"$f":"SUM(weekly!#REF!)","v":{"$error":"#REF!"}},{"$f":"SUM(weekly!#REF!)","v":{"$error":"#REF!"}},{"$error":"#REF!"},{"$f":"SUM(weekly!B206:B210)","v":39},{"$f":"SUM(weekly!#REF!)","v":{"$error":"#REF!"}},{"$f":"SUM(weekly!#REF!)","v":{"$error":"#REF!"}},{"$f":"SUM(weekly!#REF!)","v":{"$error":"#REF!"}},{"$error":"#REF!"},{"$f":"SUM(weekly!C206:C210)","v":31},{"$f":"SUM(weekly!#REF!)","v":{"$error":"#REF!"}},{"$f":"SUM(weekly!#REF!)","v":{"$error":"#REF!"}},{"$f":"SUM(weekly!#REF!)","v":{"$error":"#REF!"}},{"$error":"#REF!"},{"$f":"SUM(weekly!#REF!)","v":{"$error":"#REF!"}},183.8,120.13726237812517]
["2005-01-01",{"$f":"SUM(weekly!#REF!)","v":{"$error":"#REF!"}},{"$f":"SUM(weekly!#REF!)","v":{"$error":"#REF!"}},{"$f":"SUM(weekly!#REF!)","v":{"$error":"#REF!"}},{"$error":"#REF!"},{"$f":"SUM(weekly!B211:B214)","v":12},{"$f":"SUM(weekly!#REF!)","v":{"$error":"#REF!"}},{"$f":"SUM(weekly!#REF!)","v":{"$error":"#REF!"}},{"$f":"SUM(weekly!#REF!)","v":{"$error":"#REF!"}},{"$error":"#REF!"},{"$f":"SUM(weekly!C211:C214)","v":37},{"$f":"SUM(weekly!#REF!)","v":{"$error":"#REF!"}},{"$f":"SUM(weekly!#REF!)","v":{"$error":"#REF!"}},{"$f":"SUM(weekly!#REF!)","v":{"$error":"#REF!"}},{"$error":"#REF!"},{"$f":"SUM(weekly!#REF!)","v":{"$error":"#REF!"}},184.1,120.33335148973254]
["2005-02-01",{"$f":"SUM(weekly!#REF!)","v":{"$error":"#REF!"}},{"$f":"SUM(weekly!#REF!)","v":{"$error":"#REF!"}},{"$f":"SUM(weekly!#REF!)","v":{"$error":"#REF!"}},{"$error":"#REF!"},{"$f":"SUM(weekly!B215:B218)","v":19},{"$f":"SUM(weekly!#REF!)","v":{"$error":"#REF!"}},{"$f":"SUM(weekly!#REF!)","v":{"$error":"#REF!"}},{"$f":"SUM(weekly!#REF!)","v":{"$error":"#REF!"}},{"$error":"#REF!"},{"$f":"SUM(weekly!C215:C218)","v":46},{"$f":"SUM(weekly!#REF!)","v":{"$error":"#REF!"}},{"$f":"SUM(weekly!#REF!)","v":{"$error":"#REF!"}},{"$f":"SUM(weekly!#REF!)","v":{"$error":"#REF!"}},{"$error":"#REF!"},{"$f":"SUM(weekly!#REF!)","v":{"$error":"#REF!"}},185.2,121.05234489895962]
["2005-03-01",{"$f":"SUM(weekly!#REF!)","v":{"$error":"#REF!"}},{"$f":"SUM(weekly!#REF!)","v":{"$error":"#REF!"}},{"$f":"SUM(weekly!#REF!)","v":{"$error":"#REF!"}},{"$error":"#REF!"},{"$f":"SUM(weekly!B219:B223)","v":29},{"$f":"SUM(weekly!#REF!)","v":{"$error":"#REF!"}},{"$f":"SUM(weekly!#REF!)","v":{"$error":"#REF!"}},{"$f":"SUM(weekly!#REF!)","v":{"$error":"#REF!"}},{"$error":"#REF!"},{"$f":"SUM(weekly!C219:C223)","v":51},{"$f":"SUM(weekly!#REF!)","v":{"$error":"#REF!"}},{"$f":"SUM(weekly!#REF!)","v":{"$error":"#REF!"}},{"$f":"SUM(weekly!#REF!)","v":{"$error":"#REF!"}},{"$error":"#REF!"},{"$f":"SUM(weekly!#REF!)","v":{"$error":"#REF!"}},186.3,121.77133830818671]
["2005-04-01",{"$f":"SUM(weekly!#REF!)","v":{"$error":"#REF!"}},{"$f":"SUM(weekly!#REF!)","v":{"$error":"#REF!"}},{"$f":"SUM(weekly!#REF!)","v":{"$error":"#REF!"}},{"$error":"#REF!"},{"$f":"SUM(weekly!B224:B227)","v":12},{"$f":"SUM(weekly!#REF!)","v":{"$error":"#REF!"}},{"$f":"SUM(weekly!#REF!)","v":{"$error":"#REF!"}},{"$f":"SUM(weekly!#REF!)","v":{"$error":"#REF!"}},{"$error":"#REF!"},{"$f":"SUM(weekly!C224:C227)","v":32},{"$f":"SUM(weekly!#REF!)","v":{"$error":"#REF!"}},{"$f":"SUM(weekly!#REF!)","v":{"$error":"#REF!"}},{"$f":"SUM(weekly!#REF!)","v":{"$error":"#REF!"}},{"$error":"#REF!"},{"$f":"SUM(weekly!#REF!)","v":{"$error":"#REF!"}},187.7,122.68642082902117]
["2005-05-01",{"$f":"SUM(weekly!#REF!)","v":{"$error":"#REF!"}},{"$f":"SUM(weekly!#REF!)","v":{"$error":"#REF!"}},{"$f":"SUM(weekly!#REF!)","v":{"$error":"#REF!"}},{"$error":"#REF!"},{"$f":"SUM(weekly!B228:B231)","v":22},{"$f":"SUM(weekly!#REF!)","v":{"$error":"#REF!"}},{"$f":"SUM(weekly!#REF!)","v":{"$error":"#REF!"}},{"$f":"SUM(weekly!#REF!)","v":{"$error":"#REF!"}},{"$error":"#REF!"},{"$f":"SUM(weekly!C228:C231)","v":53},{"$f":"SUM(weekly!#REF!)","v":{"$error":"#REF!"}},{"$f":"SUM(weekly!#REF!)","v":{"$error":"#REF!"}},{"$f":"SUM(weekly!#REF!)","v":{"$error":"#REF!"}},{"$error":"#REF!"},{"$f":"SUM(weekly!#REF!)","v":{"$error":"#REF!"}},187.4,122.4903317174138]
["2005-06-01",{"$f":"SUM(weekly!#REF!)","v":{"$error":"#REF!"}},{"$f":"SUM(weekly!#REF!)","v":{"$error":"#REF!"}},{"$f":"SUM(weekly!#REF!)","v":{"$error":"#REF!"}},{"$error":"#REF!"},{"$f":"SUM(weekly!B232:B236)","v":33},{"$f":"SUM(weekly!#REF!)","v":{"$error":"#REF!"}},{"$f":"SUM(weekly!#REF!)","v":{"$error":"#REF!"}},{"$f":"SUM(weekly!#REF!)","v":{"$error":"#REF!"}},{"$error":"#REF!"},{"$f":"SUM(weekly!C232:C236)","v":51},{"$f":"SUM(weekly!#REF!)","v":{"$error":"#REF!"}},{"$f":"SUM(weekly!#REF!)","v":{"$error":"#REF!"}},{"$f":"SUM(weekly!#REF!)","v":{"$error":"#REF!"}},{"$error":"#REF!"},{"$f":"SUM(weekly!#REF!)","v":{"$error":"#REF!"}},187.8,122.75178386622365]
["2005-07-01",{"$f":"SUM(weekly!#REF!)","v":{"$error":"#REF!"}},{"$f":"SUM(weekly!#REF!)","v":{"$error":"#REF!"}},{"$f":"SUM(weekly!#REF!)","v":{"$error":"#REF!"}},{"$error":"#REF!"},{"$f":"SUM(weekly!B237:B240)","v":16},{"$f":"SUM(weekly!#REF!)","v":{"$error":"#REF!"}},{"$f":"SUM(weekly!#REF!)","v":{"$error":"#REF!"}},{"$f":"SUM(weekly!#REF!)","v":{"$error":"#REF!"}},{"$error":"#REF!"},{"$f":"SUM(weekly!C237:C240)","v":37},{"$f":"SUM(weekly!#REF!)","v":{"$error":"#REF!"}},{"$f":"SUM(weekly!#REF!)","v":{"$error":"#REF!"}},{"$f":"SUM(weekly!#REF!)","v":{"$error":"#REF!"}},{"$error":"#REF!"},{"$f":"SUM(weekly!#REF!)","v":{"$error":"#REF!"}},188.4,123.14396208943843]
["2005-08-01",{"$f":"SUM(weekly!#REF!)","v":{"$error":"#REF!"}},{"$f":"SUM(weekly!#REF!)","v":{"$error":"#REF!"}},{"$f":"SUM(weekly!#REF!)","v":{"$error":"#REF!"}},{"$error":"#REF!"},{"$f":"SUM(weekly!B241:B245)","v":27},{"$f":"SUM(weekly!#REF!)","v":{"$error":"#REF!"}},{"$f":"SUM(weekly!#REF!)","v":{"$error":"#REF!"}},{"$f":"SUM(weekly!#REF!)","v":{"$error":"#REF!"}},{"$error":"#REF!"},{"$f":"SUM(weekly!C241:C245)","v":46},{"$f":"SUM(weekly!#REF!)","v":{"$error":"#REF!"}},{"$f":"SUM(weekly!#REF!)","v":{"$error":"#REF!"}},{"$f":"SUM(weekly!#REF!)","v":{"$error":"#REF!"}},{"$error":"#REF!"},{"$f":"SUM(weekly!#REF!)","v":{"$error":"#REF!"}},189.7,123.99368157307042]
["2005-09-01",{"$f":"SUM(weekly!#REF!)","v":{"$error":"#REF!"}},{"$f":"SUM(weekly!#REF!)","v":{"$error":"#REF!"}},{"$f":"SUM(weekly!#REF!)","v":{"$error":"#REF!"}},{"$error":"#REF!"},{"$f":"SUM(weekly!B246:B249)","v":10},{"$f":"SUM(weekly!#REF!)","v":{"$error":"#REF!"}},{"$f":"SUM(weekly!#REF!)","v":{"$error":"#REF!"}},{"$f":"SUM(weekly!#REF!)","v":{"$error":"#REF!"}},{"$error":"#REF!"},{"$f":"SUM(weekly!C246:C249)","v":29},{"$f":"SUM(weekly!#REF!)","v":{"$error":"#REF!"}},{"$f":"SUM(weekly!#REF!)","v":{"$error":"#REF!"}},{"$f":"SUM(weekly!#REF!)","v":{"$error":"#REF!"}},{"$error":"#REF!"},{"$f":"SUM(weekly!#REF!)","v":{"$error":"#REF!"}},192.5,125.82384661473935]
["2005-10-01",{"$f":"SUM(weekly!#REF!)","v":{"$error":"#REF!"}},{"$f":"SUM(weekly!#REF!)","v":{"$error":"#REF!"}},{"$f":"SUM(weekly!#REF!)","v":{"$error":"#REF!"}},{"$error":"#REF!"},{"$f":"SUM(weekly!B250:B253)","v":23},{"$f":"SUM(weekly!#REF!)","v":{"$error":"#REF!"}},{"$f":"SUM(weekly!#REF!)","v":{"$error":"#REF!"}},{"$f":"SUM(weekly!#REF!)","v":{"$error":"#REF!"}},{"$f":"(I59/R59)*100","v":{"$error":"#REF!"}},{"$f":"SUM(weekly!C250:C253)","v":34},{"$f":"SUM(weekly!#REF!)","v":{"$error":"#REF!"}},{"$f":"SUM(weekly!#REF!)","v":{"$error":"#REF!"}},{"$f":"SUM(weekly!#REF!)","v":{"$error":"#REF!"}},{"$error":"#REF!"},{"$f":"SUM(weekly!#REF!)","v":{"$error":"#REF!"}},192.1,125.56239446592951]
["2005-11-01",{"$f":"SUM(weekly!#REF!)","v":{"$error":"#REF!"}},{"$f":"SUM(weekly!#REF!)","v":{"$error":"#REF!"}},{"$f":"SUM(weekly!#REF!)","v":{"$error":"#REF!"}},{"$error":"#REF!"},{"$f":"SUM(weekly!B254:B258)","v":16},{"$f":"SUM(weekly!#REF!)","v":{"$error":"#REF!"}},{"$f":"SUM(weekly!#REF!)","v":{"$error":"#REF!"}},{"$f":"SUM(weekly!#REF!)","v":{"$error":"#REF!"}},{"$error":"#REF!"},{"$f":"SUM(weekly!C254:C258)","v":45},{"$f":"SUM(weekly!#REF!)","v":{"$error":"#REF!"}},{"$f":"SUM(weekly!#REF!)","v":{"$error":"#REF!"}},{"$f":"SUM(weekly!#REF!)","v":{"$error":"#REF!"}},{"$error":"#REF!"},{"$f":"SUM(weekly!#REF!)","v":{"$error":"#REF!"}},190.3,124.3858597962852]
["2005-12-01",{"$f":"SUM(weekly!#REF!)","v":{"$error":"#REF!"}},{"$f":"SUM(weekly!#REF!)","v":{"$error":"#REF!"}},{"$f":"SUM(weekly!#REF!)","v":{"$error":"#REF!"}},{"$error":"#REF!"},{"$f":"SUM(weekly!B259:B262)","v":18},{"$f":"SUM(weekly!#REF!)","v":{"$error":"#REF!"}},{"$f":"SUM(weekly!#REF!)","v":{"$error":"#REF!"}},{"$f":"SUM(weekly!#REF!)","v":{"$error":"#REF!"}},{"$error":"#REF!"},{"$f":"SUM(weekly!C259:C262)","v":28},{"$f":"SUM(weekly!#REF!)","v":{"$error":"#REF!"}},{"$f":"SUM(weekly!#REF!)","v":{"$error":"#REF!"}},{"$f":"SUM(weekly!#REF!)","v":{"$error":"#REF!"}},{"$error":"#REF!"},{"$f":"SUM(weekly!#REF!)","v":{"$error":"#REF!"}},189.7,123.99368157307042]
["2006-01-01",{"$f":"SUM(weekly!#REF!)","v":{"$error":"#REF!"}},{"$f":"SUM(weekly!#REF!)","v":{"$error":"#REF!"}},{"$f":"SUM(weekly!#REF!)","v":{"$error":"#REF!"}},{"$error":"#REF!"},{"$f":"SUM(weekly!B263:B266)","v":29},{"$f":"SUM(weekly!#REF!)","v":{"$error":"#REF!"}},{"$f":"SUM(weekly!#REF!)","v":{"$error":"#REF!"}},{"$f":"SUM(weekly!#REF!)","v":{"$error":"#REF!"}},{"$error":"#REF!"},{"$f":"SUM(weekly!C263:C266)","v":37},{"$f":"SUM(weekly!#REF!)","v":{"$error":"#REF!"}},{"$f":"SUM(weekly!#REF!)","v":{"$error":"#REF!"}},{"$f":"SUM(weekly!#REF!)","v":{"$error":"#REF!"}},{"$error":"#REF!"},{"$f":"SUM(weekly!#REF!)","v":{"$error":"#REF!"}},190.8,124.71267498229753]
["2006-02-01",{"$f":"SUM(weekly!#REF!)","v":{"$error":"#REF!"}},{"$f":"SUM(weekly!#REF!)","v":{"$error":"#REF!"}},{"$f":"SUM(weekly!#REF!)","v":{"$error":"#REF!"}},{"$error":"#REF!"},{"$f":"SUM(weekly!B267:B270)","v":23},{"$f":"SUM(weekly!#REF!)","v":{"$error":"#REF!"}},{"$f":"SUM(weekly!#REF!)","v":{"$error":"#REF!"}},{"$f":"SUM(weekly!#REF!)","v":{"$error":"#REF!"}},{"$error":"#REF!"},{"$f":"SUM(weekly!C267:C270)","v":40},{"$f":"SUM(weekly!#REF!)","v":{"$error":"#REF!"}},{"$f":"SUM(weekly!#REF!)","v":{"$error":"#REF!"}},{"$f":"SUM(weekly!#REF!)","v":{"$error":"#REF!"}},{"$error":"#REF!"},{"$f":"SUM(weekly!#REF!)","v":{"$error":"#REF!"}},190.7,124.64731194509504]
["2006-03-01",{"$f":"SUM(weekly!#REF!)","v":{"$error":"#REF!"}},{"$f":"SUM(weekly!#REF!)","v":{"$error":"#REF!"}},{"$f":"SUM(weekly!#REF!)","v":{"$error":"#REF!"}},{"$error":"#REF!"},{"$f":"SUM(weekly!B271:B275)","v":25},{"$f":"SUM(weekly!#REF!)","v":{"$error":"#REF!"}},{"$f":"SUM(weekly!#REF!)","v":{"$error":"#REF!"}},{"$f":"SUM(weekly!#REF!)","v":{"$error":"#REF!"}},{"$error":"#REF!"},{"$f":"SUM(weekly!C271:C275)","v":54},{"$f":"SUM(weekly!#REF!)","v":{"$error":"#REF!"}},{"$f":"SUM(weekly!#REF!)","v":{"$error":"#REF!"}},{"$f":"SUM(weekly!#REF!)","v":{"$error":"#REF!"}},{"$error":"#REF!"},{"$f":"SUM(weekly!#REF!)","v":{"$error":"#REF!"}},192,125.49703142872706]
["2006-04-01",{"$f":"SUM(weekly!#REF!)","v":{"$error":"#REF!"}},{"$f":"SUM(weekly!#REF!)","v":{"$error":"#REF!"}},{"$f":"SUM(weekly!#REF!)","v":{"$error":"#REF!"}},{"$error":"#REF!"},{"$f":"SUM(weekly!B276:B279)","v":35},{"$f":"SUM(weekly!#REF!)","v":{"$error":"#REF!"}},{"$f":"SUM(weekly!#REF!)","v":{"$error":"#REF!"}},{"$f":"SUM(weekly!#REF!)","v":{"$error":"#REF!"}},{"$error":"#REF!"},{"$f":"SUM(weekly!C276:C279)","v":45},{"$f":"SUM(weekly!#REF!)","v":{"$error":"#REF!"}},{"$f":"SUM(weekly!#REF!)","v":{"$error":"#REF!"}},{"$f":"SUM(weekly!#REF!)","v":{"$error":"#REF!"}},{"$error":"#REF!"},{"$f":"SUM(weekly!#REF!)","v":{"$error":"#REF!"}},193,126.15066180075168]
["2006-05-01",{"$f":"SUM(weekly!#REF!)","v":{"$error":"#REF!"}},{"$f":"SUM(weekly!#REF!)","v":{"$error":"#REF!"}},{"$f":"SUM(weekly!#REF!)","v":{"$error":"#REF!"}},{"$error":"#REF!"},{"$f":"SUM(weekly!B280:B284)","v":18},{"$f":"SUM(weekly!#REF!)","v":{"$error":"#REF!"}},{"$f":"SUM(weekly!#REF!)","v":{"$error":"#REF!"}},{"$f":"SUM(weekly!#REF!)","v":{"$error":"#REF!"}},{"$error":"#REF!"},{"$f":"SUM(weekly!C280:C284)","v":46},{"$f":"SUM(weekly!#REF!)","v":{"$error":"#REF!"}},{"$f":"SUM(weekly!#REF!)","v":{"$error":"#REF!"}},{"$f":"SUM(weekly!#REF!)","v":{"$error":"#REF!"}},{"$error":"#REF!"},{"$f":"SUM(weekly!#REF!)","v":{"$error":"#REF!"}},193.6,126.54284002396643]
["2006-06-01",{"$f":"SUM(weekly!#REF!)","v":{"$error":"#REF!"}},{"$f":"SUM(weekly!#REF!)","v":{"$error":"#REF!"}},{"$f":"SUM(weekly!#REF!)","v":{"$error":"#REF!"}},{"$error":"#REF!"},{"$f":"SUM(weekly!B285:B288)","v":23},{"$f":"SUM(weekly!#REF!)","v":{"$error":"#REF!"}},{"$f":"SUM(weekly!#REF!)","v":{"$error":"#REF!"}},{"$f":"SUM(weekly!#REF!)","v":{"$error":"#REF!"}},{"$error":"#REF!"},{"$f":"SUM(weekly!C285:C288)","v":37},{"$f":"SUM(weekly!#REF!)","v":{"$error":"#REF!"}},{"$f":"SUM(weekly!#REF!)","v":{"$error":"#REF!"}},{"$f":"SUM(weekly!#REF!)","v":{"$error":"#REF!"}},{"$error":"#REF!"},{"$f":"SUM(weekly!#REF!)","v":{"$error":"#REF!"}},194.1,126.86965520997875]
["2006-07-01",{"$f":"SUM(weekly!#REF!)","v":{"$error":"#REF!"}},{"$f":"SUM(weekly!#REF!)","v":{"$error":"#REF!"}},{"$f":"SUM(weekly!#REF!)","v":{"$error":"#REF!"}},{"$error":"#REF!"},{"$f":"SUM(weekly!B289:B292)","v":14},{"$f":"SUM(weekly!#REF!)","v":{"$error":"#REF!"}},{"$f":"SUM(weekly!#REF!)","v":{"$error":"#REF!"}},{"$f":"SUM(weekly!#REF!)","v":{"$error":"#REF!"}},{"$error":"#REF!"},{"$f":"SUM(weekly!C289:C292)","v":41},{"$f":"SUM(weekly!#REF!)","v":{"$error":"#REF!"}},{"$f":"SUM(weekly!#REF!)","v":{"$error":"#REF!"}},{"$f":"SUM(weekly!#REF!)","v":{"$error":"#REF!"}},{"$error":"#REF!"},{"$f":"SUM(weekly!#REF!)","v":{"$error":"#REF!"}},194.6,127.19647039599107]
["2006-08-01",{"$f":"SUM(weekly!#REF!)","v":{"$error":"#REF!"}},{"$f":"SUM(weekly!#REF!)","v":{"$error":"#REF!"}},{"$f":"SUM(weekly!#REF!)","v":{"$error":"#REF!"}},{"$error":"#REF!"},{"$f":"SUM(weekly!B293:B297)","v":24},{"$f":"SUM(weekly!#REF!)","v":{"$error":"#REF!"}},{"$f":"SUM(weekly!#REF!)","v":{"$error":"#REF!"}},{"$f":"SUM(weekly!#REF!)","v":{"$error":"#REF!"}},{"$error":"#REF!"},{"$f":"SUM(weekly!C293:C297)","v":35},{"$f":"SUM(weekly!#REF!)","v":{"$error":"#REF!"}},{"$f":"SUM(weekly!#REF!)","v":{"$error":"#REF!"}},{"$f":"SUM(weekly!#REF!)","v":{"$error":"#REF!"}},{"$error":"#REF!"},{"$f":"SUM(weekly!#REF!)","v":{"$error":"#REF!"}},195.1,127.52328558200337]
["2006-09-01",{"$f":"SUM(weekly!#REF!)","v":{"$error":"#REF!"}},{"$f":"SUM(weekly!#REF!)","v":{"$error":"#REF!"}},{"$f":"SUM(weekly!#REF!)","v":{"$error":"#REF!"}},{"$error":"#REF!"},{"$f":"SUM(weekly!B298:B301)","v":16},{"$f":"SUM(weekly!#REF!)","v":{"$error":"#REF!"}},{"$f":"SUM(weekly!#REF!)","v":{"$error":"#REF!"}},{"$f":"SUM(weekly!#REF!)","v":{"$error":"#REF!"}},{"$error":"#REF!"},{"$f":"SUM(weekly!C298:C301)","v":53},{"$f":"SUM(weekly!#REF!)","v":{"$error":"#REF!"}},{"$f":"SUM(weekly!#REF!)","v":{"$error":"#REF!"}},{"$f":"SUM(weekly!#REF!)","v":{"$error":"#REF!"}},{"$error":"#REF!"},{"$f":"SUM(weekly!#REF!)","v":{"$error":"#REF!"}},193.7,126.60820306116889]
["2006-10-01",{"$f":"SUM(weekly!#REF!)","v":{"$error":"#REF!"}},{"$f":"SUM(weekly!#REF!)","v":{"$error":"#REF!"}},{"$f":"SUM(weekly!#REF!)","v":{"$error":"#REF!"}},{"$error":"#REF!"},{"$f":"SUM(weekly!B302:B305)","v":13},{"$f":"SUM(weekly!#REF!)","v":{"$error":"#REF!"}},{"$f":"SUM(weekly!#REF!)","v":{"$error":"#REF!"}},{"$f":"SUM(weekly!#REF!)","v":{"$error":"#REF!"}},{"$error":"#REF!"},{"$f":"SUM(weekly!C302:C305)","v":19},{"$f":"SUM(weekly!#REF!)","v":{"$error":"#REF!"}},{"$f":"SUM(weekly!#REF!)","v":{"$error":"#REF!"}},{"$f":"SUM(weekly!#REF!)","v":{"$error":"#REF!"}},{"$error":"#REF!"},{"$f":"SUM(weekly!#REF!)","v":{"$error":"#REF!"}},192.3,125.69312054033443]
["2006-11-01",{"$f":"SUM(weekly!#REF!)","v":{"$error":"#REF!"}},{"$f":"SUM(weekly!#REF!)","v":{"$error":"#REF!"}},{"$f":"SUM(weekly!#REF!)","v":{"$error":"#REF!"}},{"$error":"#REF!"},{"$f":"SUM(weekly!B306:B310)","v":19},{"$f":"SUM(weekly!#REF!)","v":{"$error":"#REF!"}},{"$f":"SUM(weekly!#REF!)","v":{"$error":"#REF!"}},{"$f":"SUM(weekly!#REF!)","v":{"$error":"#REF!"}},{"$error":"#REF!"},{"$f":"SUM(weekly!C306:C310)","v":45},{"$f":"SUM(weekly!#REF!)","v":{"$error":"#REF!"}},{"$f":"SUM(weekly!#REF!)","v":{"$error":"#REF!"}},{"$f":"SUM(weekly!#REF!)","v":{"$error":"#REF!"}},{"$error":"#REF!"},{"$f":"SUM(weekly!#REF!)","v":{"$error":"#REF!"}},192.8,126.01993572634676]
["2006-12-01",{"$f":"SUM(weekly!#REF!)","v":{"$error":"#REF!"}},{"$f":"SUM(weekly!#REF!)","v":{"$error":"#REF!"}},{"$f":"SUM(weekly!#REF!)","v":{"$error":"#REF!"}},{"$error":"#REF!"},{"$f":"SUM(weekly!B311:B314)","v":21},{"$f":"SUM(weekly!#REF!)","v":{"$error":"#REF!"}},{"$f":"SUM(weekly!#REF!)","v":{"$error":"#REF!"}},{"$f":"SUM(weekly!#REF!)","v":{"$error":"#REF!"}},{"$error":"#REF!"},{"$f":"SUM(weekly!C311:C314)","v":36},{"$f":"SUM(weekly!#REF!)","v":{"$error":"#REF!"}},{"$f":"SUM(weekly!#REF!)","v":{"$error":"#REF!"}},{"$f":"SUM(weekly!#REF!)","v":{"$error":"#REF!"}},{"$error":"#REF!"},{"$f":"SUM(weekly!#REF!)","v":{"$error":"#REF!"}},192.9,{"$f":"(Q73/$S$2)*100","v":126.08529876354922}]
["2007-01-01",{"$f":"SUM(weekly!#REF!)","v":{"$error":"#REF!"}},{"$f":"SUM(weekly!#REF!)","v":{"$error":"#REF!"}},{"$f":"SUM(weekly!#REF!)","v":{"$error":"#REF!"}},{"$f":"(D74/R74)*100","v":{"$error":"#REF!"}},{"$f":"SUM(weekly!B315:B319)","v":28},{"$f":"SUM(weekly!#REF!)","v":{"$error":"#REF!"}},{"$f":"SUM(weekly!#REF!)","v":{"$error":"#REF!"}},{"$f":"SUM(weekly!#REF!)","v":{"$error":"#REF!"}},{"$f":"(I74/R74)*100","v":{"$error":"#REF!"}},{"$f":"SUM(weekly!C315:C319)","v":44},{"$f":"SUM(weekly!#REF!)","v":{"$error":"#REF!"}},{"$f":"SUM(weekly!#REF!)","v":{"$error":"#REF!"}},{"$f":"SUM(weekly!#REF!)","v":{"$error":"#REF!"}},{"$f":"(N74/R74)*100","v":{"$error":"#REF!"}},{"$f":"SUM(weekly!#REF!)","v":{"$error":"#REF!"}},193.1,126.21602483795414]
["2007-02-01",{"$f":"SUM(weekly!#REF!)","v":{"$error":"#REF!"}},{"$f":"SUM(weekly!#REF!)","v":{"$error":"#REF!"}},{"$f":"SUM(weekly!#REF!)","v":{"$error":"#REF!"}},{"$error":"#REF!"},{"$f":"SUM(weekly!B320:B323)","v":19},{"$f":"SUM(weekly!#REF!)","v":{"$error":"#REF!"}},{"$f":"SUM(weekly!#REF!)","v":{"$error":"#REF!"}},{"$f":"SUM(weekly!#REF!)","v":{"$error":"#REF!"}},{"$error":"#REF!"},{"$f":"SUM(weekly!C320:C323)","v":46},{"$f":"SUM(weekly!#REF!)","v":{"$error":"#REF!"}},{"$f":"SUM(weekly!#REF!)","v":{"$error":"#REF!"}},{"$f":"SUM(weekly!#REF!)","v":{"$error":"#REF!"}},{"$error":"#REF!"},{"$f":"SUM(weekly!#REF!)","v":{"$error":"#REF!"}},194.5,127.13110735878861]
["2007-03-01",{"$f":"SUM(weekly!#REF!)","v":{"$error":"#REF!"}},{"$f":"SUM(weekly!#REF!)","v":{"$error":"#REF!"}},{"$f":"SUM(weekly!#REF!)","v":{"$error":"#REF!"}},{"$error":"#REF!"},{"$f":"SUM(weekly!B324:B327)","v":23},{"$f":"SUM(weekly!#REF!)","v":{"$error":"#REF!"}},{"$f":"SUM(weekly!#REF!)","v":{"$error":"#REF!"}},{"$f":"SUM(weekly!#REF!)","v":{"$error":"#REF!"}},{"$error":"#REF!"},{"$f":"SUM(weekly!C324:C327)","v":40},{"$f":"SUM(weekly!#REF!)","v":{"$error":"#REF!"}},{"$f":"SUM(weekly!#REF!)","v":{"$error":"#REF!"}},{"$f":"SUM(weekly!#REF!)","v":{"$error":"#REF!"}},{"$error":"#REF!"},{"$f":"SUM(weekly!#REF!)","v":{"$error":"#REF!"}},196.4,128.37300506563537]
["2007-04-01",{"$f":"SUM(weekly!#REF!)","v":{"$error":"#REF!"}},{"$f":"SUM(weekly!#REF!)","v":{"$error":"#REF!"}},{"$f":"SUM(weekly!#REF!)","v":{"$error":"#REF!"}},{"$error":"#REF!"},{"$f":"SUM(weekly!B328:B332)","v":32},{"$f":"SUM(weekly!#REF!)","v":{"$error":"#REF!"}},{"$f":"SUM(weekly!#REF!)","v":{"$error":"#REF!"}},{"$f":"SUM(weekly!#REF!)","v":{"$error":"#REF!"}},{"$error":"#REF!"},{"$f":"SUM(weekly!C328:C332)","v":55},{"$f":"SUM(weekly!#REF!)","v":{"$error":"#REF!"}},{"$f":"SUM(weekly!#REF!)","v":{"$error":"#REF!"}},{"$f":"SUM(weekly!#REF!)","v":{"$error":"#REF!"}},{"$error":"#REF!"},{"$f":"SUM(weekly!#REF!)","v":{"$error":"#REF!"}},197.4,129.02663543765999]
["2007-05-01",{"$f":"SUM(weekly!#REF!)","v":{"$error":"#REF!"}},{"$f":"SUM(weekly!#REF!)","v":{"$error":"#REF!"}},{"$f":"SUM(weekly!#REF!)","v":{"$error":"#REF!"}},{"$error":"#REF!"},{"$f":"SUM(weekly!B333:B336)","v":26},{"$f":"SUM(weekly!#REF!)","v":{"$error":"#REF!"}},{"$f":"SUM(weekly!#REF!)","v":{"$error":"#REF!"}},{"$f":"SUM(weekly!#REF!)","v":{"$error":"#REF!"}},{"$error":"#REF!"},{"$f":"SUM(weekly!C333:C336)","v":33},{"$f":"SUM(weekly!#REF!)","v":{"$error":"#REF!"}},{"$f":"SUM(weekly!#REF!)","v":{"$error":"#REF!"}},{"$f":"SUM(weekly!#REF!)","v":{"$error":"#REF!"}},{"$error":"#REF!"},{"$f":"SUM(weekly!#REF!)","v":{"$error":"#REF!"}},199.2,130.20317010730432]
["2007-06-01",{"$f":"SUM(weekly!#REF!)","v":{"$error":"#REF!"}},{"$f":"SUM(weekly!#REF!)","v":{"$error":"#REF!"}},{"$f":"SUM(weekly!#REF!)","v":{"$error":"#REF!"}},{"$error":"#REF!"},{"$f":"SUM(weekly!B337:B340)","v":29},{"$f":"SUM(weekly!#REF!)","v":{"$error":"#REF!"}},{"$f":"SUM(weekly!#REF!)","v":{"$error":"#REF!"}},{"$f":"SUM(weekly!#REF!)","v":{"$error":"#REF!"}},{"$error":"#REF!"},{"$f":"SUM(weekly!C337:C340)","v":28},{"$f":"SUM(weekly!#REF!)","v":{"$error":"#REF!"}},{"$f":"SUM(weekly!#REF!)","v":{"$error":"#REF!"}},{"$f":"SUM(weekly!#REF!)","v":{"$error":"#REF!"}},{"$error":"#REF!"},{"$f":"SUM(weekly!#REF!)","v":{"$error":"#REF!"}},199.3,130.26853314450679]
["2007-07-01",{"$f":"SUM(weekly!#REF!)","v":{"$error":"#REF!"}},{"$f":"SUM(weekly!#REF!)","v":{"$error":"#REF!"}},{"$f":"SUM(weekly!#REF!)","v":{"$error":"#REF!"}},{"$error":"#REF!"},{"$f":"SUM(weekly!B341:B345)","v":22},{"$f":"SUM(weekly!#REF!)","v":{"$error":"#REF!"}},{"$f":"SUM(weekly!#REF!)","v":{"$error":"#REF!"}},{"$f":"SUM(weekly!#REF!)","v":{"$error":"#REF!"}},{"$error":"#REF!"},{"$f":"SUM(weekly!C341:C345)","v":41},{"$f":"SUM(weekly!#REF!)","v":{"$error":"#REF!"}},{"$f":"SUM(weekly!#REF!)","v":{"$error":"#REF!"}},{"$f":"SUM(weekly!#REF!)","v":{"$error":"#REF!"}},{"$error":"#REF!"},{"$f":"SUM(weekly!#REF!)","v":{"$error":"#REF!"}},199,130.0724440328994]
["2007-08-01",{"$f":"SUM(weekly!#REF!)","v":{"$error":"#REF!"}},{"$f":"SUM(weekly!#REF!)","v":{"$error":"#REF!"}},{"$f":"SUM(weekly!#REF!)","v":{"$error":"#REF!"}},{"$error":"#REF!"},{"$f":"SUM(weekly!B346:B348)","v":12},{"$f":"SUM(weekly!#REF!)","v":{"$error":"#REF!"}},{"$f":"SUM(weekly!#REF!)","v":{"$error":"#REF!"}},{"$f":"SUM(weekly!#REF!)","v":{"$error":"#REF!"}},{"$error":"#REF!"},{"$f":"SUM(weekly!C346:C348)","v":33},{"$f":"SUM(weekly!#REF!)","v":{"$error":"#REF!"}},{"$f":"SUM(weekly!#REF!)","v":{"$error":"#REF!"}},{"$f":"SUM(weekly!#REF!)","v":{"$error":"#REF!"}},{"$error":"#REF!"},{"$f":"SUM(weekly!#REF!)","v":{"$error":"#REF!"}},198.6,129.81099188408953]
["2007-09-01",{"$f":"SUM(weekly!#REF!)","v":{"$error":"#REF!"}},{"$f":"SUM(weekly!#REF!)","v":{"$error":"#REF!"}},{"$f":"SUM(weekly!#REF!)","v":{"$error":"#REF!"}},{"$error":"#REF!"},{"$f":"SUM(weekly!B349:B354)","v":32},{"$f":"SUM(weekly!#REF!)","v":{"$error":"#REF!"}},{"$f":"SUM(weekly!#REF!)","v":{"$error":"#REF!"}},{"$f":"SUM(weekly!#REF!)","v":{"$error":"#REF!"}},{"$error":"#REF!"},{"$f":"SUM(weekly!C349:C354)","v":75},{"$f":"SUM(weekly!#REF!)","v":{"$error":"#REF!"}},{"$f":"SUM(weekly!#REF!)","v":{"$error":"#REF!"}},{"$f":"SUM(weekly!#REF!)","v":{"$error":"#REF!"}},{"$error":"#REF!"},{"$f":"SUM(weekly!#REF!)","v":{"$error":"#REF!"}},199.7,130.5299852933166]
["2007-10-01",{"$f":"SUM(weekly!#REF!)","v":{"$error":"#REF!"}},{"$f":"SUM(weekly!#REF!)","v":{"$error":"#REF!"}},{"$f":"SUM(weekly!#REF!)","v":{"$error":"#REF!"}},{"$error":"#REF!"},{"$f":"SUM(weekly!B355:B358)","v":23},{"$f":"SUM(weekly!#REF!)","v":{"$error":"#REF!"}},{"$f":"SUM(weekly!#REF!)","v":{"$error":"#REF!"}},{"$f":"SUM(weekly!#REF!)","v":{"$error":"#REF!"}},{"$error":"#REF!"},{"$f":"SUM(weekly!C355:C358)","v":36},{"$f":"SUM(weekly!#REF!)","v":{"$error":"#REF!"}},{"$f":"SUM(weekly!#REF!)","v":{"$error":"#REF!"}},{"$f":"SUM(weekly!#REF!)","v":{"$error":"#REF!"}},{"$error":"#REF!"},{"$f":"SUM(weekly!#REF!)","v":{"$error":"#REF!"}},199.5,130.39925921891168]
["2007-11-01",{"$f":"SUM(weekly!#REF!)","v":{"$error":"#REF!"}},{"$f":"SUM(weekly!#REF!)","v":{"$error":"#REF!"}},{"$f":"SUM(weekly!#REF!)","v":{"$error":"#REF!"}},{"$error":"#REF!"},{"$f":"SUM(weekly!B359:B362)","v":13},{"$f":"SUM(weekly!#REF!)","v":{"$error":"#REF!"}},{"$f":"SUM(weekly!#REF!)","v":{"$error":"#REF!"}},{"$f":"SUM(weekly!#REF!)","v":{"$error":"#REF!"}},{"$error":"#REF!"},{"$f":"SUM(weekly!C359:C362)","v":41},{"$f":"SUM(weekly!#REF!)","v":{"$error":"#REF!"}},{"$f":"SUM(weekly!#REF!)","v":{"$error":"#REF!"}},{"$f":"SUM(weekly!#REF!)","v":{"$error":"#REF!"}},{"$error":"#REF!"},{"$f":"SUM(weekly!#REF!)","v":{"$error":"#REF!"}},200.8,131.2489787025437]
["2007-12-01",{"$f":"SUM(weekly!#REF!)","v":{"$error":"#REF!"}},{"$f":"SUM(weekly!#REF!)","v":{"$error":"#REF!"}},{"$f":"SUM(weekly!#REF!)","v":{"$error":"#REF!"}},{"$error":"#REF!"},{"$f":"SUM(weekly!B363:B367)","v":23},{"$f":"SUM(weekly!#REF!)","v":{"$error":"#REF!"}},{"$f":"SUM(weekly!#REF!)","v":{"$error":"#REF!"}},{"$f":"SUM(weekly!#REF!)","v":{"$error":"#REF!"}},{"$error":"#REF!"},{"$f":"SUM(weekly!C363:C367)","v":40},{"$f":"SUM(weekly!#REF!)","v":{"$error":"#REF!"}},{"$f":"SUM(weekly!#REF!)","v":{"$error":"#REF!"}},{"$f":"SUM(weekly!#REF!)","v":{"$error":"#REF!"}},{"$error":"#REF!"},{"$f":"SUM(weekly!#REF!)","v":{"$error":"#REF!"}},200.2,130.85680047932894]
["2008-01-01",{"$f":"SUM(weekly!#REF!)","v":{"$error":"#REF!"}},{"$f":"SUM(weekly!#REF!)","v":{"$error":"#REF!"}},{"$f":"SUM(weekly!#REF!)","v":{"$error":"#REF!"}},{"$error":"#REF!"},{"$f":"SUM(weekly!B368:B371)","v":20},{"$f":"SUM(weekly!#REF!)","v":{"$error":"#REF!"}},{"$f":"SUM(weekly!#REF!)","v":{"$error":"#REF!"}},{"$f":"SUM(weekly!#REF!)","v":{"$error":"#REF!"}},{"$error":"#REF!"},{"$f":"SUM(weekly!C368:C371)","v":48},{"$f":"SUM(weekly!#REF!)","v":{"$error":"#REF!"}},{"$f":"SUM(weekly!#REF!)","v":{"$error":"#REF!"}},{"$f":"SUM(weekly!#REF!)","v":{"$error":"#REF!"}},{"$error":"#REF!"},{"$f":"SUM(weekly!#REF!)","v":{"$error":"#REF!"}},201.4,131.64115692575848]
["2008-02-01",{"$f":"SUM(weekly!#REF!)","v":{"$error":"#REF!"}},{"$f":"SUM(weekly!#REF!)","v":{"$error":"#REF!"}},{"$f":"SUM(weekly!#REF!)","v":{"$error":"#REF!"}},{"$error":"#REF!"},{"$f":"SUM(weekly!B372:B375)","v":22},{"$f":"SUM(weekly!#REF!)","v":{"$error":"#REF!"}},{"$f":"SUM(weekly!#REF!)","v":{"$error":"#REF!"}},{"$f":"SUM(weekly!#REF!)","v":{"$error":"#REF!"}},{"$error":"#REF!"},{"$f":"SUM(weekly!C372:C375)","v":31},{"$f":"SUM(weekly!#REF!)","v":{"$error":"#REF!"}},{"$f":"SUM(weekly!#REF!)","v":{"$error":"#REF!"}},{"$f":"SUM(weekly!#REF!)","v":{"$error":"#REF!"}},{"$error":"#REF!"},{"$f":"SUM(weekly!#REF!)","v":{"$error":"#REF!"}},201.9,131.96797211177079]
["2008-03-01",{"$f":"SUM(weekly!#REF!)","v":{"$error":"#REF!"}},{"$f":"SUM(weekly!#REF!)","v":{"$error":"#REF!"}},{"$f":"SUM(weekly!#REF!)","v":{"$error":"#REF!"}},{"$error":"#REF!"},{"$f":"SUM(weekly!B376:B380)","v":34},{"$f":"SUM(weekly!#REF!)","v":{"$error":"#REF!"}},{"$f":"SUM(weekly!#REF!)","v":{"$error":"#REF!"}},{"$f":"SUM(weekly!#REF!)","v":{"$error":"#REF!"}},{"$error":"#REF!"},{"$f":"SUM(weekly!C376:C380)","v":53},{"$f":"SUM(weekly!#REF!)","v":{"$error":"#REF!"}},{"$f":"SUM(weekly!#REF!)","v":{"$error":"#REF!"}},{"$f":"SUM(weekly!#REF!)","v":{"$error":"#REF!"}},{"$error":"#REF!"},{"$f":"SUM(weekly!#REF!)","v":{"$error":"#REF!"}},203.7,133.14450678141509]
["2008-04-01",{"$f":"SUM(weekly!#REF!)","v":{"$error":"#REF!"}},{"$f":"SUM(weekly!#REF!)","v":{"$error":"#REF!"}},{"$f":"SUM(weekly!#REF!)","v":{"$error":"#REF!"}},{"$error":"#REF!"},{"$f":"SUM(weekly!B381:B384)","v":28},{"$f":"SUM(weekly!#REF!)","v":{"$error":"#REF!"}},{"$f":"SUM(weekly!#REF!)","v":{"$error":"#REF!"}},{"$f":"SUM(weekly!#REF!)","v":{"$error":"#REF!"}},{"$error":"#REF!"},{"$f":"SUM(weekly!C381:C384)","v":54},{"$f":"SUM(weekly!#REF!)","v":{"$error":"#REF!"}},{"$f":"SUM(weekly!#REF!)","v":{"$error":"#REF!"}},{"$f":"SUM(weekly!#REF!)","v":{"$error":"#REF!"}},{"$error":"#REF!"},{"$f":"SUM(weekly!#REF!)","v":{"$error":"#REF!"}},205.4,134.25567841385697]
["2008-05-01",{"$f":"SUM(weekly!#REF!)","v":{"$error":"#REF!"}},{"$f":"SUM(weekly!#REF!)","v":{"$error":"#REF!"}},{"$f":"SUM(weekly!#REF!)","v":{"$error":"#REF!"}},{"$error":"#REF!"},{"$f":"SUM(weekly!B385:B388)","v":42},{"$f":"SUM(weekly!#REF!)","v":{"$error":"#REF!"}},{"$f":"SUM(weekly!#REF!)","v":{"$error":"#REF!"}},{"$f":"SUM(weekly!#REF!)","v":{"$error":"#REF!"}},{"$error":"#REF!"},{"$f":"SUM(weekly!C385:C388)","v":33},{"$f":"SUM(weekly!#REF!)","v":{"$error":"#REF!"}},{"$f":"SUM(weekly!#REF!)","v":{"$error":"#REF!"}},{"$f":"SUM(weekly!#REF!)","v":{"$error":"#REF!"}},{"$error":"#REF!"},{"$f":"SUM(weekly!#REF!)","v":{"$error":"#REF!"}},207.2,135.43221308350127]
["2008-06-01",{"$f":"SUM(weekly!#REF!)","v":{"$error":"#REF!"}},{"$f":"SUM(weekly!#REF!)","v":{"$error":"#REF!"}},{"$f":"SUM(weekly!#REF!)","v":{"$error":"#REF!"}},{"$error":"#REF!"},{"$f":"SUM(weekly!B389:B392)","v":8},{"$f":"SUM(weekly!#REF!)","v":{"$error":"#REF!"}},{"$f":"SUM(weekly!#REF!)","v":{"$error":"#REF!"}},{"$f":"SUM(weekly!#REF!)","v":{"$error":"#REF!"}},{"$error":"#REF!"},{"$f":"SUM(weekly!C389:C392)","v":11},{"$f":"SUM(weekly!#REF!)","v":{"$error":"#REF!"}},{"$f":"SUM(weekly!#REF!)","v":{"$error":"#REF!"}},{"$f":"SUM(weekly!#REF!)","v":{"$error":"#REF!"}},{"$error":"#REF!"},{"$f":"SUM(weekly!#REF!)","v":{"$error":"#REF!"}},209,136.60874775314559]
["2008-07-01",{"$f":"SUM(weekly!#REF!)","v":{"$error":"#REF!"}},{"$f":"SUM(weekly!#REF!)","v":{"$error":"#REF!"}},{"$f":"SUM(weekly!#REF!)","v":{"$error":"#REF!"}},{"$error":"#REF!"},{"$f":"SUM(weekly!B393:B397)","v":27},{"$f":"SUM(weekly!#REF!)","v":{"$error":"#REF!"}},{"$f":"SUM(weekly!#REF!)","v":{"$error":"#REF!"}},{"$f":"SUM(weekly!#REF!)","v":{"$error":"#REF!"}},{"$error":"#REF!"},{"$f":"SUM(weekly!C393:C397)","v":49},{"$f":"SUM(weekly!#REF!)","v":{"$error":"#REF!"}},{"$f":"SUM(weekly!#REF!)","v":{"$error":"#REF!"}},{"$f":"SUM(weekly!#REF!)","v":{"$error":"#REF!"}},{"$error":"#REF!"},{"$f":"SUM(weekly!#REF!)","v":{"$error":"#REF!"}},210.1,137.32774116237266]
["2008-08-01",{"$f":"SUM(weekly!#REF!)","v":{"$error":"#REF!"}},{"$f":"SUM(weekly!#REF!)","v":{"$error":"#REF!"}},{"$f":"SUM(weekly!#REF!)","v":{"$error":"#REF!"}},{"$error":"#REF!"},{"$f":"SUM(weekly!B398:B401)","v":18},{"$f":"SUM(weekly!#REF!)","v":{"$error":"#REF!"}},{"$f":"SUM(weekly!#REF!)","v":{"$error":"#REF!"}},{"$f":"SUM(weekly!#REF!)","v":{"$error":"#REF!"}},{"$error":"#REF!"},{"$f":"SUM(weekly!C398:C401)","v":25},{"$f":"SUM(weekly!#REF!)","v":{"$error":"#REF!"}},{"$f":"SUM(weekly!#REF!)","v":{"$error":"#REF!"}},{"$f":"SUM(weekly!#REF!)","v":{"$error":"#REF!"}},{"$error":"#REF!"},{"$f":"SUM(weekly!#REF!)","v":{"$error":"#REF!"}},209.4,136.87019990195543]
["2008-09-01",{"$f":"SUM(weekly!#REF!)","v":{"$error":"#REF!"}},{"$f":"SUM(weekly!#REF!)","v":{"$error":"#REF!"}},{"$f":"SUM(weekly!#REF!)","v":{"$error":"#REF!"}},{"$error":"#REF!"},{"$f":"SUM(weekly!B402:B405)","v":10},{"$f":"SUM(weekly!#REF!)","v":{"$error":"#REF!"}},{"$f":"SUM(weekly!#REF!)","v":{"$error":"#REF!"}},{"$f":"SUM(weekly!#REF!)","v":{"$error":"#REF!"}},{"$error":"#REF!"},{"$f":"SUM(weekly!C402:C405)","v":29},{"$f":"SUM(weekly!#REF!)","v":{"$error":"#REF!"}},{"$f":"SUM(weekly!#REF!)","v":{"$error":"#REF!"}},{"$f":"SUM(weekly!#REF!)","v":{"$error":"#REF!"}},{"$error":"#REF!"},{"$f":"SUM(weekly!#REF!)","v":{"$error":"#REF!"}},209.3,136.80483686475299]
["2008-10-01",{"$f":"SUM(weekly!#REF!)","v":{"$error":"#REF!"}},{"$f":"SUM(weekly!#REF!)","v":{"$error":"#REF!"}},{"$f":"SUM(weekly!#REF!)","v":{"$error":"#REF!"}},{"$error":"#REF!"},{"$f":"SUM(weekly!B406:B410)","v":18},{"$f":"SUM(weekly!#REF!)","v":{"$error":"#REF!"}},{"$f":"SUM(weekly!#REF!)","v":{"$error":"#REF!"}},{"$f":"SUM(weekly!#REF!)","v":{"$error":"#REF!"}},{"$error":"#REF!"},{"$f":"SUM(weekly!C406:C410)","v":35},{"$f":"SUM(weekly!#REF!)","v":{"$error":"#REF!"}},{"$f":"SUM(weekly!#REF!)","v":{"$error":"#REF!"}},{"$f":"SUM(weekly!#REF!)","v":{"$error":"#REF!"}},{"$error":"#REF!"},{"$f":"SUM(weekly!#REF!)","v":{"$error":"#REF!"}},206,134.64785663707173]
["2008-11-01",{"$f":"SUM(weekly!#REF!)","v":{"$error":"#REF!"}},{"$f":"SUM(weekly!#REF!)","v":{"$error":"#REF!"}},{"$f":"SUM(weekly!#REF!)","v":{"$error":"#REF!"}},{"$error":"#REF!"},{"$f":"SUM(weekly!B411:B414)","v":10},{"$f":"SUM(weekly!#REF!)","v":{"$error":"#REF!"}},{"$f":"SUM(weekly!#REF!)","v":{"$error":"#REF!"}},{"$f":"SUM(weekly!#REF!)","v":{"$error":"#REF!"}},{"$error":"#REF!"},{"$f":"SUM(weekly!C411:C414)","v":35},{"$f":"SUM(weekly!#REF!)","v":{"$error":"#REF!"}},{"$f":"SUM(weekly!#REF!)","v":{"$error":"#REF!"}},{"$f":"SUM(weekly!#REF!)","v":{"$error":"#REF!"}},{"$error":"#REF!"},{"$f":"SUM(weekly!#REF!)","v":{"$error":"#REF!"}},201.7,131.83724603736587]
["2008-12-01",{"$f":"SUM(weekly!#REF!)","v":{"$error":"#REF!"}},{"$f":"SUM(weekly!#REF!)","v":{"$error":"#REF!"}},{"$f":"SUM(weekly!#REF!)","v":{"$error":"#REF!"}},{"$error":"#REF!"},{"$f":"SUM(weekly!B415:B419)","v":26},{"$f":"SUM(weekly!#REF!)","v":{"$error":"#REF!"}},{"$f":"SUM(weekly!#REF!)","v":{"$error":"#REF!"}},{"$f":"SUM(weekly!#REF!)","v":{"$error":"#REF!"}},{"$error":"#REF!"},{"$f":"SUM(weekly!C415:C419)","v":46},{"$f":"SUM(weekly!#REF!)","v":{"$error":"#REF!"}},{"$f":"SUM(weekly!#REF!)","v":{"$error":"#REF!"}},{"$f":"SUM(weekly!#REF!)","v":{"$error":"#REF!"}},{"$error":"#REF!"},{"$f":"SUM(weekly!#REF!)","v":{"$error":"#REF!"}},199.6,130.46462225611415]
["2009-01-01",{"$f":"SUM(weekly!#REF!)","v":{"$error":"#REF!"}},{"$f":"SUM(weekly!#REF!)","v":{"$error":"#REF!"}},{"$f":"SUM(weekly!#REF!)","v":{"$error":"#REF!"}},{"$error":"#REF!"},{"$f":"SUM(weekly!B420:B423)","v":17},{"$f":"SUM(weekly!#REF!)","v":{"$error":"#REF!"}},{"$f":"SUM(weekly!#REF!)","v":{"$error":"#REF!"}},{"$f":"SUM(weekly!#REF!)","v":{"$error":"#REF!"}},{"$error":"#REF!"},{"$f":"SUM(weekly!C420:C423)","v":30},{"$f":"SUM(weekly!#REF!)","v":{"$error":"#REF!"}},{"$f":"SUM(weekly!#REF!)","v":{"$error":"#REF!"}},{"$f":"SUM(weekly!#REF!)","v":{"$error":"#REF!"}},{"$error":"#REF!"},{"$f":"SUM(weekly!#REF!)","v":{"$error":"#REF!"}},200.8,131.2489787025437]
["2009-02-01",{"$f":"SUM(weekly!#REF!)","v":{"$error":"#REF!"}},{"$f":"SUM(weekly!#REF!)","v":{"$error":"#REF!"}},{"$f":"SUM(weekly!#REF!)","v":{"$error":"#REF!"}},{"$error":"#REF!"},{"$f":"SUM(weekly!B424:B427)","v":10},{"$f":"SUM(weekly!#REF!)","v":{"$error":"#REF!"}},{"$f":"SUM(weekly!#REF!)","v":{"$error":"#REF!"}},{"$f":"SUM(weekly!#REF!)","v":{"$error":"#REF!"}},{"$error":"#REF!"},{"$f":"SUM(weekly!C424:C427)","v":38},{"$f":"SUM(weekly!#REF!)","v":{"$error":"#REF!"}},{"$f":"SUM(weekly!#REF!)","v":{"$error":"#REF!"}},{"$f":"SUM(weekly!#REF!)","v":{"$error":"#REF!"}},{"$error":"#REF!"},{"$f":"SUM(weekly!#REF!)","v":{"$error":"#REF!"}},201.5,131.70651996296095]
["2009-03-01",{"$f":"SUM(weekly!#REF!)","v":{"$error":"#REF!"}},{"$f":"SUM(weekly!#REF!)","v":{"$error":"#REF!"}},{"$f":"SUM(weekly!#REF!)","v":{"$error":"#REF!"}},{"$error":"#REF!"},{"$f":"SUM(weekly!B428:B431)","v":18},{"$f":"SUM(weekly!#REF!)","v":{"$error":"#REF!"}},{"$f":"SUM(weekly!#REF!)","v":{"$error":"#REF!"}},{"$f":"SUM(weekly!#REF!)","v":{"$error":"#REF!"}},{"$error":"#REF!"},{"$f":"SUM(weekly!C428:C431)","v":42},{"$f":"SUM(weekly!#REF!)","v":{"$error":"#REF!"}},{"$f":"SUM(weekly!#REF!)","v":{"$error":"#REF!"}},{"$f":"SUM(weekly!#REF!)","v":{"$error":"#REF!"}},{"$error":"#REF!"},{"$f":"SUM(weekly!#REF!)","v":{"$error":"#REF!"}},202.02,132.04640775641374]
["2009-04-01",{"$f":"SUM(weekly!#REF!)","v":{"$error":"#REF!"}},{"$f":"SUM(weekly!#REF!)","v":{"$error":"#REF!"}},{"$f":"SUM(weekly!#REF!)","v":{"$error":"#REF!"}},{"$error":"#REF!"},{"$f":"SUM(weekly!B432:B436)","v":25},{"$f":"SUM(weekly!#REF!)","v":{"$error":"#REF!"}},{"$f":"SUM(weekly!#REF!)","v":{"$error":"#REF!"}},{"$f":"SUM(weekly!#REF!)","v":{"$error":"#REF!"}},{"$error":"#REF!"},{"$f":"SUM(weekly!C432:C436)","v":42},{"$f":"SUM(weekly!#REF!)","v":{"$error":"#REF!"}},{"$f":"SUM(weekly!#REF!)","v":{"$error":"#REF!"}},{"$f":"SUM(weekly!#REF!)","v":{"$error":"#REF!"}},{"$error":"#REF!"},{"$f":"SUM(weekly!#REF!)","v":{"$error":"#REF!"}},202.3,132.22942426058063]
["2009-05-01",{"$f":"SUM(weekly!#REF!)","v":{"$error":"#REF!"}},{"$f":"SUM(weekly!#REF!)","v":{"$error":"#REF!"}},{"$f":"SUM(weekly!#REF!)","v":{"$error":"#REF!"}},{"$error":"#REF!"},{"$f":"SUM(weekly!B437:B440)","v":18},{"$f":"SUM(weekly!#REF!)","v":{"$error":"#REF!"}},{"$f":"SUM(weekly!#REF!)","v":{"$error":"#REF!"}},{"$f":"SUM(weekly!#REF!)","v":{"$error":"#REF!"}},{"$error":"#REF!"},{"$f":"SUM(weekly!C437:C440)","v":31},{"$f":"SUM(weekly!#REF!)","v":{"$error":"#REF!"}},{"$f":"SUM(weekly!#REF!)","v":{"$error":"#REF!"}},{"$f":"SUM(weekly!#REF!)","v":{"$error":"#REF!"}},{"$error":"#REF!"},{"$f":"SUM(weekly!#REF!)","v":{"$error":"#REF!"}},203.2,132.81769159540278]
["2009-06-01",{"$f":"SUM(weekly!#REF!)","v":{"$error":"#REF!"}},{"$f":"SUM(weekly!#REF!)","v":{"$error":"#REF!"}},{"$f":"SUM(weekly!#REF!)","v":{"$error":"#REF!"}},{"$error":"#REF!"},{"$f":"SUM(weekly!B441:B444)","v":12},{"$f":"SUM(weekly!#REF!)","v":{"$error":"#REF!"}},{"$f":"SUM(weekly!#REF!)","v":{"$error":"#REF!"}},{"$f":"SUM(weekly!#REF!)","v":{"$error":"#REF!"}},{"$error":"#REF!"},{"$f":"SUM(weekly!C441:C444)","v":27},{"$f":"SUM(weekly!#REF!)","v":{"$error":"#REF!"}},{"$f":"SUM(weekly!#REF!)","v":{"$error":"#REF!"}},{"$f":"SUM(weekly!#REF!)","v":{"$error":"#REF!"}},{"$error":"#REF!"},{"$f":"SUM(weekly!#REF!)","v":{"$error":"#REF!"}},205.4,134.25567841385697]
["2009-07-01",{"$f":"SUM(weekly!#REF!)","v":{"$error":"#REF!"}},{"$f":"SUM(weekly!#REF!)","v":{"$error":"#REF!"}},{"$f":"SUM(weekly!#REF!)","v":{"$error":"#REF!"}},{"$error":"#REF!"},{"$f":"SUM(weekly!B445:B449)","v":18},{"$f":"SUM(weekly!#REF!)","v":{"$error":"#REF!"}},{"$f":"SUM(weekly!#REF!)","v":{"$error":"#REF!"}},{"$f":"SUM(weekly!#REF!)","v":{"$error":"#REF!"}},{"$error":"#REF!"},{"$f":"SUM(weekly!C445:C449)","v":40},{"$f":"SUM(weekly!#REF!)","v":{"$error":"#REF!"}},{"$f":"SUM(weekly!#REF!)","v":{"$error":"#REF!"}},{"$f":"SUM(weekly!#REF!)","v":{"$error":"#REF!"}},{"$error":"#REF!"},{"$f":"SUM(weekly!#REF!)","v":{"$error":"#REF!"}},204.8,133.86350019064218]
["2009-08-01",{"$f":"SUM(weekly!#REF!)","v":{"$error":"#REF!"}},{"$f":"SUM(weekly!#REF!)","v":{"$error":"#REF!"}},{"$f":"SUM(weekly!#REF!)","v":{"$error":"#REF!"}},{"$error":"#REF!"},{"$f":"SUM(weekly!B450:B453)","v":17},{"$f":"SUM(weekly!#REF!)","v":{"$error":"#REF!"}},{"$f":"SUM(weekly!#REF!)","v":{"$error":"#REF!"}},{"$f":"SUM(weekly!#REF!)","v":{"$error":"#REF!"}},{"$error":"#REF!"},{"$f":"SUM(weekly!C450:C453)","v":30},{"$f":"SUM(weekly!#REF!)","v":{"$error":"#REF!"}},{"$f":"SUM(weekly!#REF!)","v":{"$error":"#REF!"}},{"$f":"SUM(weekly!#REF!)","v":{"$error":"#REF!"}},{"$error":"#REF!"},{"$f":"SUM(weekly!#REF!)","v":{"$error":"#REF!"}},205.6,134.38640448826186]
["2009-09-01",{"$f":"SUM(weekly!#REF!)","v":{"$error":"#REF!"}},{"$f":"SUM(weekly!#REF!)","v":{"$error":"#REF!"}},{"$f":"SUM(weekly!#REF!)","v":{"$error":"#REF!"}},{"$error":"#REF!"},{"$f":"SUM(weekly!B454:B458)","v":25},{"$f":"SUM(weekly!#REF!)","v":{"$error":"#REF!"}},{"$f":"SUM(weekly!#REF!)","v":{"$error":"#REF!"}},{"$f":"SUM(weekly!#REF!)","v":{"$error":"#REF!"}},{"$error":"#REF!"},{"$f":"SUM(weekly!C454:C458)","v":42},{"$f":"SUM(weekly!#REF!)","v":{"$error":"#REF!"}},{"$f":"SUM(weekly!#REF!)","v":{"$error":"#REF!"}},{"$f":"SUM(weekly!#REF!)","v":{"$error":"#REF!"}},{"$error":"#REF!"},{"$f":"SUM(weekly!#REF!)","v":{"$error":"#REF!"}},205.6,134.38640448826186]
["2009-10-01",{"$f":"SUM(weekly!#REF!)","v":{"$error":"#REF!"}},{"$f":"SUM(weekly!#REF!)","v":{"$error":"#REF!"}},{"$f":"SUM(weekly!#REF!)","v":{"$error":"#REF!"}},{"$error":"#REF!"},{"$f":"SUM(weekly!B459:B462)","v":17},{"$f":"SUM(weekly!#REF!)","v":{"$error":"#REF!"}},{"$f":"SUM(weekly!#REF!)","v":{"$error":"#REF!"}},{"$f":"SUM(weekly!#REF!)","v":{"$error":"#REF!"}},{"$error":"#REF!"},{"$f":"SUM(weekly!C459:C462)","v":41},{"$f":"SUM(weekly!#REF!)","v":{"$error":"#REF!"}},{"$f":"SUM(weekly!#REF!)","v":{"$error":"#REF!"}},{"$f":"SUM(weekly!#REF!)","v":{"$error":"#REF!"}},{"$error":"#REF!"},{"$f":"SUM(weekly!#REF!)","v":{"$error":"#REF!"}},205.7,134.45176752546433]
["2009-11-01",{"$f":"SUM(weekly!#REF!)","v":{"$error":"#REF!"}},{"$f":"SUM(weekly!#REF!)","v":{"$error":"#REF!"}},{"$f":"SUM(weekly!#REF!)","v":{"$error":"#REF!"}},{"$error":"#REF!"},{"$f":"SUM(weekly!B463:B466)","v":22},{"$f":"SUM(weekly!#REF!)","v":{"$error":"#REF!"}},{"$f":"SUM(weekly!#REF!)","v":{"$error":"#REF!"}},{"$f":"SUM(weekly!#REF!)","v":{"$error":"#REF!"}},{"$error":"#REF!"},{"$f":"SUM(weekly!C463:C466)","v":51},{"$f":"SUM(weekly!#REF!)","v":{"$error":"#REF!"}},{"$f":"SUM(weekly!#REF!)","v":{"$error":"#REF!"}},{"$f":"SUM(weekly!#REF!)","v":{"$error":"#REF!"}},{"$error":"#REF!"},{"$f":"SUM(weekly!#REF!)","v":{"$error":"#REF!"}},206.2,134.77858271147664]
["2009-12-01",{"$f":"SUM(weekly!#REF!)","v":{"$error":"#REF!"}},{"$f":"SUM(weekly!#REF!)","v":{"$error":"#REF!"}},{"$f":"SUM(weekly!#REF!)","v":{"$error":"#REF!"}},{"$error":"#REF!"},{"$f":"SUM(weekly!B467:B471)","v":14},{"$f":"SUM(weekly!#REF!)","v":{"$error":"#REF!"}},{"$f":"SUM(weekly!#REF!)","v":{"$error":"#REF!"}},{"$f":"SUM(weekly!#REF!)","v":{"$error":"#REF!"}},{"$error":"#REF!"},{"$f":"SUM(weekly!C467:C471)","v":38},{"$f":"SUM(weekly!#REF!)","v":{"$error":"#REF!"}},{"$f":"SUM(weekly!#REF!)","v":{"$error":"#REF!"}},{"$f":"SUM(weekly!#REF!)","v":{"$error":"#REF!"}},{"$error":"#REF!"},{"$f":"SUM(weekly!#REF!)","v":{"$error":"#REF!"}},205.6,134.38640448826186]
["2010-01-01",{"$f":"SUM(weekly!#REF!)","v":{"$error":"#REF!"}},{"$f":"SUM(weekly!#REF!)","v":{"$error":"#REF!"}},{"$f":"SUM(weekly!#REF!)","v":{"$error":"#REF!"}},{"$error":"#REF!"},{"$f":"SUM(weekly!B472:B475)","v":14},{"$f":"SUM(weekly!#REF!)","v":{"$error":"#REF!"}},{"$f":"SUM(weekly!#REF!)","v":{"$error":"#REF!"}},{"$f":"SUM(weekly!#REF!)","v":{"$error":"#REF!"}},{"$error":"#REF!"},{"$f":"SUM(weekly!C472:C475)","v":21},{"$f":"SUM(weekly!#REF!)","v":{"$error":"#REF!"}},{"$f":"SUM(weekly!#REF!)","v":{"$error":"#REF!"}},{"$f":"SUM(weekly!#REF!)","v":{"$error":"#REF!"}},{"$error":"#REF!"},{"$f":"SUM(weekly!#REF!)","v":{"$error":"#REF!"}},206.6,135.04003486028651]
["2010-02-01",{"$f":"SUM(weekly!#REF!)","v":{"$error":"#REF!"}},{"$f":"SUM(weekly!#REF!)","v":{"$error":"#REF!"}},{"$f":"SUM(weekly!#REF!)","v":{"$error":"#REF!"}},{"$error":"#REF!"},{"$f":"SUM(weekly!B476:B479)","v":17},{"$f":"SUM(weekly!#REF!)","v":{"$error":"#REF!"}},{"$f":"SUM(weekly!#REF!)","v":{"$error":"#REF!"}},{"$f":"SUM(weekly!#REF!)","v":{"$error":"#REF!"}},{"$error":"#REF!"},{"$f":"SUM(weekly!C476:C479)","v":33},{"$f":"SUM(weekly!#REF!)","v":{"$error":"#REF!"}},{"$f":"SUM(weekly!#REF!)","v":{"$error":"#REF!"}},{"$f":"SUM(weekly!#REF!)","v":{"$error":"#REF!"}},{"$error":"#REF!"},{"$f":"SUM(weekly!#REF!)","v":{"$error":"#REF!"}},206.6,135.04003486028651]
["2010-03-01",{"$f":"SUM(weekly!#REF!)","v":{"$error":"#REF!"}},{"$f":"SUM(weekly!#REF!)","v":{"$error":"#REF!"}},{"$f":"SUM(weekly!#REF!)","v":{"$error":"#REF!"}},{"$error":"#REF!"},{"$f":"SUM(weekly!B480:B483)","v":25},{"$f":"SUM(weekly!#REF!)","v":{"$error":"#REF!"}},{"$f":"SUM(weekly!#REF!)","v":{"$error":"#REF!"}},{"$f":"SUM(weekly!#REF!)","v":{"$error":"#REF!"}},{"$error":"#REF!"},{"$f":"SUM(weekly!C480:C483)","v":40},{"$f":"SUM(weekly!#REF!)","v":{"$error":"#REF!"}},{"$f":"SUM(weekly!#REF!)","v":{"$error":"#REF!"}},{"$f":"SUM(weekly!#REF!)","v":{"$error":"#REF!"}},{"$error":"#REF!"},{"$f":"SUM(weekly!#REF!)","v":{"$error":"#REF!"}},207.4,135.56293915790621]
["2010-04-01",{"$f":"SUM(weekly!#REF!)","v":{"$error":"#REF!"}},{"$f":"SUM(weekly!#REF!)","v":{"$error":"#REF!"}},{"$f":"SUM(weekly!#REF!)","v":{"$error":"#REF!"}},{"$error":"#REF!"},{"$f":"SUM(weekly!B484:B488)","v":30},{"$f":"SUM(weekly!#REF!)","v":{"$error":"#REF!"}},{"$f":"SUM(weekly!#REF!)","v":{"$error":"#REF!"}},{"$f":"SUM(weekly!#REF!)","v":{"$error":"#REF!"}},{"$error":"#REF!"},{"$f":"SUM(weekly!C484:C488)","v":51},{"$f":"SUM(weekly!#REF!)","v":{"$error":"#REF!"}},{"$f":"SUM(weekly!#REF!)","v":{"$error":"#REF!"}},{"$f":"SUM(weekly!#REF!)","v":{"$error":"#REF!"}},{"$error":"#REF!"},{"$f":"SUM(weekly!#REF!)","v":{"$error":"#REF!"}},207.7,135.75902826951358]
["2010-05-01",{"$f":"SUM(weekly!#REF!)","v":{"$error":"#REF!"}},{"$f":"SUM(weekly!#REF!)","v":{"$error":"#REF!"}},{"$f":"SUM(weekly!#REF!)","v":{"$error":"#REF!"}},{"$error":"#REF!"},{"$f":"SUM(weekly!B489:B492)","v":18},{"$f":"SUM(weekly!#REF!)","v":{"$error":"#REF!"}},{"$f":"SUM(weekly!#REF!)","v":{"$error":"#REF!"}},{"$f":"SUM(weekly!#REF!)","v":{"$error":"#REF!"}},{"$f":"(I114/R114)*100","v":{"$error":"#REF!"}},{"$f":"SUM(weekly!C489:C492)","v":28},{"$f":"SUM(weekly!#REF!)","v":{"$error":"#REF!"}},{"$f":"SUM(weekly!#REF!)","v":{"$error":"#REF!"}},{"$f":"SUM(weekly!#REF!)","v":{"$error":"#REF!"}},{"$error":"#REF!"},{"$f":"SUM(weekly!#REF!)","v":{"$error":"#REF!"}},208,135.95511738112097]
["2010-06-01",{"$f":"SUM(weekly!#REF!)","v":{"$error":"#REF!"}},{"$f":"SUM(weekly!#REF!)","v":{"$error":"#REF!"}},{"$f":"SUM(weekly!#REF!)","v":{"$error":"#REF!"}},{"$error":"#REF!"},{"$f":"SUM(weekly!B493:B497)","v":18},{"$f":"SUM(weekly!#REF!)","v":{"$error":"#REF!"}},{"$f":"SUM(weekly!#REF!)","v":{"$error":"#REF!"}},{"$f":"SUM(weekly!#REF!)","v":{"$error":"#REF!"}},{"$error":"#REF!"},{"$f":"SUM(weekly!C493:C497)","v":41},{"$f":"SUM(weekly!#REF!)","v":{"$error":"#REF!"}},{"$f":"SUM(weekly!#REF!)","v":{"$error":"#REF!"}},{"$f":"SUM(weekly!#REF!)","v":{"$error":"#REF!"}},{"$error":"#REF!"},{"$f":"SUM(weekly!#REF!)","v":{"$error":"#REF!"}},207.9,135.8897543439185]
["2010-07-01",{"$f":"SUM(weekly!#REF!)","v":{"$error":"#REF!"}},{"$f":"SUM(weekly!#REF!)","v":{"$error":"#REF!"}},{"$f":"SUM(weekly!#REF!)","v":{"$error":"#REF!"}},{"$error":"#REF!"},{"$f":"SUM(weekly!B498:B501)","v":10},{"$f":"SUM(weekly!#REF!)","v":{"$error":"#REF!"}},{"$f":"SUM(weekly!#REF!)","v":{"$error":"#REF!"}},{"$f":"SUM(weekly!#REF!)","v":{"$error":"#REF!"}},{"$error":"#REF!"},{"$f":"SUM(weekly!C498:C501)","v":33},{"$f":"SUM(weekly!#REF!)","v":{"$error":"#REF!"}},{"$f":"SUM(weekly!#REF!)","v":{"$error":"#REF!"}},{"$f":"SUM(weekly!#REF!)","v":{"$error":"#REF!"}},{"$error":"#REF!"},{"$f":"SUM(weekly!#REF!)","v":{"$error":"#REF!"}},208.2,136.08584345552589]
["2010-08-01",{"$f":"SUM(weekly!#REF!)","v":{"$error":"#REF!"}},{"$f":"SUM(weekly!#REF!)","v":{"$error":"#REF!"}},{"$f":"SUM(weekly!#REF!)","v":{"$error":"#REF!"}},{"$error":"#REF!"},{"$f":"SUM(weekly!B502:B505)","v":16},{"$f":"SUM(weekly!#REF!)","v":{"$error":"#REF!"}},{"$f":"SUM(weekly!#REF!)","v":{"$error":"#REF!"}},{"$f":"SUM(weekly!#REF!)","v":{"$error":"#REF!"}},{"$error":"#REF!"},{"$f":"SUM(weekly!C502:C505)","v":28},{"$f":"SUM(weekly!#REF!)","v":{"$error":"#REF!"}},{"$f":"SUM(weekly!#REF!)","v":{"$error":"#REF!"}},{"$f":"SUM(weekly!#REF!)","v":{"$error":"#REF!"}},{"$error":"#REF!"},{"$f":"SUM(weekly!#REF!)","v":{"$error":"#REF!"}},208.6,136.34729560433573]
["2010-09-01",{"$f":"SUM(weekly!#REF!)","v":{"$error":"#REF!"}},{"$f":"SUM(weekly!#REF!)","v":{"$error":"#REF!"}},{"$f":"SUM(weekly!#REF!)","v":{"$error":"#REF!"}},{"$error":"#REF!"},{"$f":"SUM(weekly!B506:B510)","v":17},{"$f":"SUM(weekly!#REF!)","v":{"$error":"#REF!"}},{"$f":"SUM(weekly!#REF!)","v":{"$error":"#REF!"}},{"$f":"SUM(weekly!#REF!)","v":{"$error":"#REF!"}},{"$error":"#REF!"},{"$f":"SUM(weekly!C506:C510)","v":48},{"$f":"SUM(weekly!#REF!)","v":{"$error":"#REF!"}},{"$f":"SUM(weekly!#REF!)","v":{"$error":"#REF!"}},{"$f":"SUM(weekly!#REF!)","v":{"$error":"#REF!"}},{"$error":"#REF!"},{"$f":"SUM(weekly!#REF!)","v":{"$error":"#REF!"}},208.8,136.47802167874067]
["2010-10-01",{"$f":"SUM(weekly!#REF!)","v":{"$error":"#REF!"}},{"$f":"SUM(weekly!#REF!)","v":{"$error":"#REF!"}},{"$f":"SUM(weekly!#REF!)","v":{"$error":"#REF!"}},{"$error":"#REF!"},{"$f":"SUM(weekly!B511:B514)","v":20},{"$f":"SUM(weekly!#REF!)","v":{"$error":"#REF!"}},{"$f":"SUM(weekly!#REF!)","v":{"$error":"#REF!"}},{"$f":"SUM(weekly!#REF!)","v":{"$error":"#REF!"}},{"$error":"#REF!"},{"$f":"SUM(weekly!C511:C514)","v":42},{"$f":"SUM(weekly!#REF!)","v":{"$error":"#REF!"}},{"$f":"SUM(weekly!#REF!)","v":{"$error":"#REF!"}},{"$f":"SUM(weekly!#REF!)","v":{"$error":"#REF!"}},{"$error":"#REF!"},{"$f":"SUM(weekly!#REF!)","v":{"$error":"#REF!"}},208.7,136.4126586415382]
["2010-11-01",{"$f":"SUM(weekly!#REF!)","v":{"$error":"#REF!"}},{"$f":"SUM(weekly!#REF!)","v":{"$error":"#REF!"}},{"$f":"SUM(weekly!#REF!)","v":{"$error":"#REF!"}},{"$error":"#REF!"},{"$f":"SUM(weekly!B515:B518)","v":15},{"$f":"SUM(weekly!#REF!)","v":{"$error":"#REF!"}},{"$f":"SUM(weekly!#REF!)","v":{"$error":"#REF!"}},{"$f":"SUM(weekly!#REF!)","v":{"$error":"#REF!"}},{"$error":"#REF!"},{"$f":"SUM(weekly!C515:C518)","v":43},{"$f":"SUM(weekly!#REF!)","v":{"$error":"#REF!"}},{"$f":"SUM(weekly!#REF!)","v":{"$error":"#REF!"}},{"$f":"SUM(weekly!#REF!)","v":{"$error":"#REF!"}},{"$error":"#REF!"},{"$f":"SUM(weekly!#REF!)","v":{"$error":"#REF!"}},208.8,136.47802167874067]
["2010-12-01",{"$f":"SUM(weekly!#REF!)","v":{"$error":"#REF!"}},{"$f":"SUM(weekly!#REF!)","v":{"$error":"#REF!"}},{"$f":"SUM(weekly!#REF!)","v":{"$error":"#REF!"}},{"$error":"#REF!"},{"$f":"SUM(weekly!B519:B523)","v":18},{"$f":"SUM(weekly!#REF!)","v":{"$error":"#REF!"}},{"$f":"SUM(weekly!#REF!)","v":{"$error":"#REF!"}},{"$f":"SUM(weekly!#REF!)","v":{"$error":"#REF!"}},{"$error":"#REF!"},{"$f":"SUM(weekly!C519:C523)","v":63},{"$f":"SUM(weekly!#REF!)","v":{"$error":"#REF!"}},{"$f":"SUM(weekly!#REF!)","v":{"$error":"#REF!"}},{"$f":"SUM(weekly!#REF!)","v":{"$error":"#REF!"}},{"$error":"#REF!"},{"$f":"SUM(weekly!#REF!)","v":{"$error":"#REF!"}},209.3,136.80483686475299]
["2011-01-01",{"$f":"SUM(weekly!#REF!)","v":{"$error":"#REF!"}},{"$f":"SUM(weekly!#REF!)","v":{"$error":"#REF!"}},{"$f":"SUM(weekly!#REF!)","v":{"$error":"#REF!"}},{"$error":"#REF!"},{"$f":"SUM(weekly!B524:B527)","v":15},{"$f":"SUM(weekly!#REF!)","v":{"$error":"#REF!"}},{"$f":"SUM(weekly!#REF!)","v":{"$error":"#REF!"}},{"$f":"SUM(weekly!#REF!)","v":{"$error":"#REF!"}},{"$error":"#REF!"},{"$f":"SUM(weekly!C524:C527)","v":38},{"$f":"SUM(weekly!#REF!)","v":{"$error":"#REF!"}},{"$f":"SUM(weekly!#REF!)","v":{"$error":"#REF!"}},{"$f":"SUM(weekly!#REF!)","v":{"$error":"#REF!"}},{"$error":"#REF!"},{"$f":"SUM(weekly!#REF!)","v":{"$error":"#REF!"}},210.4,137.52383027398005]
["2011-02-01",{"$f":"SUM(weekly!#REF!)","v":{"$error":"#REF!"}},{"$f":"SUM(weekly!#REF!)","v":{"$error":"#REF!"}},{"$f":"SUM(weekly!#REF!)","v":{"$error":"#REF!"}},{"$error":"#REF!"},{"$f":"SUM(weekly!B528:B531)","v":26},{"$f":"SUM(weekly!#REF!)","v":{"$error":"#REF!"}},{"$f":"SUM(weekly!#REF!)","v":{"$error":"#REF!"}},{"$f":"SUM(weekly!#REF!)","v":{"$error":"#REF!"}},{"$error":"#REF!"},{"$f":"SUM(weekly!C528:C531)","v":30},{"$f":"SUM(weekly!#REF!)","v":{"$error":"#REF!"}},{"$f":"SUM(weekly!#REF!)","v":{"$error":"#REF!"}},{"$f":"SUM(weekly!#REF!)","v":{"$error":"#REF!"}},{"$error":"#REF!"},{"$f":"SUM(weekly!#REF!)","v":{"$error":"#REF!"}},211.1,137.98137153439728]
["2011-03-01",{"$f":"SUM(weekly!#REF!)","v":{"$error":"#REF!"}},{"$f":"SUM(weekly!#REF!)","v":{"$error":"#REF!"}},{"$f":"SUM(weekly!#REF!)","v":{"$error":"#REF!"}},{"$error":"#REF!"},{"$f":"SUM(weekly!B532:B536)","v":36},{"$f":"SUM(weekly!#REF!)","v":{"$error":"#REF!"}},{"$f":"SUM(weekly!#REF!)","v":{"$error":"#REF!"}},{"$f":"SUM(weekly!#REF!)","v":{"$error":"#REF!"}},{"$error":"#REF!"},{"$f":"SUM(weekly!C532:C536)","v":62},{"$f":"SUM(weekly!#REF!)","v":{"$error":"#REF!"}},{"$f":"SUM(weekly!#REF!)","v":{"$error":"#REF!"}},{"$f":"SUM(weekly!#REF!)","v":{"$error":"#REF!"}},{"$error":"#REF!"},{"$f":"SUM(weekly!#REF!)","v":{"$error":"#REF!"}},213,139.22326924124405]
["2011-04-01",{"$f":"SUM(weekly!#REF!)","v":{"$error":"#REF!"}},{"$f":"SUM(weekly!#REF!)","v":{"$error":"#REF!"}},{"$f":"SUM(weekly!#REF!)","v":{"$error":"#REF!"}},{"$error":"#REF!"},{"$f":"SUM(weekly!B537:B540)","v":21},{"$f":"SUM(weekly!#REF!)","v":{"$error":"#REF!"}},{"$f":"SUM(weekly!#REF!)","v":{"$error":"#REF!"}},{"$f":"SUM(weekly!#REF!)","v":{"$error":"#REF!"}},{"$error":"#REF!"},{"$f":"SUM(weekly!C537:C540)","v":48},{"$f":"SUM(weekly!#REF!)","v":{"$error":"#REF!"}},{"$f":"SUM(weekly!#REF!)","v":{"$error":"#REF!"}},{"$f":"SUM(weekly!#REF!)","v":{"$error":"#REF!"}},{"$error":"#REF!"},{"$f":"SUM(weekly!#REF!)","v":{"$error":"#REF!"}},214.5,140.20371479928099]
["2011-05-01",{"$f":"SUM(weekly!#REF!)","v":{"$error":"#REF!"}},{"$f":"SUM(weekly!#REF!)","v":{"$error":"#REF!"}},{"$f":"SUM(weekly!#REF!)","v":{"$error":"#REF!"}},{"$error":"#REF!"},{"$f":"SUM(weekly!B541:B544)","v":20},{"$f":"SUM(weekly!#REF!)","v":{"$error":"#REF!"}},{"$f":"SUM(weekly!#REF!)","v":{"$error":"#REF!"}},{"$f":"SUM(weekly!#REF!)","v":{"$error":"#REF!"}},{"$error":"#REF!"},{"$f":"SUM(weekly!C541:C544)","v":49},{"$f":"SUM(weekly!#REF!)","v":{"$error":"#REF!"}},{"$f":"SUM(weekly!#REF!)","v":{"$error":"#REF!"}},{"$f":"SUM(weekly!#REF!)","v":{"$error":"#REF!"}},{"$error":"#REF!"},{"$f":"SUM(weekly!#REF!)","v":{"$error":"#REF!"}},215.9,141.11879732011548]
["2011-06-01",{"$f":"SUM(weekly!#REF!)","v":{"$error":"#REF!"}},{"$f":"SUM(weekly!#REF!)","v":{"$error":"#REF!"}},{"$f":"SUM(weekly!#REF!)","v":{"$error":"#REF!"}},{"$error":"#REF!"},{"$f":"SUM(weekly!B545:B549)","v":25},{"$f":"SUM(weekly!#REF!)","v":{"$error":"#REF!"}},{"$f":"SUM(weekly!#REF!)","v":{"$error":"#REF!"}},{"$f":"SUM(weekly!#REF!)","v":{"$error":"#REF!"}},{"$error":"#REF!"},{"$f":"SUM(weekly!C545:C549)","v":47},{"$f":"SUM(weekly!#REF!)","v":{"$error":"#REF!"}},{"$f":"SUM(weekly!#REF!)","v":{"$error":"#REF!"}},{"$f":"SUM(weekly!#REF!)","v":{"$error":"#REF!"}},{"$error":"#REF!"},{"$f":"SUM(weekly!#REF!)","v":{"$error":"#REF!"}},216,141.18416035731792]
["2011-07-01",{"$f":"SUM(weekly!#REF!)","v":{"$error":"#REF!"}},{"$f":"SUM(weekly!#REF!)","v":{"$error":"#REF!"}},{"$f":"SUM(weekly!#REF!)","v":{"$error":"#REF!"}},{"$error":"#REF!"},{"$f":"SUM(weekly!B550:B553)","v":21},{"$f":"SUM(weekly!#REF!)","v":{"$error":"#REF!"}},{"$f":"SUM(weekly!#REF!)","v":{"$error":"#REF!"}},{"$f":"SUM(weekly!#REF!)","v":{"$error":"#REF!"}},{"$error":"#REF!"},{"$f":"SUM(weekly!C550:C553)","v":31},{"$f":"SUM(weekly!#REF!)","v":{"$error":"#REF!"}},{"$f":"SUM(weekly!#REF!)","v":{"$error":"#REF!"}},{"$f":"SUM(weekly!#REF!)","v":{"$error":"#REF!"}},{"$error":"#REF!"},{"$f":"SUM(weekly!#REF!)","v":{"$error":"#REF!"}},216.1,141.24952339452039]
["2011-08-01",{"$f":"SUM(weekly!#REF!)","v":{"$error":"#REF!"}},{"$f":"SUM(weekly!#REF!)","v":{"$error":"#REF!"}},{"$f":"SUM(weekly!#REF!)","v":{"$error":"#REF!"}},{"$error":"#REF!"},{"$f":"SUM(weekly!B554:B558)","v":18},{"$f":"SUM(weekly!#REF!)","v":{"$error":"#REF!"}},{"$f":"SUM(weekly!#REF!)","v":{"$error":"#REF!"}},{"$f":"SUM(weekly!#REF!)","v":{"$error":"#REF!"}},{"$error":"#REF!"},{"$f":"SUM(weekly!C554:C558)","v":47},{"$f":"SUM(weekly!#REF!)","v":{"$error":"#REF!"}},{"$f":"SUM(weekly!#REF!)","v":{"$error":"#REF!"}},{"$f":"SUM(weekly!#REF!)","v":{"$error":"#REF!"}},{"$error":"#REF!"},{"$f":"SUM(weekly!#REF!)","v":{"$error":"#REF!"}},216.6,141.57633858053268]
["2011-09-01",{"$f":"SUM(weekly!#REF!)","v":{"$error":"#REF!"}},{"$f":"SUM(weekly!#REF!)","v":{"$error":"#REF!"}},{"$f":"SUM(weekly!#REF!)","v":{"$error":"#REF!"}},{"$error":"#REF!"},{"$f":"SUM(weekly!B559:B562)","v":21},{"$f":"SUM(weekly!#REF!)","v":{"$error":"#REF!"}},{"$f":"SUM(weekly!#REF!)","v":{"$error":"#REF!"}},{"$f":"SUM(weekly!#REF!)","v":{"$error":"#REF!"}},{"$error":"#REF!"},{"$f":"SUM(weekly!C559:C562)","v":34},{"$f":"SUM(weekly!#REF!)","v":{"$error":"#REF!"}},{"$f":"SUM(weekly!#REF!)","v":{"$error":"#REF!"}},{"$f":"SUM(weekly!#REF!)","v":{"$error":"#REF!"}},{"$error":"#REF!"},{"$f":"SUM(weekly!#REF!)","v":{"$error":"#REF!"}},217,141.83779072934254]
["2011-10-01",{"$f":"SUM(weekly!#REF!)","v":{"$error":"#REF!"}},{"$f":"SUM(weekly!#REF!)","v":{"$error":"#REF!"}},{"$f":"SUM(weekly!#REF!)","v":{"$error":"#REF!"}},{"$error":"#REF!"},{"$f":"SUM(weekly!B563:B566)","v":17},{"$f":"SUM(weekly!#REF!)","v":{"$error":"#REF!"}},{"$f":"SUM(weekly!#REF!)","v":{"$error":"#REF!"}},{"$f":"SUM(weekly!#REF!)","v":{"$error":"#REF!"}},{"$error":"#REF!"},{"$f":"SUM(weekly!C563:C566)","v":28},{"$f":"SUM(weekly!#REF!)","v":{"$error":"#REF!"}},{"$f":"SUM(weekly!#REF!)","v":{"$error":"#REF!"}},{"$f":"SUM(weekly!#REF!)","v":{"$error":"#REF!"}},{"$error":"#REF!"},{"$f":"SUM(weekly!#REF!)","v":{"$error":"#REF!"}},215.7,140.98807124571053]
["2011-11-01",{"$f":"SUM(weekly!#REF!)","v":{"$error":"#REF!"}},{"$f":"SUM(weekly!#REF!)","v":{"$error":"#REF!"}},{"$f":"SUM(weekly!#REF!)","v":{"$error":"#REF!"}},{"$error":"#REF!"},{"$f":"SUM(weekly!B567:B571)","v":14},{"$f":"SUM(weekly!#REF!)","v":{"$error":"#REF!"}},{"$f":"SUM(weekly!#REF!)","v":{"$error":"#REF!"}},{"$f":"SUM(weekly!#REF!)","v":{"$error":"#REF!"}},{"$error":"#REF!"},{"$f":"SUM(weekly!C567:C571)","v":54},{"$f":"SUM(weekly!#REF!)","v":{"$error":"#REF!"}},{"$f":"SUM(weekly!#REF!)","v":{"$error":"#REF!"}},{"$f":"SUM(weekly!#REF!)","v":{"$error":"#REF!"}},{"$error":"#REF!"},{"$f":"SUM(weekly!#REF!)","v":{"$error":"#REF!"}},215.6,140.92270820850808]
["2011-12-01",{"$f":"SUM(weekly!#REF!)","v":{"$error":"#REF!"}},{"$f":"SUM(weekly!#REF!)","v":{"$error":"#REF!"}},{"$f":"SUM(weekly!#REF!)","v":{"$error":"#REF!"}},{"$error":"#REF!"},{"$f":"SUM(weekly!B572:B575)","v":39},{"$f":"SUM(weekly!#REF!)","v":{"$error":"#REF!"}},{"$f":"SUM(weekly!#REF!)","v":{"$error":"#REF!"}},{"$f":"SUM(weekly!#REF!)","v":{"$error":"#REF!"}},{"$error":"#REF!"},{"$f":"SUM(weekly!C572:C575)","v":60},{"$f":"SUM(weekly!#REF!)","v":{"$error":"#REF!"}},{"$f":"SUM(weekly!#REF!)","v":{"$error":"#REF!"}},{"$f":"SUM(weekly!#REF!)","v":{"$error":"#REF!"}},{"$f":"(N133/R133)*100","v":{"$error":"#REF!"}},{"$f":"SUM(weekly!#REF!)","v":{"$error":"#REF!"}},215.2,140.66125605969825]
["2012-01-01",{"$f":"SUM(weekly!#REF!)","v":{"$error":"#REF!"}},{"$f":"SUM(weekly!#REF!)","v":{"$error":"#REF!"}},{"$f":"SUM(weekly!#REF!)","v":{"$error":"#REF!"}},{"$error":"#REF!"},{"$f":"SUM(weekly!B576:B579)","v":23},{"$f":"SUM(weekly!#REF!)","v":{"$error":"#REF!"}},{"$f":"SUM(weekly!#REF!)","v":{"$error":"#REF!"}},{"$f":"SUM(weekly!#REF!)","v":{"$error":"#REF!"}},{"$f":"(I134/R134)*100","v":{"$error":"#REF!"}},{"$f":"SUM(weekly!C576:C579)","v":49},{"$f":"SUM(weekly!#REF!)","v":{"$error":"#REF!"}},{"$f":"SUM(weekly!#REF!)","v":{"$error":"#REF!"}},{"$f":"SUM(weekly!#REF!)","v":{"$error":"#REF!"}},{"$error":"#REF!"},{"$f":"SUM(weekly!#REF!)","v":{"$error":"#REF!"}},216.4,141.44561250612776]
["2012-02-01",{"$f":"SUM(weekly!#REF!)","v":{"$error":"#REF!"}},{"$f":"SUM(weekly!#REF!)","v":{"$error":"#REF!"}},{"$f":"SUM(weekly!#REF!)","v":{"$error":"#REF!"}},{"$error":"#REF!"},{"$f":"SUM(weekly!B580:B583)","v":32},{"$f":"SUM(weekly!#REF!)","v":{"$error":"#REF!"}},{"$f":"SUM(weekly!#REF!)","v":{"$error":"#REF!"}},{"$f":"SUM(weekly!#REF!)","v":{"$error":"#REF!"}},{"$error":"#REF!"},{"$f":"SUM(weekly!C580:C583)","v":53},{"$f":"SUM(weekly!#REF!)","v":{"$error":"#REF!"}},{"$f":"SUM(weekly!#REF!)","v":{"$error":"#REF!"}},{"$f":"SUM(weekly!#REF!)","v":{"$error":"#REF!"}},{"$error":"#REF!"},{"$f":"SUM(weekly!#REF!)","v":{"$error":"#REF!"}},216.9,141.7724276921401]
["2012-03-01",{"$f":"SUM(weekly!#REF!)","v":{"$error":"#REF!"}},{"$f":"SUM(weekly!#REF!)","v":{"$error":"#REF!"}},{"$f":"SUM(weekly!#REF!)","v":{"$error":"#REF!"}},{"$error":"#REF!"},{"$f":"SUM(weekly!B584:B588)","v":23},{"$f":"SUM(weekly!#REF!)","v":{"$error":"#REF!"}},{"$f":"SUM(weekly!#REF!)","v":{"$error":"#REF!"}},{"$f":"SUM(weekly!#REF!)","v":{"$error":"#REF!"}},{"$error":"#REF!"},{"$f":"SUM(weekly!C584:C588)","v":70},{"$f":"SUM(weekly!#REF!)","v":{"$error":"#REF!"}},{"$f":"SUM(weekly!#REF!)","v":{"$error":"#REF!"}},{"$f":"SUM(weekly!#REF!)","v":{"$error":"#REF!"}},{"$error":"#REF!"},{"$f":"SUM(weekly!#REF!)","v":{"$error":"#REF!"}},219,143.14505147339179]
["2012-04-01",{"$f":"SUM(weekly!#REF!)","v":{"$error":"#REF!"}},{"$f":"SUM(weekly!#REF!)","v":{"$error":"#REF!"}},{"$f":"SUM(weekly!#REF!)","v":{"$error":"#REF!"}},{"$error":"#REF!"},{"$f":"SUM(weekly!B589:B592)","v":25},{"$f":"SUM(weekly!#REF!)","v":{"$error":"#REF!"}},{"$f":"SUM(weekly!#REF!)","v":{"$error":"#REF!"}},{"$f":"SUM(weekly!#REF!)","v":{"$error":"#REF!"}},{"$error":"#REF!"},{"$f":"SUM(weekly!C589:C592)","v":39},{"$f":"SUM(weekly!#REF!)","v":{"$error":"#REF!"}},{"$f":"SUM(weekly!#REF!)","v":{"$error":"#REF!"}},{"$f":"SUM(weekly!#REF!)","v":{"$error":"#REF!"}},{"$error":"#REF!"},{"$f":"SUM(weekly!#REF!)","v":{"$error":"#REF!"}},219.4,143.40650362220165]
["2012-05-01",{"$f":"SUM(weekly!#REF!)","v":{"$error":"#REF!"}},{"$f":"SUM(weekly!#REF!)","v":{"$error":"#REF!"}},{"$f":"SUM(weekly!#REF!)","v":{"$error":"#REF!"}},{"$error":"#REF!"},{"$f":"SUM(weekly!B593:B597)","v":26},{"$f":"SUM(weekly!#REF!)","v":{"$error":"#REF!"}},{"$f":"SUM(weekly!#REF!)","v":{"$error":"#REF!"}},{"$f":"SUM(weekly!#REF!)","v":{"$error":"#REF!"}},{"$error":"#REF!"},{"$f":"SUM(weekly!C593:C597)","v":65},{"$f":"SUM(weekly!#REF!)","v":{"$error":"#REF!"}},{"$f":"SUM(weekly!#REF!)","v":{"$error":"#REF!"}},{"$f":"SUM(weekly!#REF!)","v":{"$error":"#REF!"}},{"$error":"#REF!"},{"$f":"SUM(weekly!#REF!)","v":{"$error":"#REF!"}},219.1,143.21041451059423]
["2012-06-01",{"$f":"SUM(weekly!#REF!)","v":{"$error":"#REF!"}},{"$f":"SUM(weekly!#REF!)","v":{"$error":"#REF!"}},{"$f":"SUM(weekly!#REF!)","v":{"$error":"#REF!"}},{"$error":"#REF!"},{"$f":"SUM(weekly!B598:B601)","v":14},{"$f":"SUM(weekly!#REF!)","v":{"$error":"#REF!"}},{"$f":"SUM(weekly!#REF!)","v":{"$error":"#REF!"}},{"$f":"SUM(weekly!#REF!)","v":{"$error":"#REF!"}},{"$error":"#REF!"},{"$f":"SUM(weekly!C598:C601)","v":39},{"$f":"SUM(weekly!#REF!)","v":{"$error":"#REF!"}},{"$f":"SUM(weekly!#REF!)","v":{"$error":"#REF!"}},{"$f":"SUM(weekly!#REF!)","v":{"$error":"#REF!"}},{"$error":"#REF!"},{"$f":"SUM(weekly!#REF!)","v":{"$error":"#REF!"}},219,143.14505147339179]
["2012-07-01",{"$f":"SUM(weekly!#REF!)","v":{"$error":"#REF!"}},{"$f":"SUM(weekly!#REF!)","v":{"$error":"#REF!"}},{"$f":"SUM(weekly!#REF!)","v":{"$error":"#REF!"}},{"$error":"#REF!"},{"$f":"SUM(weekly!B602:B605)","v":18},{"$f":"SUM(weekly!#REF!)","v":{"$error":"#REF!"}},{"$f":"SUM(weekly!#REF!)","v":{"$error":"#REF!"}},{"$f":"SUM(weekly!#REF!)","v":{"$error":"#REF!"}},{"$error":"#REF!"},{"$f":"SUM(weekly!C602:C605)","v":40},{"$f":"SUM(weekly!#REF!)","v":{"$error":"#REF!"}},{"$f":"SUM(weekly!#REF!)","v":{"$error":"#REF!"}},{"$f":"SUM(weekly!#REF!)","v":{"$error":"#REF!"}},{"$error":"#REF!"},{"$f":"SUM(weekly!#REF!)","v":{"$error":"#REF!"}},219,143.14505147339179]
["2012-08-01",{"$f":"SUM(weekly!#REF!)","v":{"$error":"#REF!"}},{"$f":"SUM(weekly!#REF!)","v":{"$error":"#REF!"}},{"$f":"SUM(weekly!#REF!)","v":{"$error":"#REF!"}},{"$error":"#REF!"},{"$f":"SUM(weekly!B606:B610)","v":16},{"$f":"SUM(weekly!#REF!)","v":{"$error":"#REF!"}},{"$f":"SUM(weekly!#REF!)","v":{"$error":"#REF!"}},{"$f":"SUM(weekly!#REF!)","v":{"$error":"#REF!"}},{"$error":"#REF!"},{"$f":"SUM(weekly!C606:C610)","v":34},{"$f":"SUM(weekly!#REF!)","v":{"$error":"#REF!"}},{"$f":"SUM(weekly!#REF!)","v":{"$error":"#REF!"}},{"$f":"SUM(weekly!#REF!)","v":{"$error":"#REF!"}},{"$error":"#REF!"},{"$f":"SUM(weekly!#REF!)","v":{"$error":"#REF!"}},220.5,144.12549703142872]
["2012-09-01",{"$f":"SUM(weekly!#REF!)","v":{"$error":"#REF!"}},{"$f":"SUM(weekly!#REF!)","v":{"$error":"#REF!"}},{"$f":"SUM(weekly!#REF!)","v":{"$error":"#REF!"}},{"$error":"#REF!"},{"$f":"SUM(weekly!B611:B614)","v":22},{"$f":"SUM(weekly!#REF!)","v":{"$error":"#REF!"}},{"$f":"SUM(weekly!#REF!)","v":{"$error":"#REF!"}},{"$f":"SUM(weekly!#REF!)","v":{"$error":"#REF!"}},{"$error":"#REF!"},{"$f":"SUM(weekly!C611:C614)","v":42},{"$f":"SUM(weekly!#REF!)","v":{"$error":"#REF!"}},{"$f":"SUM(weekly!#REF!)","v":{"$error":"#REF!"}},{"$f":"SUM(weekly!#REF!)","v":{"$error":"#REF!"}},{"$error":"#REF!"},{"$f":"SUM(weekly!#REF!)","v":{"$error":"#REF!"}},221.1,144.51767525464351]
["2012-10-01",{"$f":"SUM(weekly!#REF!)","v":{"$error":"#REF!"}},{"$f":"SUM(weekly!#REF!)","v":{"$error":"#REF!"}},{"$f":"SUM(weekly!#REF!)","v":{"$error":"#REF!"}},{"$error":"#REF!"},{"$f":"SUM(weekly!B615:B618)","v":28},{"$f":"SUM(weekly!#REF!)","v":{"$error":"#REF!"}},{"$f":"SUM(weekly!#REF!)","v":{"$error":"#REF!"}},{"$f":"SUM(weekly!#REF!)","v":{"$error":"#REF!"}},{"$error":"#REF!"},{"$f":"SUM(weekly!C615:C618)","v":54},{"$f":"SUM(weekly!#REF!)","v":{"$error":"#REF!"}},{"$f":"SUM(weekly!#REF!)","v":{"$error":"#REF!"}},{"$f":"SUM(weekly!#REF!)","v":{"$error":"#REF!"}},{"$error":"#REF!"},{"$f":"SUM(weekly!#REF!)","v":{"$error":"#REF!"}},220.4,144.06013399422625]
["2012-11-01",{"$f":"SUM(weekly!#REF!)","v":{"$error":"#REF!"}},{"$f":"SUM(weekly!#REF!)","v":{"$error":"#REF!"}},{"$f":"SUM(weekly!#REF!)","v":{"$error":"#REF!"}},{"$error":"#REF!"},{"$f":"SUM(weekly!B619:B623)","v":18},{"$f":"SUM(weekly!#REF!)","v":{"$error":"#REF!"}},{"$f":"SUM(weekly!#REF!)","v":{"$error":"#REF!"}},{"$f":"SUM(weekly!#REF!)","v":{"$error":"#REF!"}},{"$error":"#REF!"},{"$f":"SUM(weekly!C619:C623)","v":59},{"$f":"SUM(weekly!#REF!)","v":{"$error":"#REF!"}},{"$f":"SUM(weekly!#REF!)","v":{"$error":"#REF!"}},{"$f":"SUM(weekly!#REF!)","v":{"$error":"#REF!"}},{"$error":"#REF!"},{"$f":"SUM(weekly!#REF!)","v":{"$error":"#REF!"}},219.5,143.4718666594041]
["2012-12-01",{"$f":"SUM(weekly!#REF!)","v":{"$error":"#REF!"}},{"$f":"SUM(weekly!#REF!)","v":{"$error":"#REF!"}},{"$f":"SUM(weekly!#REF!)","v":{"$error":"#REF!"}},{"$error":"#REF!"},{"$f":"SUM(weekly!B624:B627)","v":29},{"$f":"SUM(weekly!#REF!)","v":{"$error":"#REF!"}},{"$f":"SUM(weekly!#REF!)","v":{"$error":"#REF!"}},{"$f":"SUM(weekly!#REF!)","v":{"$error":"#REF!"}},{"$error":"#REF!"},{"$f":"SUM(weekly!C624:C627)","v":52},{"$f":"SUM(weekly!#REF!)","v":{"$error":"#REF!"}},{"$f":"SUM(weekly!#REF!)","v":{"$error":"#REF!"}},{"$f":"SUM(weekly!#REF!)","v":{"$error":"#REF!"}},{"$error":"#REF!"},{"$f":"SUM(weekly!#REF!)","v":{"$error":"#REF!"}},219,143.14505147339179]
["2013-01-01",{"$f":"SUM(weekly!#REF!)","v":{"$error":"#REF!"}},{"$f":"SUM(weekly!#REF!)","v":{"$error":"#REF!"}},{"$f":"SUM(weekly!#REF!)","v":{"$error":"#REF!"}},{"$error":"#REF!"},{"$f":"SUM(weekly!B628:B631)","v":22},{"$f":"SUM(weekly!#REF!)","v":{"$error":"#REF!"}},{"$f":"SUM(weekly!#REF!)","v":{"$error":"#REF!"}},{"$f":"SUM(weekly!#REF!)","v":{"$error":"#REF!"}},{"$error":"#REF!"},{"$f":"SUM(weekly!C628:C631)","v":55},{"$f":"SUM(weekly!#REF!)","v":{"$error":"#REF!"}},{"$f":"SUM(weekly!#REF!)","v":{"$error":"#REF!"}},{"$f":"SUM(weekly!#REF!)","v":{"$error":"#REF!"}},{"$error":"#REF!"},{"$f":"SUM(weekly!#REF!)","v":{"$error":"#REF!"}},219.3,143.34114058499918]
["2013-02-01",{"$f":"SUM(weekly!#REF!)","v":{"$error":"#REF!"}},{"$f":"SUM(weekly!#REF!)","v":{"$error":"#REF!"}},{"$f":"SUM(weekly!#REF!)","v":{"$error":"#REF!"}},{"$error":"#REF!"},{"$f":"SUM(weekly!B632:B635)","v":19},{"$f":"SUM(weekly!#REF!)","v":{"$error":"#REF!"}},{"$f":"SUM(weekly!#REF!)","v":{"$error":"#REF!"}},{"$f":"SUM(weekly!#REF!)","v":{"$error":"#REF!"}},{"$error":"#REF!"},{"$f":"SUM(weekly!C632:C635)","v":55},{"$f":"SUM(weekly!#REF!)","v":{"$error":"#REF!"}},{"$f":"SUM(weekly!#REF!)","v":{"$error":"#REF!"}},{"$f":"SUM(weekly!#REF!)","v":{"$error":"#REF!"}},{"$error":"#REF!"},{"$f":"SUM(weekly!#REF!)","v":{"$error":"#REF!"}},221.6,144.84449044065579]
["2013-03-01",{"$f":"SUM(weekly!#REF!)","v":{"$error":"#REF!"}},{"$f":"SUM(weekly!#REF!)","v":{"$error":"#REF!"}},{"$f":"SUM(weekly!#REF!)","v":{"$error":"#REF!"}},{"$error":"#REF!"},{"$f":"SUM(weekly!B636:B640)","v":22},{"$f":"SUM(weekly!#REF!)","v":{"$error":"#REF!"}},{"$f":"SUM(weekly!#REF!)","v":{"$error":"#REF!"}},{"$f":"SUM(weekly!#REF!)","v":{"$error":"#REF!"}},{"$error":"#REF!"},{"$f":"SUM(weekly!C636:C640)","v":45},{"$f":"SUM(weekly!#REF!)","v":{"$error":"#REF!"}},{"$f":"SUM(weekly!#REF!)","v":{"$error":"#REF!"}},{"$f":"SUM(weekly!#REF!)","v":{"$error":"#REF!"}},{"$error":"#REF!"},{"$f":"SUM(weekly!#REF!)","v":{"$error":"#REF!"}},222.1,145.1713056266681]
["2013-04-01",{"$f":"SUM(weekly!#REF!)","v":{"$error":"#REF!"}},{"$f":"SUM(weekly!#REF!)","v":{"$error":"#REF!"}},{"$f":"SUM(weekly!#REF!)","v":{"$error":"#REF!"}},{"$error":"#REF!"},{"$f":"SUM(weekly!B641:B644)","v":20},{"$f":"SUM(weekly!#REF!)","v":{"$error":"#REF!"}},{"$f":"SUM(weekly!#REF!)","v":{"$error":"#REF!"}},{"$f":"SUM(weekly!#REF!)","v":{"$error":"#REF!"}},{"$error":"#REF!"},{"$f":"SUM(weekly!C641:C644)","v":54},{"$f":"SUM(weekly!#REF!)","v":{"$error":"#REF!"}},{"$f":"SUM(weekly!#REF!)","v":{"$error":"#REF!"}},{"$f":"SUM(weekly!#REF!)","v":{"$error":"#REF!"}},{"$error":"#REF!"},{"$f":"SUM(weekly!#REF!)","v":{"$error":"#REF!"}},221.9,145.04057955226318]
["2013-05-01",{"$f":"SUM(weekly!#REF!)","v":{"$error":"#REF!"}},{"$f":"SUM(weekly!#REF!)","v":{"$error":"#REF!"}},{"$f":"SUM(weekly!#REF!)","v":{"$error":"#REF!"}},{"$error":"#REF!"},{"$f":"SUM(weekly!B645:B649)","v":31},{"$f":"SUM(weekly!#REF!)","v":{"$error":"#REF!"}},{"$f":"SUM(weekly!#REF!)","v":{"$error":"#REF!"}},{"$f":"SUM(weekly!#REF!)","v":{"$error":"#REF!"}},{"$error":"#REF!"},{"$f":"SUM(weekly!C645:C649)","v":66},{"$f":"SUM(weekly!#REF!)","v":{"$error":"#REF!"}},{"$f":"SUM(weekly!#REF!)","v":{"$error":"#REF!"}},{"$f":"SUM(weekly!#REF!)","v":{"$error":"#REF!"}},{"$error":"#REF!"},{"$f":"SUM(weekly!#REF!)","v":{"$error":"#REF!"}},223.1,145.82493599869272]
["2013-06-01",{"$f":"SUM(weekly!#REF!)","v":{"$error":"#REF!"}},{"$f":"SUM(weekly!#REF!)","v":{"$error":"#REF!"}},{"$f":"SUM(weekly!#REF!)","v":{"$error":"#REF!"}},{"$error":"#REF!"},{"$f":"SUM(weekly!B650:B653)","v":26},{"$f":"SUM(weekly!#REF!)","v":{"$error":"#REF!"}},{"$f":"SUM(weekly!#REF!)","v":{"$error":"#REF!"}},{"$f":"SUM(weekly!#REF!)","v":{"$error":"#REF!"}},{"$error":"#REF!"},{"$f":"SUM(weekly!C650:C653)","v":40},{"$f":"SUM(weekly!#REF!)","v":{"$error":"#REF!"}},{"$f":"SUM(weekly!#REF!)","v":{"$error":"#REF!"}},{"$f":"SUM(weekly!#REF!)","v":{"$error":"#REF!"}},{"$error":"#REF!"},{"$f":"SUM(weekly!#REF!)","v":{"$error":"#REF!"}},223.8,146.28247725910995]
["2013-07-01",{"$f":"SUM(weekly!#REF!)","v":{"$error":"#REF!"}},{"$f":"SUM(weekly!#REF!)","v":{"$error":"#REF!"}},{"$f":"SUM(weekly!#REF!)","v":{"$error":"#REF!"}},{"$error":"#REF!"},{"$f":"SUM(weekly!B654:B657)","v":26},{"$f":"SUM(weekly!#REF!)","v":{"$error":"#REF!"}},{"$f":"SUM(weekly!#REF!)","v":{"$error":"#REF!"}},{"$f":"SUM(weekly!#REF!)","v":{"$error":"#REF!"}},{"$error":"#REF!"},{"$f":"SUM(weekly!C654:C657)","v":51},{"$f":"SUM(weekly!#REF!)","v":{"$error":"#REF!"}},{"$f":"SUM(weekly!#REF!)","v":{"$error":"#REF!"}},{"$f":"SUM(weekly!#REF!)","v":{"$error":"#REF!"}},{"$error":"#REF!"},{"$f":"SUM(weekly!#REF!)","v":{"$error":"#REF!"}},222.9,145.6942099242878]
["2013-08-01",{"$f":"SUM(weekly!#REF!)","v":{"$error":"#REF!"}},{"$f":"SUM(weekly!#REF!)","v":{"$error":"#REF!"}},{"$f":"SUM(weekly!#REF!)","v":{"$error":"#REF!"}},{"$error":"#REF!"},{"$f":"SUM(weekly!B658:B662)","v":37},{"$f":"SUM(weekly!#REF!)","v":{"$error":"#REF!"}},{"$f":"SUM(weekly!#REF!)","v":{"$error":"#REF!"}},{"$f":"SUM(weekly!#REF!)","v":{"$error":"#REF!"}},{"$error":"#REF!"},{"$f":"SUM(weekly!C658:C662)","v":57},{"$f":"SUM(weekly!#REF!)","v":{"$error":"#REF!"}},{"$f":"SUM(weekly!#REF!)","v":{"$error":"#REF!"}},{"$f":"SUM(weekly!#REF!)","v":{"$error":"#REF!"}},{"$error":"#REF!"},{"$f":"SUM(weekly!#REF!)","v":{"$error":"#REF!"}},223,145.75957296149028]
["2013-09-01",{"$f":"SUM(weekly!#REF!)","v":{"$error":"#REF!"}},{"$f":"SUM(weekly!#REF!)","v":{"$error":"#REF!"}},{"$f":"SUM(weekly!#REF!)","v":{"$error":"#REF!"}},{"$f":"(D154/R154)*100","v":{"$error":"#REF!"}},{"$f":"SUM(weekly!B663:B666)","v":15},{"$f":"SUM(weekly!#REF!)","v":{"$error":"#REF!"}},{"$f":"SUM(weekly!#REF!)","v":{"$error":"#REF!"}},{"$f":"SUM(weekly!#REF!)","v":{"$error":"#REF!"}},{"$error":"#REF!"},{"$f":"SUM(weekly!C663:C666)","v":27},{"$f":"SUM(weekly!#REF!)","v":{"$error":"#REF!"}},{"$f":"SUM(weekly!#REF!)","v":{"$error":"#REF!"}},{"$f":"SUM(weekly!#REF!)","v":{"$error":"#REF!"}},{"$error":"#REF!"},{"$f":"SUM(weekly!#REF!)","v":{"$error":"#REF!"}},223.3,145.95566207309767]
["2013-10-01",{"$f":"SUM(weekly!#REF!)","v":{"$error":"#REF!"}},{"$f":"SUM(weekly!#REF!)","v":{"$error":"#REF!"}},{"$f":"SUM(weekly!#REF!)","v":{"$error":"#REF!"}},{"$error":"#REF!"},{"$f":"SUM(weekly!B667:B670)","v":17},{"$f":"SUM(weekly!#REF!)","v":{"$error":"#REF!"}},{"$f":"SUM(weekly!#REF!)","v":{"$error":"#REF!"}},{"$f":"SUM(weekly!#REF!)","v":{"$error":"#REF!"}},{"$error":"#REF!"},{"$f":"SUM(weekly!C667:C670)","v":42},{"$f":"SUM(weekly!#REF!)","v":{"$error":"#REF!"}},{"$f":"SUM(weekly!#REF!)","v":{"$error":"#REF!"}},{"$f":"SUM(weekly!#REF!)","v":{"$error":"#REF!"}},{"$error":"#REF!"},{"$f":"SUM(weekly!#REF!)","v":{"$error":"#REF!"}},222.2,145.23666866387057]
["2013-11-01",{"$f":"SUM(weekly!#REF!)","v":{"$error":"#REF!"}},{"$f":"SUM(weekly!#REF!)","v":{"$error":"#REF!"}},{"$f":"SUM(weekly!#REF!)","v":{"$error":"#REF!"}},{"$error":"#REF!"},{"$f":"SUM(weekly!B671:B675)","v":22},{"$f":"SUM(weekly!#REF!)","v":{"$error":"#REF!"}},{"$f":"SUM(weekly!#REF!)","v":{"$error":"#REF!"}},{"$f":"SUM(weekly!#REF!)","v":{"$error":"#REF!"}},{"$error":"#REF!"},{"$f":"SUM(weekly!C671:C675)","v":56},{"$f":"SUM(weekly!#REF!)","v":{"$error":"#REF!"}},{"$f":"SUM(weekly!#REF!)","v":{"$error":"#REF!"}},{"$f":"SUM(weekly!#REF!)","v":{"$error":"#REF!"}},{"$error":"#REF!"},{"$f":"SUM(weekly!#REF!)","v":{"$error":"#REF!"}},221.7,144.90985347785826]
["2013-12-01",{"$f":"SUM(weekly!#REF!)","v":{"$error":"#REF!"}},{"$f":"SUM(weekly!#REF!)","v":{"$error":"#REF!"}},{"$f":"SUM(weekly!#REF!)","v":{"$error":"#REF!"}},{"$error":"#REF!"},{"$f":"SUM(weekly!B676:B679)","v":29},{"$f":"SUM(weekly!#REF!)","v":{"$error":"#REF!"}},{"$f":"SUM(weekly!#REF!)","v":{"$error":"#REF!"}},{"$f":"SUM(weekly!#REF!)","v":{"$error":"#REF!"}},{"$error":"#REF!"},{"$f":"SUM(weekly!C676:C679)","v":30},{"$f":"SUM(weekly!#REF!)","v":{"$error":"#REF!"}},{"$f":"SUM(weekly!#REF!)","v":{"$error":"#REF!"}},{"$f":"SUM(weekly!#REF!)","v":{"$error":"#REF!"}},{"$error":"#REF!"},{"$f":"SUM(weekly!#REF!)","v":{"$error":"#REF!"}},221.2,144.58303829184595]
["2014-01-01",{"$f":"SUM(weekly!#REF!)","v":{"$error":"#REF!"}},{"$f":"SUM(weekly!#REF!)","v":{"$error":"#REF!"}},{"$f":"SUM(weekly!#REF!)","v":{"$error":"#REF!"}},{"$error":"#REF!"},{"$f":"SUM(weekly!B680:B684)","v":30},{"$f":"SUM(weekly!#REF!)","v":{"$error":"#REF!"}},{"$f":"SUM(weekly!#REF!)","v":{"$error":"#REF!"}},{"$f":"SUM(weekly!#REF!)","v":{"$error":"#REF!"}},{"$error":"#REF!"},{"$f":"SUM(weekly!C680:C684)","v":59},{"$f":"SUM(weekly!#REF!)","v":{"$error":"#REF!"}},{"$f":"SUM(weekly!#REF!)","v":{"$error":"#REF!"}},{"$f":"SUM(weekly!#REF!)","v":{"$error":"#REF!"}},{"$error":"#REF!"},{"$f":"SUM(weekly!#REF!)","v":{"$error":"#REF!"}},222.2,145.23666866387057]
["2014-02-01",{"$f":"SUM(weekly!#REF!)","v":{"$error":"#REF!"}},{"$f":"SUM(weekly!#REF!)","v":{"$error":"#REF!"}},{"$f":"SUM(weekly!#REF!)","v":{"$error":"#REF!"}},{"$error":"#REF!"},{"$f":"SUM(weekly!B685:B688)","v":29},{"$f":"SUM(weekly!#REF!)","v":{"$error":"#REF!"}},{"$f":"SUM(weekly!#REF!)","v":{"$error":"#REF!"}},{"$f":"SUM(weekly!#REF!)","v":{"$error":"#REF!"}},{"$error":"#REF!"},{"$f":"SUM(weekly!C685:C688)","v":41},{"$f":"SUM(weekly!#REF!)","v":{"$error":"#REF!"}},{"$f":"SUM(weekly!#REF!)","v":{"$error":"#REF!"}},{"$f":"SUM(weekly!#REF!)","v":{"$error":"#REF!"}},{"$error":"#REF!"},{"$f":"SUM(weekly!#REF!)","v":{"$error":"#REF!"}},223.5,146.08638814750259]
["2014-03-01",{"$f":"SUM(weekly!#REF!)","v":{"$error":"#REF!"}},{"$f":"SUM(weekly!#REF!)","v":{"$error":"#REF!"}},{"$f":"SUM(weekly!#REF!)","v":{"$error":"#REF!"}},{"$error":"#REF!"},{"$f":"SUM(weekly!B689:B692)","v":36},{"$f":"SUM(weekly!#REF!)","v":{"$error":"#REF!"}},{"$f":"SUM(weekly!#REF!)","v":{"$error":"#REF!"}},{"$f":"SUM(weekly!#REF!)","v":{"$error":"#REF!"}},{"$error":"#REF!"},{"$f":"SUM(weekly!C689:C692)","v":62},{"$f":"SUM(weekly!#REF!)","v":{"$error":"#REF!"}},{"$f":"SUM(weekly!#REF!)","v":{"$error":"#REF!"}},{"$f":"SUM(weekly!#REF!)","v":{"$error":"#REF!"}},{"$error":"#REF!"},{"$f":"SUM(weekly!#REF!)","v":{"$error":"#REF!"}},225.5,147.39364889155183]
["2014-04-01",{"$f":"SUM(weekly!#REF!)","v":{"$error":"#REF!"}},{"$f":"SUM(weekly!#REF!)","v":{"$error":"#REF!"}},{"$f":"SUM(weekly!#REF!)","v":{"$error":"#REF!"}},{"$error":"#REF!"},{"$f":"SUM(weekly!B693:B696)","v":29},{"$f":"SUM(weekly!#REF!)","v":{"$error":"#REF!"}},{"$f":"SUM(weekly!#REF!)","v":{"$error":"#REF!"}},{"$f":"SUM(weekly!#REF!)","v":{"$error":"#REF!"}},{"$error":"#REF!"},{"$f":"SUM(weekly!C693:C696)","v":57},{"$f":"SUM(weekly!#REF!)","v":{"$error":"#REF!"}},{"$f":"SUM(weekly!#REF!)","v":{"$error":"#REF!"}},{"$f":"SUM(weekly!#REF!)","v":{"$error":"#REF!"}},{"$error":"#REF!"},{"$f":"SUM(weekly!#REF!)","v":{"$error":"#REF!"}},226.2,147.85119015196904]
["2014-05-01",{"$f":"SUM(weekly!#REF!)","v":{"$error":"#REF!"}},{"$f":"SUM(weekly!#REF!)","v":{"$error":"#REF!"}},{"$f":"SUM(weekly!#REF!)","v":{"$error":"#REF!"}},{"$error":"#REF!"},{"$f":"SUM(weekly!B697:B701)","v":39},{"$f":"SUM(weekly!#REF!)","v":{"$error":"#REF!"}},{"$f":"SUM(weekly!#REF!)","v":{"$error":"#REF!"}},{"$f":"SUM(weekly!#REF!)","v":{"$error":"#REF!"}},{"$error":"#REF!"},{"$f":"SUM(weekly!C697:C701)","v":49},{"$f":"SUM(weekly!#REF!)","v":{"$error":"#REF!"}},{"$f":"SUM(weekly!#REF!)","v":{"$error":"#REF!"}},{"$f":"SUM(weekly!#REF!)","v":{"$error":"#REF!"}},{"$error":"#REF!"},{"$f":"SUM(weekly!#REF!)","v":{"$error":"#REF!"}},226.6,148.1126423007789]
["2014-06-01",{"$f":"SUM(weekly!#REF!)","v":{"$error":"#REF!"}},{"$f":"SUM(weekly!#REF!)","v":{"$error":"#REF!"}},{"$f":"SUM(weekly!#REF!)","v":{"$error":"#REF!"}},{"$error":"#REF!"},{"$f":"SUM(weekly!B702:B705)","v":16},{"$f":"SUM(weekly!#REF!)","v":{"$error":"#REF!"}},{"$f":"SUM(weekly!#REF!)","v":{"$error":"#REF!"}},{"$f":"SUM(weekly!#REF!)","v":{"$error":"#REF!"}},{"$error":"#REF!"},{"$f":"SUM(weekly!C702:C705)","v":49},{"$f":"SUM(weekly!#REF!)","v":{"$error":"#REF!"}},{"$f":"SUM(weekly!#REF!)","v":{"$error":"#REF!"}},{"$f":"SUM(weekly!#REF!)","v":{"$error":"#REF!"}},{"$error":"#REF!"},{"$f":"SUM(weekly!#REF!)","v":{"$error":"#REF!"}},227.6,148.76627267280352]
["2014-07-01",{"$f":"SUM(weekly!#REF!)","v":{"$error":"#REF!"}},{"$f":"SUM(weekly!#REF!)","v":{"$error":"#REF!"}},{"$f":"SUM(weekly!#REF!)","v":{"$error":"#REF!"}},{"$error":"#REF!"},{"$f":"SUM(weekly!B706:B709)","v":34},{"$f":"SUM(weekly!#REF!)","v":{"$error":"#REF!"}},{"$f":"SUM(weekly!#REF!)","v":{"$error":"#REF!"}},{"$f":"SUM(weekly!#REF!)","v":{"$error":"#REF!"}},{"$error":"#REF!"},{"$f":"SUM(weekly!C706:C709)","v":49},{"$f":"SUM(weekly!#REF!)","v":{"$error":"#REF!"}},{"$f":"SUM(weekly!#REF!)","v":{"$error":"#REF!"}},{"$f":"SUM(weekly!#REF!)","v":{"$error":"#REF!"}},{"$error":"#REF!"},{"$f":"SUM(weekly!#REF!)","v":{"$error":"#REF!"}},227,148.37409444958877]
["2014-08-01",{"$f":"SUM(weekly!#REF!)","v":{"$error":"#REF!"}},{"$f":"SUM(weekly!#REF!)","v":{"$error":"#REF!"}},{"$f":"SUM(weekly!#REF!)","v":{"$error":"#REF!"}},{"$error":"#REF!"},{"$f":"SUM(weekly!B710:B714)","v":37},{"$f":"SUM(weekly!#REF!)","v":{"$error":"#REF!"}},{"$f":"SUM(weekly!#REF!)","v":{"$error":"#REF!"}},{"$f":"SUM(weekly!#REF!)","v":{"$error":"#REF!"}},{"$error":"#REF!"},{"$f":"SUM(weekly!C710:C714)","v":66},{"$f":"SUM(weekly!#REF!)","v":{"$error":"#REF!"}},{"$f":"SUM(weekly!#REF!)","v":{"$error":"#REF!"}},{"$f":"SUM(weekly!#REF!)","v":{"$error":"#REF!"}},{"$error":"#REF!"},{"$f":"F165+K165","v":103},226.6,148.1126423007789]
["2014-09-01",{"$f":"SUM(weekly!#REF!)","v":{"$error":"#REF!"}},{"$f":"SUM(weekly!#REF!)","v":{"$error":"#REF!"}},{"$f":"SUM(weekly!#REF!)","v":{"$error":"#REF!"}},{"$error":"#REF!"},{"$f":"SUM(weekly!B714:B717)","v":18},{"$f":"SUM(weekly!#REF!)","v":{"$error":"#REF!"}},{"$f":"SUM(weekly!#REF!)","v":{"$error":"#REF!"}},{"$f":"SUM(weekly!#REF!)","v":{"$error":"#REF!"}},{"$error":"#REF!"},{"$f":"SUM(weekly!C714:C717)","v":25},{"$f":"SUM(weekly!#REF!)","v":{"$error":"#REF!"}},{"$f":"SUM(weekly!#REF!)","v":{"$error":"#REF!"}},{"$f":"SUM(weekly!#REF!)","v":{"$error":"#REF!"}},{"$error":"#REF!"},{"$f":"F166+K166","v":43},226.9,148.30873141238629]
["2014-10-01",{"$f":"SUM(weekly!#REF!)","v":{"$error":"#REF!"}},{"$f":"SUM(weekly!#REF!)","v":{"$error":"#REF!"}},{"$f":"SUM(weekly!#REF!)","v":{"$error":"#REF!"}},{"$error":"#REF!"},{"$f":"SUM(weekly!B718:B722)","v":41},{"$f":"SUM(weekly!#REF!)","v":{"$error":"#REF!"}},{"$f":"SUM(weekly!#REF!)","v":{"$error":"#REF!"}},{"$f":"SUM(weekly!#REF!)","v":{"$error":"#REF!"}},{"$error":"#REF!"},{"$f":"SUM(weekly!C718:C722)","v":51},{"$f":"SUM(weekly!#REF!)","v":{"$error":"#REF!"}},{"$f":"SUM(weekly!#REF!)","v":{"$error":"#REF!"}},{"$f":"SUM(weekly!#REF!)","v":{"$error":"#REF!"}},{"$error":"#REF!"},{"$f":"K167+F167","v":92},225.8,147.58973800315923]
["2014-11-01",{"$f":"SUM(weekly!#REF!)","v":{"$error":"#REF!"}},{"$f":"SUM(weekly!#REF!)","v":{"$error":"#REF!"}},{"$f":"SUM(weekly!#REF!)","v":{"$error":"#REF!"}},{"$error":"#REF!"},{"$f":"SUM(weekly!B724:B727)","v":17},{"$f":"SUM(weekly!#REF!)","v":{"$error":"#REF!"}},{"$f":"SUM(weekly!#REF!)","v":{"$error":"#REF!"}},{"$f":"SUM(weekly!#REF!)","v":{"$error":"#REF!"}},{"$error":"#REF!"},{"$f":"SUM(weekly!C724:C727)","v":45},{"$f":"B168+G168","v":{"$error":"#REF!"}},{"$f":"C168+H168","v":{"$error":"#REF!"}},{"$error":"#REF!"},{"$error":"#REF!"},{"$f":"K168+F168","v":62},224.8,146.93610763113458]
["2014-12-01",{"$f":"SUM(weekly!#REF!)","v":{"$error":"#REF!"}},{"$f":"SUM(weekly!#REF!)","v":{"$error":"#REF!"}},{"$f":"SUM(weekly!#REF!)","v":{"$error":"#REF!"}},{"$error":"#REF!"},null,{"$f":"SUM(weekly!#REF!)","v":{"$error":"#REF!"}},{"$f":"SUM(weekly!#REF!)","v":{"$error":"#REF!"}},{"$f":"SUM(weekly!#REF!)","v":{"$error":"#REF!"}},{"$error":"#REF!"},null,{"$f":"B169+G169","v":{"$error":"#REF!"}},{"$error":"#REF!"},{"$error":"#REF!"},{"$error":"#REF!"},null,222.8,145.62884688708536]
["2015-01-01",{"$f":"SUM(weekly!#REF!)","v":{"$error":"#REF!"}},{"$f":"SUM(weekly!#REF!)","v":{"$error":"#REF!"}},{"$f":"SUM(weekly!#REF!)","v":{"$error":"#REF!"}},{"$error":"#REF!"}]
["2015-02-01",null,null,null,{"$error":"#DIV/0!"}]
["2015-03-01",null,null,null,{"$error":"#DIV/0!"}]
["2015-04-01",null,null,null,{"$error":"#DIV/0!"}]
["2015-05-01",null,null,null,{"$error":"#DIV/0!"}]
["2015-06-01",null,null,null,{"$error":"#DIV/0!"}]
["2015-07-01",null,null,null,{"$error":"#DIV/0!"}]
["2015-08-01",null,null,null,{"$error":"#DIV/0!"}]
["2015-09-01",null,null,null,{"$error":"#DIV/0!"}]
["2015-10-01",null,null,null,{"$error":"#DIV/0!"}]
["2015-11-01",null,null,null,{"$error":"#DIV/0!"}]
["2015-12-01",null,null,null,{"$error":"#DIV/0!"}]

{"sheet":"mnth-mnth","index":3,"n_rows":394,"n_cols":15,"rows_kept":394,"cut":false,"hidden":false,"merged":[]}
["ecch_mbi","jan","feb","mar","apr","may","jun","jul","aug","sep","oct","nov","dec","ytd_total"]
[2003,51,39,46,45,44,47,44,39,33,52,45,63,{"$f":"SUM(B2:M2)","v":548},{"$f":"SUM(B2:M2)","v":548}]
[2004,62,36,85,58,67,75,40,32,43,40,42,70,650,650]
[2005,49,65,80,44,75,84,53,56,39,57,64,46,712,712]
[2006,66,63,79,80,64,60,55,59,69,32,64,57,748,748]
[2007,72,65,63,87,59,57,63,45,107,59,54,63,794,794]
[2008,68,53,87,82,75,19,76,43,39,70,45,72,729,729]
[2009,47,48,60,67,49,39,58,47,67,58,73,52,665,665]
[2010,35,50,65,81,46,59,43,44,65,62,58,81,{"$f":"SUM(B9:M9)","v":689},{"$f":"SUM(B9:M9)","v":689}]
[2011,53,56,98,69,69,72,52,65,55,45,68,99,{"$f":"SUM(B10:M10)","v":801},801]
[2012,72,85,93,64,91,53,58,50,64,82,77,81,{"$f":"SUM(B11:M11)","v":870},870]
[2013,77,74,67,74,97,66,77,94,42,59,78,59,{"$f":"SUM(B12:L12)","v":805},864]
[2014,89,70,98,86,88,65,83,103,{"$f":"43","v":43},92,62,null,{"$f":"SUM(B13:L13)","v":879},879]
[2015,{"$nulls":12},{"$f":"SUM(B14:B14)","v":0},0]
[null,"jan-dec","feb-jan","mar-feb","apr-mar","may-apr","jun-may","jul-jun","aug-jul","sep-aug","oct-sep","nov-oct","dec-nov"]
["change_04",{"$f":"B3-M2","v":-1},{"$f":"C3-B3","v":-26},49,-27,9,8,-35,-8,11,-3,2,28]
["%change_04",{"$f":"(B16/M2)*100","v":-1.5873015873015872},{"$f":"(C16/B3)*100","v":-41.935483870967744},136.11111111111111,-31.764705882352938,15.517241379310345,11.940298507462686,-46.666666666666664,-20,34.375,-6.9767441860465116,5,66.666666666666657]
[null,"jan","feb","mar","apr","may","jun","jul","aug","sep","oct","nov","dec","ytd_total"]
["chg_prv_04-03",{"$f":"B3-B2","v":11},-3,39,13,23,28,-4,-7,10,-12,-3,7,{"$f":"O3-O2","v":102}]
["%chg_prv_04-03",{"$f":"(B19/B2)*100","v":21.568627450980394},-7.6923076923076925,84.782608695652172,28.888888888888886,52.272727272727273,59.574468085106382,-9.0909090909090917,-17.948717948717949,30.303030303030305,-23.076923076923077,-6.666666666666667,11.111111111111111,{"$f":"(N19/O2)*100","v":18.613138686131386}]
[]
[null,"jan-dec","feb-jan","mar-feb","apr-mar","may-apr","jun-may","jul-jun","aug-jul","sep-aug","oct-sep","nov-oct","dec-nov"]
["change_05",{"$f":"B4-M3","v":-21},{"$f":"C4-B4","v":16},15,-36,31,9,-31,3,-17,18,7,-18]
["%change_05",{"$f":"(B23/M3)*100","v":-30},{"$f":"(C23/B4)*100","v":32.653061224489797},23.076923076923077,-45,70.454545454545453,12,-36.904761904761905,5.6603773584905666,-30.357142857142854,46.153846153846153,12.280701754385964,-28.125]
[null,"jan","feb","mar","apr","may","jun","jul","aug","sep","oct","nov","dec","ytd_total "]
["chg_prv_05-04",{"$f":"B4-B3","v":-13},29,-5,-14,8,9,13,24,-4,17,22,-24,{"$f":"O4-O3","v":62}]
["%chg_prv_05-04",{"$f":"(B26/B3)*100","v":-20.967741935483872},80.555555555555557,-5.8823529411764701,-24.137931034482758,11.940298507462686,12,32.5,75,-9.3023255813953494,42.5,52.380952380952387,-34.285714285714285,{"$f":"(N26/O3)*100","v":9.5384615384615383}]
[]
[null,"jan-dec","feb-jan","mar-feb","apr-mar","may-apr","jun-may","jul-jun","aug-jul","sep-aug","oct-sep","nov-oct","dec-nov"]
["change_06",{"$f":"B5-M4","v":20},{"$f":"C5-B5","v":-3},16,1,-16,-4,-5,4,10,-37,32,-7]
["%change_06",{"$f":"(B30/M4)*100","v":43.478260869565219},{"$f":"(C30/B5)*100","v":-4.5454545454545459},25.396825396825395,1.2658227848101267,-20,-6.25,-8.3333333333333321,7.2727272727272725,16.949152542372879,-53.623188405797109,100,-10.9375]
[null,"jan","feb","mar","apr","may","jun","jul","aug","sep","oct","nov","dec","ytd_total "]
["chg_prv_06-05",{"$f":"B5-B4","v":17},-2,-1,36,-11,-24,2,3,30,-25,0,11,{"$f":"O5-O4","v":36}]
["%chg_prv_06-05",{"$f":"(B33/B4)*100","v":34.693877551020407},-3.0769230769230771,-1.25,81.818181818181827,-14.666666666666666,-28.571428571428569,3.7735849056603774,5.3571428571428568,76.923076923076934,-43.859649122807014,0,23.913043478260871,{"$f":"(N33/O4)*100","v":5.0561797752808983}]
[]
[null,"jan-dec","feb-jan","mar-feb","apr-mar","may-apr","jun-may","jul-jun","aug-jul","sep-aug","oct-sep","nov-oct","dec-nov"]
["change_07",{"$f":"B6-M5","v":15},{"$f":"C6-B6","v":-7},-2,24,-28,-2,6,-18,62,-48,-5,9]
["%change_07",{"$f":"(B37/M5)*100","v":26.315789473684209},{"$f":"(C37/B6)*100","v":-9.7222222222222232},-3.0769230769230771,38.095238095238095,-32.183908045977013,-3.3898305084745761,10.526315789473683,-28.571428571428569,137.77777777777777,-44.859813084112147,-8.4745762711864394,16.666666666666664]
[null,"jan","feb","mar","apr","may","jun","jul","aug","sep","oct","nov","dec","ytd_total "]
["chg_prv_07-06",{"$f":"B6-B5","v":6},2,-16,7,-5,-3,8,-14,38,27,-10,6,{"$f":"O6-O5","v":46}]
["%chg_prv_07-06",{"$f":"(B40/B5)*100","v":9.0909090909090917},3.1746031746031744,-20.253164556962027,8.75,-7.8125,-5,14.545454545454545,-23.728813559322035,55.072463768115945,84.375,-15.625,10.526315789473683,{"$f":"(N40/O5)*100","v":6.1497326203208562}]
[]
[null,"jan-dec","feb-jan","mar-feb","apr-mar","may-apr","jun-may","jul-jun","aug-jul","sep-aug","oct-sep","nov-oct","dec-nov"]
["change_08",{"$f":"B7-M6","v":5},{"$f":"C7-B7","v":-15},34,-5,-7,-56,57,-33,-4,31,-25,27]
["%change_08",{"$f":"(B44/M6)*100","v":7.9365079365079358},{"$f":"-(C44/B7)*100","v":22.058823529411764},-64.15094339622641,5.7471264367816088,8.536585365853659,74.666666666666671,-300,43.421052631578952,9.3023255813953494,-79.487179487179489,35.714285714285715,-60]
[null,"jan","feb","mar","apr","may","jun","jul","aug","sep","oct","nov","dec","ytd_total "]
["chg_prv_08-07",{"$f":"B7-B6","v":-4},-12,24,-5,16,-38,13,-2,-68,11,-9,9,{"$f":"O7-O6","v":-65}]
["%chg_prv_08-07",{"$f":"(B47/B6)*100","v":-5.5555555555555554},-18.461538461538463,38.095238095238095,-5.7471264367816088,27.118644067796609,-66.666666666666657,20.634920634920633,-4.4444444444444446,-63.551401869158873,18.64406779661017,-16.666666666666664,14.285714285714285,{"$f":"(N47/O6)*100","v":-8.1863979848866499}]
[]
[null,"jan-dec","feb-jan","mar-feb","apr-mar","may-apr","jun-may","jul-jun","aug-jul","sep-aug","oct-sep","nov-oct","dec-nov"]
["change_09",{"$f":"B8-M7","v":-25},{"$f":"C8-B8","v":1},12,7,-18,-10,19,-11,20,-9,15,-21]
["%change_09",{"$f":"(B51/M7)*100","v":-34.722222222222221},{"$f":"(C51/B8)*100","v":2.1276595744680851},25,11.666666666666666,-26.865671641791046,-20.408163265306122,48.717948717948715,-18.96551724137931,42.553191489361701,-13.432835820895523,25.862068965517242,-28.767123287671232]
[null,"jan","feb","mar","apr","may","jun","jul","aug","sep","oct","nov","dec","ytd_total "]
["chg_prv_09-08",{"$f":"B8-B7","v":-21},-5,-27,-15,-26,20,-18,4,28,-12,28,-20,{"$f":"O8-O7","v":-64}]
["%chg_prv_09-08",{"$f":"(B54/B7)*100","v":-30.882352941176471},-9.433962264150944,-31.03448275862069,-18.292682926829269,-34.666666666666671,105.26315789473684,-23.684210526315788,9.3023255813953494,71.794871794871796,-17.142857142857142,62.222222222222221,-27.777777777777779,{"$f":"(N54/O7)*100","v":-8.7791495198902592}]
[]
[null,"jan-dec","feb-jan","mar-feb","apr-mar","may-apr","jun-may","jul-jun","aug-jul","sep-aug","oct-sep","nov-oct","dec-nov"]
["change_10",{"$f":"B9-M8","v":-17},{"$f":"C9-B9","v":15},15,16,-35,13,-16,1,21,-3,-4,23]
["%change_10",{"$f":"(B58/M8)*100","v":-32.692307692307693},{"$f":"(C58/B9)*100","v":42.857142857142854},30,24.615384615384617,-43.209876543209873,28.260869565217391,-27.118644067796609,2.3255813953488373,47.727272727272727,-4.6153846153846159,-6.4516129032258061,39.655172413793103]
[null,"jan","feb","mar","apr","may","jun","jul","aug","sep","oct","nov","dec","ytd_total "]
["chg_prv_10-09",{"$f":"B9-B8","v":-12},2,5,14,-3,20,-15,-3,-2,4,-15,29,{"$f":"O9-O8","v":24}]
["%chg_prv_10-09",{"$f":"(B61/B8)*100","v":-25.531914893617021},4.1666666666666661,8.3333333333333321,20.8955223880597,-6.1224489795918364,51.282051282051277,-25.862068965517242,-6.3829787234042552,-2.9850746268656714,6.8965517241379306,-20.547945205479451,55.769230769230774,{"$f":"(N61/O8)*100","v":3.6090225563909777}]
[]
[null,"jan-dec","feb-jan","mar-feb","apr-mar","may-apr","jun-may","jul-jun","aug-jul","sep-aug","oct-sep","nov-oct","dec-nov"]
["change_11",{"$f":"B10-M9","v":-28},{"$f":"C10-B10","v":3},42,-29,0,3,-20,13,-10,-10,23,31]
["%change_11",{"$f":"(B65/M9)*100","v":-34.567901234567898},{"$f":"(C65/B10)*100","v":5.6603773584905666},75,-29.591836734693878,0,4.3478260869565215,-27.777777777777779,25,-15.384615384615385,-18.181818181818183,51.111111111111107,45.588235294117645]
[null,"jan","feb","mar","apr","may","jun","jul","aug","sep","oct","nov","dec","ytd_total "]
["chg_prv_11-10",{"$f":"B10-B9","v":18},6,33,-12,23,13,9,21,-10,-17,10,18,{"$f":"O10-O9","v":112}]
["%chg_prv_11-10",{"$f":"(B68/B9)*100","v":51.428571428571423},12,50.769230769230766,-14.814814814814813,50,22.033898305084744,20.930232558139537,47.727272727272727,-15.384615384615385,-27.419354838709676,17.241379310344829,22.222222222222221,{"$f":"(N68/O9)*100","v":16.255442670537011}]
[]
[null,"jan-dec","feb-jan","mar-feb","apr-mar","may-apr","jun-may","jul-jun","aug-jul","sep-aug","oct-sep","nov-oct","dec-nov"]
["change_12",{"$f":"B11-M10","v":-27},{"$f":"C11-B11","v":13},8,-29,27,-38,5,-8,14,18,-5,4]
["%change_12",{"$f":"(B72/M10)*100","v":-27.27272727272727},{"$f":"(C72/B11)*100","v":18.055555555555554},9.4117647058823533,-31.182795698924732,42.1875,-41.758241758241759,9.433962264150944,-13.793103448275861,28.000000000000004,28.125,-6.0975609756097562,5.1948051948051948]
[null,"jan","feb","mar","apr","may","jun","jul","aug","sep","oct","nov","dec","ytd_total "]
["chg_prv_12-11",{"$f":"B11-B10","v":19},29,-5,-5,22,-19,6,-15,9,37,9,-18,{"$f":"O11-O10","v":69}]
["%chg_prv_12-11",{"$f":"(B75/B10)*100","v":35.849056603773583},51.785714285714292,-5.1020408163265305,-7.2463768115942031,31.884057971014489,-26.388888888888889,11.538461538461538,-23.076923076923077,16.363636363636363,82.222222222222214,13.23529411764706,-18.181818181818183,{"$f":"(N75/O10)*100","v":8.6142322097378283}]
[]
[null,"jan-dec","feb-jan","mar-feb","apr-mar","may-apr","jun-may","jul-jun","aug-jul","sep-aug","oct-sep","nov-oct","dec-nov"]
["change_13",{"$f":"B12-M11","v":-4},{"$f":"C12-B12","v":-3},-7,7,23,-31,11,17,-52,17,19,-19]
["%change_13",{"$f":"(B79/M11)*100","v":-4.9382716049382713},{"$f":"(C79/B12)*100","v":-3.8961038961038961},-9.4594594594594597,10.44776119402985,31.081081081081081,-31.958762886597935,16.666666666666664,22.077922077922079,-55.319148936170215,40.476190476190474,32.20338983050847,-24.358974358974358]
[null,"jan","feb","mar","apr","may","jun","jul","aug","sep","oct","nov","dec","ytd_total "]
["chg_prv_13-12",{"$f":"B12-B11","v":5},-11,-26,10,6,13,19,44,-22,-23,1,-22,{"$f":"O12-O11","v":-6}]
["%chg_prv_13-12",{"$f":"(B82/B11)*100","v":6.9444444444444446},-12.941176470588237,-27.956989247311824,15.625,6.593406593406594,24.528301886792452,32.758620689655174,88,-34.375,-28.04878048780488,1.2987012987012987,-27.160493827160494,{"$f":"(N82/O11)*100","v":-0.68965517241379315}]
[]
[null,"jan-dec","feb-jan","mar-feb","apr-mar","may-apr","jun-may","jul-jun","aug-jul","sep-aug","oct-sep","nov-oct","dec-nov"]
["change_14",{"$f":"B13-M12","v":30},{"$f":"C13-B13","v":-19},28,-12,2,-23,18,20,{"$f":"J13-I13","v":-60},49,-30]
["%change_14",{"$f":"(B86/M12)*100","v":50.847457627118644},{"$f":"(C86/B13)*100","v":-21.348314606741571},40,-12.244897959183673,2.3255813953488373,-26.136363636363637,27.692307692307693,24.096385542168676,{"$f":"(J86/I13)*100","v":-58.252427184466015},113.95348837209302,-32.608695652173914]
[null,"jan","feb","mar","apr","may","jun","jul","aug","sep","oct","nov","dec","ytd_total "]
["chg_prv_14-13",{"$f":"B13-B12","v":12},-4,31,12,-9,-1,6,9,1,33,-16,null,{"$f":"O13-O12","v":15}]
["%chg_prv_14-13",{"$f":"(B89/B12)*100","v":15.584415584415584},-5.4054054054054053,46.268656716417908,16.216216216216218,-9.2783505154639183,-1.5151515151515151,7.7922077922077921,9.5744680851063837,2.3809523809523809,55.932203389830505,-20.512820512820511,null,{"$f":"(N89/O12)*100","v":1.7361111111111112}]
[]
[null,"jan-dec","feb-jan","mar-feb","apr-mar","may-apr","jun-may","jul-jun","aug-jul","sep-aug","oct-sep","nov-oct","dec-nov"]
["change_15"]
["%change_15"]
[null,"jan","feb","mar","apr","may","jun","jul","aug","sep","oct","nov","dec","ytd_total "]
["chg_prv_15-14",{"$nulls":12},{"$f":"N14-N13","v":-879}]
["%chg_prv_15-14",{"$nulls":12},{"$f":"(N96/N13)*100","v":-100}]
[]
["ecch_mbr","jan","feb","mar","apr","may","jun","jul","aug","sep","oct","nov","dec","ytd_total"]
[2003,36,43,40,60,24,32,42,39,31,46,49,44,{"$f":"SUM(B100:M100)","v":486},{"$f":"SUM(B100:M100)","v":486}]
[2004,35,29,44,33,27,28,33,32,29,34,25,26,375,375]
[2005,31,32,64,60,54,60,37,49,98,249,0,6,740,740]
[2006,0,6,8,12,16,8,13,23,12,17,17,13,145,145]
[2007,16,25,26,38,14,13,43,7,26,28,27,20,283,283]
[2008,33,35,39,41,33,32,45,41,33,41,23,20,416,416]
[2009,39,39,45,77,42,23,49,19,67,33,34,32,{"$f":"SUM(B106:M106)","v":499},{"$f":"SUM(B106:M106)","v":499}]
[2010,37,38,49,60,33,57,33,45,40,38,26,46,502,502]
[2011,31,42,72,33,49,40,36,31,27,24,33,29,447,447]
[2012,19,27,55,22,49,37,23,35,27,25,30,25,374,374]
[2013,16,26,49,43,41,31,26,36,19,16,30,19,352,352]
[2014,37,17,27,30,39,34,26,17,34,33,25,19,338,338]
[2015,{"$nulls":12},{"$f":"SUM(B112:B112)","v":0},{"$f":"SUM(B112:M112)","v":0}]
[{"$nulls":13},{"$f":"SUM(B113:B113)","v":0},{"$f":"SUM(B113:M113)","v":0}]
[null,"jan-dec","feb-jan","mar-feb","apr-mar","may-apr","jun-may","jul-jun","aug-jul","sep-aug","oct-sep","nov-oct","dec-nov"]
["change_04",{"$f":"B101-M100","v":-9},{"$f":"C101-B101","v":-6},15,-11,-6,1,5,-1,-3,5,-9,1]
["%change_04",{"$f":"(B115/M100)*100","v":-20.454545454545457},{"$f":"(C115/B101)*100","v":-17.142857142857142},51.724137931034484,-25,-18.181818181818183,3.7037037037037033,17.857142857142858,-3.0303030303030303,-9.375,17.241379310344829,-26.47058823529412,4]
[null,"jan","feb","mar","apr","may","jun","jul","aug","sep","oct","nov","dec","ytd_total "]
["chg_prv_04-03",{"$f":"B101-B100","v":-1},-14,4,-27,3,-4,-9,-7,{"$f":"J101-J100","v":-2},{"$f":"K101-K100","v":-12},{"$f":"L101-L100","v":-24},{"$f":"M101-M100","v":-18},{"$f":"O101-O100","v":-111}]
["%chg_prv_04-03",{"$f":"(B118/B100)*100","v":-2.7777777777777777},-32.558139534883722,10,-45,12.5,-12.5,-21.428571428571427,-17.948717948717949,-6.4516129032258061,-26.086956521739129,-48.979591836734691,-40.909090909090914,{"$f":"(N118/O100)*100","v":-22.839506172839506}]
[]
[null,"jan-dec","feb-jan","mar-feb","apr-mar","may-apr","jun-may","jul-jun","aug-jul","sep-aug","oct-sep","nov-oct","dec-nov"]
["change_05",{"$f":"B102-M101","v":5},{"$f":"C102-B102","v":1},32,-4,-6,6,-23,12,49,151,-249,6]
["%change_05",{"$f":"(B122/M101)*100","v":19.230769230769234},{"$f":"(C122/B102)*100","v":3.225806451612903},100,-6.25,-10,11.111111111111111,-38.333333333333336,32.432432432432435,100,154.08163265306123,-100,{"$error":"#DIV/0!"}]
[null,"jan","feb","mar","apr","may","jun","jul","aug","sep","oct","nov","dec","ytd_total "]
["chg_prv_05-04",{"$f":"B102-B101","v":-4},3,20,27,27,32,4,17,{"$f":"J102-J101","v":69},{"$f":"K102-K101","v":215},{"$f":"L102-L101","v":-25},{"$f":"M102-M101","v":-20},{"$f":"O102-O101","v":365}]
["%chg_prv_05-04",{"$f":"(B125/B101)*100","v":-11.428571428571429},10.344827586206897,45.454545454545453,81.818181818181827,100,114.28571428571428,12.121212121212121,53.125,237.93103448275863,632.35294117647061,-100,-76.923076923076934,{"$f":"(N125/O101)*100","v":97.333333333333343}]
[]
[null,"jan-dec","feb-jan","mar-feb","apr-mar","may-apr","jun-may","jul-jun","aug-jul","sep-aug","oct-sep","nov-oct","dec-nov"]
["change_06",{"$f":"B103-M102","v":-6},{"$f":"C103-B103","v":6},2,4,4,-8,5,10,-11,5,{"$f":"L103-K103","v":0},{"$f":"M103-L103","v":-4}]
["%change_06",{"$f":"(B129/M102)*100","v":-100},{"$f":"(C129/B103)*100","v":{"$error":"#DIV/0!"}},33.333333333333329,50,33.333333333333329,-50,62.5,76.923076923076934,-47.826086956521742,41.666666666666671,{"$f":"(L129/K103)*100","v":0},{"$f":"(M129/L103)*100","v":-23.52941176470588}]
[null,"jan","feb","mar","apr","may","jun","jul","aug","sep","oct","nov","dec","ytd_total "]
["chg_prv_06-05",{"$f":"B103-B102","v":-31},-26,-56,-48,-38,-52,{"$f":"H103-H102","v":-24},-26,-86,-232,17,7,{"$f":"O103-O102","v":-595}]
["%chg_prv_06-05",{"$f":"(B132/B102)*100","v":-100},-81.25,-87.5,-80,-70.370370370370367,-86.666666666666671,-64.86486486486487,-53.061224489795919,-87.755102040816325,-93.172690763052216,{"$f":"(L132/L102)*100","v":{"$error":"#DIV/0!"}},{"$f":"(M132/M102)*100","v":116.66666666666667},{"$f":"(N132/O102)*100","v":-80.405405405405403}]
[]
[null,"jan-dec","feb-jan","mar-feb","apr-mar","may-apr","jun-may","jul-jun","aug-jul","sep-aug","oct-sep","nov-oct","dec-nov"]
["change_07",{"$f":"B104-M103","v":3},{"$f":"C104-B104","v":9},1,12,-24,-1,30,-36,19,{"$f":"K104-J104","v":2},{"$f":"L104-K104","v":-1},{"$f":"M104-L104","v":-7}]
["%change_07",{"$f":"(B136/M103)*100","v":23.076923076923077},{"$f":"(C136/B104)*100","v":56.25},4,46.153846153846153,-63.157894736842103,-7.1428571428571423,230.76923076923075,-83.720930232558146,271.42857142857144,{"$f":"(K136/J104)*100","v":7.6923076923076925},{"$f":"(L136/K104)*100","v":-3.5714285714285712},{"$f":"(M136/L104)*100","v":-25.925925925925924}]
[null,"jan","feb","mar","apr","may","jun","jul","aug","sep","oct","nov","dec","ytd_total "]
["chg_prv_07-06",{"$f":"B104-B103","v":16},19,18,26,-2,5,{"$f":"H104-H103","v":30},-16,14,11,10,7,{"$f":"O104-O103","v":138}]
["%chg_prv_07-06",{"$f":"(B139/B103)*100","v":{"$error":"#DIV/0!"}},316.66666666666663,225,216.66666666666666,-12.5,62.5,{"$f":"(H139/H103)*100","v":230.76923076923075},-69.565217391304344,116.66666666666667,64.705882352941174,58.82352941176471,53.846153846153847,{"$f":"(N139/O103)*100","v":95.172413793103445}]
[]
[null,"jan-dec","feb-jan","mar-feb","apr-mar","may-apr","jun-may","jul-jun","aug-jul","sep-aug","oct-sep","nov-oct","dec-nov"]
["change_08",{"$f":"B105-M104","v":13},{"$f":"C105-B105","v":2},4,2,-8,-1,13,{"$f":"I105-H105","v":-4},{"$f":"J105-I105","v":-8},{"$f":"K105-J105","v":8},{"$f":"L105-K105","v":-18},{"$f":"M105-L105","v":-3}]
["%change_08",{"$f":"(B143/M104)*100","v":65},{"$f":"(C143/B105)*100","v":6.0606060606060606},11.428571428571429,5.1282051282051277,-19.512195121951219,-3.0303030303030303,40.625,-8.8888888888888893,-19.512195121951219,{"$f":"(K143/J105)*100","v":24.242424242424242},{"$f":"(L143/K105)*100","v":-43.902439024390247},{"$f":"(M143/L105)*100","v":-13.043478260869565}]
[null,"jan","feb","mar","apr","may","jun","jul","aug","sep","oct","nov","dec","ytd_total "]
["chg_prv_08-07",{"$f":"B105-B104","v":17},10,13,3,19,19,{"$f":"H105-H104","v":2},34,7,13,-4,0,{"$f":"O105-O104","v":133}]
["%chg_prv_08-07",{"$f":"(B146/B104)*100","v":106.25},40,50,7.8947368421052628,135.71428571428572,146.15384615384613,4.6511627906976747,{"$f":"(I146/I104)*100","v":485.71428571428567},{"$f":"(J146/J104)*100","v":26.923076923076923},{"$f":"(K146/K104)*100","v":46.428571428571431},{"$f":"(L146/L104)*100","v":-14.814814814814813},{"$f":"(M146/M104)*100","v":0},{"$f":"(N146/O104)*100","v":46.996466431095406}]
[]
[null,"jan-dec","feb-jan","mar-feb","apr-mar","may-apr","jun-may","jul-jun","aug-jul","sep-aug","oct-sep","nov-oct","dec-nov"]
["change_09",{"$f":"B106-M105","v":19},{"$f":"C106-B106","v":0},6,32,-35,-19,26,-30,48,-34,1,-2]
["%change_09",{"$f":"(B150/M105)*100","v":95},{"$f":"(C150/B106)*100","v":0},15.384615384615385,71.111111111111114,-45.454545454545453,-45.238095238095241,113.04347826086956,-61.224489795918366,252.63157894736841,-50.746268656716417,3.0303030303030303,-5.8823529411764701]
[null,"jan","feb","mar","apr","may","jun","jul","aug","sep","oct","nov","dec","ytd_total "]
["chg_prv_09-08",{"$f":"B106-B105","v":6},4,6,36,9,-9,4,-22,34,-8,11,12,{"$f":"O106-O105","v":83}]
["%chg_prv_09-08",{"$f":"(B153/B105)*100","v":18.181818181818183},11.428571428571429,15.384615384615385,87.804878048780495,27.27272727272727,-28.125,8.8888888888888893,-53.658536585365859,103.03030303030303,-19.512195121951219,47.826086956521742,60,{"$f":"(N153/O105)*100","v":19.951923076923077}]
[]
[null,"jan-dec","feb-jan","mar-feb","apr-mar","may-apr","jun-may","jul-jun","aug-jul","sep-aug","oct-sep","nov-oct","dec-nov"]
["change_10",{"$f":"B107-M106","v":5},{"$f":"C107-B107","v":1},11,11,-27,24,-24,12,-5,-2,-12,20]
["%change_10",{"$f":"(B157/M106)*100","v":15.625},{"$f":"(C157/B107)*100","v":2.7027027027027026},28.947368421052634,22.448979591836736,-45,72.727272727272734,-42.105263157894733,36.363636363636367,-11.111111111111111,-5,-31.578947368421051,76.923076923076934]
[null,"jan","feb","mar","apr","may","jun","jul","aug","sep","oct","nov","dec","ytd_total "]
["chg_prv_10-09",{"$f":"B107-B106","v":-2},-1,4,-17,-9,34,{"$f":"H107-H106","v":-16},26,-27,5,-8,14,{"$f":"O107-O106","v":3}]
["%chg_prv_10-09",{"$f":"(B160/B106)*100","v":-5.1282051282051277},-2.5641025641025639,8.8888888888888893,-22.077922077922079,-21.428571428571427,147.82608695652172,{"$f":"(H160/H106)*100","v":-32.653061224489797},136.84210526315789,-40.298507462686565,15.151515151515152,-23.52941176470588,43.75,{"$f":"(N160/O106)*100","v":0.60120240480961928}]
[]
[null,"jan-dec","feb-jan","mar-feb","apr-mar","may-apr","jun-may","jul-jun","aug-jul","sep-aug","oct-sep","nov-oct","dec-nov"]
["change_11",{"$f":"B108-M107","v":-15},{"$f":"C108-B108","v":11},30,-39,16,-9,-4,-5,-4,-3,9,-4]
["%change_11",{"$f":"(B164/M107)*100","v":-32.608695652173914},{"$f":"(C164/B108)*100","v":35.483870967741936},71.428571428571431,-54.166666666666664,48.484848484848484,-18.367346938775512,-10,-13.888888888888889,-12.903225806451612,-11.111111111111111,37.5,-12.121212121212121]
[null,"jan","feb","mar","apr","may","jun","jul","aug","sep","oct","nov","dec","ytd_total "]
["chg_prv_11-10",{"$f":"B108-B107","v":-6},4,23,-27,16,-17,{"$f":"H108-H107","v":3},-14,-13,-14,7,-17,{"$f":"O108-O107","v":-55}]
["%chg_prv_11-10",{"$f":"(B167/B107)*100","v":-16.216216216216218},10.526315789473683,46.938775510204081,-45,48.484848484848484,-29.82456140350877,{"$f":"(H167/H107)*100","v":9.0909090909090917},-31.111111111111111,-32.5,-36.84210526315789,26.923076923076923,-36.95652173913043,{"$f":"(N167/O107)","v":-0.10956175298804781}]
[]
[null,"jan-dec","feb-jan","mar-feb","apr-mar","may-apr","jun-may","jul-jun","aug-jul","sep-aug","oct-sep","nov-oct","dec-nov"]
["change_12",{"$f":"B109-M108","v":-10},{"$f":"C109-B109","v":8},28,-33,27,-12,-14,{"$f":"I109-H109","v":12},-8,-2,5,-5]
["%change_12",{"$f":"(B171/M108)*100","v":-34.482758620689658},{"$f":"(C171/B109)*100","v":42.105263157894733},103.7037037037037,-60,122.72727272727273,-24.489795918367346,-37.837837837837839,52.173913043478258,-22.857142857142858,-7.4074074074074066,20,-16.666666666666664]
[null,"jan","feb","mar","apr","may","jun","jul","aug","sep","oct","nov","dec","ytd_total "]
["chg_prv_12-11",{"$f":"B109-B108","v":-12},-15,-17,-11,0,-3,{"$f":"H109-H108","v":-13},4,{"$f":"J109-J108","v":0},{"$f":"K109-K108","v":1},{"$f":"L109-L108","v":-3},{"$f":"M109-M108","v":-4},{"$f":"O109-O108","v":-73}]
["%chg_prv_12-11",{"$f":"(B174/B108)*100","v":-38.70967741935484},-35.714285714285715,-23.611111111111111,-33.333333333333329,0,-7.5,-36.111111111111107,12.903225806451612,0,4.1666666666666661,-9.0909090909090917,-13.793103448275861,{"$f":"(N174/O108)*100","v":-16.331096196868007}]
[]
[null,"jan-dec","feb-jan","mar-feb","apr-mar","may-apr","jun-may","jul-jun","aug-jul","sep-aug","oct-sep","nov-oct","dec-nov"]
["change_13",{"$f":"B110-M109","v":-9},{"$f":"C110-B110","v":10},23,-6,-2,-10,-5,{"$f":"I110-H110","v":10},-17,-3,14,-11]
["%change_13",{"$f":"(B178/M109)*100","v":-36},{"$f":"(C178/B110)*100","v":62.5},88.461538461538453,-12.244897959183673,-4.6511627906976747,-24.390243902439025,-16.129032258064516,38.461538461538467,-47.222222222222221,-15.789473684210526,87.5,-36.666666666666664]
[null,"jan","feb","mar","apr","may","jun","jul","aug","sep","oct","nov","dec","ytd_total "]
["chg_prv_13-12",{"$f":"B110-B109","v":-3},-1,-6,21,-8,-6,{"$f":"H110-H109","v":3},1,{"$f":"J110-J109","v":-8},-9,{"$f":"L110-L109","v":0},-6,{"$f":"O110-O109","v":-22}]
["%chg_prv_13-12",{"$f":"(B181/B109)*100","v":-15.789473684210526},-3.7037037037037033,-10.909090909090908,95.454545454545453,-16.326530612244898,-16.216216216216218,13.043478260869565,{"$f":"(I181/I109)*100","v":2.8571428571428572},-29.629629629629626,{"$f":"(K181/K109)*100","v":-36},0,{"$f":"(M181/M109)*100","v":-24},{"$f":"(N181/O109)*100","v":-5.8823529411764701}]
[]
[null,"jan-dec","feb-jan","mar-feb","apr-mar","may-apr","jun-may","jul-jun","aug-jul","sep-aug","oct-sep","nov-oct","dec-nov"]
["change_14",{"$f":"B111-M110","v":18},{"$f":"C111-B111","v":-20},10,3,9,-5,-8,-9,17,-1,-8,-6]
["%change_14",{"$f":"(B185/M110)*100","v":94.73684210526315},{"$f":"(C185/B111)*100","v":-54.054054054054056},58.82352941176471,11.111111111111111,30,-12.820512820512819,-23.52941176470588,-34.615384615384613,100,-2.9411764705882351,-24.242424242424242,-24]
[null,"jan","feb","mar","apr","may","jun","jul","aug","sep","oct","nov","dec","ytd_total "]
["chg_prv_14-13",{"$f":"B111-B110","v":21},-9,-22,-13,-2,3,{"$f":"H111-H110","v":0},-19,{"$f":"J111-J110","v":15},17,{"$f":"L111-L110","v":-5},0,{"$f":"O111-O110","v":-14}]
["%chg_prv_14-13",{"$f":"(B188/B110)*100","v":131.25},-34.615384615384613,-44.897959183673471,-30.232558139534881,-4.8780487804878048,9.67741935483871,0,{"$f":"(I188/I110)*100","v":-52.777777777777779},78.94736842105263,{"$f":"(K188/K110)*100","v":106.25},-16.666666666666664,{"$f":"(M188/M110)*100","v":0},{"$f":"(N188/O110)*100","v":-3.9772727272727271}]
[]
[null,"jan-dec","feb-jan","mar-feb","apr-mar","may-apr","jun-may","jul-jun","aug-jul","sep-aug","oct-sep","nov-oct","dec-nov"]
["change_15"]
["%change_15"]
[null,"jan","feb","mar","apr","may","jun","jul","aug","sep","oct","nov","dec","ytd_total "]
["chg_prv_15-14",{"$nulls":12},{"$f":"N112-N111","v":-338}]
["%chg_prv_15-14",{"$nulls":12},{"$f":"(N195/N111)*100","v":-100}]
[]
["ecch_mbp","jan","feb","mar","apr","may","jun","jul","aug","sep","oct","nov","dec","ytd_total"]
[2003,1,1,3,10,8,8,11,10,16,16,6,2,{"$f":"SUM(B199:M199)","v":92},{"$f":"SUM(B199:M199)","v":92}]
[2004,2,4,4,8,21,11,9,4,10,8,13,4,98,98]
[2005,4,0,6,10,4,10,4,8,11,7,9,2,75,75]
[2006,2,19,5,6,21,7,8,19,4,14,5,3,113,113]
[2007,1,1,2,27,15,5,11,5,39,14,17,11,148,148]
[2008,7,10,12,17,12,5,19,8,28,26,29,5,178,178]
[2009,9,4,3,9,8,5,14,14,15,25,10,2,{"$f":"SUM(B205:M205)","v":118},{"$f":"SUM(B205:M205)","v":118}]
[2010,5,2,8,9,12,31,17,7,15,8,6,11,131,131]
[2011,10,3,16,6,13,7,18,5,7,8,10,3,106,106]
[2012,7,13,10,17,12,16,13,15,3,6,19,6,137,137]
[2013,10,7,6,13,8,21,8,29,7,12,11,10,142,142]
[2014,4,18,6,11,9,13,12,20,9,8,12,4,126,126]
[2015,{"$nulls":12},{"$f":"SUM(B211:B211)","v":0},{"$f":"SUM(B211:M211)","v":0}]
[]
[null,"jan-dec","feb-jan","mar-feb","apr-mar","may-apr","jun-may","jul-jun","aug-jul","sep-aug","oct-sep","nov-oct","dec-nov"]
["change_04",{"$f":"B200-M199","v":0},{"$f":"C200-B200","v":2},0,4,13,-10,-2,-5,6,-2,5,-9]
["%change_04",{"$f":"(B214/M199)*100","v":0},{"$f":"(C214/B200)*100","v":100},0,100,162.5,-47.619047619047613,-18.181818181818183,-55.555555555555557,150,-20,62.5,-69.230769230769226]
[null,"jan","feb","mar","apr","may","jun","jul","aug","sep","oct","nov","dec","ytd_total "]
["chg_prv_04-03",{"$f":"B200-B199","v":1},3,1,-2,13,3,-2,-6,{"$f":"J200-J199","v":-6},{"$f":"K200-K199","v":-8},{"$f":"L200-L199","v":7},{"$f":"M200-M199","v":2},{"$f":"O200-O199","v":6}]
["%chg_prv_04-03",{"$f":"(B217/B199)*100","v":100},300,33.333333333333329,-20,162.5,37.5,-18.181818181818183,-60,-37.5,-50,116.66666666666667,100,{"$f":"(N217/O199)*100","v":6.5217391304347823}]
[]
[null,"jan-dec","feb-jan","mar-feb","apr-mar","may-apr","jun-may","jul-jun","aug-jul","sep-aug","oct-sep","nov-oct","dec-nov"]
["change_05",{"$f":"B201-M200","v":0},{"$f":"C201-B201","v":-4},6,4,-6,6,-6,4,3,-4,2,-7]
["%change_05",{"$f":"(B221/M200)*100","v":0},{"$f":"(C221/B201)*100","v":-100},{"$error":"#DIV/0!"},66.666666666666657,-60,150,-60,100,37.5,-36.363636363636367,28.571428571428569,-77.777777777777786]
[null,"jan","feb","mar","apr","may","jun","jul","aug","sep","oct","nov","dec","ytd_total "]
["chg_prv_05-04",{"$f":"B201-B200","v":2},-4,2,2,-17,-1,-5,4,{"$f":"J201-J200","v":1},{"$f":"K201-K200","v":-1},{"$f":"L201-L200","v":-4},{"$f":"M201-M200","v":-2},{"$f":"O201-O200","v":-23}]
["%chg_prv_05-04",{"$f":"(B224/B200)*100","v":100},-100,50,25,-80.952380952380949,-9.0909090909090917,-55.555555555555557,100,10,{"$f":"(K224/K200)*100","v":-12.5},{"$f":"(L224/L200)*100","v":-30.76923076923077},{"$f":"(M224/M200)*100","v":-50},{"$f":"(N224/O200)*100","v":-23.469387755102041}]
[]
[null,"jan-dec","feb-jan","mar-feb","apr-mar","may-apr","jun-may","jul-jun","aug-jul","sep-aug","oct-sep","nov-oct","dec-nov"]
["change_06",{"$f":"B202-M201","v":0},{"$f":"C202-B202","v":17},-14,1,15,-14,1,11,-15,10,{"$f":"L202-K202","v":-9},{"$f":"M202-L202","v":-2}]
["%change_06",{"$f":"(B228/M201)*100","v":0},{"$f":"(C228/B202)*100","v":850},-73.68421052631578,20,250,-66.666666666666657,14.285714285714285,137.5,-78.94736842105263,250,{"$f":"(L228/K202)*100","v":-64.285714285714292},{"$f":"(M228/L202)*100","v":-40}]
[null,"jan","feb","mar","apr","may","jun","jul","aug","sep","oct","nov","dec","ytd_total "]
["chg_prv_06-05",{"$f":"B202-B201","v":-2},19,-1,-4,17,-3,{"$f":"H202-H201","v":4},11,-7,7,-4,1,{"$f":"O202-O201","v":38}]
["%chg_prv_06-05",{"$f":"(B231/B201)*100","v":-50},{"$error":"#DIV/0!"},-16.666666666666664,-40,425,-30,100,137.5,-63.636363636363633,100,{"$f":"(L231/L201)*100","v":-44.444444444444443},{"$f":"(M231/M201)*100","v":50},{"$f":"(N231/O201)*100","v":50.666666666666671}]
[]
[null,"jan-dec","feb-jan","mar-feb","apr-mar","may-apr","jun-may","jul-jun","aug-jul","sep-aug","oct-sep","nov-oct","dec-nov"]
["change_07",{"$f":"B203-M202","v":-2},{"$f":"C203-B203","v":0},1,25,-12,-10,6,-6,34,{"$f":"K203-J203","v":-25},{"$f":"L203-K203","v":3},{"$f":"M203-L203","v":-6}]
["%change_07",{"$f":"(B235/M202)*100","v":-66.666666666666657},{"$f":"(C235/B203)*100","v":0},100,1250,-44.444444444444443,-66.666666666666657,120,-54.54545454545454,680,{"$f":"(K235/J203)*100","v":-64.102564102564102},{"$f":"(L235/K203)*100","v":21.428571428571427},{"$f":"(M235/L203)*100","v":-35.294117647058826}]
[null,"jan","feb","mar","apr","may","jun","jul","aug","sep","oct","nov","dec","ytd_total "]
["chg_prv_07-06",{"$f":"B203-B202","v":-1},-18,-3,21,-6,-2,3,-14,{"$f":"J203-J202","v":35},{"$f":"K203-K202","v":0},{"$f":"L203-L202","v":12},{"$f":"M203-M202","v":8},{"$f":"O203-O202","v":35}]
["%chg_prv_07-06",{"$f":"(B238/B202)*100","v":-50},-94.73684210526315,-60,350,-28.571428571428569,-28.571428571428569,37.5,-73.68421052631578,{"$f":"(J238/J202)*100","v":875},{"$f":"(K238/K202)*100","v":0},{"$f":"(L238/L202)*100","v":240},{"$f":"(M238/M202)*100","v":266.66666666666663},{"$f":"(N238/O202)*100","v":30.973451327433626}]
[]
[null,"jan-dec","feb-jan","mar-feb","apr-mar","may-apr","jun-may","jul-jun","aug-jul","sep-aug","oct-sep","nov-oct","dec-nov"]
["change_08",{"$f":"B204-M203","v":-4},{"$f":"C204-B204","v":3},2,5,-5,-7,14,{"$f":"I204-H204","v":-11},{"$f":"J204-I204","v":20},{"$f":"K204-J204","v":-2},{"$f":"L204-K204","v":3},{"$f":"M204-L204","v":-24}]
["%change_08",{"$f":"(B242/M203)*100","v":-36.363636363636367},{"$f":"(C242/B204)*100","v":42.857142857142854},20,41.666666666666671,-29.411764705882355,-58.333333333333336,280,-57.894736842105267,250,-7.1428571428571423,11.538461538461538,-82.758620689655174]
[null,"jan","feb","mar","apr","may","jun","jul","aug","sep","oct","nov","dec","ytd_total "]
["chg_prv_08-07",{"$f":"B204-B203","v":6},9,10,-10,-3,0,{"$f":"H204-H203","v":8},3,-11,12,12,-6,{"$f":"O204-O203","v":30}]
["%chg_prv_08-07",{"$f":"(B245/B203)*100","v":600},900,500,-37.037037037037038,-20,0,72.727272727272734,{"$f":"(I245/I203)*100","v":60},{"$f":"(J245/J203)*100","v":-28.205128205128204},{"$f":"(K245/K203)*100","v":85.714285714285708},{"$f":"(L245/L203)*100","v":70.588235294117652},{"$f":"(M245/M203)*100","v":-54.54545454545454},{"$f":"(N245/O203)*100","v":20.27027027027027}]
[]
[null,"jan-dec","feb-jan","mar-feb","apr-mar","may-apr","jun-may","jul-jun","aug-jul","sep-aug","oct-sep","nov-oct","dec-nov"]
["change_09",{"$f":"B205-M204","v":4},{"$f":"C205-B205","v":-5},-1,6,-1,-3,9,0,1,10,-15,-8]
["%change_09",{"$f":"(B249/M204)*100","v":80},{"$f":"(C249/B205)*100","v":-55.555555555555557},-25,200,-11.111111111111111,-37.5,180,0,7.1428571428571423,66.666666666666657,-60,-80]
[null,"jan","feb","mar","apr","may","jun","jul","aug","sep","oct","nov","dec","ytd_total "]
["chg_prv_09-08",{"$f":"B205-B204","v":2},-6,-9,-8,-4,0,-5,6,-13,-1,-19,-3,{"$f":"O205-O204","v":-60}]
["%chg_prv_09-08",{"$f":"(B252/B203)*100","v":200},-600,-450,-29.629629629629626,-26.666666666666668,0,-45.454545454545453,120,-33.333333333333329,-7.1428571428571423,-111.76470588235294,-27.27272727272727,{"$f":"(N252/O204)*100","v":-33.707865168539328}]
[]
[null,"jan-dec","feb-jan","mar-feb","apr-mar","may-apr","jun-may","jul-jun","aug-jul","sep-aug","oct-sep","nov-oct","dec-nov"]
["change_10",{"$f":"B206-M205","v":3},{"$f":"C206-B206","v":-3},6,1,3,19,-14,-10,8,-7,-2,5]
["%change_10",{"$f":"(B256/M205)*100","v":150},{"$f":"(C256/B206)*100","v":-60},300,12.5,33.333333333333329,158.33333333333331,-45.161290322580641,-58.82352941176471,114.28571428571428,-46.666666666666664,-25,83.333333333333343]
[null,"jan","feb","mar","apr","may","jun","jul","aug","sep","oct","nov","dec","ytd_total "]
["chg_prv_10-09",{"$f":"B206-B205","v":-4},-2,5,0,4,26,{"$f":"H206-H205","v":3},-7,0,-17,-4,9,{"$f":"O206-O205","v":13}]
["%chg_prv_10-09",{"$f":"(B259/B205)*100","v":-44.444444444444443},-50,166.66666666666669,0,50,520,21.428571428571427,-50,0,-68,-40,450,{"$f":"(N259/O205)*100","v":11.016949152542372}]
[]
[null,"jan-dec","feb-jan","mar-feb","apr-mar","may-apr","jun-may","jul-jun","aug-jul","sep-aug","oct-sep","nov-oct","dec-nov"]
["change_11",{"$f":"B207-M206","v":-1},{"$f":"C207-B207","v":-7},13,-10,7,-6,11,-13,2,1,2,-7]
["%change_11",{"$f":"(B263/M206)*100","v":-9.0909090909090917},{"$f":"(C263/B207)*100","v":-70},433.33333333333331,-62.5,116.66666666666667,-46.153846153846153,157.14285714285714,-72.222222222222214,40,14.285714285714285,25,-70]
[null,"jan","feb","mar","apr","may","jun","jul","aug","sep","oct","nov","dec","ytd_total "]
["chg_prv_11-10",{"$f":"B207-B206","v":5},1,8,-3,1,-24,{"$f":"H207-H206","v":1},-2,-8,0,4,-8,{"$f":"O207-O206","v":-25}]
["%chg_prv_11-10",{"$f":"(B266/B206)*100","v":100},50,100,-33.333333333333329,8.3333333333333321,-77.41935483870968,{"$f":"(H266/H206)*100","v":5.8823529411764701},-28.571428571428569,-53.333333333333336,0,66.666666666666657,-72.727272727272734,{"$f":"(N266/O206)*100","v":-19.083969465648856}]
[]
[null,"jan-dec","feb-jan","mar-feb","apr-mar","may-apr","jun-may","jul-jun","aug-jul","sep-aug","oct-sep","nov-oct","dec-nov"]
["change_12",{"$f":"B208-M207","v":4},{"$f":"C208-B208","v":6},-3,7,-5,4,-3,{"$f":"I208-H208","v":2},-12,3,13,-13]
["%change_12",{"$f":"(B270/M207)*100","v":133.33333333333331},{"$f":"(C270/B208)*100","v":85.714285714285708},-23.076923076923077,70,-29.411764705882355,33.333333333333329,-18.75,15.384615384615385,-80,100,216.66666666666666,-68.421052631578945]
[null,"jan","feb","mar","apr","may","jun","jul","aug","sep","oct","nov","dec","ytd_total "]
["chg_prv_12-11",{"$f":"B208-B207","v":-3},10,-6,11,-1,9,{"$f":"H208-H207","v":-5},10,{"$f":"K208-K207","v":-2},{"$f":"K208-K207","v":-2},9,{"$f":"M208-M207","v":3},{"$f":"O208-O207","v":31}]
["%chg_prv_12-11",{"$f":"(B273/B207)*100","v":-30},333.33333333333337,-37.5,183.33333333333331,-7.6923076923076925,128.57142857142858,-27.777777777777779,{"$f":"(I273/I207)*100","v":200},-28.571428571428569,{"$f":"(K273/K207)*100","v":-25},90,{"$f":"(M273/M207)*100","v":100},{"$f":"(N273/O207)*100","v":29.245283018867923}]
[]
[null,"jan-dec","feb-jan","mar-feb","apr-mar","may-apr","jun-may","jul-jun","aug-jul","sep-aug","oct-sep","nov-oct","dec-nov"]
["change_13",{"$f":"B209-M208","v":4},{"$f":"C209-B209","v":-3},-1,7,-5,13,-13,{"$f":"I209-H209","v":21},-22,5,-1,-1]
["%change_13",{"$f":"(B277/M208)*100","v":66.666666666666657},{"$f":"(C277/B209)*100","v":-30},-14.285714285714285,116.66666666666667,-38.461538461538467,162.5,-61.904761904761905,262.5,-75.862068965517238,71.428571428571431,-8.3333333333333321,-9.0909090909090917]
[null,"jan","feb","mar","apr","may","jun","jul","aug","sep","oct","nov","dec","ytd_total "]
["chg_prv_13-12",{"$f":"B209-B208","v":3},-6,-4,-4,-4,5,{"$f":"H209-H208","v":-5},14,{"$f":"J209-J208","v":4},6,{"$f":"L209-L208","v":-8},4,{"$f":"O209-O208","v":5}]
["%chg_prv_13-12",{"$f":"(B280/B208)*100","v":42.857142857142854},-46.153846153846153,-40,-23.52941176470588,-33.333333333333329,31.25,-38.461538461538467,{"$f":"(I280/I208)*100","v":93.333333333333329},133.33333333333331,{"$f":"(K280/K208)*100","v":100},-42.105263157894733,{"$f":"(M280/M208)*100","v":66.666666666666657},{"$f":"(N280/O208)*100","v":3.6496350364963499}]
[]
[null,"jan-dec","feb-jan","mar-feb","apr-mar","may-apr","jun-may","jul-jun","aug-jul","sep-aug","oct-sep","nov-oct","dec-nov"]
["change_14",{"$f":"B210-M209","v":-6},{"$f":"C210-B210","v":14},{"$f":"D210-C210","v":-12},5,-2,4,-1,8,-11,-1,4,-8]
["%change_14",{"$f":"(B284/M209)*100","v":-60},{"$f":"(C284/B210)*100","v":350},{"$f":"(D284/C210)*100","v":-66.666666666666657},83.333333333333343,-18.181818181818183,44.444444444444443,-7.6923076923076925,66.666666666666657,-55.000000000000007,-11.111111111111111,50,-66.666666666666657]
[null,"jan","feb","mar","apr","may","jun","jul","aug","sep","oct","nov","dec","ytd_total "]
["chg_prv_14-13",{"$f":"B210-B209","v":-6},{"$f":"C210-C209","v":11},{"$f":"D210-D209","v":0},-2,{"$f":"F210-F209","v":1},-8,{"$f":"H210-H209","v":4},-9,{"$f":"J210-J209","v":2},-4,{"$f":"L210-L209","v":1},-6,{"$f":"O210-O209","v":-16}]
["%chg_prv_14-13",{"$f":"(B287/B209)*100","v":-60},{"$f":"(C287/C209)*100","v":157.14285714285714},{"$f":"(D287/D209)*100","v":0},-15.384615384615385,{"$f":"(F287/F209)*100","v":12.5},-38.095238095238095,{"$f":"(H287/H209)*100","v":50},-31.03448275862069,{"$f":"(J287/J209)*100","v":28.571428571428569},-33.333333333333329,{"$f":"(L287/L209)*100","v":9.0909090909090917},-60,{"$f":"(N287/O209)*100","v":-11.267605633802818}]
[]
[null,"jan-dec","feb-jan","mar-feb","apr-mar","may-apr","jun-may","jul-jun","aug-jul","sep-aug","oct-sep","nov-oct","dec-nov"]
["change_15"]
["%change_15"]
[null,"jan","feb","mar","apr","may","jun","jul","aug","sep","oct","nov","dec","ytd_total "]
["chg_prv_15-14",{"$nulls":12},{"$f":"N211-N210","v":-126}]
["%chg_prv_15-14",{"$nulls":12},{"$f":"(N294/N210)*100","v":-100}]
[]
["ecch_vmbp_r96","jan","feb","mar","apr","may","jun","jul","aug","sep","oct","nov","dec","ytd_total"]
[2003,2387781.403707908,215117.64154480689,4578613.9884285182,5703198.9126359206,3275072.0315137878,1041518.2132847535,5725794.3024985967,2554139.4015659955,12388489.554317549,4650999.6286059935,1157058.2727780885,3601821.7488789242,{"$f":"SUM(B298:M298)","v":47279605.099760838},{"$f":"SUM(B298:M298)","v":47279605.099760838}]
[2004,660064.38127090293,1023057.4824269331,988951.65745856357,4303154.0404040413,10133912.037998907,6568208.5197308594,3665286.1626637559,1043314.693580651,1916562.2730573709,4985053.1023035236,3806578.3730158736,4523159.5030830614,43617302.22699444,43617302.22699444]
[2005,598337.85985877248,0,1731031.3159778137,2209753.925235305,1938928.5396655996,5651820.105165069,1587004.3214791224,11974481.128096996,3725208,5485798.538087802,1189845.8574181118,766168.0723950098,36858377.663379602,36858377.663379602]
[2006,3006912,4301094,854084,882278,2870942,7176657,4113911,4897771,1224249,5184107,7251900,487189,42251094,42251094]
[2007,100621,102386,428439,4847152,1838256,411138,2628065,1379810,21661793,1718478,3561932,1734721,40412791,40412791]
[2008,5101340,2349242,7580212,8361876,2418946,775614,4546059,1560603,4114951,8949270,7462901,544209,53765223,53765223]
[2009,5348415,571156,788283,2488626.8834651508,2116402,930552,1907418,2245763,3202079,6469339,3088603,169660,{"$f":"SUM(B304:M304)","v":29326296.883465149},{"$f":"SUM(B304:M304)","v":29326296.883465149}]
[2010,1573607,122186,697034,3193900,2192783,10449949,2719411,1222111,5354108,7884166,573183,2712860,38695298,38695298]
[2011,2123934,464766,5914190.9573552432,2306493,7212627,3609824,2002166,1397126,3786015,2562801,26352402,1432520,59164864.957355246,59164864.957355246]
[2012,1832894,7514507.7032426624,5423520,3241621,2075966.3395709726,3291067.3135464233,1713346,34037061,541110,1916465,4317576.0824981024,662042,66567176.438858166,66567176.438858166]
[2013,6778337,5218743,3209140,34967387,1650978,3367619,773538,14178554,580178,2166312,7120841,8072804,88084431,88084431]
[2014,447545.37953795382,4728862,1438905,8387487,1494754,3123356,2553919,6244232,18455866,1873368,3990427,426344.10233393172,53165065.481871888,53165065.481871888]
[2015,{"$nulls":12},{"$f":"SUM(B310:B310)","v":0},{"$f":"SUM(B310:M310)","v":0}]
[]
[null,"jan-dec","feb-jan","mar-feb","apr-mar","may-apr","jun-may","jul-jun","aug-jul","sep-aug","oct-sep","nov-oct","dec-nov"]
["change_04",{"$f":"B299-M298","v":-2941757.367608021},{"$f":"C299-B299","v":362993.1011560302},-34105.824968369561,3314202.382945478,5830757.997594866,-3565703.5182680478,-2902922.3570671035,-2621971.4690831052,873247.57947671995,3068490.8292461527,-1178474.72928765,716581.13006718783]
["%change_04",{"$f":"(B313/M298)*100","v":-81.674151935021499},{"$f":"(C313/B299)*100","v":54.993590239957356},-3.3337154123014199,335.12278966824431,135.49963452034339,-35.18585423771006,-44.196562096753503,-71.535245891348936,83.699346405228752,160.10389395546133,-23.640164008345131,18.824809575625665]
[null,"jan","feb","mar","apr","may","jun","jul","aug","sep","oct","nov","dec","ytd_total "]
["chg_prv_04-03",{"$f":"B299-B298","v":-1727717.0224370051},807939.84088212624,-3589662.3309699548,-1400044.8722318793,6858840.0064851195,5526690.3064461062,-2060508.1398348408,-1510824.7079853446,-10471927.281260177,334053.47369753011,2649520.1002377849,921337.75420413725,{"$f":"O299-O298","v":-3662302.8727663979}]
["%chg_prv_04-03",{"$f":"(B316/B298)*100","v":-72.356582547886902},375.5804661487237,-78.400632594100955,-24.548413858228955,209.42562302407927,530.63789340908011,-35.986415700188275,-59.152006623406173,-84.529491955785488,7.1824016420670684,228.98761130468449,25.579770972589245,{"$f":"(N316/O298)*100","v":-7.7460521614740045}]
[]
[null,"jan-dec","feb-jan","mar-feb","apr-mar","may-apr","jun-may","jul-jun","aug-jul","sep-aug","oct-sep","nov-oct","dec-nov"]
["change_05",{"$f":"B300-M299","v":-3924821.6432242887},{"$f":"(C300-B300)","v":-598337.85985877248},1731031.3159778137,478722.60925749131,-270825.3855697054,3712891.5654994696,-4064815.7836859468,10387476.806617873,-8249273.1280969959,1760590.538087802,-4295952.6806696905,-423677.78502310195]
["%change_05",{"$f":"(B320/M299)*100","v":-86.771683389654157},{"$f":"(C320/B300)*100","v":-100},{"$error":"#DIV/0!"},27.655340769330543,-12.25590698027006,191.4919239952917,-71.920473547471985,654.53361821576641,-68.890443267231433,47.261536485688907,-78.310434676792582,-35.607787545056908]
[null,"jan","feb","mar","apr","may","jun","jul","aug","sep","oct","nov","dec","ytd_total "]
["chg_prv_05-04",{"$f":"B300-B299","v":-61726.521412130445},-1023057.4824269331,742079.65851925011,-2093400.1151687363,-8194983.4983333079,-916388.41456579044,-2078281.8411846336,10931166.434516344,1808645.7269426291,500745.43578427844,-2616732.5155977616,-3756991.4306880515,{"$f":"O300-O299","v":-6758924.5636148378}]
["%chg_prv_05-04",{"$f":"(B323/B299)*100","v":-9.3515910210577946},-100,75.037000334906949,-48.648040379520744,-80.866929450391495,-13.951877621012871,-56.701762125831856,1047.7343510806538,94.369264822134397,10.044936844361617,-68.742378566202447,-83.061219223580835,{"$f":"(N323/O299)*100","v":-15.495971136499559}]
[]
[null,"jan-dec","feb-jan","mar-feb","apr-mar","may-apr","jun-may","jul-jun","aug-jul","sep-aug","oct-sep","nov-oct","dec-nov"]
["change_06",{"$f":"B301-M300","v":2240743.9276049901},{"$f":"C301-B301","v":1294182},-3447010,28194,1988664,4305715,-3062746,783860,-3673522,3959858,2067793,-6764711]
["%change_06",{"$f":"(B327/M300)*100","v":292.46114636446765},{"$f":"(C327/B301)*100","v":43.0402352978737},-80.1426334788312,3.3010804557865501,225.40106406370782,149.97568742245576,-42.676499657152348,19.053888137103598,-75.003955881154923,323.45201017113345,39.88715896489019,-93.281912326424802]
[null,"jan","feb","mar","apr","may","jun","jul","aug","sep","oct","nov","dec","ytd_total "]
["chg_prv_06-05",{"$f":"B301-B300","v":2408574.1401412273},4301094,-876947.31597781368,-1327475.925235305,932013.46033440041,1524836.894834931,2526906.6785208778,-7076710.1280969959,-2500959,-301691.53808780201,6062054.1425818885,-278979.0723950098,{"$f":"O301-O300","v":5392716.3366203979}]
["%chg_prv_06-05",{"$f":"(B330/B300)*100","v":402.54416471485365},{"$error":"#DIV/0!"},-50.660395793154635,-60.073472891057278,48.06847912482332,26.979572358317235,159.22493999044352,-59.098261147133634,-67.136090118994701,-5.4995008656107771,509.48230855181123,-36.412255019049901,{"$f":"(N330/O300)*100","v":14.630910741300193}]
[]
[null,"jan-dec","feb-jan","mar-feb","apr-mar","may-apr","jun-may","jul-jun","aug-jul","sep-aug","oct-sep","nov-oct","dec-nov"]
["change_07",{"$f":"B302-M301","v":-386568},{"$f":"C302-B302","v":1765},326053,4418713,-3008896,-1427118,2216927,-1248255,20281983,-19943315,1843454,-1827211]
["%change_07",{"$f":"(B334/M301)*100","v":-79.346619073911768},{"$f":"(C334/B302)*100","v":1.7541069955575874},318.45467153712423,1031.3517210151269,-62.075544567201526,-77.634344726741006,539.21724579095098,-47.497112894848492,1469.9112921344242,-92.066778590304139,107.27248181239446,-51.298312264243116]
[null,"jan","feb","mar","apr","may","jun","jul","aug","sep","oct","nov","dec","ytd_total "]
["chg_prv_07-06",{"$f":"B302-B301","v":-2906291},-4198708,-425645,3964874,-1032686,-6765519,-1485846,-3517961,20437544,-3465629,-3689968,1247532,{"$f":"O302-O301","v":-1838303}]
["%chg_prv_07-06",{"$f":"(B337/B301)*100","v":-96.65367659578996},-97.619535866921296,-49.836432950388954,449.39055490446316,-35.970284317830178,-94.271176677386137,-36.117601960761917,-71.827796767141621,1669.3943797381089,-66.851031431257113,-50.882775548476957,256.06735784264424,{"$f":"(N337/O301)*100","v":-4.3509003577516827}]
[]
[null,"jan-dec","feb-jan","mar-feb","apr-mar","may-apr","jun-may","jul-jun","aug-jul","sep-aug","oct-sep","nov-oct","dec-nov"]
["change_08",{"$f":"B303-M302","v":3366619},{"$f":"C303-B303","v":-2752098},5230970,781664,-5942930,-1643332,3770445,-2985456,2554348,4834319,-1486369,-6918692]
["%change_08",{"$f":"(B341/M302)*100","v":194.07264914646217},{"$f":"(C341/B303)*100","v":-53.948531170241544},222.66628980752091,10.311901566869105,-71.07173079342482,-67.935869589482351,486.12389668056534,-65.671299030654907,163.67698895875503,117.48181205559919,-16.608829546990982,-92.707808933818086]
[null,"jan","feb","mar","apr","may","jun","jul","aug","sep","oct","nov","dec","ytd_total "]
["chg_prv_08-07",{"$f":"B303-B302","v":5000719},2246856,7151773,3514724,580690,364476,1917994,180793,-17546842,7230792,3900969,-1190512,{"$f":"O303-O302","v":13352432}]
["%chg_prv_08-07",{"$f":"(B344/B302)*100","v":4969.8561930412143},2194.4953411599245,1669.2628355495181,72.511115805734988,31.589180179474457,88.650526100725301,72.981223828177761,13.102746030250541,-81.003645450771316,420.76721377870416,109.51834566184868,-68.628442268237947,{"$f":"(N344/O302)*100","v":33.040113463086477}]
[]
[null,"jan-dec","feb-jan","mar-feb","apr-mar","may-apr","jun-may","jul-jun","aug-jul","sep-aug","oct-sep","nov-oct","dec-nov"]
["change_09",{"$f":"B304-M303","v":4804206},{"$f":"C304-B304","v":-4777259},217127,1700343.8834651508,-372224.88346515084,-1185850,976866,338345,956316,3267260,-3380736,-2918943]
["%change_09",{"$f":"(B348/M303)*100","v":882.78694398659331},{"$f":"(C348/B304)*100","v":-89.321023144239931},38.015358325921468,215.7022139847175,-14.957038595792508,-56.031415581727863,104.97704588244396,17.738377219885731,42.583122083674901,102.03558375667808,-52.257827267978996,-94.506901663956171]
[null,"jan","feb","mar","apr","may","jun","jul","aug","sep","oct","nov","dec","ytd_total "]
["chg_prv_09-08",{"$f":"B304-B303","v":247075},-1778086,-6791929,-5873249.1165348496,-302544,154938,-2638641,685160,-912872,-2479931,-4374298,-374549,{"$f":"O304-O303","v":-24438926.116534851}]
["%chg_prv_09-08",{"$f":"(B351/B303)*100","v":4.8433352805341343},-75.68764733475733,-89.600778975574826,-70.238414400486803,-12.507265561116288,19.976173715275898,-58.042383523839,43.903542412772502,-22.184273883212704,-27.710986482696352,-58.613908987939148,-68.824477360719868,{"$f":"(N351/O303)*100","v":-45.454895846958266}]
[]
[null,"jan-dec","feb-jan","mar-feb","apr-mar","may-apr","jun-may","jul-jun","aug-jul","sep-aug","oct-sep","nov-oct","dec-nov"]
["change_10",{"$f":"B305-M304","v":1403947},{"$f":"C305-B305","v":-1451421},574848,2496866,-1001117,8257166,-7730538,-1497300,4131997,2530058,-7310983,2139677]
["%change_10",{"$f":"(B355/M304)*100","v":827.50618884828475},{"$f":"(C355/B305)*100","v":-92.235291276665649},470.46961190316398,358.21294226680476,-31.344657002410848,376.56101857776167,-73.976801226494032,-55.059716975477414,338.10324921386024,47.254519333565923,-92.729947593696025,373.29735878419285]
[null,"jan","feb","mar","apr","may","jun","jul","aug","sep","oct","nov","dec","ytd_total "]
["chg_prv_10-09",{"$f":"B305-B304","v":-3774808},-448970,-91249,705273.11653484916,76381,9519397,{"$f":"H305-H304","v":811993},-1023652,2152029,1414827,-2515420,2543200,{"$f":"O305-O304","v":9369001.1165348515}]
["%chg_prv_10-09",{"$f":"(B358/B304)*100","v":-70.578068455794849},-78.607245656177994,-11.575665084747483,28.339849626346179,3.6090024484951346,1022.983884833948,{"$f":"(H358/H304)*100","v":42.570270386459605},-45.581479434829056,67.207242544609301,21.86973043150158,-81.441998210841604,1498.997995991984,{"$f":"(N358/O304)*100","v":31.947440052744312}]
[]
[null,"jan-dec","feb-jan","mar-feb","apr-mar","may-apr","jun-may","jul-jun","aug-jul","sep-aug","oct-sep","nov-oct","dec-nov"]
["change_11",{"$f":"B306-M305","v":-588926},{"$f":"C306-B306","v":-1659168},5449424.9573552432,-3607697.9573552432,4906134,-3602803,-1607658,-605040,2388889,-1223214,23789601,-24919882]
["%change_11",{"$f":"(B362/M305)*100","v":-21.708676452157501},{"$f":"(C362/B306)*100","v":-78.117681622875295},1172.509382647449,-61.000701251766202,212.70968522341062,-49.951328413350645,-44.535633870238549,-30.219272527852336,170.9859382761469,-32.308746795773388,928.2656359194491,-94.563986994430337]
[null,"jan","feb","mar","apr","may","jun","jul","aug","sep","oct","nov","dec","ytd_total "]
["chg_prv_11-10",{"$f":"B306-B305","v":550327},342580,5217156.9573552432,-887407,5019844,-6840125,{"$f":"H306-H305","v":-717245},175015,-1568093,-5321365,25779219,-1280340,{"$f":"O306-O305","v":20469566.957355246}]
["%chg_prv_11-10",{"$f":"(B365/B305)*100","v":34.972327906523034},280.37582047043037,748.47955155060481,-27.784432825072798,228.92570765096227,-65.456061077427265,{"$f":"(H365/H305)*100","v":-26.375012824468243},14.320712275726184,-29.287660988534409,-67.494329774385776,4497.5547076588109,-47.195210958176979,{"$f":"(N365/O305)*100","v":52.899365078814611}]
[]
[null,"jan-dec","feb-jan","mar-feb","apr-mar","may-apr","jun-may","jul-jun","aug-jul","sep-aug","oct-sep","nov-oct","dec-nov"]
["change_12",{"$f":"B307-M306","v":400374},{"$f":"C307-B307","v":5681613.7032426624},-2090987.7032426624,-2181899,-1165654.6604290274,1215100.9739754507,-1577721.3135464233,{"$f":"I307-H307","v":32323715},-33495951,1375355,2401111.0824981024,-3655534.0824981024]
["%change_12",{"$f":"(B369/M306)*100","v":27.948929159802304},{"$f":"(C369/B307)*100","v":309.98048459118002},-27.826010509515598,-40.230311679499657,-35.959005091249949,58.531824471998341,-47.939503001118673,1886.5842042412914,-98.410232892904588,254.17290384579846,125.28854335968059,-84.666350115202832]
[null,"jan","feb","mar","apr","may","jun","jul","aug","sep","oct","nov","dec","ytd_total "]
["chg_prv_12-11",{"$f":"B307-B306","v":-291040},7049741.7032426624,-490670.95735524315,935128,-5136660.6604290269,-318756.68645357667,{"$f":"H307-H306","v":-288820},32639935,{"$f":"J307-J306","v":-3244905},-646336,{"$f":"L307-L306","v":-22034825.917501897},-770478,{"$f":"O307-O306","v":7402311.4815029204}]
["%chg_prv_12-11",{"$f":"(B372/B306)*100","v":-13.702874006442761},1516.8367959882312,-8.296501768259871,40.543283677860721,-71.217611286831101,-8.8302556150542699,-14.425377316366376,{"$f":"(I372/I306)*100","v":2336.21985418638},-85.707663598797154,{"$f":"(K372/K306)*100","v":-25.219905876421933},-83.616005544776897,{"$f":"(M372/M306)*100","v":-53.784798816072374},{"$f":"(N372/O306)*100","v":12.511329970647861}]
[]
[null,"jan-dec","feb-jan","mar-feb","apr-mar","may-apr","jun-may","jul-jun","aug-jul","sep-aug","oct-sep","nov-oct","dec-nov"]
["change_13",{"$f":"B308-M307","v":6116295},{"$f":"C308-B308","v":-1559594},-2009603,31758247,-33316409,1716641,-2594081,{"$f":"I308-H308","v":13405016},-13598376,1586134,4954529,951963]
["%change_13",{"$f":"(B376/M307)*100","v":923.85301838856151},{"$f":"(C376/B308)*100","v":-23.008504888440925},-38.507414524915291,989.61862056501127,-95.278520525425591,103.97721835178906,-77.03012128153452,1732.9486075667905,-95.908059453735547,273.38747763617374,228.70800697221821,13.368687771570803]
[null,"jan","feb","mar","apr","may","jun","jul","aug","sep","oct","nov","dec","ytd_total "]
["chg_prv_13-12",{"$f":"B308-B307","v":4945443},-2295764.7032426624,-2214380,31725766,-424988.3395709726,76551.686453576665,{"$f":"H308-H307","v":-939808},{"$f":"I308-I307","v":-19858507},39068,249847,2803264.9175018976,7410762,{"$f":"O308-O307","v":21517254.561141834}]
["%chg_prv_13-12",{"$f":"(B379/B307)*100","v":269.81609411127977},-30.551099205766914,-40.82920317432221,978.70065624574863,-20.471831911243914,2.3260443850078922,-54.852201481778927,{"$f":"(I379/I307)*100","v":-58.343777096383263},7.2199737576463194,{"$f":"(K379/K307)*100","v":13.036867357348033},64.926821529916367,{"$f":"(M379/M307)*100","v":1119.3794351415772},{"$f":"(N379/O307)*100","v":32.324120853924747}]
[]
[null,"jan-dec","feb-jan","mar-feb","apr-mar","may-apr","jun-may","jul-jun","aug-jul","sep-aug","oct-sep","nov-oct","dec-nov"]
["change_14",{"$f":"B309-M308","v":-7625258.620462046},{"$f":"C309-B309","v":4281316.620462046},-3289957,6948582,-6892733,1628602,-569437,3690313,12211634,-16582498,2117059,-3564082.8976660683]
["%change_14",{"$f":"(B383/M308)*100","v":-94.456134701920746},{"$f":"(C383/B309)*100","v":956.62178992487429},-69.571854708384379,482.90762767521136,-82.178762244281273,108.9545169305451,-18.231575267116526,144.49608621103488,195.56662853013788,-89.849471165427843,113.00817564941859,-89.315827545925998]
[null,"jan","feb","mar","apr","may","jun","jul","aug","sep","oct","nov","dec","ytd_total "]
["chg_prv_14-13",{"$f":"B309-B308","v":-6330791.620462046},-489881,-1770235,-26579900,-156224,-244263,{"$f":"H309-H308","v":1780381},-7934322,{"$f":"J309-J308","v":17875688},-292944,{"$f":"L309-L308","v":-3130414},-7646459.8976660687,{"$f":"O309-O308","v":-34919365.518128112}]
["%chg_prv_14-13",{"$f":"(B386/B308)*100","v":-93.39741621672168},-9.3869539082495539,-55.162286469272139,-76.013400715358003,-9.4625125228803775,-7.253284887631291,230.16076779679858,{"$f":"(I386/I308)*100","v":-55.960022439523804},{"$f":"(J386/J308)*100","v":3081.0696027770787},{"$f":"(K386/K308)*100","v":-13.522705870622515},-43.961296144654824,{"$f":"(M386/M308)*100","v":-94.718760639624961},{"$f":"(N386/O308)*100","v":-39.643061914231033}]
[]
[null,"jan-dec","feb-jan","mar-feb","apr-mar","may-apr","jun-may","jul-jun","aug-jul","sep-aug","oct-sep","nov-oct","dec-nov"]
["change_15"]
["%change_15"]
[null,"jan","feb","mar","apr","may","jun","jul","aug","sep","oct","nov","dec","ytd_total "]
["chg_prv_15-14",{"$nulls":12},{"$f":"N310-N309","v":-53165065.481871888}]
["%chg_prv_15-14",{"$nulls":12},{"$f":"(N393/N309)*100","v":-100}]

{"sheet":"graphs","index":4,"n_rows":0,"n_cols":0,"rows_kept":0,"cut":false,"hidden":false,"merged":[]}

{"sheet":"explanations","index":5,"n_rows":8,"n_cols":3,"rows_kept":8,"cut":false,"hidden":false,"merged":[]}
[]
["When The Bottom Line gives multiple weeks of data:"]
["     a)  The data does not exceed one, individual, month","sarah?"]
["          -Fill the cells green and list the amount in the latest week covered",null,"jimmy?"]
["     b)  The data overlaps two months"]
["          -Divide the data up by approximatly the same amount of days covered for each month"]
["          -If there is an odd number and equal time for each month, the extra is deposited in the later week/month"]
["          -fill the cells pink"]