{"text_format":"2","workbook":"xlsx","n_sheets":5,"sheets":["$ by Week","work details","$ by Month","Month-Month","graphs"],"not_rendered":{"charts":2,"images":0,"macros":0,"external_links":0,"defined_names":0,"comments":0,"pivot_tables":0},"unopened":[],"bounds":{"document_bytes":16777216,"sheet_cells":100000,"run_cost":"one","rows_first":2000,"rows_last":500,"rows_between":2000,"halvings":0,"cell_chars":16384,"cell_head_chars":4096},"cells_cut":0,"cells_raw":0,"read":"whole","date_system":"1900"}

{"sheet":"$ by Week","index":0,"n_rows":617,"n_cols":3,"rows_kept":617,"cut":false,"hidden":false,"merged":[]}
["Thursday","WI Week","EC Week"]
["2004-01-01",1.55,1.56]
["2004-01-08",1.58,1.6]
["2004-01-15",1.63,1.65]
["2004-01-22",1.66,1.65]
["2004-01-29",1.69,1.66]
["2004-02-05",1.69,1.69]
["2004-02-12",1.69,1.69]
["2004-02-19",1.7,1.7]
["2004-02-26",1.72,1.73]
["2004-03-04",1.75,1.77]
["2004-03-11",1.76,1.76]
["2004-03-18",1.75,1.78]
["2004-03-25",1.78,1.84]
["2004-04-01",1.79,1.85]
["2004-04-08",1.82,1.85]
["2004-04-15",1.84,1.88]
["2004-04-22",1.86,1.88]
["2004-04-29",1.87,1.9]
["2004-05-06",1.93,1.99]
["2004-05-13",2,2.0099999999999998]
["2004-05-20",2.09,2.1]
["2004-05-27",2.13,2.15]
["2004-06-03",2.13,2.1800000000000002]
["2004-06-10",2.08,2.0499999999999998]
["2004-06-17",1.99,2]
["2004-06-24",1.95,1.97]
["2004-07-01",1.93,1.95]
["2004-07-08",1.91,1.95]
["2004-07-15",1.95,1.99]
["2004-07-22",1.96,1.99]
["2004-07-29",1.95,2]
["2004-08-05",1.94,2]
["2004-08-12",1.94,2]
["2004-08-19",1.97,2]
["2004-08-26",1.98,2]
["2004-09-02",1.94,1.93]
["2004-09-09",1.91,1.93]
["2004-09-16",1.9,1.93]
["2004-09-23",1.93,1.97]
["2004-09-30",2,2]
["2004-10-07",2.02,2.06]
["2004-10-14",2.06,2.09]
["2004-10-21",2.1,2.1]
["2004-10-28",2.11,2.11]
["2004-11-04",2.09,2.1]
["2004-11-11",2.06,2.0699999999999998]
["2004-11-18",2.0099999999999998,2.06]
["2004-11-25",2,2.0699999999999998]
["2004-12-02",2,2.04]
["2004-12-09",1.93,1.92]
["2004-12-16",1.84,1.85]
["2004-12-23",1.82,1.84]
["2004-12-30",1.81,1.83]
["2005-01-06",1.8140000000000001,1.835]
["2005-01-13",1.87,1.9]
["2005-01-20",1.913,1.95]
["2005-01-27",1.94,1.99]
["2005-02-03",2,2]
["2005-02-10",1.99,2]
["2005-02-17",1.98,2]
["2005-02-24",1.99,2]
["2005-03-03",2.0299999999999998,2.06]
["2005-03-10",2.08,2.12]
["2005-03-17",2.12,2.2000000000000002]
["2005-03-24",2.2000000000000002,2.2599999999999998]
["2005-03-31",2.2400000000000002,2.2599999999999998]
["2005-04-07",2.3199999999999998,2.36]
["2005-04-14",2.31,2.2999999999999998]
["2005-04-21",2.25,2.2400000000000002]
["2005-04-28",2.27,2.2999999999999998]
["2005-05-05",2.2599999999999998,2.2999999999999998]
["2005-05-12",2.2200000000000002,2.2400000000000002]
["2005-05-19",2.2000000000000002,2.2000000000000002]
["2005-05-26",2.17,2.2000000000000002]
["2005-06-02",2.17,2.2000000000000002]
["2005-06-09",2.1800000000000002,2.21]
["2005-06-16",2.19,2.23]
["2005-06-23",2.25,2.2599999999999998]
["2005-06-30",2.2999999999999998,2.33]
["2005-07-07",2.29,2.35]
["2005-07-14",2.39,2.37]
["2005-07-21",2.38,2.39]
["2005-07-28",2.35,2.38]
["2005-08-04",2.35,2.37]
["2005-08-11",2.4700000000000002,2.4700000000000002]
["2005-08-18",2.67,2.64]
["2005-08-25",2.71,2.7]
["2005-09-01",2.69,2.72]
["2005-09-08",3.01,3.13]
["2005-09-15",2.93,2.93]
["2005-09-22",2.74,2.76]
["2005-09-29",2.76,2.78]
["2005-10-06",2.98,2.95]
["2005-10-13",2.82,2.81]
["2005-10-20",2.67,2.6]
["2005-10-27",2.57,2.5299999999999998]
["2005-11-03",2.4700000000000002,2.44]
["2005-11-10",2.37,2.4]
["2005-11-17",{"$f":"0.5*(B99+B101)","v":2.29},{"$f":"0.5*(C99+C101)","v":2.3200000000000003}]
["2005-11-24",2.21,2.2400000000000002]
["2005-12-01",2.19,2.25]
["2005-12-08",2.2050000000000001,2.2330000000000001]
["2005-12-15",2.25,2.25]
["2005-12-22",2.2799999999999998,2.29]
["2005-12-29",2.2599999999999998,2.2799999999999998]
["2006-01-05",2.33,2.2999999999999998]
["2006-01-12",2.41,2.39]
["2006-01-19",2.38,2.37]
["2006-01-26",2.36,2.37]
["2006-02-02",2.35,2.38]
["2006-02-09",2.38,2.39]
["2006-02-16",2.33,2.35]
["2006-02-23",2.3199999999999998,2.35]
["2006-03-02",2.34,2.35]
["2006-03-09",2.4300000000000002,2.4500000000000002]
["2006-03-16",2.48,2.48]
["2006-03-23",2.52,2.52]
["2006-03-30",2.62,2.62]
["2006-04-06",2.64,2.64]
["2006-04-13",2.72,2.7]
["2006-04-20",2.85,2.84]
["2006-04-27",2.95,2.96]
["2006-05-04",2.94,2.93]
["2006-05-11",2.89,2.93]
["2006-05-18",2.92,2.96]
["2006-05-25",2.9,2.97]
["2006-06-01",2.89,2.91]
["2006-06-08",2.95,2.96]
["2006-06-15",2.95,2.96]
["2006-06-22",2.92,2.96]
["2006-06-29",2.95,2.96]
["2006-07-06",3.03,2.99]
["2006-07-13",3.09,3.07]
["2006-07-20",3.1,3.07]
["2006-07-27",3.11,3.09]
["2006-08-03",3.15,3.15]
["2006-08-10",3.17,3.17]
["2006-08-17",3.06,3.12]
["2006-08-24",3.01,3.1]
["2006-08-31",2.92,2.93]
["2006-09-07",2.8,2.87]
["2006-09-14",2.65,2.71]
["2006-09-21",2.48,2.54]
["2006-09-28",2.31,2.38]
["2006-10-05",2.29,2.37]
["2006-10-12",2.2799999999999998,2.36]
["2006-10-19",2.25,2.3199999999999998]
["2006-10-26",2.25,2.31]
["2006-11-02",2.2799999999999998,2.33]
["2006-11-09",2.2999999999999998,2.35]
["2006-11-16",2.33,2.41]
["2006-11-23",2.31,2.35]
["2006-11-30",2.31,2.35]
["2006-12-07",2.35,2.4]
["2006-12-14",2.34,2.4]
["2006-12-21",2.35,2.44]
["2006-12-28",2.36,2.4]
["2007-01-04",2.35,2.4]
["2007-01-11",2.2799999999999998,2.35]
["2007-01-18",2.15,2.19]
["2007-01-25",2.04,2.1]
["2007-02-01",2.17,2.1800000000000002]
["2007-02-08",2.2400000000000002,2.23]
["2007-02-15",2.29,2.2999999999999998]
["2007-02-22",2.38,2.4300000000000002]
["2007-03-01",2.48,2.52]
["2007-03-08",2.5609999999999999,2.597]
["2007-03-15",2.54,2.64]
["2007-03-22",2.5299999999999998,2.61]
["2007-03-29",2.6,2.66]
["2007-04-05",2.7,2.75]
["2007-04-12",2.8,2.77]
["2007-04-19",2.89,2.9]
["2007-04-26",2.87,2.91]
["2007-05-03",3.07,3.07]
["2007-05-10",3.16,3.15]
["2007-05-17",3.32,3.28]
["2007-05-24",3.47,3.45]
["2007-05-31",3.41,3.37]
["2007-06-07",3.31,3.31]
["2007-06-14",3.13,3.18]
["2007-06-21",3.06,3.09]
["2007-06-28",3.06,3.08]
["2007-07-05",3.06,3.08]
["2007-07-12",3.21,3.17]
["2007-07-19",3.25,3.28]
["2007-07-26",3.07,3.19]
["2007-08-02",2.96,3.11]
["2007-08-09",2.92,3.04]
["2007-08-16",2.89,3]
["2007-08-23",2.95,3]
["2007-08-30",3,3.07]
["2007-09-06",3.1,3.16]
["2007-09-13",3.05,3.13]
["2007-09-20",2.98,3.11]
["2007-09-27",2.96,3.08]
["2007-10-04",2.89,3.01]
["2007-10-11",2.85,2.95]
["2007-10-18",2.84,2.91]
["2007-10-25",2.86,2.93]
["2007-11-01",2.96,3.06]
["2007-11-08",3.14,3.18]
["2007-11-15",3.18,3.23]
["2007-11-22",3.15,3.19]
["2007-11-29",3.12,3.2]
["2007-12-06",3.03,3.13]
["2007-12-13",2.97,3.09]
["2007-12-20",2.97,3.04]
["2007-12-27",2.98,3.04]
["2008-01-03",3.08,3.1]
["2008-01-10",3.14,3.16]
["2008-01-17",3.04,3.18]
["2008-01-24",3.01,3.13]
["2008-01-31",3.02,3.12]
["2008-02-07",3.1339999999999999,3.105]
["2008-02-14",3.0960000000000001,3.0830000000000002]
["2008-02-21",3.0840000000000001,3.125]
["2008-02-28",3.1080000000000001,3.1880000000000002]
["2008-03-06",3.101,3.13]
["2008-03-13",3.254,3.2669999999999999]
["2008-03-20",3.2810000000000001,3.286]
["2008-03-27",3.3010000000000002,3.3010000000000002]
["2008-04-03",3.3450000000000002,3.3439999999999999]
["2008-04-10",3.403,3.4220000000000002]
["2008-04-17",3.4870000000000001,3.528]
["2008-04-24",3.613,3.621]
["2008-05-01",3.6520000000000001,3.6520000000000001]
["2008-05-08",3.68,3.6789999999999998]
["2008-05-15",3.86,3.8]
["2008-05-22",3.88,3.88]
["2008-05-29",4.01,3.98]
["2008-06-05",3.98,3.99]
["2008-06-12",3.98,3.98]
["2008-06-19",4.01,3.99]
["2008-06-26",4.01,4]
["2008-07-03",4.04,4.0199999999999996]
["2008-07-10",4.09,4.08]
["2008-07-17",4.1100000000000003,4.09]
["2008-07-24",3.96,3.97]
["2008-07-31",3.86,3.89]
["2008-08-07",3.85,3.85]
["2008-08-14",3.8079999999999998,3.8]
["2008-08-21",3.78,3.76]
["2008-08-28",3.75,3.82]
["2008-09-04",3.72,3.8]
["2008-09-11",3.7490000000000001,3.7730000000000001]
["2008-09-18",3.9780000000000002,3.8620000000000001]
["2008-09-25",3.7959999999999998,3.7149999999999999]
["2008-10-02",3.6150000000000002,3.681]
["2008-10-09",3.3929999999999998,3.4049999999999998]
["2008-10-16",2.9449999999999998,3.0139999999999998]
["2008-10-23",2.7850000000000001,2.7890000000000001]
["2008-10-30",2.4129999999999998,2.5419999999999998]
["2008-11-06",2.266,2.371]
["2008-11-13",2.1320000000000001,2.1179999999999999]
["2008-11-20",1.9379999999999999,1.9330000000000001]
["2008-11-27",1.7969999999999999,1.8959999999999999]
["2008-12-04",1.736,1.863]
["2008-12-11",1.671,1.8029999999999999]
["2008-12-18",1.75,1.84]
["2008-12-25",1.72,1.81]
["2009-01-01",1.7,1.79]
["2009-01-08",1.88,1.88]
["2009-01-15",1.94,1.95]
["2009-01-22",1.95,2]
["2009-01-29",1.92,1.98]
["2009-02-05",1.96,1.98]
["2009-02-12",1.97,2.0099999999999998]
["2009-02-19",2,2.0299999999999998]
["2009-02-26",1.88,1.95]
["2009-03-05",1.97,1.99]
["2009-03-12",1.96,2.02]
["2009-03-19",2.04,1.99]
["2009-03-26",2.1,2.12]
["2009-04-02",2.12,2.16]
["2009-04-09",2.1,2.16]
["2009-04-16",2.08,2.12]
["2009-04-23",2.09,2.1]
["2009-04-30",2.0699999999999998,2.1]
["2009-05-07",2.13,2.13]
["2009-05-14",2.33,2.2999999999999998]
["2009-05-21",2.42,2.4300000000000002]
["2009-05-28",2.5299999999999998,2.48]
["2009-06-04",2.7,2.63]
["2009-06-11",2.82,2.75]
["2009-06-18",2.78,2.79]
["2009-06-25",2.72,2.77]
["2009-07-02",2.63,2.66]
["2009-07-09",2.56,2.58]
["2009-07-16",2.44,2.54]
["2009-07-23",2.41,2.5]
["2009-07-30",2.48,2.5]
["2009-08-06",2.61,2.63]
["2009-08-13",2.65,2.66]
["2009-08-20",2.62,2.66]
["2009-08-27",2.62,2.65]
["2009-09-03",2.6,2.62]
["2009-09-10",2.57,2.6]
["2009-09-17",2.5299999999999998,2.61]
["2009-09-24",2.5,2.59]
["2009-10-01",2.42,2.5099999999999998]
["2009-10-08",2.44,2.5]
["2009-10-15",2.4900000000000002,2.5299999999999998]
["2009-10-22",2.66,2.66]
["2009-10-29",2.64,2.7]
["2009-11-05",2.6,2.85]
["2009-11-12",2.63,2.7]
["2009-11-19",2.61,2.75]
["2009-11-26",2.6,2.72]
["2009-12-03",2.61,2.7]
["2009-12-10",2.6,2.68]
["2009-12-17",2.56,2.63]
["2009-12-24",2.58,2.64]
["2009-12-31",2.65,2.69]
["2010-01-07",2.74,2.76]
["2010-01-14",2.77,2.8]
["2010-01-21",2.69,2.77]
["2010-01-28",2.69,2.77]
["2010-02-04",2.63,2.71]
["2010-02-11",2.59,2.68]
["2010-02-18",2.5499999999999998,2.65]
["2010-02-25",2.68,2.71]
["2010-03-04",2.7,2.76]
["2010-03-11",2.77,2.83]
["2010-03-18",2.81,2.9]
["2010-03-25",2.87,2.9]
["2010-04-01",2.84,2.89]
["2010-04-08",2.91,2.93]
["2010-04-15",2.91,2.93]
["2010-04-22",2.9,2.94]
["2010-04-29",2.9,2.93]
["2010-05-06",2.97,3]
["2010-05-13",2.88,2.96]
["2010-05-20",2.83,3.03]
["2010-05-27",2.67,2.67]
["2010-06-03",2.67,2.67]
["2010-06-10",2.66,2.83]
["2010-06-17",2.69,2.73]
["2010-06-24",2.71,2.79]
["2010-07-01",2.75,2.81]
["2010-07-08",2.68,2.76]
["2010-07-15",2.73,2.81]
["2010-07-22",2.74,2.82]
["2010-07-29",2.76,2.82]
["2010-08-05",2.78,2.83]
["2010-08-12",2.73,2.79]
["2010-08-19",2.7,2.76]
["2010-08-26",2.65,2.72]
["2010-09-02",2.67,2.74]
["2010-09-09",2.7,2.77]
["2010-09-16",2.77,2.87]
["2010-09-23",2.76,2.86]
["2010-09-30",2.73,2.85]
["2010-10-07",2.8,2.88]
["2010-10-14",2.88,2.94]
["2010-10-21",2.86,2.94]
["2010-10-28",2.83,2.92]
["2010-11-04",2.85,2.91]
["2010-11-11",2.96,2.99]
["2010-11-18",2.9,2.99]
["2010-11-25",2.86,2.99]
["2010-12-02",2.88,2.96]
["2010-12-09",2.95,3]
["2010-12-16",2.95,3]
["2010-12-23",3.01,3.09]
["2010-12-30",3.09,3.13]
["2011-01-06",3.11,3.19]
["2011-01-13",3.12,3.2]
["2011-01-20",3.13,3.23]
["2011-01-27",3.12,3.22]
["2011-02-03",3.13,3.23]
["2011-02-10",3.16,3.25]
["2011-02-17",3.15,3.25]
["2011-02-24",3.26,3.29]
["2011-03-03",3.43,3.48]
["2011-03-10",3.53,3.6]
["2011-03-17",3.52,3.6]
["2011-03-24",3.58,3.65]
["2011-03-31",3.61,3.67]
["2011-04-07",3.77,3.8]
["2011-04-14",3.87,3.89]
["2011-04-21",3.92,3.94]
["2011-04-28",3.98,4]
["2011-05-05",4.12,4.0599999999999996]
["2011-05-12",4.0599999999999996,4.03]
["2011-05-19",4,4]
["2011-05-26",3.93,3.91]
["2011-06-02",3.9,3.87]
["2011-06-09",3.87,3.83]
["2011-06-16",3.76,3.8]
["2011-06-23",3.63,3.71]
["2011-06-30",3.54,3.65]
["2011-07-07",3.65,3.69]
["2011-07-14",3.71,3.77]
["2011-07-21",3.73,3.83]
["2011-07-28",3.73,3.84]
["2011-08-04",3.76,3.89]
["2011-08-11",3.64,3.75]
["2011-08-18",3.62,3.7]
["2011-08-25",3.65,3.74]
["2011-09-01",3.73,3.83]
["2011-09-08",3.73,3.83]
["2011-09-15",3.65,3.73]
["2011-09-22",3.56,3.63]
["2011-09-29",3.44,3.59]
["2011-10-06",3.38,3.49]
["2011-10-13",3.38,3.54]
["2011-10-20",3.42,3.58]
["2011-10-27",3.39,3.59]
["2011-11-03",3.38,3.55]
["2011-11-10",3.41,3.54]
["2011-11-17",3.32,3.41]
["2011-11-24",3.27,3.39]
["2011-12-01",3.25,3.36]
["2011-12-08",3.26,3.38]
["2011-12-15",3.24,3.38]
["2011-12-22",3.19,3.3]
["2011-12-29",3.26,3.31]
["2012-01-05",3.31,3.38]
["2012-01-12",3.4,3.4]
["2012-01-19",3.38,3.39]
["2012-01-26",3.31,3.42]
["2012-02-02",3.36,3.44]
["2012-02-09",3.41,3.5]
["2012-02-16",3.4,3.51]
["2012-02-23",3.43,3.5]
["2012-03-01",3.7,3.71]
["2012-03-08",3.75,3.79]
["2012-03-15",3.87,3.82]
["2012-03-22",3.97,3.88]
["2012-03-29",3.99,3.88]
["2012-04-05",3.97,3.89]
["2012-04-12",3.87,3.9]
["2012-04-19",3.86,3.89]
["2012-04-26",3.83,3.8]
["2012-05-03",3.84,3.82]
["2012-05-10",3.76,3.75]
["2012-05-17",3.72,3.75]
["2012-05-24",3.7,3.71]
["2012-05-31",3.67,3.69]
["2012-06-07",3.62,3.65]
["2012-06-14",3.63,3.68]
["2012-06-21",3.55,3.63]
["2012-06-28",3.43,3.58]
["2012-07-05",3.42,3.53]
["2012-07-12",3.44,3.57]
["2012-07-19",3.46,3.57]
["2012-07-26",3.52,3.66]
["2012-08-02",3.68,3.7]
["2012-08-09",3.91,3.86]
["2012-08-16",3.91,3.91]
["2012-08-23",3.87,3.88]
["2012-08-30",3.91,3.91]
["2012-09-06",3.94,3.93]
["2012-09-13",3.92,3.97]
["2012-09-20",3.93,3.98]
["2012-09-27",3.89,3.98]
["2012-10-04",3.84,3.91]
["2012-10-11",3.81,3.88]
["2012-10-18",3.66,3.71]
["2012-10-25",3.5,3.57]
["2012-11-01",3.42,3.51]
["2012-11-08",3.41,3.45]
["2012-11-15",3.42,3.4]
["2012-11-22",3.42,3.43]
["2012-11-29",3.4,3.43]
["2012-12-06",3.36,3.4]
["2012-12-13",3.31,3.31]
["2012-12-20",3.2,3.25]
["2012-12-27",3.21,3.25]
["2013-01-03",3.2,3.21]
["2013-01-10",3.18,3.2]
["2013-01-17",3.18,3.15]
["2013-01-24",3.27,3.25]
["2013-01-31",3.4,3.47]
["2013-02-07",3.55,3.62]
["2013-02-14",3.64,3.71]
["2013-02-21",3.78,3.81]
["2013-02-28",3.76,3.79]
["2013-03-07",3.69,3.77]
["2013-03-14",3.67,3.75]
["2013-03-21",3.71,3.75]
["2013-03-28",3.69,3.67]
["2013-04-04",3.6,3.6]
["2013-04-11",3.58,3.59]
["2013-04-18",3.55,3.58]
["2013-04-25",3.67,3.59]
["2013-05-02",3.73,3.63]
["2013-05-09",3.75,3.73]
["2013-05-16",3.91,4.1100000000000003]
["2013-05-23",3.93,4.09]
["2013-05-30",3.9,4.01]
["2013-06-06",3.62,3.69]
["2013-06-13",3.63,3.69]
["2013-06-20",3.72,3.69]
["2013-06-27",3.54,3.58]
["2013-07-04",3.48,3.58]
["2013-07-11",3.51,3.62]
["2013-07-18",3.67,3.72]
["2013-07-25",3.65,3.74]
["2013-08-01",3.63,3.7]
["2013-08-08",3.69,3.62]
["2013-08-15",3.54,3.59]
["2013-08-22",3.52,3.62]
["2013-08-29",3.58,3.66]
["2013-09-05",3.64,3.73]
["2013-09-12",3.61,3.7]
["2013-09-19",3.54,3.64]
["2013-09-26",3.46,3.5]
["2013-10-03",3.38,3.48]
["2013-10-10",3.34,3.44]
["2013-10-17",3.36,3.43]
["2013-10-24",3.32,3.39]
["2013-10-31",3.26,3.33]
["2013-11-07",3.2,3.22]
["2013-11-14",3.15,3.2]
["2013-11-21",3.14,3.17]
["2013-11-28",3.16,3.18]
["2013-12-05",3.12,3.15]
["2013-12-12",3.13,3.15]
["2013-12-19",3.1,3.05]
["2013-12-26",3.16,3.17]
["2014-01-02",3.13,3.24]
["2014-01-09",3.25,3.26]
["2014-01-16",3.27,3.3]
["2014-01-23",3.25,3.3]
["2014-01-30",3.25,3.3]
["2014-02-06",3.26,3.35]
["2014-02-13",3.32,3.36]
["2014-02-20",3.36,3.38]
["2014-02-27",3.47,3.48]
["2014-03-06",3.59,3.56]
["2014-03-13",3.61,3.62]
["2014-03-20",3.63,3.64]
["2014-03-27",3.6,3.64]
["2014-04-03",3.61,3.65]
["2014-04-10",3.65,3.65]
["2014-04-17",3.68,3.65]
["2014-04-24",3.67,3.65]
["2014-05-01",3.66,3.65]
["2014-05-08",3.63,3.64]
["2014-05-15",3.6,3.6]
["2014-05-22",3.61,3.6]
["2014-05-29",3.6,3.64]
["2014-06-05",3.72,3.67]
["2014-06-12",3.72,3.68]
["2014-06-19",3.73,3.7]
["2014-06-26",3.72,3.73]
["2014-07-03",3.7,3.73]
["2014-07-10",3.66,3.71]
["2014-07-17",3.6,3.69]
["2014-07-24",3.54,3.64]
["2014-07-31",3.5,3.6]
["2014-08-07",3.46,3.55]
["2014-08-14",3.49,3.54]
["2014-08-21",3.46,3.5]
["2014-08-28",3.44,3.5]
["2014-09-04",3.44,3.5]
["2014-09-11",3.44,3.5]
["2014-09-18",3.42,3.45]
["2014-09-25",3.37,3.4]
["2014-10-02",3.35,3.4]
["2014-10-09",3.28,3.32]
["2014-10-16",3.2,3.18]
["2014-10-23",3.11,3.14]
["2014-10-30",3.07,3.14]
["2014-11-06",3,3.08]
["2014-11-13",2.95,3]
["2014-11-20",2.89,2.95]
["2014-11-27",2.82,2.89]
["2014-12-04",2.71,2.8]
["2014-12-11",2.59,2.69]
["2014-12-18",2.46,2.59]
["2014-12-25",2.33,2.4]
["2015-01-01",2.2000000000000002,2.2999999999999998]
["2015-01-08",2.06,2.2000000000000002]
["2015-01-15",1.96,2.06]
["2015-01-22",1.94,1.99]
["2015-01-29",2,2.0299999999999998]
["2015-02-05",2.15,2.19]
["2015-02-12",2.2200000000000002,2.2799999999999998]
["2015-02-19",2.27,2.2999999999999998]
["2015-02-26"]
["2015-03-05"]
["2015-03-12"]
["2015-03-19"]
["2015-03-26"]
["2015-04-02"]
["2015-04-09"]
["2015-04-16"]
["2015-04-23"]
["2015-04-30"]
["2015-05-07"]
["2015-05-14"]
["2015-05-21"]
["2015-05-28"]
["2015-06-04"]
["2015-06-11"]
["2015-06-18"]
["2015-06-25"]
["2015-07-02"]
["2015-07-09"]
["2015-07-16"]
["2015-07-23"]
["2015-07-30"]
["2015-08-06"]
["2015-08-13"]
["2015-08-20"]
["2015-08-27"]
["2015-09-03",2.57,2.5499999999999998]
["2015-09-10"]
["2015-09-17"]
["2015-09-24"]
["2015-10-01"]
["2015-10-08"]
["2015-10-15"]

{"sheet":"work details","index":1,"n_rows":20,"n_cols":4,"rows_kept":20,"cut":false,"hidden":false,"merged":[]}
[]
["17. AAA","Gasoline Prices","http://fuelgaugereport.opisnet.com/WIavg.asp ","click metro areas"]
[]
["cvcerd folder, economic indicators folder, data, folder, sls_tx_oth_consump folder"]
["File Name: aaa_gasprice_data.xls"]
[]
["Get weekly each Thursday**Important**"]
[]
["Get price on Thursday and then calculate average over one month (create average formula)"]
["-calculate real $ using CPI (pull down formulas)"]
[]
["-average monthly price per gallon for regular unleaded."]
[]
["wgas_wi: weekly gas price in WI "]
["mgas_wi:montly gas price WI"]
[]
["wgas_ec: weekly gas price EC"]
["mgas_ec monthly gas price EC"]
[]
["Use Data Timing Rule: 3rd or less is part of previous month, 4th or more is part of next month"]

{"sheet":"$ by Month","index":2,"n_rows":151,"n_cols":15,"rows_kept":151,"cut":false,"hidden":false,"merged":[]}
["month","Month WI","WI Real","Month EC","EC Real","MidWest CPI","CPI Base 1996","base: 1996=100",null,"Month WI","WI Real","Month EC","EC Real","MidWest CPI","CPI Base 1996"]
["2004-01-01",{"$f":"AVERAGE('$ by Week'!B2:B6)","v":1.6219999999999999},{"$f":"(B2/G2)*100","v":1.3832356930509102},{"$f":"AVERAGE('$ by Week'!C2:D6)","v":1.6240000000000001},{"$f":"(D2/G2)*100","v":1.3849412857673726},179.4,{"$f":"(F2/$H$2)*100","v":117.26128874121684},152.99166666666667,null,1.6219999999999999,1.3832356930509102,1.6240000000000001,1.3849412857673726,179.4,117.26128874121684]
["2004-02-01",{"$f":"AVERAGE('$ by Week'!B7:B10)","v":1.7},{"$f":"(B3/G3)*100","v":1.4433176100628933},{"$f":"AVERAGE('$ by Week'!C7:C10)","v":1.7025000000000001},{"$f":"(D3/G3)*100","v":1.4454401359600446},180.2,{"$f":"(F3/$H$2)*100","v":117.78419303883652},null,null,1.7,1.4433176100628933,1.7025000000000001,1.4454401359600446,180.2,117.78419303883652]
["2004-03-01",{"$f":"AVERAGE('$ by Week'!B11:B14)","v":1.76},1.4876537753222836,{"$f":"AVERAGE('$ by Week'!C11:C14)","v":1.7875000000000001},1.5108983655616943,181,118.30709733645624,null,null,1.76,1.4876537753222836,1.7875000000000001,1.5108983655616943,181,118.30709733645624]
["2004-04-01",{"$f":"AVERAGE('$ by Week'!B15:B19)","v":1.8359999999999999},1.5476181818181818,{"$f":"AVERAGE('$ by Week'!C15:C19)","v":1.8719999999999999},1.5779636363636365,181.5,118.63391252246853,null,null,1.8359999999999999,1.5476181818181818,1.8719999999999999,1.5779636363636365,181.5,118.63391252246853]
["2004-05-01",{"$f":"AVERAGE('$ by Week'!B20:B23)","v":2.0374999999999996},1.7043221478038999,{"$f":"AVERAGE('$ by Week'!C20:C23)","v":2.0625},1.7252340759978131,182.9,119.54899504330301,null,null,2.0374999999999996,1.7043221478038999,2.0625,1.7252340759978131,182.9,119.54899504330301]
["2004-06-01",{"$f":"AVERAGE('$ by Week'!B24:B27)","v":2.0375000000000001},1.7006029505364613,{"$f":"AVERAGE('$ by Week'!C24:C27)","v":2.0500000000000003},1.7110360974722678,183.3,119.81044719211286,null,null,2.0375000000000001,1.7006029505364613,2.0500000000000003,1.7110360974722678,183.3,119.81044719211286]
["2004-07-01",{"$f":"AVERAGE('$ by Week'!B28:B32)","v":1.94},1.6201082605531298,{"$f":"AVERAGE('$ by Week'!C28:C32)","v":1.9759999999999998},1.6501721251819503,183.2,119.74508415491039,null,null,1.94,1.6201082605531298,1.9759999999999998,1.6501721251819503,183.2,119.74508415491039]
["2004-08-01",{"$f":"AVERAGE('$ by Week'!B33:B36)","v":1.9575},1.6338308101472996,{"$f":"AVERAGE('$ by Week'!C33:C36)","v":2},1.6693035097290416,183.3,119.81044719211286,null,null,1.9575,1.6338308101472996,2,1.6693035097290416,183.3,119.81044719211286]
["2004-09-01",{"$f":"AVERAGE('$ by Week'!B37:B41)","v":1.9359999999999999},1.6132454611474218,{"$f":"AVERAGE('$ by Week'!C37:C41)","v":1.952},1.6265780682643425,183.6,120.00653630372025,null,null,1.9359999999999999,1.6132454611474218,1.952,1.6265780682643425,183.6,120.00653630372025]
["2004-10-01",{"$f":"AVERAGE('$ by Week'!B42:B45)","v":2.0724999999999998},1.7185649277326105,{"$f":"AVERAGE('$ by Week'!C42:C45)","v":2.09},1.7330763324299909,184.5,120.5948036385424,null,null,2.0724999999999998,1.7185649277326105,2.09,1.7330763324299909,184.5,120.5948036385424]
["2004-11-01",{"$f":"AVERAGE('$ by Week'!B46:B49)","v":2.04},1.6888690476190478,{"$f":"AVERAGE('$ by Week'!C46:C49)","v":2.0750000000000002},1.7178447420634921,184.8,120.79089275014978,null,null,2.04,1.6888690476190478,2.0750000000000002,1.7178447420634921,184.8,120.79089275014978]
["2004-12-01",{"$f":"AVERAGE('$ by Week'!B50:B54)","v":1.8800000000000001},1.5648766775480594,{"$f":"AVERAGE('$ by Week'!C50:C54)","v":1.8960000000000001},1.5781947769314475,183.8,120.13726237812517,null,null,1.8800000000000001,1.5648766775480594,1.8960000000000001,1.5781947769314475,183.8,120.13726237812517]
["2005-01-01",{"$f":"AVERAGE('$ by Week'!B55:B58)","v":1.8842500000000002},1.5658584894984613,{"$f":"AVERAGE('$ by Week'!C55:C58)","v":1.91875},1.5945288452833606,184.1,120.33335148973254,null,null,1.8842500000000002,1.5658584894984613,1.91875,1.5945288452833606,184.1,120.33335148973254]
["2005-02-01",{"$f":"AVERAGE('$ by Week'!B59:B62)","v":1.9900000000000002},1.643916936645069,{"$f":"AVERAGE('$ by Week'!C59:C62)","v":2},1.6521778257739383,185.2,121.05234489895962,null,null,1.9900000000000002,1.643916936645069,2,1.6521778257739383,185.2,121.05234489895962]
["2005-03-01",{"$f":"AVERAGE('$ by Week'!B63:B67)","v":2.1339999999999999},1.7524649311146896,{"$f":"AVERAGE('$ by Week'!C63:C67)","v":2.1800000000000002},1.7902406512792988,186.3,121.77133830818671,null,null,2.1339999999999999,1.7524649311146896,2.1800000000000002,1.7902406512792988,186.3,121.77133830818671]
["2005-04-01",{"$f":"AVERAGE('$ by Week'!B68:B71)","v":2.2875000000000001},1.8645095231752802,{"$f":"AVERAGE('$ by Week'!C68:C71)","v":2.2999999999999998},1.8746980998046527,187.7,122.68642082902117,null,null,2.2875000000000001,1.8645095231752802,2.2999999999999998,1.8746980998046527,187.7,122.68642082902117]
["2005-05-01",{"$f":"AVERAGE('$ by Week'!B72:B75)","v":2.2125000000000004},{"$f":"(B18/G18)*100","v":1.8062650080042695},{"$f":"AVERAGE('$ by Week'!C72:C75)","v":2.2350000000000003},1.8246338046958384,187.4,122.4903317174138,null,null,2.2125000000000004,1.8062650080042695,2.2350000000000003,1.8246338046958384,187.4,122.4903317174138]
["2005-06-01",{"$f":"AVERAGE('$ by Week'!B76:B80)","v":2.218},1.8068983848065319,{"$f":"AVERAGE('$ by Week'!C76:C80)","v":2.246},1.8297086439474621,187.8,122.75178386622365,null,null,2.218,1.8068983848065319,2.246,1.8297086439474621,187.8,122.75178386622365]
["2005-07-01",{"$f":"AVERAGE('$ by Week'!B81:B84)","v":2.3525},1.9103656891365888,{"$f":"AVERAGE('$ by Week'!C81:C84)","v":2.3725000000000005},1.9266068427105452,188.4,123.14396208943843,null,null,2.3525,1.9103656891365888,2.3725000000000005,1.9266068427105452,188.4,123.14396208943843]
["2005-08-01",{"$f":"AVERAGE('$ by Week'!B85:B88)","v":2.5499999999999998},2.0565564048497627,{"$f":"AVERAGE('$ by Week'!C85:C88)","v":2.5449999999999999},2.052523941310842,189.7,123.99368157307042,null,null,2.5499999999999998,2.0565564048497627,2.5449999999999999,2.052523941310842,189.7,123.99368157307042]
["2005-09-01",{"$f":"AVERAGE('$ by Week'!B89:B93)","v":2.8259999999999996},2.2459971428571426,{"$f":"AVERAGE('$ by Week'!C89:C93)","v":2.8639999999999999},2.2761980952380951,192.5,125.82384661473935,null,null,2.8259999999999996,2.2459971428571426,2.8639999999999999,2.2761980952380951,192.5,125.82384661473935]
["2005-10-01",{"$f":"AVERAGE('$ by Week'!B94:B97)","v":2.76},2.1981103591879227,{"$f":"AVERAGE('$ by Week'!C94:C97)","v":2.7224999999999997},2.1682447293076521,192.1,125.56239446592951,null,null,2.76,2.1981103591879227,2.7224999999999997,2.1682447293076521,192.1,125.56239446592951]
["2005-11-01",{"$f":"AVERAGE('$ by Week'!B98:B101)","v":2.335},1.8772230250481696,{"$f":"AVERAGE('$ by Week'!C98:C101)","v":2.35},1.889282273603083,190.3,124.3858597962852,null,null,2.335,1.8772230250481696,2.35,1.889282273603083,190.3,124.3858597962852]
["2005-12-01",{"$f":"AVERAGE('$ by Week'!B102:B106)","v":2.2369999999999997},1.8041241873133016,{"$f":"AVERAGE('$ by Week'!C102:C106)","v":2.2605999999999997},1.8231574152170094,189.7,123.99368157307042,null,null,2.2369999999999997,1.8041241873133016,2.2605999999999997,1.8231574152170094,189.7,123.99368157307042]
["2006-01-01",{"$f":"AVERAGE('$ by Week'!B107:B110)","v":2.37},1.900368186582809,{"$f":"AVERAGE('$ by Week'!C107:C110)","v":2.3574999999999999},1.8903451476240389,190.8,124.71267498229753,null,null,2.37,1.900368186582809,2.3574999999999999,1.8903451476240389,190.8,124.71267498229753]
["2006-02-01",{"$f":"AVERAGE('$ by Week'!B111:B114)","v":2.3450000000000002},1.8813081192099286,{"$f":"AVERAGE('$ by Week'!C111:C114)","v":2.3674999999999997},1.8993590499912603,190.7,124.64731194509504,null,null,2.3450000000000002,1.8813081192099286,2.3674999999999997,1.8993590499912603,190.7,124.64731194509504]
["2006-03-01",{"$f":"AVERAGE('$ by Week'!B115:B119)","v":2.4780000000000002},1.9745486979166667,{"$f":"AVERAGE('$ by Week'!C115:C119)","v":2.4840000000000004},1.9793296875000004,192,125.49703142872706,null,null,2.4780000000000002,1.9745486979166667,2.4840000000000004,1.9793296875000004,192,125.49703142872706]
["2006-04-01",{"$f":"AVERAGE('$ by Week'!B120:B123)","v":2.79},2.2116411917098446,{"$f":"AVERAGE('$ by Week'!C120:C123)","v":2.7850000000000001},2.2076776770293609,193,126.15066180075168,null,null,2.79,2.2116411917098446,2.7850000000000001,2.2076776770293609,193,126.15066180075168]
["2006-05-01",{"$f":"AVERAGE('$ by Week'!B124:B127)","v":2.9125000000000001},2.3015920928030309,{"$f":"AVERAGE('$ by Week'!C124:C127)","v":2.9475000000000002},2.329250710227273,193.6,126.54284002396643,null,null,2.9125000000000001,2.3015920928030309,2.9475000000000002,2.329250710227273,193.6,126.54284002396643]
["2006-06-01",{"$f":"AVERAGE('$ by Week'!B128:B132)","v":2.9319999999999999},2.3110333161600551,{"$f":"AVERAGE('$ by Week'!C128:C132)","v":2.95},2.3252211059591277,194.1,126.86965520997875,null,null,2.9319999999999999,2.3110333161600551,2.95,2.3252211059591277,194.1,126.86965520997875]
["2006-07-01",{"$f":"AVERAGE('$ by Week'!B133:B136)","v":3.0824999999999996},2.4234163026721474,{"$f":"AVERAGE('$ by Week'!C133:C136)","v":3.0550000000000002},2.4017962058924289,194.6,127.19647039599107,null,null,3.0824999999999996,2.4234163026721474,3.0550000000000002,2.4017962058924289,194.6,127.19647039599107]
["2006-08-01",{"$f":"AVERAGE('$ by Week'!B137:B141)","v":3.0620000000000003},2.4011301042200586,{"$f":"AVERAGE('$ by Week'!C137:C141)","v":3.0940000000000003},2.4262235605672307,195.1,127.52328558200337,null,null,3.0620000000000003,2.4011301042200586,3.0940000000000003,2.4262235605672307,195.1,127.52328558200337]
["2006-09-01",{"$f":"AVERAGE('$ by Week'!B142:B145)","v":2.56},2.0219858888315265,{"$f":"AVERAGE('$ by Week'!C142:C145)","v":2.625},2.0733253742901399,193.7,126.60820306116889,null,null,2.56,2.0219858888315265,2.625,2.0733253742901399,193.7,126.60820306116889]
["2006-10-01",{"$f":"AVERAGE('$ by Week'!B146:B149)","v":2.2675000000000001},1.8039969015427284,{"$f":"AVERAGE('$ by Week'!C146:C149)","v":2.3400000000000003},1.8616770670826837,192.3,125.69312054033443,null,null,2.2675000000000001,1.8039969015427284,2.3400000000000003,1.8616770670826837,192.3,125.69312054033443]
["2006-11-01",{"$f":"AVERAGE('$ by Week'!B150:B154)","v":2.306},1.8298692081604426,{"$f":"AVERAGE('$ by Week'!C150:C154)","v":2.3579999999999997},1.8711325207468876,192.8,126.01993572634676,null,null,2.306,1.8298692081604426,2.3579999999999997,1.8711325207468876,192.8,126.01993572634676]
["2006-12-01",{"$f":"AVERAGE('$ by Week'!B155:B158)","v":2.3499999999999996},1.8638176084326936,{"$f":"AVERAGE('$ by Week'!C155:C158)","v":2.41},1.9114044409884223,192.9,126.08529876354922,null,null,2.3499999999999996,1.8638176084326936,2.41,1.9114044409884223,192.9,126.08529876354922]
["2007-01-01",{"$f":"AVERAGE('$ by Week'!B159:B162)","v":2.2050000000000001},1.7470047902641122,{"$f":"AVERAGE('$ by Week'!C159:C162)","v":2.2599999999999998},1.7905808734679785,193.1,126.21602483795414,null,null,2.2050000000000001,1.7470047902641122,2.2599999999999998,1.7905808734679785,193.1,126.21602483795414]
["2007-02-01",{"$f":"AVERAGE('$ by Week'!B163:B166)","v":2.27},1.7855582690659813,{"$f":"AVERAGE('$ by Week'!C163:C166)","v":2.2850000000000001},1.7973571122536418,194.5,{"$f":"(F39/$H$2)*100","v":127.13110735878861},null,null,2.27,1.7855582690659813,2.2850000000000001,1.7973571122536418,194.5,127.13110735878861]
["2007-03-01",{"$f":"AVERAGE('$ by Week'!B167:B171)","v":2.5422000000000002},1.9803228869653773,{"$f":"AVERAGE('$ by Week'!C167:C171)","v":2.6053999999999999},2.0295544212491516,196.4,128.37300506563537,null,null,2.5422000000000002,1.9803228869653773,2.6053999999999999,2.0295544212491516,196.4,128.37300506563537]
["2007-04-01",{"$f":"AVERAGE('$ by Week'!B172:B175)","v":2.8150000000000004},2.1817200692333674,{"$f":"AVERAGE('$ by Week'!C172:C175)","v":2.8325},2.1952831602499159,197.4,129.02663543765999,null,null,2.8150000000000004,2.1817200692333674,2.8325,2.1952831602499159,197.4,129.02663543765999]
["2007-05-01",{"$f":"AVERAGE('$ by Week'!B176:B180)","v":3.286},2.523748075635877,{"$f":"AVERAGE('$ by Week'!C176:C180)","v":3.2640000000000002},2.5068514056224904,199.2,130.20317010730432,null,null,3.286,2.523748075635877,3.2640000000000002,2.5068514056224904,199.2,130.20317010730432]
["2007-06-01",{"$f":"AVERAGE('$ by Week'!B181:B184)","v":3.14},2.4104055862184315,{"$f":"AVERAGE('$ by Week'!C181:C184)","v":3.165},2.4295967134972405,199.3,130.26853314450679,null,null,3.14,2.4104055862184315,3.165,2.4295967134972405,199.3,130.26853314450679]
["2007-07-01",{"$f":"AVERAGE('$ by Week'!B185:B188)","v":3.1475},2.4198053810720266,{"$f":"AVERAGE('$ by Week'!C185:C188)","v":3.1799999999999997},2.4447914572864318,199,130.0724440328994,null,null,3.1475,2.4198053810720266,3.1799999999999997,2.4447914572864318,199,130.0724440328994]
["2007-08-01",{"$f":"AVERAGE('$ by Week'!B189:B193)","v":2.944},2.2679127223900641,{"$f":"AVERAGE('$ by Week'!C189:C193)","v":3.044},2.3449478012755964,198.6,129.81099188408953,null,null,2.944,2.2679127223900641,3.044,2.3449478012755964,198.6,129.81099188408953]
["2007-09-01",{"$f":"AVERAGE('$ by Week'!B194:B197)","v":3.0225},2.3155599023535309,{"$f":"AVERAGE('$ by Week'!C194:C197)","v":3.12},2.3902553830746123,199.7,130.5299852933166,null,null,3.0225,2.3155599023535309,3.12,2.3902553830746123,199.7,130.5299852933166]
["2007-10-01",{"$f":"AVERAGE('$ by Week'!B198:B201)","v":2.86},{"$f":"(B47/G47)*100","v":2.1932639933166254},{"$f":"AVERAGE('$ by Week'!C198:C201)","v":2.95},2.2622827903091065,199.5,130.39925921891168,null,null,2.86,2.1932639933166254,2.95,2.2622827903091065,199.5,130.39925921891168]
["2007-11-01",{"$f":"AVERAGE('$ by Week'!B202:B206)","v":3.1100000000000003},2.3695422476759633,{"$f":"AVERAGE('$ by Week'!C202:C206)","v":3.1719999999999997},2.4167807104913677,200.8,131.2489787025437,null,null,3.1100000000000003,2.3695422476759633,3.1719999999999997,2.4167807104913677,200.8,131.2489787025437]
["2007-12-01",{"$f":"AVERAGE('$ by Week'!B207:B210)","v":2.9875000000000003},2.2830299908424911,{"$f":"AVERAGE('$ by Week'!C207:C210)","v":3.0750000000000002},2.3498969780219783,200.2,130.85680047932894,null,null,2.9875000000000003,2.2830299908424911,3.0750000000000002,2.3498969780219783,200.2,130.85680047932894]
["2008-01-01",{"$f":"AVERAGE('$ by Week'!B211:B215)","v":3.0580000000000003},2.3229817113538567,{"$f":"AVERAGE('$ by Week'!C211:C215)","v":3.1380000000000003},{"$f":"(D50/G50)*100","v":2.3837529791459788},201.4,131.64115692575848,null,null,3.0580000000000003,2.3229817113538567,3.1380000000000003,2.3837529791459788,201.4,131.64115692575848]
["2008-02-01",{"$f":"AVERAGE('$ by Week'!B216:B219)","v":3.1055000000000001},2.3532224905068517,{"$f":"AVERAGE('$ by Week'!C216:C219)","v":3.1252500000000003},2.3681882429420509,201.9,131.96797211177079,null,null,3.1055000000000001,2.3532224905068517,3.1252500000000003,2.3681882429420509,201.9,131.96797211177079]
["2008-03-01",{"$f":"AVERAGE('$ by Week'!B220:B223)","v":3.2342500000000003},2.4291276284568819,{"$f":"AVERAGE('$ by Week'!C220:C223)","v":3.246},2.4379526264113895,203.7,133.14450678141509,null,null,3.2342500000000003,2.4291276284568819,3.246,2.4379526264113895,203.7,133.14450678141509]
["2008-04-01",{"$f":"AVERAGE('$ by Week'!B224:B227)","v":3.4619999999999997},{"$f":"(B53/G53)*100","v":2.5786618792599802},{"$f":"AVERAGE('$ by Week'!C224:C227)","v":3.4787500000000002},2.5911380740830903,205.4,134.25567841385697,null,null,3.4619999999999997,2.5786618792599802,3.4787500000000002,2.5911380740830903,205.4,134.25567841385697]
["2008-05-01",{"$f":"AVERAGE('$ by Week'!B228:B232)","v":3.8164000000000002},2.8179411036036042,{"$f":"AVERAGE('$ by Week'!C228:C232)","v":3.7982},2.8045026463963967,207.2,135.43221308350127,null,null,3.8164000000000002,2.8179411036036042,3.7982,2.8045026463963967,207.2,135.43221308350127]
["2008-06-01",{"$f":"AVERAGE('$ by Week'!B233:B236)","v":3.9949999999999997},2.924410087719298,{"$f":"AVERAGE('$ by Week'!C233:C236)","v":3.99},2.92075,209,136.60874775314559,null,null,3.9949999999999997,2.924410087719298,3.99,2.92075,209,136.60874775314559]
["2008-07-01",{"$f":"AVERAGE('$ by Week'!B237:B241)","v":4.0119999999999996},2.9214781849912739,{"$f":"AVERAGE('$ by Week'!C237:C241)","v":4.01},2.920021815008726,210.1,137.32774116237266,null,null,4.0119999999999996,2.9214781849912739,4.01,2.920021815008726,210.1,137.32774116237266]
["2008-08-01",{"$f":"AVERAGE('$ by Week'!B242:B245)","v":3.7969999999999997},2.7741612145813437,{"$f":"AVERAGE('$ by Week'!C242:C245)","v":3.8075000000000001},2.7818327164915635,209.4,136.87019990195543,null,null,3.7969999999999997,2.7741612145813437,3.8075000000000001,2.7818327164915635,209.4,136.87019990195543]
["2008-09-01",{"$f":"AVERAGE('$ by Week'!B246:B250)","v":3.7716000000000003},2.7569200668896321,{"$f":"AVERAGE('$ by Week'!C246:C250)","v":3.7662},2.7529728380315333,209.3,136.80483686475299,null,null,3.7716000000000003,2.7569200668896321,3.7662,2.7529728380315333,209.3,136.80483686475299]
["2008-10-01",{"$f":"AVERAGE('$ by Week'!B251:B254)","v":2.8839999999999999},2.1416857992062219,{"$f":"AVERAGE('$ by Week'!C251:C254)","v":2.9375},2.1814154074785983,206.01900000000001,134.6602756141402,null,null,2.8839999999999999,2.1416857992062219,2.9375,2.1814154074785983,206.01900000000001,134.6602756141402]
["2008-11-01",{"$f":"AVERAGE('$ by Week'!B255:B258)","v":2.0332499999999998},1.5422424702528506,{"$f":"AVERAGE('$ by Week'!C255:C258)","v":2.0794999999999999},1.5773236035366054,201.7,131.83724603736587,null,null,2.0332499999999998,1.5422424702528506,2.0794999999999999,1.5773236035366054,201.7,131.83724603736587]
["2008-12-01",{"$f":"AVERAGE('$ by Week'!B259:B262)","v":1.7192499999999999},1.31790904448631,{"$f":"AVERAGE('$ by Week'!C259:C262)","v":1.8290000000000002},1.4020390532880389,199.58199999999999,130.4528569094177,null,null,1.7192499999999999,1.31790904448631,1.8290000000000002,1.4020390532880389,199.58199999999999,130.4528569094177]
["2009-01-01",{"$f":"AVERAGE('$ by Week'!B263:B267)","v":1.8780000000000001},1.4308682768924306,{"$f":"AVERAGE('$ by Week'!C263:C267)","v":1.92},1.4628685258964145,200.8,131.2489787025437,null,null,1.8780000000000001,1.4308682768924306,1.92,1.4628685258964145,200.8,131.2489787025437]
["2009-02-01",{"$f":"AVERAGE('$ by Week'!B268:B271)","v":1.9524999999999999},{"$f":"(B63/G63)*100","v":1.4824626757650949},{"$f":"AVERAGE('$ by Week'!C268:C271)","v":1.9924999999999999},{"$f":"(D63/G63)*100","v":1.5128332299421008},201.5,{"$f":"(F63/$H$2)*100","v":131.70651996296095},null,null,1.9524999999999999,1.4824626757650949,1.9924999999999999,1.5128332299421008,201.5,131.70651996296095]
["2009-03-01",{"$f":"AVERAGE('$ by Week'!B272:B276)","v":2.0380000000000003},1.5435495874587464,{"$f":"AVERAGE('$ by Week'!C272:C276)","v":2.056},1.5571825082508253,202,132.03333514897324,null,null,2.0380000000000003,1.5435495874587464,2.056,1.5571825082508253,202,132.03333514897324]
["2009-04-01",{"$f":"AVERAGE('$ by Week'!B277:B280)","v":2.085},1.5768048690064262,{"$f":"AVERAGE('$ by Week'!C277:C280)","v":2.12},1.6032740154885488,202.3,132.22942426058063,null,null,2.085,1.5768048690064262,2.12,1.6032740154885488,202.3,132.22942426058063]
["2009-05-01",{"$f":"AVERAGE('$ by Week'!B281:B284)","v":2.3525},1.7712248810695541,{"$f":"AVERAGE('$ by Week'!C281:C284)","v":2.335},1.7580489255249347,203.2,132.81769159540278,null,null,2.3525,1.7712248810695541,2.335,1.7580489255249347,203.2,132.81769159540278]
["2009-06-01",{"$f":"AVERAGE('$ by Week'!B285:B288)","v":2.7549999999999999},2.0520547306069457,{"$f":"AVERAGE('$ by Week'!C285:C288)","v":2.7349999999999999},2.0371577815644271,205.4,134.25567841385697,null,null,2.7549999999999999,2.0520547306069457,2.7349999999999999,2.0371577815644271,205.4,134.25567841385697]
["2009-07-01",{"$f":"AVERAGE('$ by Week'!B289:B293)","v":2.504},1.8705621744791667,{"$f":"AVERAGE('$ by Week'!C289:C293)","v":2.556},1.9094077148437503,204.8,133.86350019064218,null,null,2.504,1.8705621744791667,2.556,1.9094077148437503,204.8,133.86350019064218]
["2009-08-01",{"$f":"AVERAGE('$ by Week'!B294:B298)","v":2.62},1.9496019779507139,{"$f":"AVERAGE('$ by Week'!C294:C298)","v":2.6439999999999997},1.967460927367056,205.6,134.38640448826186,null,null,2.62,1.9496019779507139,2.6439999999999997,1.967460927367056,205.6,134.38640448826186]
["2009-09-01",{"$f":"AVERAGE('$ by Week'!B299:B302)","v":2.5049999999999999},1.8640278453307395,{"$f":"AVERAGE('$ by Week'!C299:C302)","v":2.5774999999999997},1.9179767550259403,205.6,134.38640448826186,null,null,2.5049999999999999,1.8640278453307395,2.5774999999999997,1.9179767550259403,205.6,134.38640448826186]
["2009-10-01",{"$f":"AVERAGE('$ by Week'!B303:B306)","v":2.5575000000000001},1.9021691176470592,{"$f":"AVERAGE('$ by Week'!C303:C306)","v":2.5975000000000001},1.9319195632798578,205.7,134.45176752546433,null,null,2.5575000000000001,1.9021691176470592,2.5975000000000001,1.9319195632798578,205.7,134.45176752546433]
["2009-11-01",{"$f":"AVERAGE('$ by Week'!B307:B310)","v":2.61},1.9365094568380214,{"$f":"AVERAGE('$ by Week'!C307:C310)","v":2.7550000000000003},2.0440933155512453,206.2,134.77858271147664,null,null,2.61,1.9365094568380214,2.7550000000000003,2.0440933155512453,206.2,134.77858271147664]
["2009-12-01",{"$f":"AVERAGE('$ by Week'!B311:B315)","v":2.6},{"$f":"(B73/G73)*100","v":1.9347195201037619},{"$f":"AVERAGE('$ by Week'!C311:C315)","v":2.6680000000000001},{"$f":"(D73/G73)*100","v":1.9853198767833986},205.6,134.38640448826186,null,null,2.6,1.9347195201037619,2.6680000000000001,1.9853198767833986,205.6,134.38640448826186]
["2010-01-01",{"$f":"AVERAGE('$ by Week'!B316:B319)","v":2.7224999999999997},2.0160687923523715,{"$f":"AVERAGE('$ by Week'!C316:C319)","v":2.7749999999999999},2.0549461519845109,206.6,135.04003486028651,null,null,2.7224999999999997,2.0160687923523715,2.7749999999999999,2.0549461519845109,206.6,135.04003486028651]
["2010-02-01",{"$f":"AVERAGE('$ by Week'!B320:B323)","v":2.6124999999999998},1.9346114674088415,{"$f":"AVERAGE('$ by Week'!C320:C323)","v":2.6875},1.990150552597612,206.6,135.04003486028651,null,null,2.6124999999999998,1.9346114674088415,2.6875,1.990150552597612,206.6,135.04003486028651]
["2010-03-01",{"$f":"AVERAGE('$ by Week'!B324:B328)","v":2.7980000000000005},2.0639859369977498,{"$f":"AVERAGE('$ by Week'!C324:C328)","v":2.8560000000000003},2.106770491803279,207.4,135.56293915790621,null,null,2.7980000000000005,2.0639859369977498,2.8560000000000003,2.106770491803279,207.4,135.56293915790621]
["2010-04-01",{"$f":"AVERAGE('$ by Week'!B329:B332)","v":2.9050000000000002},2.1398208554004179,{"$f":"AVERAGE('$ by Week'!C329:C332)","v":2.9325000000000001},2.1600773350987001,207.7,135.75902826951358,null,null,2.9050000000000002,2.1398208554004179,2.9325000000000001,2.1600773350987001,207.7,135.75902826951358]
["2010-05-01",{"$f":"AVERAGE('$ by Week'!B333:B337)","v":2.8039999999999998},2.0624453525641027,{"$f":"AVERAGE('$ by Week'!C333:C337)","v":2.8660000000000001},2.108048637820513,208,135.95511738112097,null,null,2.8039999999999998,2.0624453525641027,2.8660000000000001,2.108048637820513,208,135.95511738112097]
["2010-06-01",{"$f":"AVERAGE('$ by Week'!B338:B341)","v":2.7024999999999997},1.9887444885361552,{"$f":"AVERAGE('$ by Week'!C338:C341)","v":2.7900000000000005},2.0531349206349212,207.9,135.8897543439185,null,null,2.7024999999999997,1.9887444885361552,2.7900000000000005,2.0531349206349212,207.9,135.8897543439185]
["2010-07-01",{"$f":"AVERAGE('$ by Week'!B342:B345)","v":2.7275},2.0042496197566444,{"$f":"AVERAGE('$ by Week'!C342:C345)","v":2.8025000000000002},2.0593618916106311,208.2,136.08584345552589,null,null,2.7275,2.0042496197566444,2.8025000000000002,2.0593618916106311,208.2,136.08584345552589]
["2010-08-01",{"$f":"AVERAGE('$ by Week'!B346:B350)","v":2.7060000000000004},1.9846378235858109,{"$f":"AVERAGE('$ by Week'!C346:C350)","v":2.7679999999999998},2.0301099392777249,208.6,136.34729560433573,null,null,2.7060000000000004,1.9846378235858109,2.7679999999999998,2.0301099392777249,208.6,136.34729560433573]
["2010-09-01",{"$f":"AVERAGE('$ by Week'!B351:B354)","v":2.74},2.0076492656449556,{"$f":"AVERAGE('$ by Week'!C351:C354)","v":2.8374999999999999},2.0790893398786716,208.8,136.47802167874067,null,null,2.74,2.0076492656449556,2.8374999999999999,2.0790893398786716,208.8,136.47802167874067]
["2010-10-01",{"$f":"AVERAGE('$ by Week'!B351:B354)","v":2.74},2.0086112442101904,{"$f":"AVERAGE('$ by Week'!C351:C354)","v":2.8374999999999999},2.0800855494329982,208.7,136.4126586415382,null,null,2.74,2.0086112442101904,2.8374999999999999,2.0800855494329982,208.7,136.4126586415382]
["2010-11-01",{"$f":"AVERAGE('$ by Week'!B359:B363)","v":2.8899999999999997},2.1175570721583648,{"$f":"AVERAGE('$ by Week'!C359:C363)","v":2.968},2.1747091315453386,208.8,136.47802167874067,null,null,2.8899999999999997,2.1175570721583648,2.968,2.1747091315453386,208.8,136.47802167874067]
["2010-12-01",{"$f":"AVERAGE('$ by Week'!B364:B367)","v":3},2.1929049211657907,{"$f":"AVERAGE('$ by Week'!C364:C367)","v":3.0549999999999997},2.23310817805383,209.3,136.80483686475299,null,null,3,2.1929049211657907,3.0549999999999997,2.23310817805383,209.3,136.80483686475299]
["2011-01-01",{"$f":"AVERAGE('$ by Week'!B368:B372)","v":3.1219999999999999},2.2701520120405578,{"$f":"AVERAGE('$ by Week'!C368:C372)","v":3.214},2.3370495088719903,210.4,137.52383027398005,null,null,3.1219999999999999,2.2701520120405578,3.214,2.3370495088719903,210.4,137.52383027398005]
["2011-02-01",{"$f":"AVERAGE('$ by Week'!B373:B376)","v":3.25},2.3553904152850151,{"$f":"AVERAGE('$ by Week'!C373:C376)","v":3.3174999999999999},2.404310062371704,211.1,137.98137153439728,null,null,3.25,2.3553904152850151,3.3174999999999999,2.404310062371704,211.1,137.98137153439728]
["2011-03-01",{"$f":"AVERAGE('$ by Week'!B377:B380)","v":3.5599999999999996},2.557043818466354,{"$f":"AVERAGE('$ by Week'!C377:C380)","v":3.63},2.6073227699530523,213,139.22326924124405,null,null,3.5599999999999996,2.557043818466354,3.63,2.6073227699530523,213,139.22326924124405]
["2011-04-01",{"$f":"AVERAGE('$ by Week'!B381:B384)","v":3.8850000000000002},2.7709679487179493,{"$f":"AVERAGE('$ by Week'!C381:C384)","v":3.9074999999999998},2.7870160256410257,214.5,140.20371479928099,null,null,3.8850000000000002,2.7709679487179493,3.9074999999999998,2.7870160256410257,214.5,140.20371479928099]
["2011-05-01",{"$f":"AVERAGE('$ by Week'!B385:B389)","v":4.0019999999999998},2.8359085224641034,{"$f":"AVERAGE('$ by Week'!C385:C389)","v":3.9740000000000002},2.816067083526324,215.9,141.11879732011548,null,null,4.0019999999999998,2.8359085224641034,3.9740000000000002,2.816067083526324,215.9,141.11879732011548]
["2011-06-01",{"$f":"AVERAGE('$ by Week'!B390:B393)","v":3.7},2.6206905864197534,{"$f":"AVERAGE('$ by Week'!C390:C393)","v":3.7475000000000001},2.6543345871913582,216,141.18416035731792,null,null,3.7,2.6206905864197534,3.7475000000000001,2.6543345871913582,216,141.18416035731792]
["2011-07-01",{"$f":"AVERAGE('$ by Week'!B394:B397)","v":3.7050000000000001},2.6230177001388246,{"$f":"AVERAGE('$ by Week'!C394:C397)","v":3.7824999999999998},2.6778851419096097,216.1,141.24952339452039,null,null,3.7050000000000001,2.6230177001388246,3.7824999999999998,2.6778851419096097,216.1,141.24952339452039]
["2011-08-01",{"$f":"AVERAGE('$ by Week'!B398:B402)","v":3.6799999999999997},2.5993044013542632,{"$f":"AVERAGE('$ by Week'!C398:C402)","v":3.782},2.6713503385657131,216.6,141.57633858053268,null,null,3.6799999999999997,2.5993044013542632,3.782,2.6713503385657131,216.6,141.57633858053268]
["2011-09-01",{"$f":"AVERAGE('$ by Week'!B403:B406)","v":3.5949999999999998},2.5345854454685099,{"$f":"AVERAGE('$ by Week'!C403:C406)","v":3.6950000000000003},2.6050885176651311,217,141.83779072934254,null,null,3.5949999999999998,2.5345854454685099,3.6950000000000003,2.6050885176651311,217,141.83779072934254]
["2011-10-01",{"$f":"AVERAGE('$ by Week'!B407:B411)","v":3.3899999999999997},2.4044587389893368,{"$f":"AVERAGE('$ by Week'!C407:C411)","v":3.55},2.5179435172307221,215.7,140.98807124571053,null,null,3.3899999999999997,2.4044587389893368,3.55,2.5179435172307221,215.7,140.98807124571053]
["2011-11-01",{"$f":"AVERAGE('$ by Week'!B412:B415)","v":3.3125},2.3505792942176873,{"$f":"AVERAGE('$ by Week'!C412:C415)","v":3.4249999999999998},2.4304102891156463,215.6,140.92270820850808,null,null,3.3125,2.3505792942176873,3.4249999999999998,2.4304102891156463,215.6,140.92270820850808]
["2011-12-01",{"$f":"AVERAGE('$ by Week'!B416:B419)","v":3.2374999999999998},2.3016288142812886,{"$f":"AVERAGE('$ by Week'!C416:C419)","v":3.3424999999999998},2.376276235285006,215.2,140.66125605969825,null,null,3.2374999999999998,2.3016288142812886,3.3424999999999998,2.376276235285006,215.2,140.66125605969825]
["2012-01-01",{"$f":"AVERAGE('$ by Week'!B420:B424)","v":3.3520000000000003},2.3698154651879246,{"$f":"AVERAGE('$ by Week'!C420:C424)","v":3.4060000000000001},2.4079926833025267,216.4,141.44561250612776,null,null,3.3520000000000003,2.3698154651879246,3.4060000000000001,2.4079926833025267,216.4,141.44561250612776]
["2012-02-01",{"$f":"AVERAGE('$ by Week'!B425:B428)","v":3.4850000000000003},2.4581648609190108,{"$f":"AVERAGE('$ by Week'!C425:C428)","v":3.5549999999999997},2.5075397648686026,216.9,141.7724276921401,null,null,3.4850000000000003,2.4581648609190108,3.5549999999999997,2.5075397648686026,216.9,141.7724276921401]
["2012-03-01",{"$f":"AVERAGE('$ by Week'!B429:B432)","v":3.895},2.7210161719939121,{"$f":"AVERAGE('$ by Week'!C429:C432)","v":3.8424999999999994},2.6843400875190255,219,143.14505147339179,null,null,3.895,2.7210161719939121,3.8424999999999994,2.6843400875190255,219,143.14505147339179]
["2012-04-01",{"$f":"AVERAGE('$ by Week'!B433:B437)","v":3.8739999999999997},2.701411652993011,{"$f":"AVERAGE('$ by Week'!C433:C437)","v":3.8600000000000003},2.6916491947736252,219.4,143.40650362220165,null,null,3.8739999999999997,2.701411652993011,3.8600000000000003,2.6916491947736252,219.4,143.40650362220165]
["2012-05-01",{"$f":"AVERAGE('$ by Week'!B438:B441)","v":3.7124999999999999},2.5923393998174356,{"$f":"AVERAGE('$ by Week'!C438:C441)","v":3.7250000000000001},2.6010678153050364,219.1,143.21041451059423,null,null,3.7124999999999999,2.5923393998174356,3.7250000000000001,2.6010678153050364,219.1,143.21041451059423]
["2012-06-01",{"$f":"AVERAGE('$ by Week'!B442:B445)","v":3.5575000000000001},2.4852413432267886,{"$f":"AVERAGE('$ by Week'!C442:C445)","v":3.6350000000000002},2.5393822298325723,219,143.14505147339179,null,null,3.5575000000000001,2.4852413432267886,3.6350000000000002,2.5393822298325723,219,143.14505147339179]
["2012-07-01",{"$f":"AVERAGE('$ by Week'!B446:B450)","v":3.504},2.4478666666666671,{"$f":"AVERAGE('$ by Week'!C446:C450)","v":3.6060000000000003},2.519123059360731,219,143.14505147339179,null,null,3.504,2.4478666666666671,3.6060000000000003,2.519123059360731,219,143.14505147339179]
["2012-08-01",{"$f":"AVERAGE('$ by Week'!B451:B454)","v":3.9000000000000004},2.705975056689343,{"$f":"AVERAGE('$ by Week'!C451:C454)","v":3.8899999999999997},2.6990366591080877,220.5,144.12549703142872,null,null,3.9000000000000004,2.705975056689343,3.8899999999999997,2.6990366591080877,220.5,144.12549703142872]
["2012-09-01",{"$f":"AVERAGE('$ by Week'!B455:B459)","v":3.9039999999999999},2.7013996683250414,{"$f":"AVERAGE('$ by Week'!C455:C459)","v":3.9540000000000006},2.7359975124378115,221.1,144.51767525464351,null,null,3.9039999999999999,2.7013996683250414,3.9540000000000006,2.7359975124378115,221.1,144.51767525464351]
["2012-10-01",{"$f":"AVERAGE('$ by Week'!B460:B463)","v":3.5975000000000001},2.4972210564125836,{"$f":"AVERAGE('$ by Week'!C460:C463)","v":3.6675},2.5458118761343016,220.4,144.06013399422625,null,null,3.5975000000000001,2.4972210564125836,3.6675,2.5458118761343016,220.4,144.06013399422625]
["2012-11-01",{"$f":"AVERAGE('$ by Week'!B464:B467)","v":3.4125000000000001},2.3785150911161734,{"$f":"AVERAGE('$ by Week'!C464:C467)","v":3.4274999999999998},2.3889701025056951,219.5,143.4718666594041,null,null,3.4125000000000001,2.3785150911161734,3.4274999999999998,2.3889701025056951,219.5,143.4718666594041]
["2012-12-01",{"$f":"AVERAGE('$ by Week'!B468:B472)","v":3.2560000000000002},2.2746158295281584,{"$f":"AVERAGE('$ by Week'!C468:C472)","v":3.2840000000000003},2.2941764079147644,219,143.14505147339179,null,null,3.2560000000000002,2.2746158295281584,3.2840000000000003,2.2941764079147644,219,143.14505147339179]
["2013-01-01",{"$f":"AVERAGE('$ by Week'!B473:B476)","v":3.2575000000000003},2.2725506345949236,{"$f":"AVERAGE('$ by Week'!C473:C476)","v":3.2675000000000001},2.2795269987840099,219.3,143.34114058499918,null,null,3.2575000000000003,2.2725506345949236,3.2675000000000001,2.2795269987840099,219.3,143.34114058499918]
["2013-02-01",{"$f":"AVERAGE('$ by Week'!B477:B480)","v":3.6824999999999997},2.5423818253610109,{"$f":"AVERAGE('$ by Week'!C477:C480)","v":3.7324999999999999},2.5769016057460892,221.6,144.84449044065579,null,null,3.6824999999999997,2.5423818253610109,3.7324999999999999,2.5769016057460892,221.6,144.84449044065579]
["2013-03-01",{"$f":"AVERAGE('$ by Week'!B481:B484)","v":3.69},2.5418246285457005,{"$f":"AVERAGE('$ by Week'!C481:C484)","v":3.7349999999999999},2.5728224898694285,222.1,145.1713056266681,null,null,3.69,2.5418246285457005,3.7349999999999999,2.5728224898694285,222.1,145.1713056266681]
["2013-04-01",{"$f":"AVERAGE('$ by Week'!B485:B489)","v":3.6259999999999999},2.4999900105152473,{"$f":"AVERAGE('$ by Week'!C485:C489)","v":3.5979999999999999},2.4806850683491066,221.9,145.04057955226318,null,null,3.6259999999999999,2.4999900105152473,3.5979999999999999,2.4806850683491066,221.9,145.04057955226318]
["2013-05-01",{"$f":"AVERAGE('$ by Week'!B490:B493)","v":3.8725000000000001},2.6555814843866732,{"$f":"AVERAGE('$ by Week'!C490:C493)","v":3.9849999999999999},2.7327287838039744,223.1,145.82493599869272,null,null,3.8725000000000001,2.6555814843866732,3.9849999999999999,2.7327287838039744,223.1,145.82493599869272]
["2013-06-01",{"$f":"AVERAGE('$ by Week'!B494:B497)","v":3.6275000000000004},2.479791201221329,{"$f":"AVERAGE('$ by Week'!C494:C497)","v":3.6625000000000001},2.5037175119154012,223.8,146.28247725910995,null,null,3.6275000000000004,2.479791201221329,3.6625000000000001,2.5037175119154012,223.8,146.28247725910995]
["2013-07-01",{"$f":"AVERAGE('$ by Week'!B498:B502)","v":3.5880000000000001},2.4626922386720507,{"$f":"AVERAGE('$ by Week'!C498:C502)","v":3.6719999999999997},2.5203472409152083,222.9,145.6942099242878,null,null,3.5880000000000001,2.4626922386720507,3.6719999999999997,2.5203472409152083,222.9,145.6942099242878]
["2013-08-01",{"$f":"AVERAGE('$ by Week'!B503:B506)","v":3.5825},2.4578145553064275,{"$f":"AVERAGE('$ by Week'!C503:C506)","v":3.6225000000000001},2.4852570067264574,223,145.75957296149028,null,null,3.5825,2.4578145553064275,3.6225000000000001,2.4852570067264574,223,145.75957296149028]
["2013-09-01",{"$f":"AVERAGE('$ by Week'!B507:B511)","v":3.5259999999999998},2.4158021346469618,{"$f":"AVERAGE('$ by Week'!C507:C511)","v":3.6100000000000003},2.4733538587848933,223.3,145.95566207309767,null,null,3.5259999999999998,2.4158021346469618,3.6100000000000003,2.4733538587848933,223.3,145.95566207309767]
["2013-10-01",{"$f":"AVERAGE('$ by Week'!B512:B515)","v":3.32},2.2859240924092408,{"$f":"AVERAGE('$ by Week'!C512:C515)","v":3.3975},2.3392852722772277,222.2,145.23666866387057,null,null,3.32,2.2859240924092408,3.3975,2.3392852722772277,222.2,145.23666866387057]
["2013-11-01",{"$f":"AVERAGE('$ by Week'!B516:B519)","v":3.1625000000000001},2.182391275748008,{"$f":"AVERAGE('$ by Week'!C516:C519)","v":3.1924999999999999},2.2030938016839574,221.7,144.90985347785826,null,null,3.1625000000000001,2.182391275748008,3.1924999999999999,2.2030938016839574,221.7,144.90985347785826]
["2013-12-01",{"$f":"AVERAGE('$ by Week'!B520:B524)","v":3.1280000000000001},2.1634626280892104,{"$f":"AVERAGE('$ by Week'!C520:C524)","v":3.1520000000000001},2.1800620855937316,221.2,144.58303829184595,null,null,3.1280000000000001,2.1634626280892104,3.1520000000000001,2.1800620855937316,221.2,144.58303829184595]
["2014-01-01",{"$f":"AVERAGE('$ by Week'!B525:B528)","v":3.2549999999999999},2.2411695544554457,{"$f":"AVERAGE('$ by Week'!C525:C528)","v":3.29},2.2652681518151816,222.2,145.23666866387057,null,null,3.2549999999999999,2.2411695544554457,3.29,2.2652681518151816,222.2,145.23666866387057]
["2014-02-01",{"$f":"AVERAGE('$ by Week'!B529:B532)","v":3.3525},2.2948750000000002,{"$f":"AVERAGE('$ by Week'!C529:C532)","v":3.3925000000000001},2.3222560589112602,223.5,146.08638814750259,null,null,3.3525,2.2948750000000002,3.3925000000000001,2.3222560589112602,223.5,146.08638814750259]
["2014-03-01",{"$f":"AVERAGE('$ by Week'!B533:B537)","v":3.6079999999999997},2.4478666666666662,{"$f":"AVERAGE('$ by Week'!C533:C537)","v":3.6219999999999999},2.4573650406504064,225.5,147.39364889155183,null,null,3.6079999999999997,2.4478666666666662,3.6219999999999999,2.4573650406504064,225.5,147.39364889155183]
["2014-04-01",{"$f":"AVERAGE('$ by Week'!B538:B541)","v":3.665},2.4788437592101387,{"$f":"AVERAGE('$ by Week'!C538:C541)","v":3.65},2.4686984232242857,226.2,147.85119015196904,null,null,3.665,2.4788437592101387,3.65,2.4686984232242857,226.2,147.85119015196904]
["2014-05-01",{"$f":"AVERAGE('$ by Week'!B542:B545)","v":3.61},2.4416441939286768,{"$f":"AVERAGE('$ by Week'!C542:C545)","v":3.62},2.4484077512525793,226.2,147.85119015196904,null,null,3.61,2.4416441939286768,3.62,2.4484077512525793,226.2,147.85119015196904]
["2014-06-01",{"$f":"AVERAGE('$ by Week'!B546:B549)","v":3.7225000000000001},2.5022472722612772,{"$f":"AVERAGE('$ by Week'!C546:C549)","v":3.6950000000000003},2.4837618995313417,227.6,148.76627267280352,null,null,3.7225000000000001,2.5022472722612772,3.6950000000000003,2.4837618995313417,227.6,148.76627267280352]
["2014-07-01",{"$f":"AVERAGE('$ by Week'!B550:B554)","v":3.6},2.4262995594713654,{"$f":"AVERAGE('$ by Week'!C550:C554)","v":3.6740000000000004},2.4761734948604994,227,148.37409444958877,null,null,3.6,2.4262995594713654,3.6740000000000004,2.4761734948604994,227,148.37409444958877]
["2014-08-01",{"$f":"AVERAGE('$ by Week'!B555:B558)","v":3.4624999999999999},2.3377477750809064,{"$f":"AVERAGE('$ by Week'!C555:C558)","v":3.5225},2.3782574838187704,226.6,148.1126423007789,null,null,3.4624999999999999,2.3377477750809064,3.5225,2.3782574838187704,226.6,148.1126423007789]
["2014-09-01",{"$f":"AVERAGE('$ by Week'!B559:B563)","v":3.4040000000000008},2.2952121345673575,{"$f":"AVERAGE('$ by Week'!C559:C563)","v":3.45},2.3262285147642134,226.9,148.30873141238629,null,null,3.4040000000000008,2.2952121345673575,3.45,2.3262285147642134,226.9,148.30873141238629]
["2014-10-01",{"$f":"AVERAGE('$ by Week'!B564:B567)","v":3.165},2.1444580380868024,{"$f":"AVERAGE('$ by Week'!C564:C567)","v":3.1950000000000003},2.1647846545615588,225.8,147.58973800315923,null,null,3.165,2.1444580380868024,3.1950000000000003,2.1647846545615588,225.8,147.58973800315923]
["2014-11-01",{"$f":"AVERAGE('$ by Week'!B568:B571)","v":2.915},1.9838554641162516,{"$f":"AVERAGE('$ by Week'!C568:C571)","v":2.9800000000000004},2.0280923784104394,224.8,146.93610763113458,null,null,2.915,1.9838554641162516,2.9800000000000004,2.0280923784104394,224.8,146.93610763113458]
["2014-12-01",{"$f":"AVERAGE('$ by Week'!B572:B576)","v":2.4579999999999997},1.6878524087372826,{"$f":"AVERAGE('$ by Week'!C572:C576)","v":2.556},1.7551467684021542,222.8,145.62884688708536,null,null,2.4579999999999997,1.6878524087372826,2.556,1.7551467684021542,222.8,145.62884688708536]
["2015-01-01",{"$f":"AVERAGE('$ by Week'!B577:B580)","v":1.9899999999999998},1.3745075244544769,{"$f":"AVERAGE('$ by Week'!C577:C580)","v":2.0699999999999998},1.4297641083521444,221.5,144.77912740345334,null,null,1.9899999999999998,1.3745075244544769,2.0699999999999998,1.4297641083521444,221.5,144.77912740345334]
["2015-02-01",{"$f":"AVERAGE('$ by Week'!B578:B581)","v":2.0125000000000002}]
["2015-03-01"]
["2015-04-01"]
["2015-05-01"]
["2015-06-01"]
["2015-07-01"]
["2015-08-01"]
["2015-09-01"]
["2015-10-01"]
["2015-11-01"]
["2015-12-01"]
["2016-01-01"]
["2016-02-01"]
["2016-03-01"]
["2016-04-01"]
["2016-05-01"]
["2016-06-01"]

{"sheet":"Month-Month","index":3,"n_rows":359,"n_cols":15,"rows_kept":359,"cut":false,"hidden":false,"merged":[]}
["EC Real","jan","feb","mar","apr","may","jun","jul","aug","sep","oct","nov","dec","ytd_avg","Column1"]
[2004,1.38,1.45,1.53,1.58,1.73,1.71,1.65,1.67,1.63,1.73,1.72,1.58,{"$f":"AVERAGE(B2:M2)","v":1.6133333333333333},{"$f":"AVERAGE(B2:M2)","v":1.6133333333333333}]
[2005,1.59,1.65,1.79,1.87,1.82,1.83,1.93,2.0499999999999998,2.2799999999999998,2.17,1.89,1.82,1.8908333333333338,1.8908333333333338]
[2006,1.89,1.9,1.98,2.21,2.33,2.33,2.4,2.4300000000000002,2.0699999999999998,1.86,1.87,1.91,2.0983333333333332,2.0983333333333332]
[2007,1.79,1.8,2.0299999999999998,2.2000000000000002,2.5099999999999998,2.4300000000000002,2.44,2.34,2.39,2.2599999999999998,2.42,2.35,2.2466666666666666,2.2466666666666666]
[2008,2.38,2.37,2.44,2.59,2.8,2.92,2.92,2.78,2.75,2.1814154074785983,1.58,1.4,2.4259512839565498,2.4259512839565498]
[2009,1.46,1.51,1.56,1.6,1.76,2.04,1.91,1.97,1.92,1.93,2.04,1.99,1.8074999999999999,1.8074999999999999]
[2010,2.0499999999999998,1.99,2.11,2.16,2.17,2.0499999999999998,2.06,2.0299999999999998,2.08,2.08,2.17,2.23,{"$f":"AVERAGE(B8:M8)","v":2.0983333333333336},2.0983333333333336]
[2011,2.34,2.4,2.61,2.79,2.82,2.65,2.68,2.67,2.61,2.52,2.4300000000000002,2.38,{"$f":"AVERAGE(B9:M9)","v":2.5749999999999997},2.5749999999999997]
[2012,2.41,2.5099999999999998,2.68,2.69,2.6,2.54,2.59,2.7,2.74,2.5499999999999998,2.39,2.29,{"$f":"AVERAGE(B10:M10)","v":2.5575000000000001},{"$f":"AVERAGE(B10:M10)","v":2.5575000000000001}]
[2013,2.2799999999999998,2.58,2.57,2.48,2.73,2.5,2.52,2.4900000000000002,2.4700000000000002,2.34,2.2000000000000002,2.1800000000000002,{"$f":"AVERAGE(B11:M11)","v":2.4449999999999998},{"$f":"AVERAGE(B11:M11)","v":2.4449999999999998}]
[2014,2.27,2.3199999999999998,2.46,2.4700000000000002,2.4500000000000002,2.48,2.48,2.38,2.33,2.16,2.0299999999999998,1.76,{"$f":"AVERAGE(B12:M12)","v":2.2991666666666668},{"$f":"AVERAGE(B12:M12)","v":2.2991666666666668}]
[2015,1.43,{"$nulls":11},{"$f":"AVERAGE(B13:B13)","v":1.43},{"$f":"AVERAGE(B13:M13)","v":1.43}]
["2005","jan-dec","feb-jan","mar-feb","apr-mar","may-apr","jun-may","jul-jun","aug-jul","sep-aug","oct-sep","nov-oct","dec-nov"]
["Absolute Change",{"$f":"B3-M2","v":1.0000000000000009E-2},{"$f":"C3-B3","v":5.9999999999999831E-2},0.14000000000000012,8.0000000000000071E-2,-5.0000000000000044E-2,1.0000000000000009E-2,9.9999999999999867E-2,0.11999999999999988,0.22999999999999998,-0.10999999999999988,-0.28000000000000003,-6.999999999999984E-2]
["% Change",{"$f":"(B15/M2)","v":6.329113924050638E-3},{"$f":"(C15/B3)","v":3.7735849056603668E-2},{"$f":"(D15/C3)","v":8.4848484848484923E-2},{"$f":"(E15/D3)","v":4.4692737430167634E-2},{"$f":"(F15/E3)","v":-2.6737967914438526E-2},5.4945054945054993E-3,5.4644808743169321E-2,6.2176165803108752E-2,0.11219512195121951,-4.8245614035087668E-2,-0.12903225806451615,-3.7037037037036952E-2]
["2004-2005","jan","feb","mar","apr","may","jun","jul","aug","sep","oct","nov","dec","ytd_avg"]
["Change year to year",{"$f":"B3-B2","v":0.21000000000000019},0.19999999999999996,0.26,0.29000000000000004,9.000000000000008E-2,0.12000000000000011,0.28000000000000003,0.37999999999999989,0.64999999999999991,0.43999999999999995,0.16999999999999993,0.24,{"$f":"O3-O2","v":0.27750000000000052}]
["% Change year to year",{"$f":"(B18/B2)","v":0.15217391304347841},{"$f":"(C18/C2)","v":0.13793103448275859},{"$f":"(D18/D2)","v":0.16993464052287582},0.18354430379746836,5.202312138728328E-2,7.0175438596491294E-2,0.16969696969696973,0.22754491017964065,0.3987730061349693,0.25433526011560692,9.8837209302325535E-2,0.15189873417721517,{"$f":"(N18/O2)","v":0.17200413223140529}]
[]
["2005","jan-dec","feb-jan","mar-feb","apr-mar","may-apr","jun-may","jul-jun","aug-jul","sep-aug","oct-sep","nov-oct","dec-nov"]
["Absolute Change",{"$f":"B4-M3","v":6.999999999999984E-2},{"$f":"C4-B4","v":1.0000000000000009E-2},8.0000000000000071E-2,0.22999999999999998,0.12000000000000011,0,6.999999999999984E-2,3.0000000000000249E-2,-0.36000000000000032,-0.20999999999999974,1.0000000000000009E-2,3.9999999999999813E-2]
["% Change",{"$f":"(B22/M3)*100","v":3.8461538461538374},{"$f":"(C22/B4)*100","v":0.52910052910052963},4.2105263157894779,11.616161616161616,5.4298642533936698,0,3.0042918454935554,1.2500000000000104,-14.814814814814827,-10.144927536231872,0.53763440860215106,2.1390374331550701]
["2004-2005","jan","feb","mar","apr","may","jun","jul","aug","sep","oct","nov","dec","ytd_avg"]
["Change year to year",{"$f":"B4-B3","v":0.29999999999999982},0.25,0.18999999999999995,0.33999999999999986,0.51,0.5,0.47,0.38000000000000034,-0.20999999999999996,-0.30999999999999983,-1.9999999999999796E-2,8.9999999999999858E-2,{"$f":"O4-O3","v":0.20749999999999935}]
["% Change year to year",{"$f":"(B25/B3)*100","v":18.867924528301874},15.151515151515152,10.614525139664801,18.181818181818173,28.021978021978022,27.322404371584696,24.352331606217618,18.536585365853679,-9.2105263157894726,-14.285714285714279,-1.0582010582010475,4.9450549450549373,{"$f":"(N25/O3)*100","v":10.973997355663251}]
[]
["2005","jan-dec","feb-jan","mar-feb","apr-mar","may-apr","jun-may","jul-jun","aug-jul","sep-aug","oct-sep","nov-oct","dec-nov"]
["Absolute Change",{"$f":"B5-M4","v":-0.11999999999999988},{"$f":"C5-B5","v":1.0000000000000009E-2},0.22999999999999976,0.17000000000000037,0.30999999999999961,-7.9999999999999627E-2,9.9999999999997868E-3,-0.10000000000000009,5.0000000000000266E-2,-0.13000000000000034,0.16000000000000014,-6.999999999999984E-2]
["% Change",{"$f":"(B29/M4)*100","v":-6.2827225130889994},{"$f":"(C29/B5)*100","v":0.55865921787709538},12.777777777777763,8.3743842364532206,14.09090909090907,-3.1872509960159214,0.41152263374484715,-4.098360655737709,2.1367521367521483,-5.4393305439330675,7.0796460176991216,-2.8925619834710679]
["2004-2005","jan","feb","mar","apr","may","jun","jul","aug","sep","oct","nov","dec","ytd_avg"]
["Change year to year",{"$f":"B5-B4","v":-9.9999999999999867E-2},-9.9999999999999867E-2,4.9999999999999822E-2,-9.9999999999997868E-3,0.17999999999999972,0.10000000000000009,4.0000000000000036E-2,-9.0000000000000302E-2,0.32000000000000028,0.39999999999999969,0.54999999999999982,0.44000000000000017,{"$f":"O5-O4","v":0.14833333333333343}]
["% Change year to year",{"$f":"(B32/B4)*100","v":-5.2910052910052841},-5.2631578947368354,2.5252525252525162,-0.45248868778279577,7.7253218884120054,4.291845493562235,1.6666666666666683,-3.7037037037037162,15.458937198067648,21.505376344086002,29.411764705882344,23.036649214659697,{"$f":"(N32/O4)*100","v":7.0691024622716494}]
[]
["2005","jan-dec","feb-jan","mar-feb","apr-mar","may-apr","jun-may","jul-jun","aug-jul","sep-aug","oct-sep","nov-oct","dec-nov"]
["Absolute Change",{"$f":"B6-M5","v":2.9999999999999805E-2},{"$f":"C6-B6","v":-9.9999999999997868E-3},6.999999999999984E-2,0.14999999999999991,0.20999999999999996,0.12000000000000011,0,-0.14000000000000012,-2.9999999999999805E-2,-0.5685845925214017,-0.60141540747859823,-0.18000000000000016]
["% Change",{"$f":"(B36/M5)*100","v":1.2765957446808427},{"$f":"(C36/B6)*100","v":-0.42016806722688183},2.9535864978902886,6.1475409836065538,8.108108108108107,4.28571428571429,0,-4.7945205479452104,-1.0791366906474751,-20.675803364414609,-27.569962393075226,-11.392405063291148]
["2004-2005","jan","feb","mar","apr","may","jun","jul","aug","sep","oct","nov","dec","ytd_avg"]
["Change year to year",{"$f":"B6-B5","v":0.58999999999999986},0.57000000000000006,0.41000000000000014,0.38999999999999968,0.29000000000000004,0.48999999999999977,0.48,0.43999999999999995,0.35999999999999988,-7.8584592521401486E-2,-0.83999999999999986,-0.95000000000000018,{"$f":"O6-O5","v":0.17928461728988321}]
["% Change year to year",{"$f":"(B39/B5)*100","v":32.960893854748598},31.666666666666671,20.197044334975377,17.727272727272712,11.553784860557771,20.16460905349793,19.672131147540984,18.803418803418804,15.062761506276146,-3.4771943593540486,-34.710743801652889,-40.425531914893625,{"$f":"(N39/O5)*100","v":7.9800274758108261}]
[]
["2005","jan-dec","feb-jan","mar-feb","apr-mar","may-apr","jun-may","jul-jun","aug-jul","sep-aug","oct-sep","nov-oct","dec-nov"]
["Absolute Change",{"$f":"B7-M6","v":6.0000000000000053E-2},{"$f":"C7-B7","v":5.0000000000000044E-2},5.0000000000000044E-2,4.0000000000000036E-2,0.15999999999999992,0.28000000000000003,-0.13000000000000012,6.0000000000000053E-2,-5.0000000000000044E-2,1.0000000000000009E-2,0.1100000000000001,-5.0000000000000044E-2]
["% Change",{"$f":"(B43/M6)*100","v":4.28571428571429},{"$f":"(C43/B7)*100","v":3.4246575342465788},3.3112582781456985,2.5641025641025665,9.9999999999999947,15.909090909090912,-6.372549019607848,3.141361256544505,-2.53807106598985,0.52083333333333381,5.6994818652849792,-2.4509803921568647]
["2004-2005","jan","feb","mar","apr","may","jun","jul","aug","sep","oct","nov","dec","ytd_avg"]
["Change year to year",{"$f":"B7-B6","v":-0.91999999999999993},-0.8600000000000001,-0.87999999999999989,-0.98999999999999977,-1.0399999999999998,-0.87999999999999989,-1.01,-0.80999999999999983,-0.83000000000000007,-0.25141540747859836,0.45999999999999996,0.59000000000000008,{"$f":"O7-O6","v":-0.61845128395654991}]
["% Change year to year",{"$f":"(B46/B6)*100","v":-38.655462184873954},-36.286919831223628,-36.065573770491795,-38.223938223938219,-37.142857142857139,-30.136986301369863,-34.589041095890408,-29.136690647482013,-30.181818181818183,-11.525333809262781,29.113924050632907,42.142857142857146,{"$f":"(N46/O6)*100","v":-25.493145227050928}]
[]
["2005","jan-dec","feb-jan","mar-feb","apr-mar","may-apr","jun-may","jul-jun","aug-jul","sep-aug","oct-sep","nov-oct","dec-nov"]
["Absolute Change",{"$f":"B8-M7","v":5.9999999999999831E-2},{"$f":"C8-B8","v":-5.9999999999999831E-2},0.11999999999999988,5.0000000000000266E-2,9.9999999999997868E-3,-0.12000000000000011,1.0000000000000231E-2,-3.0000000000000249E-2,5.0000000000000266E-2,0,8.9999999999999858E-2,6.0000000000000053E-2]
["% Change",{"$f":"(B50/M7)*100","v":3.0150753768844138},{"$f":"(C50/B8)*100","v":-2.9268292682926753},6.0301507537688384,2.3696682464455101,0.46296296296295303,-5.5299539170506966,0.48780487804879175,-1.4563106796116625,2.4630541871921316,0,4.3269230769230695,2.7649769585253483]
["2004-2005","jan","feb","mar","apr","may","jun","jul","aug","sep","oct","nov","dec","ytd_avg"]
["Change year to year",{"$f":"B8-B7","v":0.58999999999999986},0.48,0.54999999999999982,0.56000000000000005,0.40999999999999992,9.9999999999997868E-3,0.15000000000000013,5.9999999999999831E-2,0.16000000000000014,0.15000000000000013,0.12999999999999989,0.24,{"$f":"O8-O7","v":0.29083333333333372}]
["% Change year to year",{"$f":"(B53/B7)*100","v":40.410958904109577},31.788079470198678,35.256410256410241,35,23.29545454545454,0.49019607843136215,7.8534031413612633,3.0456852791878086,8.333333333333341,7.7720207253886082,6.3725490196078374,12.060301507537687,{"$f":"(N53/O7)*100","v":16.090364223144331}]
[]
["2005","jan-dec","feb-jan","mar-feb","apr-mar","may-apr","jun-may","jul-jun","aug-jul","sep-aug","oct-sep","nov-oct","dec-nov"]
["Absolute Change",{"$f":"B9-M8","v":0.10999999999999988},{"$f":"C9-B9","v":6.0000000000000053E-2},0.20999999999999996,0.18000000000000016,2.9999999999999805E-2,-0.16999999999999993,3.0000000000000249E-2,-1.0000000000000231E-2,-6.0000000000000053E-2,-8.9999999999999858E-2,-8.9999999999999858E-2,-5.0000000000000266E-2]
["% Change",{"$f":"(B57/ M8)*100","v":4.9327354260089633},{"$f":"(C57/B9)*100","v":2.5641025641025665},8.75,6.8965517241379377,1.0752688172042941,-6.028368794326239,1.1320754716981227,-0.37313432835821753,-2.247191011235957,-3.44827586206896,-3.5714285714285658,-2.0576131687242905]
["2004-2005","jan","feb","mar","apr","may","jun","jul","aug","sep","oct","nov","dec","ytd_avg"]
["Change year to year",{"$f":"B9-B8","v":0.29000000000000004},0.40999999999999992,0.5,0.62999999999999989,0.64999999999999991,0.60000000000000009,0.62000000000000011,0.64000000000000012,0.5299999999999998,0.43999999999999995,0.26000000000000023,0.14999999999999991,{"$f":"O9-O8","v":0.47666666666666613}]
["% Change year to year",{"$f":"(B60/B8)*100","v":14.146341463414638},20.603015075376881,23.696682464454977,29.166666666666657,29.953917050691242,29.268292682926838,30.097087378640779,31.527093596059125,25.480769230769219,21.15384615384615,11.981566820276509,6.7264573991031344,{"$f":"(N60/O8)*100","v":22.716441620333569}]
[]
["2005","jan-dec","feb-jan","mar-feb","apr-mar","may-apr","jun-may","jul-jun","aug-jul","sep-aug","oct-sep","nov-oct","dec-nov"]
["Absolute Change",{"$f":"B10-M9","v":3.0000000000000249E-2},{"$f":"C10-B10","v":9.9999999999999645E-2},0.17000000000000037,9.9999999999997868E-3,-8.9999999999999858E-2,-6.0000000000000053E-2,4.9999999999999822E-2,0.11000000000000032,4.0000000000000036E-2,-0.19000000000000039,-0.1599999999999997,-0.10000000000000009]
["% Change",{"$f":"(B64/M9)*100","v":1.2605042016806827},{"$f":"(C64/B10)*100","v":4.1493775933609811},6.772908366533879,0.37313432835820098,-3.3457249070631918,-2.3076923076923097,1.968503937007867,4.247104247104259,1.4814814814814827,-6.9343065693430797,-6.274509803921557,-4.1841004184100452]
["2004-2005","jan","feb","mar","apr","may","jun","jul","aug","sep","oct","nov","dec","ytd_avg"]
["Change year to year",{"$f":"B10-B9","v":7.0000000000000284E-2},0.10999999999999988,7.0000000000000284E-2,-0.10000000000000009,-0.21999999999999975,-0.10999999999999988,-9.0000000000000302E-2,3.0000000000000249E-2,0.13000000000000034,2.9999999999999805E-2,-4.0000000000000036E-2,-8.9999999999999858E-2,{"$f":"O10-O9","v":-1.7499999999999627E-2}]
["% Change year to year",{"$f":"(B67/B9)*100","v":2.9914529914530039},4.5833333333333286,2.681992337164762,-3.5842293906810068,-7.8014184397163042,-4.1509433962264106,-3.3582089552238918,1.1235955056179869,4.9808429118774074,1.1904761904761827,-1.646090534979425,-3.7815126050420109,{"$f":"(N67/O9)*100","v":-0.67961165048542249}]
[]
["2005","jan-dec","feb-jan","mar-feb","apr-mar","may-apr","jun-may","jul-jun","aug-jul","sep-aug","oct-sep","nov-oct","dec-nov"]
["Absolute Change",{"$f":"B11-M10","v":-1.0000000000000231E-2},{"$f":"C11-B11","v":0.30000000000000027},-1.0000000000000231E-2,-8.9999999999999858E-2,0.25,-0.22999999999999998,2.0000000000000018E-2,-2.9999999999999805E-2,-2.0000000000000018E-2,-0.13000000000000034,-0.13999999999999968,-2.0000000000000018E-2]
["% Change",{"$f":"(B71/M10)*100","v":-0.43668122270743359},{"$f":"(C71/B11)*100","v":13.157894736842119},-0.38759689922481511,-3.5019455252918235,10.080645161290324,-8.4249084249084234,0.80000000000000071,-1.1904761904761827,-0.80321285140562315,-5.2631578947368558,-5.9829059829059696,-0.90909090909090973]
["2004-2005","jan","feb","mar","apr","may","jun","jul","aug","sep","oct","nov","dec","ytd_avg"]
["Change year to year",{"$f":"B11-B10","v":-0.13000000000000034},7.0000000000000284E-2,-0.11000000000000032,-0.20999999999999996,0.12999999999999989,-4.0000000000000036E-2,-6.999999999999984E-2,-0.20999999999999996,-0.27,-0.20999999999999996,-0.18999999999999995,-0.10999999999999988,-0.11250000000000027]
["% Change year to year",{"$f":"(B74/B10)*100","v":-5.3941908713693083},2.7888446215139555,-4.1044776119403101,-7.8066914498141253,4.9999999999999956,-1.5748031496063006,-2.7027027027026964,-7.7777777777777768,-9.8540145985401466,-8.235294117647058,-7.9497907949790765,-4.8034934497816542,-4.3988269794721511]
[]
["2005","jan-dec","feb-jan","mar-feb","apr-mar","may-apr","jun-may","jul-jun","aug-jul","sep-aug","oct-sep","nov-oct","dec-nov"]
["Absolute Change",{"$f":"B12-M11","v":8.9999999999999858E-2},{"$f":"C12-B12","v":4.9999999999999822E-2},0.14000000000000012,1.0000000000000231E-2,-2.0000000000000018E-2,2.9999999999999805E-2,0,-0.10000000000000009,-4.9999999999999822E-2,-0.16999999999999993,-0.13000000000000034,-0.2699999999999998]
["% Change",{"$f":"(B78/M11)*100","v":4.1284403669724705},{"$f":"(C78/B12)*100","v":2.2026431718061596},6.0344827586206957,0.40650406504065983,-0.80971659919028416,1.2244897959183594,0,-4.0322580645161326,-2.1008403361344463,-7.2961373390557904,-6.0185185185185333,-13.300492610837431]
["2004-2005","jan","feb","mar","apr","may","jun","jul","aug","sep","oct","nov","dec","ytd_avg"]
["Change year to year",{"$f":"B12-B11","v":-9.9999999999997868E-3},-0.26000000000000023,-0.10999999999999988,-9.9999999999997868E-3,-0.2799999999999998,-2.0000000000000018E-2,-4.0000000000000036E-2,-0.11000000000000032,-0.14000000000000012,-0.17999999999999972,-0.17000000000000037,-0.42000000000000015,{"$f":"O12-O11","v":-0.14583333333333304}]
["% Change year to year",{"$f":"(B81/B11)*100","v":-0.43859649122806088},-10.07751937984497,-4.2801556420233418,-0.40322580645160433,-10.256410256410248,-0.80000000000000071,-1.5873015873015885,-4.417670682730936,-5.6680161943319884,-7.6923076923076801,-7.7272727272727435,-19.266055045871568,{"$f":"(N81/O11)*100","v":-5.9645535105657688}]
[]
["2005","jan-dec","feb-jan","mar-feb","apr-mar","may-apr","jun-may","jul-jun","aug-jul","sep-aug","oct-sep","nov-oct","dec-nov"]
["Absolute Change",{"$f":"B13-M12","v":-0.33000000000000007}]
["% Change",{"$f":"(B85/M12)*100","v":-18.750000000000004}]
["2004-2005","jan","feb","mar","apr","may","jun","jul","aug","sep","oct","nov","dec","ytd_avg"]
["Change year to year",{"$f":"B13-B12","v":-0.84000000000000008},{"$nulls":11},{"$f":"N13-N12","v":-0.86916666666666687}]
["% Change year to year",{"$f":"(B88/B12)*100","v":-37.004405286343619},{"$nulls":11},{"$f":"(N88/N12)*100","v":-37.803552011598413}]
[]
["WI Real","jan","feb","mar","apr","may","jun","jul","aug","sep","oct","nov","dec","ytd_avg","Column1"]
[2004,1.4,1.47,1.51,1.57,1.73,1.73,1.64,1.66,1.64,1.74,1.71,1.59,{"$f":"AVERAGE(B92:M92)","v":1.6158333333333335},{"$f":"AVERAGE(B92:M92)","v":1.6158333333333335}]
[2005,1.57,1.64,1.75,1.86,1.81,1.81,1.91,2.06,2.25,2.2000000000000002,1.88,1.8,{"$f":"AVERAGE(B93:L93)","v":1.8854545454545457},1.8783333333333336]
[2006,1.9,1.88,1.97,2.21,2.2999999999999998,2.31,2.42,2.4,2.02,1.8,1.83,1.86,{"$f":"AVERAGE(B94:M94)","v":2.0749999999999997},2.0749999999999997]
[2007,1.75,1.79,1.98,2.1800000000000002,2.52,2.41,2.42,2.27,2.3199999999999998,2.19,2.37,2.2799999999999998,2.206666666666667,2.206666666666667]
[2008,2.3199999999999998,2.35,2.4300000000000002,2.58,2.82,2.92,2.92,2.77,2.76,2.1416857992062219,1.54,1.32,2.4059738166005182,2.4059738166005182]
[2009,1.43,1.48,1.54,1.58,1.77,2.0499999999999998,1.87,1.95,1.86,1.9,1.94,1.93,1.7750000000000001,1.7750000000000001]
[2010,2.02,1.93,2.06,2.14,2.06,1.99,2,1.98,2.0099999999999998,2.0099999999999998,2.12,2.19,2.0425,2.0425]
[2011,2.27,2.36,2.56,2.77,2.84,2.62,2.62,2.6,2.5299999999999998,2.4,2.35,2.2999999999999998,2.5183333333333335,2.5183333333333335]
[2012,2.37,2.46,2.72,2.7,2.59,2.4900000000000002,2.4500000000000002,2.71,2.7,2.5,2.38,2.27,{"$f":"AVERAGE(B100:M100)","v":2.5283333333333333},{"$f":"AVERAGE(B100:M100)","v":2.5283333333333333}]
[2013,2.27,2.54,2.54,2.5,2.66,2.48,2.46,2.46,2.42,2.29,2.1800000000000002,2.16,{"$f":"AVERAGE(B101:M101)","v":2.4133333333333336},{"$f":"AVERAGE(B101:M101)","v":2.4133333333333336}]
[2014,2.2400000000000002,2.29,2.4500000000000002,2.48,2.44,2.5,2.4300000000000002,2.34,2.2999999999999998,2.14,1.98,1.69,{"$f":"AVERAGE(B102:M102)","v":2.2733333333333339},{"$f":"AVERAGE(B102:M102)","v":2.2733333333333339}]
[2015,1.37,{"$nulls":11},{"$f":"AVERAGE(B103:B103)","v":1.37},{"$f":"AVERAGE(B103:M103)","v":1.37}]
[null,"jan-dec","feb-jan","mar-feb","apr-mar","may-apr","jun-may","jul-jun","aug-jul","sep-aug","oct-sep","nov-oct","dec-nov"]
["change_05",{"$f":"B93-M92","v":-2.0000000000000018E-2},{"$f":"C93-B93","v":6.999999999999984E-2},0.1100000000000001,0.1100000000000001,-5.0000000000000044E-2,0,9.9999999999999867E-2,0.15000000000000013,0.18999999999999995,-4.9999999999999822E-2,-0.32000000000000028,-7.9999999999999849E-2]
["%change_05",{"$f":"(B105/M92)*100","v":-1.2578616352201268},{"$f":"(C105/B93)*100","v":4.4585987261146389},6.7073170731707377,6.2857142857142918,-2.6881720430107547,0,5.5248618784530308,7.8534031413612633,9.2233009708737832,-2.2222222222222143,-14.545454545454556,-4.2553191489361621]
[null,"jan","feb","mar","apr","may","jun","jul","aug","sep","oct","nov","dec","ytd_avg"]
["chg_prv_05-04",{"$f":"B93-B92","v":0.17000000000000015},0.16999999999999993,0.24,0.29000000000000004,8.0000000000000071E-2,8.0000000000000071E-2,{"$f":"H93-H92","v":0.27},0.40000000000000013,0.6100000000000001,0.46000000000000019,0.16999999999999993,0.20999999999999996,{"$f":"O93-O92","v":0.26250000000000018}]
["%chg_prv_05-04",{"$f":"(B108/B92)*100","v":12.142857142857153},11.56462585034013,15.894039735099339,18.471337579617835,4.6242774566474028,4.6242774566474028,16.463414634146343,24.096385542168683,37.195121951219519,26.436781609195414,9.9415204678362539,13.207547169811317,{"$f":"(N108/O92)*100","v":16.245487364620949}]
[]
[null,"jan-dec","feb-jan","mar-feb","apr-mar","may-apr","jun-may","jul-jun","aug-jul","sep-aug","oct-sep","nov-oct","dec-nov"]
["change_06",{"$f":"B94-M93","v":9.9999999999999867E-2},{"$f":"C94-B94","v":-2.0000000000000018E-2},9.000000000000008E-2,0.24,8.9999999999999858E-2,1.0000000000000231E-2,0.10999999999999988,-2.0000000000000018E-2,-0.37999999999999989,-0.21999999999999997,{"$f":"L94-K94","v":3.0000000000000027E-2},{"$f":"M94-L94","v":3.0000000000000027E-2}]
["%change_06",{"$f":"(B112/M93)*100","v":5.5555555555555483},{"$f":"(C112/B94)*100","v":-1.0526315789473695},4.7872340425531963,12.182741116751268,4.0723981900452424,0.43478260869566226,4.7619047619047556,-0.82644628099173623,-15.83333333333333,-10.89108910891089,{"$f":"(L112/K94)*100","v":1.6666666666666681},{"$f":"(M112/L94)*100","v":1.6393442622950833}]
[null,"jan","feb","mar","apr","may","jun","jul","aug","sep","oct","nov","dec","ytd_avg"]
["chg_prv_06-05",{"$f":"B94-B93","v":0.32999999999999985},0.24,0.21999999999999997,0.34999999999999987,0.48999999999999977,0.5,{"$f":"H94-H93","v":0.51},0.33999999999999986,-0.22999999999999998,-0.40000000000000013,-4.9999999999999822E-2,6.0000000000000053E-2,{"$f":"O94-O93","v":0.1966666666666661}]
["%chg_prv_06-05",{"$f":"(B115/B93)*100","v":21.019108280254766},14.634146341463413,12.571428571428569,18.817204301075261,27.071823204419875,27.624309392265197,26.701570680628272,16.50485436893203,-10.222222222222221,-18.181818181818183,{"$f":"(L115/L93)*100","v":-2.659574468085097},{"$f":"(M115/M93)*100","v":3.3333333333333361},{"$f":"N115/O93*100","v":10.470275066548327}]
[]
[null,"jan-dec","feb-jan","mar-feb","apr-mar","may-apr","jun-may","jul-jun","aug-jul","sep-aug","oct-sep","nov-oct","dec-nov"]
["change_07",{"$f":"B95-M94","v":-0.1100000000000001},{"$f":"C95-B95","v":4.0000000000000036E-2},0.18999999999999995,0.20000000000000018,0.33999999999999986,-0.10999999999999988,9.9999999999997868E-3,-0.14999999999999991,4.9999999999999822E-2,{"$f":"K95-J95","v":-0.12999999999999989},{"$f":"L95-K95","v":0.18000000000000016},{"$f":"M95-L95","v":-9.0000000000000302E-2}]
["%change_07",{"$f":"(B119/M94)*100","v":-5.9139784946236613},{"$f":"(C119/B95)*100","v":2.2857142857142878},10.614525139664801,10.101010101010111,15.59633027522935,-4.3650793650793602,0.41493775933609073,-6.1983471074380132,2.2026431718061596,{"$f":"(K119/J95)*100","v":-5.603448275862065},{"$f":"(L119/K95)*100","v":8.2191780821917888},{"$f":"(M119/L95)*100","v":-3.7974683544303924}]
[null,"jan","feb","mar","apr","may","jun","jul","aug","sep","oct","nov","dec","ytd_avg"]
["chg_prv_07-06",{"$f":"B95-B94","v":-0.14999999999999991},-8.9999999999999858E-2,1.0000000000000009E-2,-2.9999999999999805E-2,0.2200000000000002,0.10000000000000009,0,-0.12999999999999989,{"$f":"J95-J94","v":0.29999999999999982},{"$f":"K95-K94","v":0.3899999999999999},{"$f":"L95-L94","v":0.54},{"$f":"M95-M94","v":0.41999999999999971},{"$f":"O95-O94","v":0.13166666666666726}]
["%chg_prv_07-06",{"$f":"(B122/B94)*100","v":-7.8947368421052584},-4.7872340425531847,0.50761421319797007,-1.3574660633484075,9.5652173913043566,4.3290043290043334,0,-5.4166666666666625,14.851485148514843,{"$f":"(K122/K94)*100","v":21.666666666666661},{"$f":"(L122/L94)*100","v":29.508196721311474},{"$f":"(M122/M94)*100","v":22.580645161290306},{"$f":"(N122/O94)*100","v":6.3453815261044477}]
[]
[null,"jan-dec","feb-jan","mar-feb","apr-mar","may-apr","jun-may","jul-jun","aug-jul","sep-aug","oct-sep","nov-oct","dec-nov"]
["change_08",{"$f":"B96-M95","v":4.0000000000000036E-2},{"$f":"C96-B96","v":3.0000000000000249E-2},8.0000000000000071E-2,0.14999999999999991,0.23999999999999977,0.10000000000000009,0,{"$f":"I96-H96","v":-0.14999999999999991},{"$f":"J96-I96","v":-1.0000000000000231E-2},{"$f":"K96-J96","v":-0.61831420079377786},{"$f":"L96-K96","v":-0.60168579920622189},{"$f":"M96-L96","v":-0.21999999999999997}]
["%change_08",{"$f":"(B126/M95)*100","v":1.7543859649122824},{"$f":"(C126/B96)*100","v":1.2931034482758728},3.4042553191489389,6.1728395061728358,9.3023255813953387,3.5460992907801447,0,{"$f":"(I126/H96)*100","v":-5.13698630136986},{"$f":"(J126/I96)*100","v":-0.3610108303249181},{"$f":"(K126/J96)*100","v":-22.40268843455717},{"$f":"(L126/K96)*100","v":-28.094027584682408},{"$f":"(M126/L96)*100","v":-14.285714285714285}]
[null,"jan","feb","mar","apr","may","jun","jul","aug","sep","oct","nov","dec","ytd_avg"]
["chg_prv_08-07",{"$f":"B96-B95","v":0.56999999999999984},0.56000000000000005,0.45000000000000018,0.39999999999999991,0.29999999999999982,0.50999999999999979,{"$f":"H96-H95","v":0.5},0.5,0.43999999999999995,-4.8314200793778017E-2,-0.83000000000000007,-0.95999999999999974,{"$f":"O96-O95","v":0.19930714993385124}]
["%chg_prv_08-07",{"$f":"(B129/B95)*100","v":32.571428571428562},31.284916201117319,22.727272727272737,18.348623853211006,11.904761904761898,21.161825726141068,{"$f":"(H129/H95)*100","v":20.66115702479339},22.026431718061673,18.96551724137931,-2.20612789012685,-35.021097046413502,-42.105263157894726,{"$f":"(N129/O95)*100","v":9.0320460695098728}]
[]
[null,"jan-dec","feb-jan","mar-feb","apr-mar","may-apr","jun-may","jul-jun","aug-jul","sep-aug","oct-sep","nov-oct","dec-nov"]
["change_09",{"$f":"B97-M96","v":0.10999999999999988},{"$f":"C97-B97","v":5.0000000000000044E-2},6.0000000000000053E-2,4.0000000000000036E-2,0.18999999999999995,0.2799999999999998,-0.17999999999999972,7.9999999999999849E-2,-8.9999999999999858E-2,3.9999999999999813E-2,4.0000000000000036E-2,-1.0000000000000009E-2]
["%change_09",{"$f":"(B133/M96)*100","v":8.3333333333333233},{"$f":"(C133/B97)*100","v":3.4965034965034993},4.0540540540540579,2.5974025974025996,12.025316455696199,15.81920903954801,-8.7804878048780353,4.2780748663101518,-4.6153846153846079,2.1505376344085918,2.1052631578947389,-0.5154639175257737]
[null,"jan","feb","mar","apr","may","jun","jul","aug","sep","oct","nov","dec","ytd_avg"]
["chg_prv_09-08",{"$f":"B97-B96","v":-0.8899999999999999},-0.87000000000000011,-0.89000000000000012,-1,-1.0499999999999998,-0.87000000000000011,-1.0499999999999998,-0.82000000000000006,-0.89999999999999969,-0.24168579920622202,0.39999999999999991,0.60999999999999988,{"$f":"O97-O96","v":-0.6309738166005181}]
["%chg_prv_09-08",{"$f":"(B136/B96)*100","v":-38.362068965517238},-37.021276595744688,-36.625514403292186,-38.759689922480618,-37.234042553191486,-29.794520547945208,-35.958904109589035,-29.602888086642604,-32.6086956521739,-11.284839227854926,25.974025974025967,46.212121212121197,{"$f":"(N136/O96)*100","v":-26.225298556741667}]
[]
[null,"jan-dec","feb-jan","mar-feb","apr-mar","may-apr","jun-may","jul-jun","aug-jul","sep-aug","oct-sep","nov-oct","dec-nov"]
["change_10",{"$f":"B98-M97","v":9.000000000000008E-2},{"$f":"C98-B98","v":-9.000000000000008E-2},0.13000000000000012,8.0000000000000071E-2,-8.0000000000000071E-2,-7.0000000000000062E-2,1.0000000000000009E-2,-2.0000000000000018E-2,2.9999999999999805E-2,0,0.11000000000000032,6.999999999999984E-2]
["%change_10",{"$f":"(B140/M97)*100","v":4.6632124352331648},{"$f":"(C140/B98)*100","v":-4.4554455445544594},6.7357512953367937,3.8834951456310711,-3.7383177570093489,-3.398058252427187,0.50251256281407075,-1.0000000000000009,1.5151515151515054,0,5.4726368159204144,3.3018867924528226]
[null,"jan","feb","mar","apr","may","jun","jul","aug","sep","oct","nov","dec","ytd_avg"]
["chg_prv_10-09",{"$f":"B98-B97","v":0.59000000000000008},0.44999999999999996,0.52,0.56000000000000005,0.29000000000000004,-5.9999999999999831E-2,0.12999999999999989,{"$f":"I98-I97","v":3.0000000000000027E-2},{"$f":"J98-J97","v":0.14999999999999969},{"$f":"K98-K97","v":0.10999999999999988},{"$f":"L98-L97","v":0.18000000000000016},{"$f":"M98-M97","v":0.26},{"$f":"O98-O97","v":0.26749999999999985}]
["%chg_prv_10-09",{"$f":"(B143/B97)*100","v":41.258741258741267},30.4054054054054,33.766233766233768,35.443037974683541,16.384180790960453,-2.9268292682926753,6.9518716577540047,{"$f":"(I143/I97)*100","v":1.5384615384615399},{"$f":"(J143/J97)*100","v":8.064516129032242},{"$f":"(K143/K97)*100","v":5.7894736842105203},{"$f":"(L143/L97)*100","v":9.2783505154639254},{"$f":"(M143/M97)*100","v":13.471502590673575},{"$f":"(N143/O97)*100","v":15.070422535211259}]
[]
[null,"jan-dec","feb-jan","mar-feb","apr-mar","may-apr","jun-may","jul-jun","aug-jul","sep-aug","oct-sep","nov-oct","dec-nov"]
["change_11",{"$f":"B99-M98","v":8.0000000000000071E-2},{"$f":"C99-B99","v":8.9999999999999858E-2},0.20000000000000018,0.20999999999999996,6.999999999999984E-2,-0.21999999999999975,0,{"$f":"I99-H99","v":-2.0000000000000018E-2},{"$f":"J99-I99","v":-7.0000000000000284E-2},{"$f":"K99-J99","v":-0.12999999999999989},{"$f":"L99-K99","v":-4.9999999999999822E-2},{"$f":"M99-L99","v":-5.0000000000000266E-2}]
["%change_11",{"$f":"(B147/M98)*100","v":3.6529680365296837},{"$f":"(C147/B99)*100","v":3.9647577092510953},8.4745762711864483,8.2031249999999982,2.5270758122743624,-7.7464788732394281,0,-0.76335877862595491,-2.6923076923077032,-5.1383399209486127,-2.0833333333333259,-2.1276595744680966]
[null,"jan","feb","mar","apr","may","jun","jul","aug","sep","oct","nov","dec","ytd_avg"]
["chg_prv_11-10",{"$f":"B99-B98","v":0.25},0.42999999999999994,0.5,0.62999999999999989,0.7799999999999998,0.63000000000000012,{"$f":"H99-H98","v":0.62000000000000011},0.62000000000000011,0.52,0.39000000000000012,0.22999999999999998,0.10999999999999988,0.47583333333333355]
["%chg_prv_11-10",{"$f":"(B150/B98)*100","v":12.376237623762377},22.279792746113987,24.271844660194176,29.43925233644859,37.864077669902905,31.658291457286435,{"$f":"(H150/H98)*100","v":31.000000000000007},31.313131313131322,25.870646766169159,19.402985074626873,10.849056603773583,5.0228310502283051,23.296613627090995]
[]
[null,"jan-dec","feb-jan","mar-feb","apr-mar","may-apr","jun-may","jul-jun","aug-jul","sep-aug","oct-sep","nov-oct","dec-nov"]
["change_12",{"$f":"B100-M99","v":7.0000000000000284E-2},{"$f":"C100-B100","v":8.9999999999999858E-2},0.26000000000000023,-2.0000000000000018E-2,-0.11000000000000032,-9.9999999999999645E-2,-4.0000000000000036E-2,0.25999999999999979,-9.9999999999997868E-3,-0.20000000000000018,-0.12000000000000011,-0.10999999999999988]
["%change_12",{"$f":"(B154/M99)*100","v":3.0434782608695778},{"$f":"(C154/B100)*100","v":3.7974683544303738},10.569105691056919,-0.73529411764705943,-4.0740740740740851,-3.861003861003848,-1.6064257028112463,10.612244897959174,-0.36900369003689248,-7.4074074074074137,-4.8000000000000043,-4.6218487394957926]
[null,"jan","feb","mar","apr","may","jun","jul","aug","sep","oct","nov","dec","ytd_avg"]
["chg_prv_12-11",{"$f":"B100-B99","v":0.10000000000000009},0.10000000000000009,0.16000000000000014,-6.999999999999984E-2,-0.25,-0.12999999999999989,{"$f":"H100-H99","v":-0.16999999999999993},0.10999999999999988,{"$f":"J100-J99","v":0.17000000000000037},0.10000000000000009,{"$f":"L100-L99","v":2.9999999999999805E-2},-2.9999999999999805E-2,{"$f":"O100-O99","v":9.9999999999997868E-3}]
["%chg_prv_12-11",{"$f":"(B157/B99)*100","v":4.4052863436123388},4.2372881355932241,6.2500000000000053,-2.5270758122743624,-8.8028169014084519,-4.9618320610686979,-6.4885496183206079,{"$f":"(I157/I99)*100","v":4.2307692307692264},6.7193675889328217,{"$f":"(K157/K99)*100","v":4.1666666666666705},1.2765957446808427,{"$f":"(M157/M99)*100","v":-1.3043478260869481},{"$f":"(N157/O99)*100","v":0.39708802117801928}]
[]
[null,"jan-dec","feb-jan","mar-feb","apr-mar","may-apr","jun-may","jul-jun","aug-jul","sep-aug","oct-sep","nov-oct","dec-nov"]
["change_13",{"$f":"B101-M100","v":0},{"$f":"C101-B101","v":0.27},0,-4.0000000000000036E-2,0.16000000000000014,-0.18000000000000016,-2.0000000000000018E-2,{"$f":"I101-H101","v":0},-4.0000000000000036E-2,-0.12999999999999989,-0.10999999999999988,-2.0000000000000018E-2]
["%change_13",{"$f":"(B161/M100)*100","v":0},{"$f":"(C161/B101)*100","v":11.894273127753305},0,-1.5748031496063006,6.4000000000000057,-6.7669172932330879,-0.80645161290322642,0,-1.6260162601626031,-5.3719008264462769,-4.8034934497816542,-0.91743119266055118]
[null,"jan","feb","mar","apr","may","jun","jul","aug","sep","oct","nov","dec","ytd_avg"]
["chg_prv_13-12",{"$f":"B101-B100","v":-0.10000000000000009},8.0000000000000071E-2,-0.18000000000000016,-0.20000000000000018,7.0000000000000284E-2,-1.0000000000000231E-2,{"$f":"H101-H100","v":9.9999999999997868E-3},-0.25,{"$f":"J101-J100","v":-0.28000000000000025},-0.20999999999999996,{"$f":"L101-L100","v":-0.19999999999999973},-0.10999999999999988,{"$f":"N101-N100","v":-0.11499999999999977}]
["%chg_prv_13-12",{"$f":"(B164/B100)*100","v":-4.2194092827004255},3.2520325203252063,-6.6176470588235352,-7.4074074074074137,2.7027027027027142,-0.40160642570282051,0.40816326530611374,{"$f":"(I164/I100)*100","v":-9.2250922509225095},-10.370370370370379,{"$f":"(K164/K100)*100","v":-8.3999999999999986},-8.4033613445378048,{"$f":"(M164/M100)*100","v":-4.8458149779735633},{"$f":"(N164/N100)*100","v":-4.548450889914295}]
[]
[null,"jan-dec","feb-jan","mar-feb","apr-mar","may-apr","jun-may","jul-jun","aug-jul","sep-aug","oct-sep","nov-oct","dec-nov"]
["change_14",{"$f":"B102-M101","v":8.0000000000000071E-2},{"$f":"C102-B102","v":4.9999999999999822E-2},0.16000000000000014,2.9999999999999805E-2,-4.0000000000000036E-2,6.0000000000000053E-2,-6.999999999999984E-2,{"$f":"I102-H102","v":-9.0000000000000302E-2},-4.0000000000000036E-2,-0.1599999999999997,-0.16000000000000014,-0.29000000000000004]
["%change_14",{"$f":"(B168/M101)*100","v":3.7037037037037068},{"$f":"(C168/B102)*100","v":2.2321428571428488},6.9868995633187838,1.2244897959183594,-1.6129032258064528,2.4590163934426252,-2.7999999999999936,-3.7037037037037162,-1.7094017094017109,-6.9565217391304222,-7.4766355140186977,-14.646464646464649]
[null,"jan","feb","mar","apr","may","jun","jul","aug","sep","oct","nov","dec","ytd_avg"]
["chg_prv_14-13",{"$f":"B102-B101","v":-2.9999999999999805E-2},-0.25,-8.9999999999999858E-2,-2.0000000000000018E-2,-0.2200000000000002,2.0000000000000018E-2,{"$f":"H102-H101","v":-2.9999999999999805E-2},-0.12000000000000011,{"$f":"J102-J101","v":-0.12000000000000011},-0.14999999999999991,{"$f":"L102-L101","v":-0.20000000000000018},-0.4700000000000002,{"$f":"O102-O101","v":-0.13999999999999968}]
["%chg_prv_14-13",{"$f":"(B171/B101)*100","v":-1.3215859030836918},-9.8425196850393686,-3.5433070866141678,-0.80000000000000071,-8.2706766917293297,0.80645161290322642,{"$f":"(H171/H101)*100","v":-1.2195121951219432},-4.8780487804878092,{"$f":"(J171/J101)*100","v":-4.9586776859504171},-6.5502183406113499,{"$f":"(L171/L101)*100","v":-9.1743119266055118},-21.759259259259267,{"$f":"(N171/O101)*100","v":-5.8011049723756765}]
[]
[null,"jan-dec","feb-jan","mar-feb","apr-mar","may-apr","jun-may","jul-jun","aug-jul","sep-aug","oct-sep","nov-oct","dec-nov"]
["change_15",{"$f":"B103-M102","v":-0.31999999999999984}]
["%change_15",{"$f":"(B175/M102)*100","v":-18.93491124260354}]
[null,"jan","feb","mar","apr","may","jun","jul","aug","sep","oct","nov","dec","ytd_avg"]
["chg_prv_15-14",{"$f":"B103-B102","v":-0.87000000000000011},{"$nulls":11},{"$f":"N103-N102","v":-0.90333333333333377}]
["%chg_prv_15-14",{"$f":"(B178/B102)*100","v":-38.839285714285715},{"$nulls":11},{"$f":"(N178/N102)*100","v":-39.736070381231684}]
[]
["Month EC","jan","feb","mar","apr","may","jun","jul","aug","sep","oct","nov","dec","ytd_avg","Column1"]
[2004,1.62,1.7,1.79,1.87,2.06,2.0499999999999998,1.98,2,1.95,2.09,2.08,1.9,{"$f":"AVERAGE(B182:M182)","v":1.9241666666666664},{"$f":"AVERAGE(B182:M182)","v":1.9241666666666664}]
[2005,1.92,2,2.1800000000000002,2.2999999999999998,2.2400000000000002,2.25,2.37,2.5499999999999998,2.86,2.72,2.35,2.2599999999999998,{"$f":"AVERAGE(B183:L183)","v":2.34},2.3333333333333335]
[2006,2.36,2.37,2.48,2.79,2.95,2.95,3.06,3.09,2.63,2.34,2.36,2.41,{"$f":"AVERAGE(B184:M184)","v":2.6491666666666664},2.6491666666666664]
[2007,2.2599999999999998,2.29,2.61,2.83,3.26,3.17,3.18,3.04,3.12,2.95,3.17,3.08,2.9133333333333336,2.9133333333333336]
[2008,3.14,3.13,3.25,3.48,3.8,3.99,4.01,3.81,3.77,2.9375,2.08,1.83,3.2689583333333325,3.2689583333333325]
[2009,1.92,1.99,2.06,2.12,2.34,2.74,2.56,2.64,2.58,2.6,2.76,2.67,2.4150000000000005,2.4150000000000005]
[2010,2.78,2.69,2.86,2.93,2.95,2.79,2.8,2.77,2.84,2.84,2.97,3.04,2.855,2.855]
[2011,3.21,3.32,3.63,3.91,3.97,3.75,3.78,3.78,3.7,3.55,3.43,3.34,3.6141666666666672,3.6141666666666672]
[2012,3.41,3.56,3.84,3.86,3.73,3.64,3.71,3.89,3.95,3.67,3.43,3.28,{"$f":"AVERAGE(B190:M190)","v":3.664166666666667},{"$f":"AVERAGE(B190:M190)","v":3.664166666666667}]
[2013,3.27,3.73,3.74,3.6,3.99,3.66,3.67,3.62,3.61,3.4,3.19,3.15,{"$f":"AVERAGE(B191:M191)","v":3.5524999999999998},{"$f":"AVERAGE(B191:M191)","v":3.5524999999999998}]
[2014,3.29,3.39,3.62,3.65,3.62,3.7,3.67,3.52,3.45,3.2,2.98,2.56,{"$f":"AVERAGE(B192:M192)","v":3.3874999999999997},{"$f":"AVERAGE(B192:M192)","v":3.3874999999999997}]
[2015,2.0699999999999998,{"$nulls":11},{"$f":"AVERAGE(B193:B193)","v":2.0699999999999998},{"$f":"AVERAGE(B193:M193)","v":2.0699999999999998}]
[null,"jan-dec","feb-jan","mar-feb","apr-mar","may-apr","jun-may","jul-jun","aug-jul","sep-aug","oct-sep","nov-oct","dec-nov"]
["change_05",{"$f":"B183-M182","v":2.0000000000000018E-2},{"$f":"C183-B183","v":8.0000000000000071E-2},0.18000000000000016,0.11999999999999966,-5.9999999999999609E-2,9.9999999999997868E-3,0.12000000000000011,0.17999999999999972,0.31000000000000005,-0.13999999999999968,-0.37000000000000011,-9.0000000000000302E-2]
["%change_05",{"$f":"(B195/M182)*100","v":1.0526315789473695},{"$f":"(C195/B183)*100","v":4.1666666666666705},9.0000000000000071,5.5045871559632875,-2.6086956521738962,0.44642857142856185,5.3333333333333375,7.5949367088607476,12.156862745098042,-4.8951048951048843,-13.602941176470591,-3.8297872340425658]
[null,"jan","feb","mar","apr","may","jun","jul","aug","sep","oct","nov","dec","ytd_avg"]
["chg_prv_05-04",{"$f":"B183-B182","v":0.29999999999999982},0.30000000000000004,0.39000000000000012,0.42999999999999972,0.18000000000000016,0.20000000000000018,{"$f":"H183-H182","v":0.39000000000000012},0.54999999999999982,0.90999999999999992,0.63000000000000034,0.27,0.35999999999999988,{"$f":"O183-O182","v":0.40916666666666712}]
["%chg_prv_05-04",{"$f":"(B198/B182)*100","v":18.518518518518505},17.647058823529417,21.787709497206713,22.994652406417096,8.7378640776699097,9.7560975609756202,{"$f":"(H198/H182)*100","v":19.696969696969706},27.499999999999993,46.666666666666664,30.143540669856478,12.980769230769232,18.947368421052627,{"$f":"(N198/O182)*100","v":21.264616717193618}]
[]
[null,"jan-dec","feb-jan","mar-feb","apr-mar","may-apr","jun-may","jul-jun","aug-jul","sep-aug","oct-sep","nov-oct","dec-nov"]
["change_06",{"$f":"B184-M183","v":0.10000000000000009},{"$f":"C184-B184","v":1.0000000000000231E-2},0.10999999999999988,0.31000000000000005,0.16000000000000014,0,0.10999999999999988,2.9999999999999805E-2,-0.45999999999999996,{"$f":"K184-J184","v":-0.29000000000000004},{"$f":"L184-K184","v":2.0000000000000018E-2},{"$f":"M184-L184","v":5.0000000000000266E-2}]
["%change_06",{"$f":"(B202/M183)*100","v":4.4247787610619511},{"$f":"(C202/B184)*100","v":0.42372881355933184},4.641350210970459,12.500000000000004,5.734767025089611,0,3.7288135593220293,0.98039215686273862,-14.886731391585762,{"$f":"(K202/J184)*100","v":-11.02661596958175},{"$f":"(L202/K184)*100","v":0.85470085470085544},{"$f":"(M202/L184)*100","v":2.1186440677966214}]
[null,"jan","feb","mar","apr","may","jun","jul","aug","sep","oct","nov","dec","ytd_avg"]
["chg_prv_06-05",{"$f":"B184-B183","v":0.43999999999999995},0.37000000000000011,0.29999999999999982,0.49000000000000021,0.71,0.70000000000000018,{"$f":"H184-H183","v":0.69},0.54,-0.22999999999999998,-0.38000000000000034,9.9999999999997868E-3,0.15000000000000036,{"$f":"O184-O183","v":0.31583333333333297}]
["%chg_prv_06-05",{"$f":"(B205/B183)*100","v":22.916666666666664},18.500000000000007,13.761467889908246,21.304347826086968,31.696428571428566,31.111111111111118,29.113924050632907,21.176470588235297,-8.0419580419580416,{"$f":"(K205/K183)*100","v":-13.970588235294128},{"$f":"(L205/L183)*100","v":0.42553191489360792},{"$f":"(M205/M183)*100","v":6.6371681415929364},{"$f":"(N205/O183)*100","v":13.53571428571427}]
[]
[null,"jan-dec","feb-jan","mar-feb","apr-mar","may-apr","jun-may","jul-jun","aug-jul","sep-aug","oct-sep","nov-oct","dec-nov"]
["change_07",{"$f":"B185-M184","v":-0.15000000000000036},{"$f":"C185-B185","v":3.0000000000000249E-2},0.31999999999999984,0.2200000000000002,0.42999999999999972,-8.9999999999999858E-2,1.0000000000000231E-2,-0.14000000000000012,8.0000000000000071E-2,-0.16999999999999993,{"$f":"L185-K185","v":0.21999999999999975},{"$f":"M185-L185","v":-8.9999999999999858E-2}]
["%change_07",{"$f":"(B209/M184)*100","v":-6.2240663900415081},{"$f":"(C209/B185)*100","v":1.3274336283185952},13.973799126637548,8.4291187739463673,15.194346289752639,-2.7607361963190145,0.31545741324921861,-4.4025157232704437,2.6315789473684235,-5.4487179487179462,{"$f":"(L209/K185)*100","v":7.4576271186440586},{"$f":"(M209/L185)*100","v":-2.8391167192428979}]
[null,"jan","feb","mar","apr","may","jun","jul","aug","sep","oct","nov","dec","ytd_avg"]
["chg_prv_07-06",{"$f":"B185-B184","v":-0.10000000000000009},-8.0000000000000071E-2,0.12999999999999989,4.0000000000000036E-2,0.30999999999999961,0.21999999999999975,0.12000000000000011,-4.9999999999999822E-2,{"$f":"J185-J184","v":0.49000000000000021},{"$f":"K185-K184","v":0.61000000000000032},{"$f":"L185-L184","v":0.81},{"$f":"M185-M184","v":0.66999999999999993},{"$f":"O185-O184","v":0.2641666666666671}]
["%chg_prv_07-06",{"$f":"(B212/B184)*100","v":-4.2372881355932241},-3.3755274261603407,5.2419354838709635,1.4336917562724028,10.508474576271173,7.4576271186440586,3.9215686274509838,-1.6181229773462726,18.631178707224343,{"$f":"(K212/K184)*100","v":26.068376068376082},{"$f":"(L212/L184)*100","v":34.322033898305087},{"$f":"(M212/M184)*100","v":27.800829875518669},{"$f":"(N212/O184)*100","v":9.9716892104435537}]
[]
[null,"jan-dec","feb-jan","mar-feb","apr-mar","may-apr","jun-may","jul-jun","aug-jul","sep-aug","oct-sep","nov-oct","dec-nov"]
["change_08",{"$f":"B186-M185","v":6.0000000000000053E-2},{"$f":"C186-B186","v":-1.0000000000000231E-2},0.12000000000000011,0.22999999999999998,0.31999999999999984,0.19000000000000039,1.9999999999999574E-2,-0.19999999999999973,-4.0000000000000036E-2,-0.83250000000000002,-0.85749999999999993,-0.25]
["%change_08",{"$f":"(B216/M185)*100","v":1.9480519480519498},{"$f":"(C216/B186)*100","v":-0.3184713375796252},3.8338658146964888,7.0769230769230766,9.1954022988505706,5.0000000000000107,0.50125313283206951,-4.9875311720698186,-1.0498687664042003,-22.082228116710876,-29.191489361702128,-12.019230769230768]
[null,"jan","feb","mar","apr","may","jun","jul","aug","sep","oct","nov","dec","ytd_avg"]
["chg_prv_08-07",{"$f":"B186-B185","v":0.88000000000000034},0.83999999999999986,0.64000000000000012,0.64999999999999991,0.54,0.82000000000000028,{"$f":"H186-H185","v":0.82999999999999963},0.77,0.64999999999999991,-1.2500000000000178E-2,-1.0899999999999999,-1.25,{"$f":"O186-O185","v":0.35562499999999897}]
["%chg_prv_08-07",{"$f":"(B219/B185)*100","v":38.938053097345147},36.681222707423572,24.521072796934874,22.968197879858653,16.564417177914113,25.867507886435341,{"$f":"(H219/H185)*100","v":26.100628930817599},25.328947368421051,20.833333333333329,-0.42372881355932801,-34.384858044164034,-40.584415584415581,{"$f":"(N219/O185)*100","v":12.206807780320329}]
[]
[null,"jan-dec","feb-jan","mar-feb","apr-mar","may-apr","jun-may","jul-jun","aug-jul","sep-aug","oct-sep","nov-oct","dec-nov"]
["change_09",{"$f":"B187-M186","v":8.9999999999999858E-2},{"$f":"C187-B187","v":7.0000000000000062E-2},7.0000000000000062E-2,6.0000000000000053E-2,0.21999999999999975,0.40000000000000036,-0.18000000000000016,8.0000000000000071E-2,-6.0000000000000053E-2,2.0000000000000018E-2,0.1599999999999997,-8.9999999999999858E-2]
["%change_09",{"$f":"(B223/M186)*100","v":4.918032786885238},{"$f":"(C223/B187)*100","v":3.645833333333337},3.5175879396984957,2.9126213592233037,10.377358490566026,17.094017094017111,-6.5693430656934364,3.1250000000000027,-2.2727272727272747,0.77519379844961311,6.1538461538461418,-3.2608695652173862]
[null,"jan","feb","mar","apr","may","jun","jul","aug","sep","oct","nov","dec","ytd_avg"]
["chg_prv_09-08",{"$f":"B187-B186","v":-1.2200000000000002},-1.1399999999999999,-1.19,-1.3599999999999999,-1.46,-1.25,-1.4499999999999997,-1.17,-1.19,-0.33749999999999991,0.67999999999999972,0.83999999999999986,{"$f":"O187-O186","v":-0.85395833333333204}]
["%chg_prv_09-08",{"$f":"(B226/B186)*100","v":-38.853503184713375},-36.421725239616606,-36.615384615384613,-39.080459770114942,-38.421052631578952,-31.32832080200501,-36.159600997506232,-30.70866141732283,-31.564986737400531,-11.489361702127656,32.692307692307679,45.901639344262286,{"$f":"(N226/O186)*100","v":-26.12325536931996}]
[]
[null,"jan-dec","feb-jan","mar-feb","apr-mar","may-apr","jun-may","jul-jun","aug-jul","sep-aug","oct-sep","nov-oct","dec-nov"]
["change_10",{"$f":"B188-M187","v":0.10999999999999988},{"$f":"C188-B188","v":-8.9999999999999858E-2},0.16999999999999993,7.0000000000000284E-2,2.0000000000000018E-2,-0.16000000000000014,9.9999999999997868E-3,-2.9999999999999805E-2,6.999999999999984E-2,0,{"$f":"L188-K188","v":0.13000000000000034},{"$f":"M188-L188","v":6.999999999999984E-2}]
["%change_10",{"$f":"(B230/M187)*100","v":4.1198501872659135},{"$f":"(C230/B188)*100","v":-3.237410071942441},6.3197026022304819,2.4475524475524577,0.6825938566552906,-5.4237288135593271,0.35842293906809275,-1.0714285714285645,2.5270758122743624,0,{"$f":"(L230/K188)*100","v":4.5774647887324065},{"$f":"(M230/L188)*100","v":2.3569023569023515}]
[null,"jan","feb","mar","apr","may","jun","jul","aug","sep","oct","nov","dec","ytd_avg"]
["chg_prv_10-09",{"$f":"B188-B187","v":0.85999999999999988},0.7,0.79999999999999982,0.81,0.61000000000000032,4.9999999999999822E-2,0.23999999999999977,0.12999999999999989,0.25999999999999979,0.23999999999999977,0.21000000000000041,0.37000000000000011,{"$f":"O188-O187","v":0.4399999999999995}]
["%chg_prv_10-09",{"$f":"(B233/B187)*100","v":44.791666666666664},{"$f":"(C233/C187)*100","v":35.175879396984925},{"$f":"(D233/D187)*100","v":38.834951456310669},38.20754716981132,26.068376068376082,1.8248175182481685,9.3749999999999911,4.9242424242424203,10.077519379844952,9.2307692307692211,7.6086956521739291,13.857677902621726,{"$f":"(N233/O187)*100","v":18.219461697722544}]
[]
[null,"jan-dec","feb-jan","mar-feb","apr-mar","may-apr","jun-may","jul-jun","aug-jul","sep-aug","oct-sep","nov-oct","dec-nov"]
["change_11",{"$f":"B189-M188","v":0.16999999999999993},{"$f":"C189-B189","v":0.10999999999999988},0.31000000000000005,0.28000000000000025,6.0000000000000053E-2,-0.2200000000000002,2.9999999999999805E-2,{"$f":"I189-H189","v":0},{"$f":"J189-I189","v":-7.9999999999999627E-2},{"$f":"K189-J189","v":-0.15000000000000036},{"$f":"L189-K189","v":-0.11999999999999966},{"$f":"M189-L189","v":-9.0000000000000302E-2}]
["%change_11",{"$f":"(B237/M188)*100","v":5.592105263157892},{"$f":"(C237/B189)*100","v":3.4267912772585634},9.3373493975903639,7.7134986225895386,1.5345268542199502,-5.5415617128463523,0.79999999999999483,0,-2.1164021164021065,-4.0540540540540633,-3.3802816901408357,-2.6239067055393672]
[null,"jan","feb","mar","apr","may","jun","jul","aug","sep","oct","nov","dec","ytd_avg"]
["chg_prv_11-10",{"$f":"B189-B188","v":0.43000000000000016},0.62999999999999989,0.77,0.98,1.02,0.96,{"$f":"H189-H188","v":0.98},1.0099999999999998,0.86000000000000032,0.71,0.45999999999999996,0.29999999999999982,0.75916666666666721]
["%chg_prv_11-10",{"$f":"(B240/B188)*100","v":15.467625899280582},23.420074349442377,26.923076923076927,33.44709897610921,34.576271186440678,34.408602150537632,{"$f":"(H240/H188)*100","v":35},36.462093862815877,30.281690140845086,25,15.488215488215488,9.8684210526315734,26.590776415645085]
[]
[null,"jan-dec","feb-jan","mar-feb","apr-mar","may-apr","jun-may","jul-jun","aug-jul","sep-aug","oct-sep","nov-oct","dec-nov"]
["change_12",{"$f":"B190-M189","v":7.0000000000000284E-2},{"$f":"C190-B190","v":0.14999999999999991},0.2799999999999998,2.0000000000000018E-2,-0.12999999999999989,-8.9999999999999858E-2,6.999999999999984E-2,0.18000000000000016,6.0000000000000053E-2,-0.28000000000000025,-0.23999999999999977,-0.15000000000000036]
["%change_12",{"$f":"(B244/M189)*100","v":2.0958083832335417},{"$f":"(C244/B190)*100","v":4.3988269794721386},7.865168539325837,0.52083333333333381,-3.3678756476683911,-2.4128686327077711,1.9230769230769187,4.8517520215633461,1.5424164524421609,-7.0886075949367147,-6.5395095367847347,-4.3731778425656076]
[null,"jan","feb","mar","apr","may","jun","jul","aug","sep","oct","nov","dec","ytd_avg"]
["chg_prv_12-11",{"$f":"B190-B189","v":0.20000000000000018},0.24000000000000021,0.20999999999999996,-5.0000000000000266E-2,-0.24000000000000021,-0.10999999999999988,{"$f":"H190-H189","v":-6.999999999999984E-2},0.11000000000000032,{"$f":"J190-J189","v":0.25},0.12000000000000011,{"$f":"L190-L189","v":0},-6.0000000000000053E-2,{"$f":"O190-O189","v":4.9999999999999822E-2}]
["%chg_prv_12-11",{"$f":"(B247/B189)*100","v":6.2305295950155815},7.2289156626506088,5.7851239669421481,-1.2787723785166307,-6.0453400503778392,-2.93333333333333,-1.8518518518518476,{"$f":"(I247/I189)*100","v":2.9100529100529187},6.7567567567567561,{"$f":"(K247/K189)*100","v":3.3802816901408481},0,{"$f":"(M247/M189)*100","v":-1.7964071856287442},{"$f":"(N247/O189)*100","v":1.3834447774959597}]
[]
[null,"jan-dec","feb-jan","mar-feb","apr-mar","may-apr","jun-may","jul-jun","aug-jul","sep-aug","oct-sep","nov-oct","dec-nov"]
["change_13",{"$f":"B191-M190","v":-9.9999999999997868E-3},{"$f":"C191-B191","v":0.45999999999999996},1.0000000000000231E-2,-0.14000000000000012,0.39000000000000012,-0.33000000000000007,9.9999999999997868E-3,{"$f":"I191-H191","v":-4.9999999999999822E-2},-1.0000000000000231E-2,-0.20999999999999996,-0.20999999999999996,-4.0000000000000036E-2]
["%change_13",{"$f":"(B251/M190)*100","v":-0.3048780487804813},{"$f":"(C251/B191)*100","v":14.067278287461773},0.26809651474531454,-3.7433155080213933,10.833333333333336,-8.2706766917293244,0.27322404371584114,-1.362397820163483,-0.27624309392265828,-5.8171745152354566,-6.1764705882352926,-1.2539184952978069]
[null,"jan","feb","mar","apr","may","jun","jul","aug","sep","oct","nov","dec","ytd_avg"]
["chg_prv_13-12",{"$f":"B191-B190","v":-0.14000000000000012},0.16999999999999993,-9.9999999999999645E-2,-0.25999999999999979,0.26000000000000023,2.0000000000000018E-2,{"$f":"H191-H190","v":-4.0000000000000036E-2},-0.27,{"$f":"J191-J190","v":-0.3400000000000003},-0.27,{"$f":"L191-L190","v":-0.24000000000000021},-0.12999999999999989,{"$f":"N191-N190","v":-0.11166666666666725}]
["%chg_prv_13-12",{"$f":"(B254/B190)*100","v":-4.1055718475073348},4.7752808988764022,-2.6041666666666572,-6.7357512953367822,6.9705093833780225,0.54945054945054994,-1.078167115902966,{"$f":"(I254/I190)*100","v":-6.9408740359897179},{"$f":"(J254/J190)*100","v":-8.6075949367088676},-7.3569482288828345,{"$f":"(L254/L190)*100","v":-6.9970845481049624},-3.9634146341463388,{"$f":"(N254/N190)*100","v":-3.0475324084603295}]
[]
[null,"jan-dec","feb-jan","mar-feb","apr-mar","may-apr","jun-may","jul-jun","aug-jul","sep-aug","oct-sep","nov-oct","dec-nov"]
["change_14",{"$f":"B192-M191","v":0.14000000000000012},{"$f":"C192-B192","v":0.10000000000000009},0.22999999999999998,2.9999999999999805E-2,-2.9999999999999805E-2,8.0000000000000071E-2,-3.0000000000000249E-2,{"$f":"I192-H192","v":-0.14999999999999991},-6.999999999999984E-2,-0.25,-0.2200000000000002,-0.41999999999999993]
["%change_14",{"$f":"(B258/M191)*100","v":4.4444444444444491},{"$f":"(C258/B192)*100","v":3.0395136778115526},6.7846607669616521,0.82872928176795035,-0.82191780821917282,2.2099447513812174,-0.81081081081081741,-4.087193460490461,-1.9886363636363591,-7.2463768115942031,-6.8750000000000062,-14.093959731543624]
[null,"jan","feb","mar","apr","may","jun","jul","aug","sep","oct","nov","dec","ytd_avg"]
["chg_prv_14-13",{"$f":"B192-B191","v":2.0000000000000018E-2},-0.33999999999999986,-0.12000000000000011,4.9999999999999822E-2,-0.37000000000000011,4.0000000000000036E-2,{"$f":"H192-H191","v":0},-0.10000000000000009,{"$f":"J192-J191","v":-0.1599999999999997},-0.19999999999999973,{"$f":"L192-L191","v":-0.20999999999999996},-0.58999999999999986,{"$f":"O192-O191","v":-0.16500000000000004}]
["%chg_prv_14-13",{"$f":"(B261/B191)*100","v":0.61162079510703415},-9.1152815013404798,-3.2085561497326229,1.388888888888884,-9.2731829573934856,1.0928961748633887,{"$f":"(H261/H191)*100","v":0},-2.7624309392265216,{"$f":"(J261/J191)*100","v":-4.4321329639889111},-5.882352941176463,{"$f":"(L261/L191)*100","v":-6.5830721003134789},-18.730158730158728,{"$f":"(N261/O191)*100","v":-4.6446164672765669}]
[]
[null,"jan-dec","feb-jan","mar-feb","apr-mar","may-apr","jun-may","jul-jun","aug-jul","sep-aug","oct-sep","nov-oct","dec-nov"]
["change_15",{"$f":"B193-M192","v":-0.49000000000000021}]
["%change_15",{"$f":"(B265/M192)*100","v":-19.140625000000007}]
[null,"jan","feb","mar","apr","may","jun","jul","aug","sep","oct","nov","dec","ytd_avg"]
["chg_prv_15-14",{"$f":"B193-B192","v":-1.2200000000000002},{"$nulls":11},{"$f":"N193-N192","v":-1.3174999999999999}]
["%chg_prv_15-14",{"$f":"(B268/B192)*100","v":-37.082066869300917},{"$nulls":11},{"$f":"(N268/N192)*100","v":-38.892988929889299}]
[]
["Month WI","jan","feb","mar","apr","may","jun","jul","aug","sep","oct","nov","dec","ytd_avg","Column1"]
[2004,1.62,1.7,1.76,1.84,2.04,2.04,1.94,1.96,1.94,2.0699999999999998,2.04,1.88,{"$f":"AVERAGE(B272:M272)","v":1.9024999999999999},{"$f":"AVERAGE(B272:M272)","v":1.9024999999999999}]
[2005,1.88,1.99,2.13,2.29,2.21,2.2200000000000002,2.35,2.5499999999999998,2.83,2.76,2.34,2.2400000000000002,{"$f":"AVERAGE(B273:L273)","v":2.3227272727272728},2.3158333333333334]
[2006,2.37,2.35,2.48,2.79,2.91,2.93,3.08,3.06,2.56,2.27,2.31,2.35,{"$f":"AVERAGE(B274:J274)","v":2.7255555555555557},2.6216666666666666]
[2007,2.21,2.27,2.54,2.82,3.29,3.14,3.15,2.94,3.02,2.86,3.11,2.99,{"$f":"AVERAGE(B275:M275)","v":2.8616666666666664},2.8616666666666664]
[2008,3.06,3.11,3.23,3.46,3.82,4,4.01,3.8,3.77,2.8839999999999999,2.0299999999999998,1.72,3.2411666666666665,3.2411666666666665]
[2009,1.88,1.95,2.04,2.09,2.35,2.76,2.5,2.62,2.5099999999999998,2.56,2.61,2.6,2.3725000000000001,2.3725000000000001]
[2010,2.72,2.61,2.8,2.91,2.8,2.7,2.73,2.71,2.74,2.74,2.89,3,2.7791666666666668,2.7791666666666668]
[2011,3.12,3.25,3.56,3.89,4,3.7,3.71,3.68,3.6,3.39,3.31,3.24,3.5375000000000001,3.5375000000000001]
[2012,3.35,3.49,3.9,3.87,3.71,3.56,3.5,3.9,3.9,3.6,3.41,3.26,{"$f":"AVERAGE(B280:M280)","v":3.6208333333333331},{"$f":"AVERAGE(B280:M280)","v":3.6208333333333331}]
[2013,3.26,3.68,3.69,3.63,3.87,3.63,3.59,3.58,3.53,3.32,3.16,3.13,{"$f":"AVERAGE(B281:M281)","v":3.5058333333333334},{"$f":"AVERAGE(B281:M281)","v":3.5058333333333334}]
[2014,3.26,3.35,3.61,3.67,3.61,3.72,3.6,3.46,3.4,3.17,2.92,2.46,{"$f":"AVERAGE(B282:M282)","v":3.3525000000000005},{"$f":"AVERAGE(B282:M282)","v":3.3525000000000005}]
[2015,1.99,{"$nulls":11},{"$f":"AVERAGE(B283:B283)","v":1.99},{"$f":"AVERAGE(B283:M283)","v":1.99}]
[null,"jan-dec","feb-jan","mar-feb","apr-mar","may-apr","jun-may","jul-jun","aug-jul","sep-aug","oct-sep","nov-oct","dec-nov"]
["change_05",{"$f":"B273-M272","v":0},{"$f":"C273-B273","v":0.1100000000000001},0.1399999999999999,0.16000000000000014,-8.0000000000000071E-2,1.0000000000000231E-2,0.12999999999999989,0.19999999999999973,0.28000000000000025,-7.0000000000000284E-2,-0.41999999999999993,-9.9999999999999645E-2]
["%change_05",{"$f":"(B285/M272)*100","v":0},{"$f":"(C285/B273)*100","v":5.8510638297872397},7.0351758793969807,7.5117370892018851,-3.4934497816593919,0.45248868778281587,5.8558558558558511,8.5106382978723296,10.980392156862756,-2.4734982332155577,-15.217391304347824,-4.2735042735042583]
[null,"jan","feb","mar","apr","may","jun","jul","aug","sep","oct","nov","dec","ytd_avg"]
["chg_prv_05-04",{"$f":"B273-B272","v":0.25999999999999979},0.29000000000000004,0.36999999999999988,0.44999999999999996,0.16999999999999993,0.18000000000000016,{"$f":"H273-H272","v":0.41000000000000014},0.58999999999999986,0.89000000000000012,0.69,0.29999999999999982,0.36000000000000032,{"$f":"O273-O272","v":0.41333333333333355}]
["%chg_prv_05-04",{"$f":"(B288/B272)*100","v":16.049382716049369},17.058823529411768,21.022727272727266,24.456521739130434,8.3333333333333304,8.8235294117647136,{"$f":"(H288/H272)*100","v":21.134020618556708},30.102040816326525,45.876288659793822,33.333333333333329,14.705882352941169,19.148936170212785,{"$f":"(N288/O272)*100","v":21.725799386771804}]
[]
[null,"jan-dec","feb-jan","mar-feb","apr-mar","may-apr","jun-may","jul-jun","aug-jul","sep-aug","oct-sep","nov-oct","dec-nov"]
["change_06",{"$f":"B274-M273","v":0.12999999999999989},{"$f":"C274-B274","v":-2.0000000000000018E-2},0.12999999999999989,0.31000000000000005,0.12000000000000011,2.0000000000000018E-2,0.14999999999999991,-2.0000000000000018E-2,-0.5,{"$f":"K274-J274","v":-0.29000000000000004},{"$f":"L274-K274","v":4.0000000000000036E-2},{"$f":"M274-L274","v":4.0000000000000036E-2}]
["%change_06",{"$f":"(B292/M273)*100","v":5.8035714285714235},{"$f":"(C292/B274)*100","v":-0.84388185654008518},5.5319148936170164,12.500000000000004,4.3010752688172085,0.68728522336769815,5.119453924914672,-0.6493506493506499,-16.33986928104575,{"$f":"(K292/J274)*100","v":-11.328125000000002},{"$f":"(L292/K274)*100","v":1.7621145374449354},{"$f":"(M292/L274)*100","v":1.7316017316017329}]
[null,"jan","feb","mar","apr","may","jun","jul","aug","sep","oct","nov","dec","ytd_avg"]
["chg_prv_06-05",{"$f":"B274-B273","v":0.49000000000000021},0.3600000000000001,0.35000000000000009,0.5,0.70000000000000018,0.71,{"$f":"H274-H273","v":0.73},0.51000000000000023,-0.27,-0.48999999999999977,-2.9999999999999805E-2,0.10999999999999988,{"$f":"O274-O273","v":0.30583333333333318}]
["%chg_prv_06-05",{"$f":"(B295/B273)*100","v":26.063829787234056},18.090452261306538,16.431924882629112,21.834061135371179,31.674208144796388,31.981981981981978,31.063829787234042,20.000000000000011,-9.5406360424028271,{"$f":"(K295/K273)*100","v":-17.75362318840579},{"$f":"(L295/L273)*100","v":-1.2820512820512739},{"$f":"(M295/M273)*100","v":4.9107142857142794},{"$f":"(N295/O273)*100","v":13.206189276718236}]
[]
[null,"jan-dec","feb-jan","mar-feb","apr-mar","may-apr","jun-may","jul-jun","aug-jul","sep-aug","oct-sep","nov-oct","dec-nov"]
["change_07",{"$f":"B275-M274","v":-0.14000000000000012},{"$f":"C275-B275","v":6.0000000000000053E-2},0.27,0.2799999999999998,0.4700000000000002,-0.14999999999999991,9.9999999999997868E-3,-0.20999999999999996,8.0000000000000071E-2,-0.16000000000000014,{"$f":"L275-K275","v":0.25},{"$f":"M275-L275","v":-0.11999999999999966}]
["%change_07",{"$f":"(B299/M274)*100","v":-5.9574468085106433},{"$f":"(C299/B275)*100","v":2.7149321266968349},11.894273127753305,11.023622047244086,16.666666666666675,-4.559270516717322,0.31847133757961105,-6.6666666666666652,2.7210884353741518,-5.2980132450331174,{"$f":"(L299/K275)*100","v":8.7412587412587417},{"$f":"(M299/L275)*100","v":-3.8585209003215324}]
[null,"jan","feb","mar","apr","may","jun","jul","aug","sep","oct","nov","dec","ytd_avg"]
["chg_prv_07-06",{"$f":"B275-B274","v":-0.16000000000000014},-8.0000000000000071E-2,6.0000000000000053E-2,2.9999999999999805E-2,0.37999999999999989,0.20999999999999996,6.999999999999984E-2,-0.12000000000000011,{"$f":"J275-J274","v":0.45999999999999996},{"$f":"K275-K274","v":0.58999999999999986},{"$f":"L275-L274","v":0.79999999999999982},{"$f":"M275-M274","v":0.64000000000000012},{"$f":"O275-O274","v":0.23999999999999977}]
["%chg_prv_07-06",{"$f":"(B302/B274)*100","v":-6.7510548523206815},-3.4042553191489389,2.4193548387096793,1.0752688172042941,13.058419243986249,7.1672354948805443,2.2727272727272676,-3.9215686274509838,17.968749999999996,{"$f":"(K302/K274)*100","v":25.991189427312765},{"$f":"(L302/L274)*100","v":34.632034632034625},{"$f":"(M302/M274)*100","v":27.234042553191497},{"$f":"(N302/O274)*100","v":9.1544818817546005}]
[]
[null,"jan-dec","feb-jan","mar-feb","apr-mar","may-apr","jun-may","jul-jun","aug-jul","sep-aug","oct-sep","nov-oct","dec-nov"]
["change_08",{"$f":"B276-M275","v":6.999999999999984E-2},{"$f":"C276-B276","v":4.9999999999999822E-2},0.12000000000000011,0.22999999999999998,0.35999999999999988,0.18000000000000016,9.9999999999997868E-3,-0.20999999999999996,-2.9999999999999805E-2,-0.88600000000000012,-0.85400000000000009,-0.30999999999999983]
["%change_08",{"$f":"(B306/M275)*100","v":2.3411371237458138},{"$f":"(C306/B276)*100","v":1.6339869281045694},3.858520900321547,7.1207430340557263,10.404624277456644,4.7120418848167578,0.24999999999999467,-5.2369077306733161,-0.78947368421052111,-23.501326259946953,-29.611650485436897,-15.270935960591125]
[null,"jan","feb","mar","apr","may","jun","jul","aug","sep","oct","nov","dec","ytd_avg"]
["chg_prv_08-07",{"$f":"B276-B275","v":0.85000000000000009},0.83999999999999986,0.69,0.64000000000000012,0.5299999999999998,0.85999999999999988,{"$f":"H276-H275","v":0.85999999999999988},0.85999999999999988,0.75,2.4000000000000021E-2,-1.08,-1.2700000000000002,{"$f":"O276-O275","v":0.37950000000000017}]
["%chg_prv_08-07",{"$f":"(B309/B275)*100","v":38.461538461538467},37.004405286343605,27.165354330708659,22.695035460992912,16.109422492401208,27.388535031847127,{"$f":"(H309/H275)*100","v":27.301587301587301},29.251700680272101,24.834437086092713,0.83916083916084006,-34.726688102893895,-42.474916387959873,{"$f":"(N309/O275)*100","v":13.261502620850326}]
[]
[null,"jan-dec","feb-jan","mar-feb","apr-mar","may-apr","jun-may","jul-jun","aug-jul","sep-aug","oct-sep","nov-oct","dec-nov"]
["change_09",{"$f":"B277-M276","v":0.15999999999999992},{"$f":"C277-B277","v":7.0000000000000062E-2},9.000000000000008E-2,4.9999999999999822E-2,0.26000000000000023,0.4099999999999997,-0.25999999999999979,{"$f":"I277-H277","v":0.12000000000000011},{"$f":"J277-I277","v":-0.11000000000000032},{"$f":"K277-J277","v":5.0000000000000266E-2},{"$f":"L277-K277","v":4.9999999999999822E-2},{"$f":"M277-L277","v":-9.9999999999997868E-3}]
["%change_09",{"$f":"(B313/M276)*100","v":9.302325581395344},{"$f":"(C313/B277)*100","v":3.7234042553191524},4.6153846153846194,2.450980392156854,12.440191387559821,17.446808510638284,-9.4202898550724576,4.8000000000000043,-4.1984732824427597,{"$f":"(K313/J277)*100","v":1.9920318725099708},{"$f":"(L313/K277)*100","v":1.9531249999999931},{"$f":"(M313/L277)*100","v":-0.38314176245209913}]
[null,"jan","feb","mar","apr","may","jun","jul","aug","sep","oct","nov","dec","ytd_avg"]
["chg_prv_09-08",{"$f":"B277-B276","v":-1.1800000000000002},-1.1599999999999999,-1.19,-1.37,-1.4699999999999998,-1.2400000000000002,{"$f":"H277-H276","v":-1.5099999999999998},-1.1799999999999997,-1.2600000000000002,-0.32399999999999984,0.58000000000000007,0.88000000000000012,{"$f":"O277-O276","v":-0.86866666666666648}]
["%chg_prv_09-08",{"$f":"(B316/B276)*100","v":-38.562091503267979},-37.29903536977492,-36.84210526315789,-39.595375722543359,-38.481675392670148,-31.000000000000007,{"$f":"(H316/H276)*100","v":-37.655860349127181},-31.052631578947366,-33.421750663129977,-11.23439667128987,28.571428571428577,51.162790697674424,{"$f":"(N316/O276)*100","v":-26.80104900498791}]
[]
[null,"jan-dec","feb-jan","mar-feb","apr-mar","may-apr","jun-may","jul-jun","aug-jul","sep-aug","oct-sep","nov-oct","dec-nov"]
["change_10",{"$f":"B278-M277","v":0.12000000000000011},{"$f":"C278-B278","v":-0.11000000000000032},0.18999999999999995,0.11000000000000032,-0.11000000000000032,-9.9999999999999645E-2,2.9999999999999805E-2,-2.0000000000000018E-2,3.0000000000000249E-2,0,{"$f":"L278-K278","v":0.14999999999999991},{"$f":"M278-L278","v":0.10999999999999988}]
["%change_10",{"$f":"(B320/M277)*100","v":4.6153846153846194},{"$f":"(C320/B278)*100","v":-4.0441176470588349},7.2796934865900376,3.9285714285714404,-3.7800687285223478,-3.5714285714285587,1.1111111111111038,-0.73260073260073333,1.1070110701107103,0,{"$f":"(L320/K278)*100","v":5.4744525547445217},{"$f":"(M320/L278)*100","v":3.8062283737024178}]
[null,"jan","feb","mar","apr","may","jun","jul","aug","sep","oct","nov","dec","ytd_avg"]
["chg_prv_10-09",{"$f":"B278-B277","v":0.8400000000000003},0.65999999999999992,0.75999999999999979,0.82000000000000028,0.44999999999999973,-5.9999999999999609E-2,0.22999999999999998,{"$f":"I278-I277","v":8.9999999999999858E-2},{"$f":"J278-J277","v":0.23000000000000043},{"$f":"K278-K277","v":0.18000000000000016},{"$f":"L278-L277","v":0.28000000000000025},{"$f":"M278-M277","v":0.39999999999999991},{"$f":"O278-O277","v":0.40666666666666673}]
["%chg_prv_10-09",{"$f":"(B323/B277)*100","v":44.680851063829806},33.84615384615384,37.254901960784302,39.234449760765564,19.148936170212753,-2.173913043478247,9.1999999999999993,{"$f":"(I323/I277)*100","v":3.4351145038167887},{"$f":"(J323/J277)*100","v":9.1633466135458352},{"$f":"(K323/K277)*100","v":7.0312500000000053},{"$f":"(L323/L277)*100","v":10.727969348659014},{"$f":"(M323/M277)*100","v":15.38461538461538},{"$f":"(N323/O277)*100","v":17.140850017562347}]
[]
[null,"jan-dec","feb-jan","mar-feb","apr-mar","may-apr","jun-may","jul-jun","aug-jul","sep-aug","oct-sep","nov-oct","dec-nov"]
["change_11",{"$f":"B279-M278","v":0.12000000000000011},{"$f":"C279-B279","v":0.12999999999999989},0.31000000000000005,0.33000000000000007,0.10999999999999988,-0.29999999999999982,9.9999999999997868E-3,{"$f":"I279-H279","v":-2.9999999999999805E-2},{"$f":"J279-I279","v":-8.0000000000000071E-2},{"$f":"K279-J279","v":-0.20999999999999996},{"$f":"L279-K279","v":-8.0000000000000071E-2},{"$f":"M279-L279","v":-6.999999999999984E-2}]
["%change_11",{"$f":"(B327/M278)*100","v":4.0000000000000036},{"$f":"(C327/B279)*100","v":4.1666666666666625},9.5384615384615401,9.269662921348317,2.8277634961439557,-7.4999999999999956,0.27027027027026451,-0.80862533692721839,-2.1739130434782625,-5.8333333333333321,-2.3598820058997072,-2.1148036253776388]
[null,"jan","feb","mar","apr","may","jun","jul","aug","sep","oct","nov","dec","ytd_avg"]
["chg_prv_11-10",{"$f":"B279-B278","v":0.39999999999999991},0.64000000000000012,0.76000000000000023,0.98,1.2000000000000002,1,{"$f":"H279-H278","v":0.98},0.9700000000000002,0.85999999999999988,0.64999999999999991,0.41999999999999993,0.24000000000000021,{"$f":"O279-O278","v":0.7583333333333333}]
["%chg_prv_11-10",{"$f":"(B330/B278)*100","v":14.705882352941172},24.521072796934874,27.142857142857153,33.676975945017176,42.857142857142868,37.037037037037038,{"$f":"(H330/H278)*100","v":35.897435897435898},35.793357933579344,31.386861313868607,23.722627737226272,14.532871972318336,8.0000000000000071,{"$f":"(N330/O278)*100","v":27.286356821589202}]
[]
[null,"jan-dec","feb-jan","mar-feb","apr-mar","may-apr","jun-may","jul-jun","aug-jul","sep-aug","oct-sep","nov-oct","dec-nov"]
["change_12",{"$f":"B280-M279","v":0.10999999999999988},{"$f":"C280-B280","v":0.14000000000000012},0.4099999999999997,-2.9999999999999805E-2,-0.16000000000000014,-0.14999999999999991,-6.0000000000000053E-2,0.39999999999999991,0,-0.29999999999999982,-0.18999999999999995,-0.15000000000000036]
["%change_12",{"$f":"(B334/M279)*100","v":3.3950617283950573},{"$f":"(C334/B280)*100","v":4.1791044776119435},11.747851002865319,-0.76923076923076428,-4.1343669250646027,-4.0431266846361158,-1.6853932584269677,11.428571428571425,0,-7.692307692307689,-5.2777777777777768,-4.3988269794721511]
[null,"jan","feb","mar","apr","may","jun","jul","aug","sep","oct","nov","dec","ytd_avg"]
["chg_prv_12-11",{"$f":"B280-B279","v":0.22999999999999998},0.24000000000000021,0.33999999999999986,-2.0000000000000018E-2,-0.29000000000000004,-0.14000000000000012,{"$f":"H280-H279","v":-0.20999999999999996},0.21999999999999975,{"$f":"J280-J279","v":0.29999999999999982},0.20999999999999996,{"$f":"L280-L279","v":0.10000000000000009},1.9999999999999574E-2,{"$f":"O280-O279","v":8.3333333333333037E-2}]
["%chg_prv_12-11",{"$f":"(B337/B279)*100","v":7.3717948717948705},7.3846153846153912,9.5505617977528043,-0.51413881748072032,-7.2500000000000009,-3.7837837837837869,-5.6603773584905657,{"$f":"(I337/I279)*100","v":5.9782608695652106},8.3333333333333286,{"$f":"(K337/K279)*100","v":6.1946902654867237},3.0211480362537788,{"$f":"(M337/M279)*100","v":0.6172839506172707},{"$f":"(N337/O279)*100","v":2.3557126030624178}]
[]
[null,"jan-dec","feb-jan","mar-feb","apr-mar","may-apr","jun-may","jul-jun","aug-jul","sep-aug","oct-sep","nov-oct","dec-nov"]
["change_13",{"$f":"B281-M280","v":0},{"$f":"C281-B281","v":0.42000000000000037},9.9999999999997868E-3,-6.0000000000000053E-2,0.24000000000000021,-0.24000000000000021,-4.0000000000000036E-2,{"$f":"I281-H281","v":-9.9999999999997868E-3},-5.0000000000000266E-2,-0.20999999999999996,-0.1599999999999997,-3.0000000000000249E-2]
["%change_13",{"$f":"(B341/M280)*100","v":0},{"$f":"(C341/B281)*100","v":12.883435582822097},0.27173913043477677,-1.6260162601626031,6.6115702479338898,-6.2015503875969049,-1.1019283746556485,-0.27855153203342026,-1.3966480446927447,-5.9490084985835692,-4.8192771084337265,-0.94936708860760277]
[null,"jan","feb","mar","apr","may","jun","jul","aug","sep","oct","nov","dec","ytd_avg"]
["chg_prv_13-12",{"$f":"B281-B280","v":-9.0000000000000302E-2},0.18999999999999995,-0.20999999999999996,-0.24000000000000021,0.16000000000000014,6.999999999999984E-2,{"$f":"H281-H280","v":8.9999999999999858E-2},-0.31999999999999984,{"$f":"J281-J280","v":-0.37000000000000011},-0.28000000000000025,{"$f":"L281-L280","v":-0.25},-0.12999999999999989,{"$f":"N281-N280","v":-0.11499999999999977}]
["%chg_prv_13-12",{"$f":"(B344/B280)*100","v":-2.6865671641791136},5.4441260744985653,-5.3846153846153832,-6.2015503875969049,4.312668463611864,1.9662921348314562,2.5714285714285672,{"$f":"(I344/I280)*100","v":-8.2051282051282008},{"$f":"(J344/J280)*100","v":-9.487179487179489},-7.7777777777777848,{"$f":"(L344/L280)*100","v":-7.3313782991202334},-3.9877300613496902,{"$f":"(N344/N280)*100","v":-3.1760644418872204}]
[]
[null,"jan-dec","feb-jan","mar-feb","apr-mar","may-apr","jun-may","jul-jun","aug-jul","sep-aug","oct-sep","nov-oct","dec-nov"]
["change_14",{"$f":"B282-M281","v":0.12999999999999989},{"$f":"C282-B282","v":9.0000000000000302E-2},0.25999999999999979,6.0000000000000053E-2,-6.0000000000000053E-2,0.11000000000000032,-0.12000000000000011,{"$f":"I282-H282","v":-0.14000000000000012},-6.0000000000000053E-2,-0.22999999999999998,-0.25,-0.45999999999999996]
["%change_14",{"$f":"(B348/M281)*100","v":4.1533546325878561},{"$f":"(C348/B282)*100","v":2.7607361963190278},7.7611940298507403,1.6620498614958463,-1.6348773841961868,3.0470914127423914,-3.2258064516129057,-3.8888888888888924,-1.7341040462427761,-6.7647058823529411,-7.8864353312302837,-15.753424657534246]
[null,"jan","feb","mar","apr","may","jun","jul","aug","sep","oct","nov","dec","ytd_avg"]
["chg_prv_14-13",{"$f":"B282-B281","v":0},-0.33000000000000007,-8.0000000000000071E-2,4.0000000000000036E-2,-0.26000000000000023,9.0000000000000302E-2,{"$f":"H282-H281","v":1.0000000000000231E-2},-0.12000000000000011,{"$f":"J282-J281","v":-0.12999999999999989},-0.14999999999999991,{"$f":"L282-L281","v":-0.24000000000000021},-0.66999999999999993,{"$f":"O282-O281","v":-0.15333333333333288}]
["%chg_prv_14-13",{"$f":"(B351/B281)*100","v":0},-8.9673913043478279,-2.1680216802168042,1.1019283746556485,-6.7183462532299805,2.4793388429752152,{"$f":"(H351/H281)*100","v":0.27855153203343264},-3.3519553072625725,{"$f":"(J351/J281)*100","v":-3.6827195467422067},-4.5180722891566241,{"$f":"(L351/L281)*100","v":-7.5949367088607653},-21.405750798722043,{"$f":"(N351/O281)*100","v":-4.3736629427145104}]
[]
[null,"jan-dec","feb-jan","mar-feb","apr-mar","may-apr","jun-may","jul-jun","aug-jul","sep-aug","oct-sep","nov-oct","dec-nov"]
["change_15",{"$f":"B283-M282","v":-0.47}]
["%change_15",{"$f":"(B355/M282)*100","v":-19.105691056910569}]
[null,"jan","feb","mar","apr","may","jun","jul","aug","sep","oct","nov","dec","ytd_avg"]
["chg_prv_15-14",{"$f":"B283-B282","v":-1.2699999999999998},{"$nulls":11},{"$f":"N283-N282","v":-1.3625000000000005}]
["%chg_prv_15-14",{"$f":"(B358/B282)*100","v":-38.957055214723923},{"$nulls":11},{"$f":"(N358/N282)*100","v":-40.641312453392999}]

{"sheet":"graphs","index":4,"n_rows":0,"n_cols":0,"rows_kept":0,"cut":false,"hidden":false,"merged":[]}