{"text_format":"2","workbook":"xlsx","n_sheets":6,"sheets":["data","mnth-mnth_03-04","graphs","Sheet1","Sheet3","Sheet2"],"not_rendered":{"charts":11,"images":3,"macros":0,"external_links":0,"defined_names":1,"comments":0,"pivot_tables":0},"unopened":[],"bounds":{"document_bytes":16777216,"sheet_cells":100000,"run_cost":"one","rows_first":2000,"rows_last":500,"rows_between":2000,"halvings":0,"cell_chars":16384,"cell_head_chars":4096},"cells_cut":0,"cells_raw":0,"read":"whole","date_system":"1900"}

{"sheet":"data","index":0,"n_rows":1009,"n_cols":22,"rows_kept":1009,"cut":false,"hidden":false,"merged":[]}
["month","Manufacturing (thousands)EC MSA","m_indx","Retail Trade Employment (thousands) EC","Health Services and Education Employment (thousands) EC","Natural Resource, Mining, & Construction Employment (thousands) EC","Leisure & Hospitality Employment (thousands) EC","Total Non-Farm Employment (thousands) EC","Manufacturing Employment (thousands) WI","wi_m_indx","Retail Trade Employment (thousands) WI","Health Services & Education (thousands) WI","Construction (thousands) WI","Lesiure & Hospitality (thousands) WI","Total Non-Farm (thousands) WI","Manufacturing (thousands) US","us_m_indx","Retail Trade (thousands) US","Health Services & Education (thousands) US","Constructions (thousands) US","Leisure & Hospitality (thousands) US","Total Non-Farm (thousands) US"]
["1993-01-01",9.8000000000000007,null,9.8000000000000007,8.1,1.5,5.6,58.3,513.5,null,277.2,262.39999999999998,81.2,191.6,2324.9,16661,{"$f":"(P2/$P$2)*100","v":100},12846.1,12032,4233,9026,108047]
["1993-02-01",9.6999999999999993,null,9.6,8.3000000000000007,1.5,5.8,59.7,514.79999999999995,null,272.3,265.3,79.7,192.7,2341.8000000000002,16671,{"$f":"(P3/$P$2)*100","v":100.06002040693835},12698.7,12199,4247,9145,108650]
["1993-03-01",9.6999999999999993,null,9.8000000000000007,8.3000000000000007,1.5,5.8,59.8,518,null,272.7,265.60000000000002,80.900000000000006,195.7,2355.4,16681,{"$f":"(P4/$P$2)*100","v":100.12004081387671},12651.2,12240,4287,9267,109083]
["1993-04-01",9.6999999999999993,null,10,8.3000000000000007,1.8,6,60.8,519.20000000000005,null,274.60000000000002,267.2,86.2,200.4,2377.4,16684,100.13804693595823,12742.1,12294,4542,9599,110087]
["1993-05-01",9.9,null,10.3,8.4,2.2000000000000002,6.2,61.8,522.6,null,278.60000000000002,267.39999999999998,96.3,213.5,2416.6,16733,100.43214692995619,12861.2,12273,4816,9899,111050]
["1993-06-01",10,null,10.3,8.3000000000000007,2.4,6.3,60.9,531.9,null,282.3,267,101.3,223.7,2443.4,16834,101.03835304003361,12971.8,12153,4968,10189,111640]
["1993-07-01",10.1,null,10.3,8.3000000000000007,2.6,6.3,61.5,532.20000000000005,null,281.3,266.8,105.5,224.7,2424.8000000000002,16726,100.39013264509933,13006,12139,5085,10216,110771]
["1993-08-01",10.3,null,10.4,8.5,2.5,6.5,62,535.4,null,282.89999999999998,266.89999999999998,105.2,228.1,2431.5,16853,101.1523918132165,13044.7,12128,5138,10278,110880]
["1993-09-01",10.199999999999999,null,10.3,8.5,2.5,6.6,62.7,533.1,null,283.5,269.3,104,218.4,2450.4,16891,101.38046935958225,13045.3,12366,5094,10066,111868]
["1993-10-01",10.1,null,10.5,8.6,2.6,6.5,63.6,531.9,null,287.5,271.3,105.3,210.9,2461.3000000000002,16869,101.24842446431788,13171.9,12555,5105,9775,112533]
["1993-11-01",10.199999999999999,null,10.8,8.6999999999999993,2.2999999999999998,6.4,64.3,530.29999999999995,null,296,272.3,102.4,204.6,2461.4,16856,101.17039793529801,13454.4,12631,5012,9641,112878]
["1993-12-01",10.199999999999999,null,10.9,8.6999999999999993,2,6.4,63.7,530.9,null,300.10000000000002,272.39999999999998,96.5,204.9,2463.1999999999998,16824,100.97833263309526,13752.1,12631,4826,9686,113025]
["1994-01-01",9.8000000000000007,{"$f":"(B14/$B$14)*100","v":100},10.199999999999999,8.6,1.7,6,60.9,523.1,{"$f":"(I14/$I$14)*100","v":100},282.89999999999998,267.89999999999998,84.3,195.6,2383.8000000000002,16722,100.36612448232398,13149.5,12494,4500,9388,110777]
["1994-02-01",9.9,{"$f":"(B15/$B$14)*100","v":101.0204081632653},10.1,8.6,1.6,6.2,62,523.70000000000005,{"$f":"(I15/$I$14)*100","v":100.11470082202256},277.60000000000002,270.39999999999998,81.3,196.8,2397.6999999999998,16744,100.49816937758837,13011.7,12662,4454,9478,111357]
["1994-03-01",10.1,103.0612244897959,10.199999999999999,8.6,1.7,6.2,62.4,527.6,100.86025616516918,279.10000000000002,271.3,86,199.4,2421.6999999999998,16799,100.82828161574935,13048,12743,4602,9706,112332]
["1994-04-01",10.3,105.10204081632652,10.3,8.5,2,6.4,63.7,534.29999999999995,102.14108201108773,281.60000000000002,272.39999999999998,94.7,204.9,2456.1,16855,101.16439589460417,13162.2,12796,4905,9986,113412]
["1994-05-01",10.4,106.12244897959184,10.6,8.5,2.5,6.6,64.8,538.5,102.94398776524565,285.8,273,103,218.3,2487.1999999999998,16932,101.62655302802952,13291.7,12771,5149,10274,114423]
["1994-06-01",10.6,108.16326530612244,10.7,8.6,2.7,6.5,64,552.6,105.63945708277575,290,273.2,108.8,228.9,2523.1999999999998,17103,102.65290198667547,13425.4,12654,5316,10603,115211]
["1994-07-01",10.8,110.20408163265304,11,8.6,2.9,6.7,64.7,556.9,106.46147964060408,290.89999999999998,272.2,111.1,233.3,2512.9,16991,101.98067342896584,13482.6,12629,5430,10619,114265]
["1994-08-01",10.7,109.18367346938773,11,8.5,2.8,6.6,63.4,560,107.0541005543873,293.60000000000002,272.10000000000002,110.8,233.3,2512.5,17183,103.13306524218233,13546.3,12624,5469,10657,114573]
["1994-09-01",10.6,108.16326530612244,11,8.6,2.8,6.8,65.8,559.9,107.03498375071688,296.39999999999998,274.60000000000002,110.3,226.2,2543.6999999999998,17222,103.36714482924194,13578.2,12884,5444,10413,115631]
["1994-10-01",10.5,107.14285714285714,11.3,8.6,2.9,6.5,65.900000000000006,557.29999999999995,106.5379468552858,301,274.89999999999998,109.1,215,2541.1,17226,103.39115299201728,13722.9,13085,5412,10087,116256]
["1994-11-01",10.5,107.14285714285714,11.7,8.6,2.8,6.6,66.7,559.20000000000005,106.90116612502389,311.5,277.60000000000002,106.3,208.8,2556,17238,103.46317748034333,14093.5,13166,5336,9972,116863]
["1994-12-01",10.4,106.12244897959184,11.8,8.6999999999999993,2.5,6.8,66.2,560.29999999999995,107.11145096539857,316.60000000000002,277.89999999999998,99.6,209.5,2553,17230,103.41516115479263,14377.2,13171,5124,10013,116900]
["1995-01-01",10.1,103.0612244897959,11.3,8.6999999999999993,2.1,6.4,63.9,556.5,106.38501242592238,294.8,273,87.7,198.2,2476.9,17133,102.83296320749056,13771.8,13016,4788,9751,114591]
["1995-02-01",10.1,103.0612244897959,11.3,8.8000000000000007,1.9,6.6,65,557.70000000000005,106.61441406996749,290,276,85,200.6,2488.3000000000002,17158,102.98301422483644,13576.3,13234,4716,9879,115249]
["1995-03-01",10.199999999999999,104.08163265306121,11.2,8.8000000000000007,2,6.7,65.2,556.9,106.46147964060408,291.7,278,88.8,205.1,2512.9,17177,103.09705299801932,13535.7,13304,4857,10110,116005]
["1995-04-01",10.4,106.12244897959184,11.4,8.9,2.2999999999999998,6.8,66.5,561.29999999999995,107.30261900210283,292.39999999999998,277.2,95.5,210.1,2533.6,17206,103.27111217814058,13650.5,13327,5097,10358,116838]
["1995-05-01",10.4,106.12244897959184,11.5,9,2.8,7,67.3,562.70000000000005,107.57025425348883,296.3,278.39999999999998,103.4,221.8,2559.6,17234,103.43916931756797,13754.1,13282,5283,10683,117562]
["1995-06-01",10.4,106.12244897959184,11.6,9,3,6.7,66.5,575.20000000000005,109.9598547122921,300.39999999999998,279.3,110.5,235.1,2601.1,17342,104.08738971250224,13870.9,13135,5472,11056,118277]
["1995-07-01",10.6,108.16326530612244,11.6,9,3.1,7.2,66.400000000000006,574.79999999999995,109.8833874976104,298.3,278.3,111.8,236.5,2571.5,17177,103.09705299801932,13874.7,13053,5571,11076,117044]
["1995-08-01",10.8,110.20408163265304,11.6,9.1999999999999993,3.2,6.9,66.8,579.79999999999995,110.8392276811317,301.7,279.39999999999998,111.4,239.2,2579.6,17335,104.04537542764541,13904.8,13053,5615,11106,117307]
["1995-09-01",10.7,109.18367346938773,11.6,9.1,3,6.8,67.400000000000006,574.6,109.84515389026954,302.7,282.8,110.3,227.7,2596.5,17341,104.08138767180841,13890.6,13325,5589,10835,118221]
["1995-10-01",10.5,107.14285714285714,11.9,9.1999999999999993,3.1,6.7,68.599999999999994,568.29999999999995,108.64079525903267,307.5,285.5,109.2,218.5,2594.6,17290,103.77528359642278,14002.5,13532,5584,10503,118822]
["1995-11-01",10.6,108.16326530612244,12.1,9.3000000000000007,2.8,6.8,68.599999999999994,566.5,108.296692792965,316,288,106.1,211.3,2594.1,17248,103.52319788728168,14343.6,13605,5468,10322,119060]
["1995-12-01",10.6,108.16326530612244,12.3,9.3000000000000007,2.5,6.7,68.400000000000006,565.20000000000005,108.04817434524946,319.89999999999998,289.10000000000002,100.1,211,2594.3000000000002,17251,103.54120400936317,14584.9,13599,5249,10333,119058]
["1996-01-01",10.5,107.14285714285714,11.9,9.1,2,6.1,64.7,555.9,106.27031160389981,303.89999999999998,287.8,90.6,202.7,2523.8000000000002,17083,102.53286117279876,13924.2,13391,4907,9994,116358]
["1996-02-01",10.5,107.14285714285714,11.7,9.1999999999999993,2,6.3,66.099999999999994,554.20000000000005,105.94532594150259,295.2,290.89999999999998,88,203.9,2520,17130,102.81495708540905,13727.3,13625,4943,10139,117296]
["1996-03-01",10.5,107.14285714285714,11.9,9.3000000000000007,2,6.4,66.599999999999994,556.29999999999995,106.34677881858153,296.5,293.2,91.5,207.3,2545.6999999999998,17113,102.71292239361382,13744.6,13696,5066,10381,118099]
["1996-04-01",11.2,114.28571428571428,11.6,9.4,2.5,6.6,68.5,563.4,107.70407187918178,295.7,292.89999999999998,98.4,212.9,2564,17137,102.85697137026588,13808.2,13724,5322,10638,118936]
["1996-05-01",11,112.24489795918366,12,9.1999999999999993,2.9,6.7,69,566.29999999999995,108.25845918562416,301.3,293.7,108.8,227.1,2604.6999999999998,17210,103.2951203409159,13990.1,13683,5561,10999,120063]
["1996-06-01",11.3,115.30612244897959,12,9.3000000000000007,3.3,6.6,68.8,576.1,110.13190594532594,304.39999999999998,294,115.6,237.9,2638.6,17323,103.97335093931936,14103.9,13521,5753,11344,120726]
["1996-07-01",11.2,114.28571428571428,12,9.4,3.3,6.6,68.2,573.79999999999995,109.69221946090613,303.10000000000002,292.89999999999998,118.8,239.9,2611.4,17181,103.12106116079467,14132.5,13469,5872,11363,119689]
["1996-08-01",11.3,115.30612244897959,12.3,9.6,3.4,6.8,68.900000000000006,580.79999999999995,111.03039571783597,305.60000000000002,292.39999999999998,120.1,243.1,2627.4,17362,104.20743052637897,14163.8,13440,5913,11395,119981]
["1996-09-01",11.2,114.28571428571428,11.9,9.6999999999999993,3.3,6.9,70.5,574.4,109.80692028292869,305.2,295,117.9,231.7,2635.7,17348,104.12340195666528,14150.1,13694,5872,11055,120724]
["1996-10-01",11.3,115.30612244897959,12.1,9.6,3.3,6.9,71.2,571.5,109.25253297648632,311.10000000000002,298.2,117.2,221.4,2642.5,17333,104.03337134625772,14324.4,13937,5867,10782,121441]
["1996-11-01",11.3,115.30612244897959,12.4,9.6,3.2,6.8,71.3,570,108.96578092142992,321.7,299.8,114.3,214.3,2648.5,17312,103.90732849168718,14688.4,14020,5775,10603,121899]
["1996-12-01",11.3,115.30612244897959,12.5,9.6999999999999993,2.6,6.7,70.8,568.79999999999995,108.7363792773848,326.3,300.3,107.8,215.3,2644.4,17308,103.88332032891184,14952.7,13990,5576,10625,121875]
["1997-01-01",11.2,114.28571428571428,12,9.6999999999999993,2.1,6.2,67.5,559.9,107.03498375071688,306.2,296,95.9,204.8,2559.9,17183,103.13306524218233,14223.5,13822,5232,10275,119331]
["1997-02-01",11.4,116.32653061224489,11.8,9.6999999999999993,2,6.5,69.400000000000006,560.5,107.14968457273943,299.5,298.8,94.1,206.1,2569.5,17223,103.37314686993577,14019.6,14028,5260,10428,120191]
["1997-03-01",11.6,118.36734693877551,12.1,9.6999999999999993,2.1,6.6,70.2,563,107.6276046645001,300.7,299.2,96,208.5,2584.6,17268,103.6432387011584,14036.3,14093,5376,10645,121073]
["1997-04-01",11.8,120.40816326530613,12,9.6999999999999993,2.6,6.9,71.400000000000006,570.9,109.13783215446375,300.2,299.5,104.2,216.9,2617.6999999999998,17288,103.76327951503512,14115.5,14139,5614,10899,122047]
["1997-05-01",12,122.44897959183672,12.2,9.6999999999999993,3.1,7.1,72.400000000000006,577.9,110.47600841139359,305.39999999999998,300.5,114.3,231.6,2659.6,17356,104.17141828221594,14238.2,14093,5855,11267,123125]
["1997-06-01",12.2,124.48979591836734,12.2,9.6999999999999993,3.5,6.9,71.8,588.9,112.57885681514051,309.3,301.10000000000002,120.5,241.9,2696.1,17485,104.94568153172079,14335.8,13912,6017,11602,123772]
["1997-07-01",12.3,125.51020408163265,12.1,9.6999999999999993,3.5,7,71.599999999999994,588,112.40680558210667,309.60000000000002,301.5,123.6,245.3,2671.4,17352,104.14741011944062,14351,13870,6137,11600,122786]
["1997-08-01",12.5,127.55102040816327,12,9.8000000000000007,3.5,6.9,71.599999999999994,591.70000000000005,113.11412731791243,313,301.3,123.1,247,2679.6,17553,105.35382029890164,14388.3,13832,6172,11615,122853]
["1997-09-01",12.5,127.55102040816327,11.7,9.8000000000000007,3.5,6.8,72.8,588.20000000000005,112.44503918944753,312.5,304.3,120.6,236.1,2695.6,17550,105.33581417682012,14355.9,14104,6127,11299,123857]
["1997-10-01",12.4,126.53061224489794,12.1,9.9,3.4,7,73.8,586.20000000000005,112.062703116039,317,307.10000000000002,119.4,228.1,2708.4,17563,105.41384070583999,14529.3,14347,6117,10984,124760]
["1997-11-01",12.5,127.55102040816327,12.4,9.9,3.1,6.9,73.8,586.5,112.12005352705027,326.89999999999998,308.89999999999998,116.2,220.1,2711.7,17597,105.6179100894304,14900.5,14412,6013,10793,125153]
["1997-12-01",12.6,128.57142857142856,12.5,10.199999999999999,2.7,6.8,73.400000000000006,588.5,112.5023896004588,333.2,309.7,110.4,220.5,2715.3,17613,105.71394274053179,15172.9,14394,5838,10808,125289]
["1998-01-01",12.7,129.59183673469386,11.7,10.199999999999999,2.1,6.2,69.599999999999994,583.20000000000005,111.48919900592622,308.60000000000002,304.8,96.8,207.5,2625.2,17511,105.10173458976051,14451.9,14195,5544,10445,122736]
["1998-02-01",12.7,129.59183673469386,11.7,10.199999999999999,2.1,6.4,71.7,582.9,111.43184859491492,303.39999999999998,308.10000000000002,96,210,2639.2,17536,105.25178560710641,14239.5,14404,5542,10595,123508]
["1998-03-01",12.8,130.61224489795919,11.8,10.199999999999999,2.2000000000000002,6.5,72,584.9,111.81418466832345,304.8,309.89999999999998,97.4,210.5,2651.8,17569,105.44985295000299,14222.5,14461,5602,10801,124227]
["1998-04-01",13,132.65306122448979,12.1,10.199999999999999,2.9,6.8,73.7,589.4,112.67444083349262,304.8,311.89999999999998,109.7,219.6,2691.8,17580,105.5158753976352,14318.2,14496,5919,11087,125265]
["1998-05-01",13,132.65306122448979,12.3,10.3,3.4,7,75,592.1,113.19059453259415,309.89999999999998,311.8,119.2,233.8,2726.7,17607,105.67793049636876,14468.2,14439,6147,11455,126345]
["1998-06-01",13.2,134.69387755102039,12.3,10.3,3.6,6.9,74.5,602.4,115.15962531064805,314.10000000000002,312.89999999999998,124.7,244.6,2760.1,17709,106.29013864714003,14565.3,14267,6356,11792,127005]
["1998-07-01",13.4,136.73469387755102,12.2,10.199999999999999,4,7.1,74.2,597,114.12731791244504,312.7,309.10000000000002,129.6,247.7,2731.5,17404,{"$f":"(P68/$P$2)*100","v":104.45951623552008},14598.4,14232,6496,11838,125931]
["1998-08-01",13.5,137.75510204081633,12.2,10.3,4,7.1,74.2,603.6,115.38902695469318,314.5,310.10000000000002,128.9,249,2738.5,17640,105.87599783926535,14613.4,14153,6541,11844,126170]
["1998-09-01",13.5,137.75510204081633,12.2,10.199999999999999,3.9,6.8,75.2,597.4,114.20378512712675,314.7,313.8,125.8,237.7,2746.5,17632,105.82798151371466,14597.7,14449,6468,11550,126977]
["1998-10-01",13.6,138.7755102040816,12.5,10.4,3.7,6.8,76.3,595,113.74498183903651,323.8,317.60000000000002,124.3,227.1,2760.8,17551,105.34181621751395,14741.8,14712,6490,11223,127754]
["1998-11-01",13.7,139.79591836734693,12.8,10.4,3.5,6.6,76,594.4,113.63028101701396,334.1,320.3,121.6,218.7,2768.4,17502,105.04771622351599,15110.6,14785,6410,11052,128155]
["1998-12-01",13.7,139.79591836734693,12.8,10.4,3.2,6.6,75.8,595.79999999999995,113.89791626839991,341.4,321.8,118.2,219.2,2775.8,17475,104.88566112478243,15384.5,14763,6277,11096,128322]
["1999-01-01",13.5,137.75510204081633,12.1,10.5,2.7,6.5,72.8,586.5,112.12005352705027,316.3,319.5,103.4,210.2,2686.4,17324,103.97935298001319,14701.3,14547,5912,10720,125570]
["1999-02-01",13.8,140.81632653061226,12.1,10.5,2.5,6.6,74.5,587,112.2156375454024,311.7,323.5,103.4,212.8,2699.9,17305,103.86531420683032,14563.5,14792,5972,10891,126557]
["1999-03-01",13.8,140.81632653061226,12.3,10.7,2.7,6.8,75.099999999999994,588.4,112.48327279678836,313.8,325.10000000000002,106.9,216.4,2718.3,17303,103.85331012544266,14571.4,14859,6042,11100,127269]
["1999-04-01",13.7,139.79591836734693,12.4,10.6,3.2,7,76.2,588.6,112.52150640412924,314.5,328.2,116.4,226.1,2761,17291,103.78128563711661,14692.3,14901,6355,11406,128415]
["1999-05-01",13.8,140.81632653061226,12.6,10.7,3.6,7.2,77.2,590,112.78914165551519,318.10000000000002,327.7,123.6,238.5,2788.1,17316,103.93133665446253,14824.4,14817,6569,11741,129284]
["1999-06-01",13.7,{"$f":"(B79/$B$14)*100","v":139.79591836734693},12.5,10.7,3.9,7.3,76.400000000000006,600.4,{"$f":"(I79/$I$14)*100","v":114.77728923723953},323.10000000000002,328.5,131.1,251.3,2827.2,17394,104.39949582858172,14927.1,14622,6777,12125,130010]
["1999-07-01",13.7,139.79591836734693,12.6,10.8,4.0999999999999996,7.3,76.3,603.20000000000005,115.31255974001147,322.89999999999998,328.9,134.19999999999999,254.4,2808.5,17303,103.85331012544266,14972.7,14549,6904,12153,129140]
["1999-08-01",14,142.85714285714283,12.6,10.8,4,7.3,75.8,605,115.65666220607913,324.5,327.7,133.1,254.5,2811.1,17363,104.2134325670728,14987.4,14497,6912,12155,129194]
["1999-09-01",13.6,138.7755102040816,12.8,10.6,3.9,7.3,77.099999999999994,600,114.70082202255783,324.3,330.1,130.1,243.4,2815.5,17334,104.03937338695157,14959.6,14781,6854,11838,129970]
["1999-10-01",13.5,137.75510204081633,12.9,10.9,3.8,7.1,78.2,595.4,113.8214490537182,332,332.5,129.1,232.1,2827.1,17313,103.91333053238101,15131.8,15026,6850,11578,130904]
["1999-11-01",13.6,138.7755102040816,13.2,10.9,3.7,6.9,78.3,594.1,113.57293060600269,342.3,334.3,126.5,224.6,2829.2,17317,103.93733869515636,15500.9,15108,6792,11392,131364]
["1999-12-01",13.6,138.7755102040816,13.1,10.9,3.2,6.8,77.3,598.5,114.41406996750143,348.5,335,120.7,224.6,2835.6,17299,103.8293019626673,15809.1,15071,6596,11416,131501]
["2000-01-01",13.2,134.69387755102039,12.3,10.9,2.6,6.5,73.8,590.20000000000005,112.82737526285604,325,331.2,107.6,215.5,2748.9,17179,103.10905707940701,15119,14852,6322,11056,128862]
["2000-02-01",13.2,134.69387755102039,12.5,11,2.6,6.7,75.7,591,112.98030969221946,319.2,334.3,106.1,216.9,2759.7,17192,103.18708360842686,14914.6,15069,6284,11180,129525]
["2000-03-01",13.3,135.71428571428572,12.7,11,2.7,6.8,76.8,593.1,113.38176256929842,321.3,336.6,111.2,221.6,2785.1,17236,103.45117339895565,14940.5,15142,6457,11435,130624]
["2000-04-01",12.9,131.63265306122449,12.6,11.1,3.2,7.2,77.099999999999994,591.29999999999995,113.03766010323073,323.5,338.8,121.3,230.1,2820.3,17249,103.52919992797551,15086.2,15158,6643,11740,131622]
["2000-05-01",12.4,126.53061224489794,12.9,11,3.6,7.3,77.400000000000006,591.4,113.05677690690115,326.2,338,128.69999999999999,242.4,2846.9,17262,103.60722645699538,15141.5,15107,6817,12060,132577]
["2000-06-01",12.7,129.59183673469386,13,11.1,3.9,7.4,76.900000000000006,603,115.27432613267061,328.5,340.2,135.30000000000001,254.8,2885.5,17403,104.45351419482624,15236.7,14917,7012,12489,133089]
["2000-07-01",12.5,127.55102040816327,12.9,11.3,4,7.9,76.599999999999994,600,114.70082202255783,328.3,339.7,137.30000000000001,259.60000000000002,2852.5,17318,103.94334073585019,15238.1,14812,7108,12535,131869]
["2000-08-01",12.7,129.59183673469386,12.8,11.2,4,7.4,75.900000000000006,600.6,114.81552284458039,330.5,340.7,137.5,261.3,2858.5,17365,104.22543664846047,15269.2,14812,7113,12528,131880]
["2000-09-01",12.4,126.53061224489794,12.8,11.3,3.8,7.4,76.8,596.29999999999995,113.99350028675204,331.6,341.3,133.6,248.3,2859.3,17278,103.70325910809674,15235.6,15139,7036,12170,132547]
["2000-10-01",12.7,129.59183673469386,13.2,11.2,3.8,7.5,78.2,593.6,113.47734658765054,338.2,342.6,131.69999999999999,235.9,2864.1,17251,103.54120400936317,15379.2,15368,7030,11810,133104]
["2000-11-01",12.7,129.59183673469386,13.5,11.3,3.5,7.2,78.2,590.79999999999995,112.94207608487858,349.1,345.2,127.7,228,2869.9,17226,103.39115299201728,15773,15463,6915,11654,133467]
["2000-12-01",12.6,128.57142857142856,13.5,11.3,3,7.1,77.3,588.29999999999995,112.46415599311794,353.2,346.3,119.9,226.4,2854.7,17200,103.23509993397755,16023.8,15464,6703,11681,133405]
["2001-01-01",12.3,125.51020408163265,13,11.4,2.7,6.6,74,577,110.30395717835977,326.39999999999998,341.9,109.3,219.4,2770.7,16993,101.99267751035353,15284.2,15255,6394,11328,130527]
["2001-02-01",12.1,123.46938775510203,12.9,11.5,2.7,6.7,75.599999999999994,571.20000000000005,109.19518256547505,317.7,347.6,108,220.1,2776.5,16933,101.63255506872338,15090.6,15522,6397,11462,131190]
["2001-03-01",12.2,124.48979591836734,13,11.6,2.7,6.9,76.2,569.70000000000005,108.90843051041865,318.8,349,110.1,223,2788.9,16869,101.24842446431788,15073.3,15611,6518,11645,131780]
["2001-04-01",12,122.44897959183672,12.8,11.5,3.1,7.1,75.8,565.4,108.08640795259032,319.60000000000002,349.5,118.1,233.9,2813.6,16750,100.5341816217514,15043.2,15650,6688,11936,132185]
["2001-05-01",12.2,124.48979591836734,12.8,11.6,3.5,7.4,78.099999999999994,562.29999999999995,107.4937870388071,322.39999999999998,349.3,128,246.7,2840.1,16646,99.909969389592462,15154,15645,6901,12297,132890]
["2001-06-01",12.3,125.51020408163265,12.7,11.6,3.8,7.7,77.400000000000006,567.9,108.56432804435097,323.60000000000002,349,134.6,257.7,2861.6,16615,99.723906128083556,15244.2,15453,7076,12687,133267]
["2001-07-01",12.2,124.48979591836734,12.5,11.7,4,7.9,76.7,563.70000000000005,107.76142229019308,320.39999999999998,347.9,138.1,263,2829.3,16393,98.391453094051968,15161,15370,7153,12757,131776]
["2001-08-01",12.3,125.51020408163265,12.9,11.7,4.0999999999999996,7.5,76.900000000000006,562.5,107.53202064614796,323,347.9,138.80000000000001,262.39999999999998,2829.1,16332,98.025328611727986,15185.8,15395,7139,12716,131704]
["2001-09-01",12,122.44897959183672,12.5,11.7,3.8,7.6,77.400000000000006,555.6,106.21296119288854,319.60000000000002,350,134.80000000000001,247.8,2825,16186,97.149030670427948,15124.6,15711,7052,12273,131968]
["2001-10-01",11.8,120.40816326530613,12.8,11.9,3.7,7.2,77.8,547.9,104.74096731026572,323.10000000000002,352.6,133.30000000000001,236.8,2820.8,16010,96.092671508312819,15220.3,15982,7012,11945,132168]
["2001-11-01",11.9,121.42857142857142,12.9,12,3.6,7.1,78,541.5,103.51749187535843,333.6,355.2,129,227.6,2812.6,15847,95.11433887521757,15572.4,16073,6882,11702,131976]
["2001-12-01",11.8,120.40816326530613,13,12.1,3,7,77,538.79999999999995,103.00133817625692,336.3,355.3,122.3,224.7,2798.4,15723,94.370085829181932,15709.9,16070,6698,11681,131591]
["2002-01-01",11.2,114.28571428571428,10.3,11.7,2.5,6.8,72.900000000000006,531.6,101.62492831198624,317.10000000000002,350.3,108.7,221,2719.4,15475,92.881579737110627,14981.1,15854,6363,11385,128706]
["2002-02-01",11.1,113.26530612244896,10.199999999999999,11.9,2.2999999999999998,6.9,75.2,526,100.55438730644235,309.89999999999998,352.3,105.7,220.7,2717.6,15414,92.51545525478663,14781.9,16123,6339,11440,129174]
["2002-03-01",11.1,113.26530612244896,10.199999999999999,11.9,2.2999999999999998,6.9,74.8,527.29999999999995,100.80290575415789,311.3,353,108,222.5,2735.9,15375,92.281375667727033,14810.1,16197,6416,11622,129778]
["2002-04-01",11.2,114.28571428571428,10.199999999999999,11.9,2.7,7.2,76.2,525.29999999999995,100.42056968074937,310.5,355.5,117.9,231.4,2766,15341,92.077306284136611,14870.7,16237,6563,11823,130364]
["2002-05-01",11.3,115.30612244897959,10.3,12,3.2,7.6,76.900000000000006,526.70000000000005,100.68820493213535,314.5,355.9,127.2,245.8,2799.2,15335,92.041294039973593,14956.5,16188,6749,12148,131131]
["2002-06-01",11.6,118.36734693877551,10.199999999999999,12,3.5,7.7,76.7,534.20000000000005,102.12196520741732,317.60000000000002,358.4,133.4,256.89999999999998,2822.8,15399,92.425424644379078,15029.4,16039,6924,12467,131511]
["2002-07-01",11.6,118.36734693877551,10.199999999999999,12,3.6,8.1999999999999993,76.7,532.20000000000005,101.73962913400881,315.8,356.1,136.69999999999999,264.2,2795,15274,91.67516955764961,15008.1,15943,6984,12536,130068]
["2002-08-01",11.6,118.36734693877551,10.3,12,3.7,8,76.5,534.79999999999995,102.23666602943986,317.39999999999998,357.4,136.69999999999999,265,2800,15272,91.663165476261938,14977.3,15932,7001,12538,130153]
["2002-09-01",11.5,117.3469387755102,10.1,12,3.5,7.6,77.099999999999994,530.1,101.33817625692984,315,357.5,133.1,251.9,2797.9,15194,91.19500630214273,14903.5,16228,6935,12198,130670]
["2002-10-01",11.5,117.3469387755102,10.4,12.1,3.4,7.5,78.099999999999994,526.29999999999995,100.61173771745362,319.8,360.2,132,241.7,2813.5,15096,90.606806314146809,15029.3,16498,6892,12013,131339]
["2002-11-01",11.4,116.32653061224489,10.7,12.2,3.3,7.4,78.599999999999994,523.9,100.1529344293634,331.5,362.7,129.19999999999999,232,2815.7,15009,90.084628773783081,15379.8,16592,6810,11837,131458]
["2002-12-01",11.3,115.30612244897959,10.8,12.2,2.9,7.4,77.900000000000006,521.20000000000005,99.636780730261904,336.4,362.1,120.9,232.1,2800.9,14919,89.544445111337851,15573,16551,6613,11823,131045]
["2003-01-01",11.1,113.26530612244896,10.199999999999999,12.3,2.5,7.2,73.8,509.3,97.361881093481173,314.2,358.8,108.6,225.6,2709.5,14744,88.494087989916565,14854.8,16325,6293,11568,128358]
["2003-02-01",11,112.24489795918366,10,12.3,2.4,7.3,76,504.9,96.520741731982412,308,360.6,105,224,2717.4,14674,88.073945141348048,14648.1,16569,6224,11599,128769]
["2003-03-01",11,112.24489795918366,9.9,12.3,2.4,7.4,75.8,504.2,96.386924106289413,307.2,360.8,106.6,226.6,2725.5,14654,87.953904327471349,14648.2,16632,6319,11769,129258]
["2003-04-01",10.9,111.22448979591837,10.1,12.4,2.8,7.4,77,503.5,96.253106480596443,310.7,362.7,116.2,235.8,2760.3,14563,87.407718624332276,14721.7,16698,6534,11984,129908]
["2003-05-01",10.9,111.22448979591837,10.3,12.4,3.4,7.7,78.2,504,96.348690498948571,315.60000000000002,362.6,127.8,252.2,2794.5,14556,87.365704339475428,14821.8,16640,6767,12302,130663]
["2003-06-01",10.9,111.22448979591837,10.199999999999999,12.4,3.6,7.8,77.3,508.6,97.228063467788189,318.3,358.1,133.6,262.60000000000002,2816.8,14593,87.587779845147352,14885.1,16407,6951,12671,130989]
["2003-07-01",10.9,111.22448979591837,10.199999999999999,12.4,3.6,8,77.099999999999994,507.6,97.03689543108392,315.89999999999998,358.8,136,267.5,2780.3,14432,86.621451293439762,14856,16268,7029,12776,129646]
["2003-08-01",10.8,110.20408163265304,10.3,12.4,3.8,7.8,76.5,507.6,97.03689543108392,318.3,359,136.5,268.2,2782.3,14467,86.831522717724027,14893.8,16247,7062,12768,129697]
["2003-09-01",10.7,109.18367346938773,10.5,12.4,3.7,7.8,77.7,503.4,96.233989676926015,316.7,366.3,133.30000000000001,257.5,2791.3,14419,86.54342476441991,14860.8,16547,7015,12391,130351]
["2003-10-01",10.6,108.16326530612244,10.9,12.4,3.6,7.6,78.900000000000006,500.4,95.660485566813222,321.2,370.1,132.80000000000001,248.3,2808.5,14368,86.237320689034263,15005.8,16869,6989,12177,131142]
["2003-11-01",10.4,106.12244897959184,11.2,12.5,3.3,7.5,78.900000000000006,498.1,95.220799082393427,330.6,370.1,129.1,239.5,2801.5,14339,{"$f":"(P132/$P$2)*100","v":86.06326150891303},15310.9,16935,6903,12026,131302]
["2003-12-01",10.4,106.12244897959184,11.3,12.5,2.9,7.3,78.2,496.8,94.972280634677873,336.6,369.5,123.4,237.9,2798.1,14304,85.853190084628778,15500.7,16916,6729,12041,131120]
["2004-01-01",10.1,103.0612244897959,10.7,12.5,2.5,7.1,74.2,493.5,94.341426113553808,313.8,366.5,110.4,230.3,2716,14171,85.054918672348606,14857.1,16665,6431,11760,128458]
["2004-02-01",10.199999999999999,104.08163265306121,10.6,12.5,2.4,7.1,76.400000000000006,492.6,94.169374880519968,307.3,369.1,107.6,229.4,2725.1,14172,85.060920713042435,14689.3,16895,6392,11838,129067]
["2004-03-01",10.3,105.10204081632652,10.5,12.5,2.5,7.2,76.8,494.5,94.532594150258078,308.10000000000002,369.7,110.9,232.6,2742,14220,85.349018666346552,14770.9,16988,6551,12077,130107]
["2004-04-01",10.3,105.10204081632652,10.6,12.6,3,7.4,78.099999999999994,497.4,95.086981456700428,310.39999999999998,372.4,122.2,242.7,2781.5,14267,85.63111457895684,14858.1,17058,6778,12355,131224]
["2004-05-01",10.4,106.12244897959184,10.7,12.5,3.4,7.7,78.8,500.4,95.660485566813222,315.60000000000002,371.9,129.6,256.2,2814.8,14337,86.051257427525357,14982.6,16994,7012,12691,132127]
["2004-06-01",10.6,108.16326530612244,10.8,12.6,3.5,7.8,78.2,506.6,96.845727394379651,319.7,372.6,135.4,265.89999999999998,2845.2,14434,86.633455374827435,15077.3,16753,7194,13051,132569]
["2004-07-01",10.7,109.18367346938773,10.5,12.6,3.7,8.3000000000000007,78.099999999999994,510.7,97.629516344867127,317.89999999999998,372.2,139.69999999999999,275,2831.8,14370,86.249324770421936,15046.7,16655,7292,13128,131405]
["2004-08-01",10.7,109.18367346938773,10.6,12.6,3.7,7.7,77.400000000000006,512.9,98.050086025616508,318.5,372,138.69999999999999,275.60000000000002,2836.1,14431,86.615449252745933,15049.9,16629,7311,13083,131421]
["2004-09-01",10.7,109.18367346938773,10.7,12.6,3.6,7.7,78.7,508.7,97.247180271458618,316.10000000000002,372.7,135.69999999999999,263.39999999999998,2833.9,14385,86.339355380829488,14991.9,16916,7249,12729,132133]
["2004-10-01",10.6,108.16326530612244,10.7,12.5,3.6,7.7,79.3,505.9,96.711909768686667,318.89999999999998,374.7,134,252.9,2844.7,14360,86.189304363483586,15149.9,17249,7286,12519,133111]
["2004-11-01",10.5,107.14285714285714,11.1,12.6,3.5,7.6,80.2,504.5,96.444274517300698,329.1,376.6,131.4,243.4,2844.1,14331,86.015245183362339,15521.7,17325,7205,12348,133360]
["2004-12-01",10.5,107.14285714285714,11.2,12.6,3,7.5,79.400000000000006,505,96.53985853565284,333.4,377,125.4,242.6,2838.4,14306,85.865194166016451,15702.4,17307,7012,12336,133129]
["2005-01-01",10.3,105.10204081632652,10.6,12.6,2.5,7.2,76,496.6,94.93404702733703,311.7,373.9,112.1,233.8,2754,14142,84.880859492227358,15046.8,17063,6682,12064,130423]
["2005-02-01",10.5,107.14285714285714,10.5,12.7,2.4,7.1,77.5,498.5,95.297266297075126,306.2,375.8,109.5,233.9,2765.5,14168,85.03691255026709,14907.4,17287,6699,12151,131245]
["2005-03-01",10.6,108.16326530612244,10.5,12.7,2.5,7.2,78,499.7,95.526667941120238,307.39999999999998,376.9,111.8,237.7,2780.1,14200,85.228977852469839,14950.9,17355,6838,12365,132083]
["2005-04-01",10.7,109.18367346938773,10.9,12.8,3,7.6,79.900000000000006,501.4,95.851653603517491,310.2,379.2,123.2,250.3,2827.2,14203,85.246983974551355,15063.8,17426,7128,12711,133294]
["2005-05-01",10.8,110.20408163265304,11,12.8,3.3,7.9,80.7,502.5,96.061938443892174,314,378.8,130.5,261.5,2851.3,14246,85.505071724386298,15189.6,17386,7360,13010,134104]
["2005-06-01",11.1,113.26530612244896,10.8,12.9,3.5,8,80.400000000000006,511.4,97.763333970560112,315.39999999999998,380.3,136.5,271.89999999999998,2876.7,14323,85.967228857811648,15295.1,17191,7574,13413,134769]
["2005-07-01",11.2,114.28571428571428,10.8,12.8,3.6,8.1999999999999993,80.400000000000006,512.5,97.973618810934809,315.7,378.7,139.5,278,2858,14250,85.529079887161629,15322.6,17076,7652,13514,133705]
["2005-08-01",11.3,115.30612244897959,10.8,12.8,3.6,7.7,79.7,513.70000000000005,98.203020454979935,317.7,379,138.9,278.8,2860.2,14288,85.757157433527397,15343.6,17084,7704,13497,133951]
["2005-09-01",11.3,115.30612244897959,10.9,12.8,3.5,7.7,81.2,508.5,97.208946664117761,315.10000000000002,381.1,136.19999999999999,267.7,2873,14234,85.433047236060261,15221.7,17415,7645,13041,134576]
["2005-10-01",11.3,115.30612244897959,11,13,3.6,7.6,81.900000000000006,505.6,96.654559357675396,321.89999999999998,382.3,134.6,255.2,2870,14224,85.373026829121898,15344,17672,7679,12782,135302]
["2005-11-01",11.3,115.30612244897959,11.4,13.1,3.4,7.5,82.1,504.2,96.386924106289413,331.5,384.4,132.19999999999999,247.7,2871.8,14218,85.337014584958879,15736.7,17773,7650,12629,135857]
["2005-12-01",11.4,116.32653061224489,11.4,13.1,2.9,7.4,81.8,504.2,96.386924106289413,336.1,384.4,125.2,245.6,2872,14222,85.361022747734225,15933.3,17738,7425,12609,135655]
["2006-01-01",11.2,114.28571428571428,10.8,12.9,2.6,7.2,78.599999999999994,501.1,95.79430319250622,310.39999999999998,381.5,114.3,239,2785.6,14093,84.586759498229398,15240.5,17509,7182,12339,133000]
["2006-02-01",11.4,116.32653061224489,10.7,13,2.6,7.2,80.2,498.6,95.316383100745554,303.89999999999998,383.9,111.9,239.6,2789.4,14104,84.652781945861591,15062.1,17788,7218,12438,133924]
["2006-03-01",11.4,116.32653061224489,10.8,13,2.7,7.4,80.8,500.3,95.641368763142793,305.5,384.2,113.4,243.4,2807.2,14141,84.874857451533529,15145.1,17862,7337,12674,134903]
["2006-04-01",11.5,117.3469387755102,10.9,13,3.2,7.7,82.6,501.9,95.947237621869618,307.60000000000002,385.3,124,252.6,2846.9,14172,85.060920713042435,15166.2,17903,7557,12960,135816]
["2006-05-01",11.4,116.32653061224489,11,13.2,3.5,8,83.4,503.5,96.253106480596443,311.39999999999998,386.4,131.1,264.39999999999998,2875.8,14187,85.150951323449974,15248.8,17850,7779,13268,136621]
["2006-06-01",11.6,118.36734693877551,10.9,13.2,3.8,7.9,82.7,513.9,98.241254062320778,314.39999999999998,387.4,137.80000000000001,276.5,2912.2,14303,85.847188043934935,15327.4,17607,7945,13638,137121]
["2006-07-01",11.7,119.3877551020408,10.8,13.3,3.7,8.1,82.3,513.9,98.241254062320778,312.5,386.3,138.5,282.10000000000002,2880.9,14215,85.319008462877377,15321.2,17468,8013,13790,135945]
["2006-08-01",11.7,119.3877551020408,10.8,13.4,3.7,8.1,82.1,514.5,98.355954884343333,314,386.7,138.1,283.10000000000002,2882,14246,85.505071724386298,15331.9,17500,8045,13764,136149]
["2006-09-01",11.4,116.32653061224489,10.9,13.5,3.6,7.6,82.8,509.3,97.361881093481173,311.2,388.5,134.9,271,2891,14192,85.180961526919148,15230.2,17857,7952,13322,136817]
["2006-10-01",11.5,117.3469387755102,11,13.4,3.5,7.5,83.5,505.9,96.711909768686667,315.5,390.8,132.9,260.60000000000002,2889.9,14114,84.712802352799955,15380.8,18130,7909,13125,137516]
["2006-11-01",11.5,117.3469387755102,11.4,13.4,3.4,7.4,84.5,503.3,{"$f":"(I168/$I$14)*100","v":96.214872873255587},328,392.3,129.30000000000001,251.4,2889.9,14060,84.388692155332805,15808.1,18228,7772,12994,137898]
["2006-12-01",11.5,{"$f":"(B169/$B$14)*100","v":117.3469387755102},11.5,13.6,3,7.3,84.2,502.9,96.138405658573873,331.4,392.1,123.6,250.2,2887.7,14036,84.244643178680761,15977.1,18212,7585,13005,137786]
["2007-01-01",11.3,115.30612244897959,11,13.5,2.8,7.1,81.2,498.7,95.335499904415983,313.5,387.6,112.5,242.9,2808.9,13898,83.416361562931399,15337.1,17955,7295,12703,134994]
["2007-02-01",11.4,116.32653061224489,10.8,13.5,2.8,7.1,81.8,496.3,94.876696616325745,305.60000000000002,389.8,107.9,242.8,2804.4,13886,83.344337074605363,15176.5,18218,7173,12790,135683]
["2007-03-01",11.1,113.26530612244896,10.8,13.6,3,7.2,81.900000000000006,495.9,94.800229401644032,307.60000000000002,390.7,113,246,2824.3,13887,83.350339115299192,15295.4,18300,7353,12987,136576]
["2007-04-01",11.2,114.28571428571428,10.9,13.6,3.3,7.6,83.4,497.3,95.067864653030014,307.89999999999998,391.2,120,254.2,2856.6,13875,83.27831462697317,15321.7,18368,7518,13260,137381]
["2007-05-01",11.1,113.26530612244896,11.1,13.6,3.8,7.8,84.3,499.5,95.488434333779395,314,392.7,130.19999999999999,268.60000000000002,2898.4,13901,83.434367685012901,15457.6,18328,7733,13630,138323]
["2007-06-01",11.4,116.32653061224489,11,13.7,4.0999999999999996,7.9,84,509.6,97.419231504492458,316.10000000000002,393.5,135.69999999999999,281,2936.8,13987,83.950543184682786,15506.1,18134,7926,14012,138825]
["2007-07-01",11.3,115.30612244897959,10.9,13.6,4.0999999999999996,8.4,83.9,509.1,97.323647486140317,315.7,392.3,137,284.10000000000002,2900.2,13919,83.542404417501942,15508.8,18007,7957,14092,137425]
["2007-08-01",11.3,115.30612244897959,10.9,13.8,4.2,8.1999999999999993,83.7,509.1,97.323647486140317,315,393.5,136.9,286.10000000000002,2901.5,13927,83.590420743052647,15532.7,18061,7932,14045,137534]
["2007-09-01",11.1,113.26530612244896,10.9,13.7,4.0999999999999996,7.9,84,503.2,96.195756069585158,311.89999999999998,394.7,133.80000000000001,271.39999999999998,2901.7,13886,83.344337074605363,15435.5,18364,7838,13637,138096]
["2007-10-02",11.1,113.26530612244896,11,13.7,4,7.7,84.7,499.6,95.507551137449823,314.89999999999998,394.5,132.80000000000001,261.89999999999998,2902.8,13812,82.900186063261501,15523.4,18659,7796,13441,138835]
["2007-11-01",11.1,113.26530612244896,11.2,13.8,3.8,7.5,85.2,498.6,95.316383100745554,325.60000000000002,395.2,130,253.6,2904,13795,82.798151371466304,15988.8,18737,7647,13278,139143]
["2007-12-01",11.1,113.26530612244896,11.3,13.8,3.4,7.4,85.1,498.7,95.335499904415983,327.39999999999998,396.2,121.2,251,2900.3,13776,82.68411259828342,16156.4,18729,7390,13244,138929]
["2008-01-01",11,112.24489795918366,10.8,13.8,3,7.2,81.7,495.8,94.781112597973618,310.3,392.3,108,242.2,2821.6,13619,81.741792209351189,15458.3,18488,7053,12905,135896]
["2008-02-01",11.1,113.26530612244896,10.8,13.8,3,7.2,82.5,493.9,94.417893328235508,302.5,394.3,104.9,241.1,2817.3,13578,81.495708540903905,15225.6,18757,6983,12971,136414]
["2008-03-01",11.1,113.26530612244896,10.8,13.9,2.9,7.2,82.5,493.8,94.398776524565093,303.8,395.7,106.8,244.2,2830.1,13559,81.381669767721021,15279,18833,7047,13156,137003]
["2008-04-01",11.2,114.28571428571428,10.7,13.8,3.2,7.5,83.6,493.4,94.32230930988338,305.89999999999998,396.5,113.8,252.7,2858.6,13516,81.123582017886093,15241.8,18901,7160,13396,137535]
["2008-05-01",11.2,114.28571428571428,10.7,13.8,3.4,7.7,83.9,493.9,94.417893328235508,309.89999999999998,398.1,123.9,268.3,2900.8,13530,81.207610587599788,15296.3,18838,7324,13709,138105]
["2008-06-01",11.2,114.28571428571428,10.6,13.8,3.6,7.7,83.1,502.2,96.004588032880903,312,398.5,127.9,277.89999999999998,2921.9,13580,81.507712622291578,15337.1,18664,7425,14052,138296]
["2008-07-01",11.2,114.28571428571428,10.5,13.9,3.3,8,82.8,500.4,95.660485566813222,311.2,397.8,129.4,281.2,2890.3,13472,80.859492227357293,15302.4,18553,7448,14129,136811]
["2008-08-01",11.1,113.26530612244896,10.5,13.8,3.3,7.6,81.599999999999994,499.3,95.450200726438538,312,399.5,129,282.2,2889.1,13459,80.781465698337442,15265.1,18608,7435,14056,136697]
["2008-09-01",10.9,111.22448979591837,10.5,13.7,3.1,7.6,82.1,492.6,94.169374880519968,307.89999999999998,400.8,125.6,268.7,2892.3,13376,80.283296320749059,15093.8,18857,7305,13563,136748]
["2008-10-01",10.9,111.22448979591837,10.7,13.9,3.1,7.5,82.4,488.3,93.347352322691648,310.7,405.3,124.1,259.60000000000002,2892.4,13214,79.310965728347639,15132.4,19138,7208,13300,137038]
["2008-11-01",10.9,111.22448979591837,10.9,14,2.8,7.4,82.4,483.6,92.448862550181616,316.8,406.5,118.4,249.2,2879.9,13085,78.536702478842798,15346,19219,6945,13040,136355]
["2008-12-01",10.6,108.16326530612244,11.1,13.9,2.6,7.4,81.7,478.1,91.397438348308171,319.10000000000002,408.4,108.9,246.1,2857.4,12883,77.324290258687952,15418.7,19201,6612,12959,135321]
["2009-01-09",10.5,107.14285714285714,10.4,13.8,2.2000000000000002,7,77.2,464.9,88.874020263811886,299.39999999999998,403.7,93.9,235.1,2747.3,12450,74.725406638257013,14682.7,18968,6154,12607,131627]
["2009-02-09",10.3,105.10204081632652,10.3,13.8,2.1,7.1,77.900000000000006,452.8,86.560887019690298,292.39999999999998,405.7,91.4,235.6,2734.3,12266,73.621031150591193,14433.5,19187,6000,12616,131387]
["2009-03-09",10.1,103.0612244897959,10.3,13.8,2,7.2,77.900000000000006,444.7,85.012425922385773,291.39999999999998,407.4,91,237.9,2726.4,12112,{"$f":"(P196/$P$2)*100","v":72.696716883740478},14404.8,19230,5950,12748,131249]
["2009-04-09",10.1,103.0612244897959,10.3,13.8,2.5,7.4,79.2,435.5,83.253679984706551,292.5,405.9,98,246.3,2738.5,11957,71.766400576195906,14394.1,19256,6009,12977,131429]
["2009-05-09",9.8000000000000007,100,10.3,13.8,2.9,7.7,79.400000000000006,431.7,82.527241445230345,296.89999999999998,406.3,105.7,262,2767.9,11829,70.998139367384923,14490,19206,6139,13337,131697]
["2009-06-09",9.9,101.0204081632653,10.199999999999999,13.8,3.1,7.7,78.400000000000006,434.2,83.005161536991011,299.8,406.1,109.5,271.89999999999998,2778.2,11791,70.770061821019141,14538,18997,6202,13656,131510]
["2009-07-09",10.1,103.0612244897959,10.199999999999999,13.7,3.2,7.9,78.5,432.1,82.603708659912073,297.8,404.4,110.8,274,2741.3,11704,70.247884280655427,14483.6,18880,6203,13746,129910]
["2009-08-09",10,102.04081632653062,10.3,13.7,3.1,8,78.400000000000006,432.9,82.756643089275457,298.39999999999998,405,109.5,274.3,2735.2,11722,70.355921013144467,14489.6,18897,6158,13675,129786]
["2009-09-09",9.9,101.0204081632653,10.199999999999999,13.8,3.4,8,79.099999999999994,430.9,82.374307015866947,294.7,405.2,107.6,262.2,2734.9,11685,70.133845507472543,14362,19160,6036,13245,130144]
["2009-10-09",9.9,101.0204081632653,10.3,13.8,3.5,7.5,80.599999999999994,427,81.628751672720313,298.5,408.9,106.2,251.5,2747.1,11607,69.665686333353335,14407.1,19465,5958,12956,130741]
["2009-11-09",9.8000000000000007,100,10.6,13.8,3.2,7.3,80.7,425.5,81.341999617663916,305.39999999999998,409,102.7,241.5,2742.8,11550,69.323570013804698,14724.2,19548,5822,12735,130787]
["2009-12-09",9.8000000000000007,100,10.7,13.8,2.7,7.3,80,424.6,81.169948384630089,307.10000000000002,409.3,94.3,239.6,2734.9,11494,68.98745573494989,14857.8,19526,5566,12631,130242]
["2010-01-09",9.6999999999999993,98.979591836734684,10.199999999999999,13.9,2.1,6.7,76.3,419.8,80.252341808449629,290.3,405.4,82.1,230.8,2649.3,11357,68.165176159894372,14285,19266,5197,12315,127374]
["2010-02-09",9.8000000000000007,100,10,14,2.1,7,77.900000000000006,418.6,80.022940164404517,283.89999999999998,407.5,79.900000000000006,230.7,2654,11340,68.063141468099147,14117.3,19498,5088,12359,127811]
["2010-03-09",9.8000000000000007,100,10.1,14,2,7.1,78.2,420.6,80.405276237813041,285.3,409.3,81.599999999999994,233.6,2668.4,11367,68.225196566832722,14203.5,19599,5213,12578,128646]
["2010-04-09",10,102.04081632653062,10.1,14,2.4,7.4,79.900000000000006,422.6,80.787612311221565,287.3,406.5,92.1,245.4,2713.8,11425,68.573314927075202,14263.7,19636,5418,12915,129770]
["2010-05-09",10.199999999999999,104.08163265306121,10.4,14,2.8,7.6,81.2,426.1,81.456700439686486,291.7,407.1,97.1,258.10000000000002,2746.5,11499,69.017465938419065,14374.5,19552,5561,13243,130886]
["2010-06-09",10.4,106.12244897959184,10.3,14,3,7.6,80,435.2,83.196329573695266,294.5,406.1,101.7,268.8,2765.3,11613,69.701698577516353,14436.2,19330,5698,13616,131004]
["2010-07-09",10.4,106.12244897959184,10.3,14,3.1,7.8,80,439.3,83.980118524182757,293.3,405.5,103.6,273.10000000000002,2744.4,11614,69.707700618210183,14439.5,19220,5763,13720,129664]
["2010-08-09",10.4,106.12244897959184,10.3,14.1,3.1,8,80,441.5,84.400688204932123,294.8,406,103.9,275.39999999999998,2748.9,11651,69.929776123882121,14457.9,19230,5819,13712,129728]
["2010-09-09",10.3,105.10204081632652,10.199999999999999,14.1,3.1,8.1,80.8,437.5,83.636016058115075,291.60000000000002,406.2,102.1,262.8,2751.2,11638,69.851749594862255,14355.2,19492,5733,13351,130221]
["2010-10-09",10.3,105.10204081632652,10.5,14.1,3.1,7.6,81.099999999999994,434.6,83.081628751672724,297.39999999999998,409.5,102.3,253,2772,11619,69.737710821679372,14505,19802,5733,13085,131195]
["2010-11-09",10.3,105.10204081632652,10.8,14.2,2.8,7.5,81.599999999999994,435.1,83.177212770024852,304.7,410.5,98.5,244.1,2772.8,11610,69.683692455434837,14844.2,19902,5628,12872,131502]
["2010-12-09",10.3,105.10204081632652,10.8,14.3,2.4,7.5,81.599999999999994,435.1,83.177212770024852,307,411,90,241.2,2758.1,11604,69.647680211271833,15002.8,19841,5369,12818,131199]
["2011-01-11",10.3,105.10204081632652,10.199999999999999,14.2,2,7,77.5,433.3,82.833110303957184,290.60000000000002,405.2,79.2,232.7,2681.6,11524,69.167516955764967,14443.1,19580,5046,12477,128338]
["2011-02-09",10.3,105.10204081632652,10.1,14.3,2,7.2,78.400000000000006,433.2,82.813993500286742,284.60000000000002,407.5,76.8,232.4,2688.9,11542,69.275553688254007,14276.6,19829,5049,12614,129154]
["2011-03-09",10.4,106.12244897959184,10.1,14.4,2.1,7.3,79.599999999999994,435.2,83.196329573695266,286,408.4,79.5,235,2705,11588,69.551647560170466,14343.3,19891,5158,12881,130061]
["2011-04-09",10.3,105.10204081632652,10.4,14.2,2.5,7.5,81,438.8,83.884534505830615,289.5,410.4,87.7,245.1,2743.4,11640,69.863753676249928,14483.2,19975,5364,13233,131279]
["2011-05-09",10.4,106.12244897959184,10.6,14.2,2.8,7.8,81.900000000000006,441.8,84.458038615943408,292.2,411.6,95.1,258.39999999999998,2773.3,11690,70.163855710941732,14582.9,19880,5556,13535,131963]
["2011-06-09",10.5,107.14285714285714,10.5,14.2,3.1,7.7,80,450.6,86.140317338940932,295,408.2,100.5,270.3,2791.3,11801,70.830082227957504,14676.6,19655,5728,13947,132453]
["2011-07-09",10.6,108.16326530612244,10.5,13.9,3.3,8.1,79.900000000000006,454.9,86.962339896769251,295.5,406.9,102.8,275.10000000000002,2778,11813,70.902106716283541,14712,19564,5808,14032,131181]
["2011-08-09",10.6,108.16326530612244,10.5,14.2,3.3,8.1,80.2,455.7,87.115274326132663,297.10000000000002,407.4,103,276.7,2778.4,11863,71.202208750975331,14711.3,19591,5845,14023,131457]
["2011-09-09",10.5,107.14285714285714,10.5,14.2,3.3,8.1999999999999993,82.9,450.9,86.197667749952203,294.2,412.8,101,264.3,2790,11840,71.064161815017101,14611.7,19911,5817,13629,132204]
["2011-10-09",10.3,105.10204081632652,10.6,14,3.2,7.6,82.9,447.9,85.624163639839409,298.2,415.9,100.3,253.8,2793.7,11826,70.980133245303406,14745.9,20200,5808,13418,133125]
["2011-11-09",10.4,106.12244897959184,11,14.1,3.1,7.5,83.3,448.5,85.738864461861979,307,416.7,97.3,244.3,2794,11790,70.764059780325312,15136.5,20288,5707,13249,133456]
["2011-12-09",10.3,105.10204081632652,11.1,14.2,2.7,7.4,83.1,448.6,85.757981265532408,309,418.1,89.6,241,2785.6,11800,70.824080187263675,15291,20235,5512,13195,133292]
["2012-01-09",10.3,105.10204081632652,10.4,14,2.2999999999999998,7,78.900000000000006,446.7,85.394761995794298,292,410.1,79.7,234.4,2698.7,11735,70.433947542164333,14728.9,19976,5237,12904,130657]
["2012-02-09",10.3,105.10204081632652,10.4,13.9,2.2000000000000002,7.3,81.3,446.2,85.29917797744217,285.39999999999998,415.6,78,235.4,2713.2,11751,70.5299801932657,14514.2,20302,5219,13038,131604]
["2012-03-09",10.3,105.10204081632652,10.4,14,2.4,7.4,81.3,448.4,85.719747658191551,286.7,418.2,81.5,240.4,2741.7,11822,70.956125082528061,14574.4,20377,5313,13334,132505]
["2012-04-09",10.4,106.12244897959184,10.6,14.1,2.9,7.7,82.8,450.5,86.121200535270503,288.10000000000002,418.4,90.4,250.2,2777.6,11850,71.124182221955465,14673.6,20414,5487,13620,133400]
["2012-05-09",10.6,108.16326530612244,10.7,14.2,3.1,7.8,84.1,452.6,{"$f":"(I234/$I$14)*100","v":86.522653412349456},292.60000000000002,419.3,95.3,263.89999999999998,2811.2,11907,71.466298541504116,14787.3,20357,5648,13946,134213]
["2012-06-09",10.7,109.18367346938773,10.6,14.3,3.2,7.8,82.2,462.5,88.415216975721648,295.39999999999998,416.2,100.6,276.5,2829,12016,72.12052097713223,14836.5,20088,5820,14311,134556]
["2012-07-09",10.7,109.18367346938773,10.5,14.1,3.2,8.4,81.400000000000006,465.8,89.046071496845727,294.5,410.6,101.9,280.2,2796.7,12029,72.198547506152096,14838.5,19991,5888,14387,133368]
["2012-08-09",10.7,109.18367346938773,10.6,14.2,3.2,8.4,81.400000000000006,465.5,88.988721085834442,296.39999999999998,413.3,102.3,280.60000000000002,2803.3,12048,72.31258627933498,14854.3,20028,5920,14404,133753]
["2012-09-09",10.7,109.18367346938773,10.6,14.4,3.2,8.3000000000000007,83.4,459.5,87.841712865608869,293.2,420.2,100.5,269,2814.3,12008,72.072504651581539,14786.5,20326,5875,14018,134374]
["2012-10-09",10.5,107.14285714285714,10.7,14.5,3.2,7.7,83.7,457.2,87.40202638118906,298,425.1,101.2,256.60000000000002,2828,11980,71.904447512154135,14935.9,20616,5880,13796,135241]
["2012-11-09",10.5,107.14285714285714,11.2,14.5,3,7.6,84.3,456.1,87.191741540814377,309.5,425.8,98.3,247.8,2835.9,11939,71.658363843706866,15430.3,20675,5779,13598,135636]
["2012-12-09",10.5,107.14285714285714,11.2,14.6,2.7,7.6,83.3,456.4,87.249091951825648,310.2,427.1,93.1,247.6,2823.4,11939,71.658363843706866,15538.3,20673,5622,13591,135560]
["2013-01-09",10.3,105.10204081632652,10.5,14.5,2.2999999999999998,7.1,79.099999999999994,452.6,86.522653412349456,292,416.7,83.6,238.8,2725.8,11860,71.184202628893829,14944,20375,5340,13264,132704]
["2013-02-09",10.3,105.10204081632652,10.4,14.6,2.2000000000000002,7.3,81.400000000000006,451.5,86.312368571974758,287,423.4,82.9,239.6,2755.2,11879,71.298241402076698,14766.7,20660,5373,13403,133752]
["2013-03-09",10.3,105.10204081632652,10.5,14.7,2.2999999999999998,7.4,81.5,452.6,86.522653412349456,288.2,424.8,85.2,243.2,2769.3,11912,71.496308744973291,14815.7,20748,5487,13668,134570]
["2013-04-09",10.199999999999999,104.08163265306121,10.5,14.7,2.5,7.5,81.900000000000006,452.6,86.522653412349456,290.89999999999998,425.2,89.2,250,2787.6,11915,71.514314867054793,14906.9,20810,5648,13990,135513]
["2013-05-09",10.3,105.10204081632652,10.6,14.7,3.1,7.9,82.9,454.8,86.943223093098837,296.2,424.3,100.7,268.3,2828.6,11961,71.790408738971252,15029.7,20714,5834,14368,136383]
["2013-06-09",10.5,107.14285714285714,10.5,14.5,3.4,7.9,82.1,462.7,88.453450583062505,300.5,420.7,105.9,279.3,2850.4,12046,72.300582197947307,15143.3,20459,5995,14773,136769]
["2013-07-09",10.6,108.16326530612244,10.5,14.5,3.5,8.1,81.099999999999994,464.6,88.816669852800615,300,416.4,108.5,283.5,2828,12013,72.102514855050714,15192.4,20344,6060,14856,135577]
["2013-08-09",10.6,108.16326530612244,10.5,14.5,3.5,8.4,81.8,464.9,88.874020263811886,301.39999999999998,418.9,109.8,285.3,2836.7,12060,72.384610767661002,15225.7,20420,6086,14837,136002]
["2013-09-09",10.4,106.12244897959184,10.5,14.5,3.3,8.3000000000000007,83,459.1,87.76524565092717,297.5,425.1,107.2,272.10000000000002,2848,12037,72.246563831702787,15144.1,20664,6053,14399,136612]
["2013-10-09",10.4,106.12244897959184,10.6,14.5,3.3,8.4,84.1,458.4,87.631428025234172,304.89999999999998,429.5,106.1,264.5,2870.1,12024,72.168537302682907,15303.3,20964,6052,14219,137523]
["2013-11-09",10.4,106.12244897959184,11.1,14.6,3.1,8.1999999999999993,84.8,460.8,88.090231313324409,311.39999999999998,431,103.4,253.9,2864.9,12051,72.330592401416482,15645.5,21488,5996,14148,138536]
["2013-12-09",10.4,106.12244897959184,11.3,14.4,2.4,8.1999999999999993,84.1,461.4,88.204932135346965,315.60000000000002,431.8,92,252.6,2852.5,12048,72.31258627933498,15828.9,21419,5773,14095,138266]
["2014-01-09",10.3,105.10204081632652,10.7,14.3,2.1,7.7,81,459.8,87.899063276620154,301.10000000000002,422.8,81.8,245.6,2780.3,11949,71.718384250645215,15159.9,21132,5533,13783,135451]
["2014-02-09",10.3,105.10204081632652,10.5,14.4,2.1,7.8,81.400000000000006,459.4,87.822596061938441,291.89999999999998,429.2,82.3,244,2782.7,11979,71.898445471460292,14940.8,21388,5529,13873,136192]
["2014-03-09",10.3,105.10204081632652,10.6,14.5,2.1,8,81.7,460.6,88.051997705983567,293.10000000000002,431.2,85.2,247.7,2797,12018,72.132525058519889,15004,21481,5656,14143,137147]
["2014-04-09",10.4,106.12244897959184,10.6,14.4,2.5,8.1999999999999993,82.4,463.9,88.682852227107617,298.10000000000002,432.4,93.9,256.39999999999998,2836.7,12035,72.234559750315114,15127.4,21534,5869,14469,138265]
["2014-05-09",10.4,106.12244897959184,10.6,14.4,3.5,8.6999999999999993,83.8,465.4,88.969604282164013,300.7,430.7,105.8,274.60000000000002,2871.1,12095,72.594682191945253,15232.2,21484,6052,14873,139184]
["2014-06-09",10.6,108.16326530612244,10.4,14.3,3.8,8.6,83.1,472.1,90.250430128082584,304.7,428.6,112.9,291.8,2910.1,12210,73.284916871736399,15353.6,21271,6207,15270,139772]
["2014-07-09",10.6,{"$f":"(B260/$B$14)*100","v":108.16326530612244},10.4,14.2,3.9,8.9,82.9,474.7,90.747467023513664,305.8,425.4,114.7,297.10000000000002,2890.3,12218,73.332933197287076,15387,21163,6316,15337,138669]
["2014-08-09",10.6,108.16326530612244,10.4,14.3,3.9,8.9,83.5,474.8,90.766583827184093,304.60000000000002,425.8,115.5,296.3,2897,12254,73.549006662265171,15379.3,21229,6351,15296,139061]
["2014-09-09",10.3,105.10204081632652,10.4,14.4,3.9,8.9,83.8,470.8,90.001911680367044,299.8,430.8,113.4,280.3,2891.6,12230,{"$f":"(P262/$P$2)*100","v":73.404957685613098},15298.9,21511,6320,14885,139753]
["2014-10-09",10.3,105.10204081632652,10.6,14.5,3.9,9,85.1,471.5,90.135729306060014,307.3,434.5,113.7,273,2912.3,12230,73.404957685613098,15480.9,21829,6322,14727,140811]
["2014-11-09",10.3,105.10204081632652,11.1,14.5,3.7,8.9,85.9,473.1,90.441598164786853,313.60000000000002,436.5,111.9,263.89999999999998,2922.9,12239,73.458976051857633,15915.1,21916,6226,14541,141321]
["2014-12-09",10.3,105.10204081632652,11.3,14.5,3.3,8.8000000000000007,85.4,472.2,90.269546931753013,316.8,435.4,104.5,261.8,2905.5,12243,73.482984214632978,16084.1,21906,6069,14512,141256]
["2015-01-09"]
["2015-02-09"]
["2015-03-09"]
["2015-04-09"]
["2015-05-09"]
["2015-06-09"]
["2015-07-09"]
["2015-08-09"]
["2015-09-09"]
["2015-10-09"]
["2015-11-09"]
["2015-12-09"]
{"$rows_empty":240}
[{"$nulls":13},{"$f":"AVERAGE(B518:C518)","v":{"$error":"#DIV/0!"}}]
[{"$nulls":13},{"$f":"AVERAGE(B519:C519)","v":{"$error":"#DIV/0!"}}]
{"$rows_empty":65}
[null,{"$f":"B519-M518","v":0},{"$f":"C519-B519","v":0}]
[null,{"$f":"(B585/M518)*100","v":{"$error":"#DIV/0!"}},{"$f":"(C585/B519)*100","v":{"$error":"#DIV/0!"}}]
[]
[null,{"$f":"B519-B518","v":0},{"$f":"C519-C518","v":0}]
[null,{"$f":"(B588/B518)*100","v":{"$error":"#DIV/0!"}},{"$f":"(C588/C518)*100","v":{"$error":"#DIV/0!"}}]
{"$rows_empty":12}
[{"$nulls":13},{"$f":"AVERAGE(B602:C602)","v":{"$error":"#DIV/0!"}}]
[{"$nulls":13},{"$f":"AVERAGE(B603:C603)","v":{"$error":"#DIV/0!"}}]
{"$rows_empty":65}
[null,{"$f":"B603-M602","v":0},{"$f":"C603-B603","v":0}]
[null,{"$f":"(B669/M602)*100","v":{"$error":"#DIV/0!"}},{"$f":"(C669/B603)*100","v":{"$error":"#DIV/0!"}}]
[]
[null,{"$f":"B603-B602","v":0},{"$f":"C603-C602","v":0}]
[null,{"$f":"(B672/B602)*100","v":{"$error":"#DIV/0!"}},{"$f":"(C672/C602)*100","v":{"$error":"#DIV/0!"}}]
{"$rows_empty":12}
[{"$nulls":13},{"$f":"AVERAGE(B686:C686)","v":{"$error":"#DIV/0!"}}]
[{"$nulls":13},{"$f":"AVERAGE(B687:C687)","v":{"$error":"#DIV/0!"}}]
{"$rows_empty":65}
[null,{"$f":"B687-M686","v":0},{"$f":"C687-B687","v":0}]
[null,{"$f":"(B753/M686)*100","v":{"$error":"#DIV/0!"}},{"$f":"(C753/B687)*100","v":{"$error":"#DIV/0!"}}]
[]
[null,{"$f":"B687-B686","v":0},{"$f":"C687-C686","v":0}]
[null,{"$f":"(B756/B686)*100","v":{"$error":"#DIV/0!"}},{"$f":"(C756/C686)*100","v":{"$error":"#DIV/0!"}}]
{"$rows_empty":12}
[{"$nulls":13},{"$f":"AVERAGE(B770:C770)","v":{"$error":"#DIV/0!"}}]
[{"$nulls":13},{"$f":"AVERAGE(B771:C771)","v":{"$error":"#DIV/0!"}}]
{"$rows_empty":65}
[null,{"$f":"B771-M770","v":0},{"$f":"C771-B771","v":0}]
[null,{"$f":"(B837/M770)*100","v":{"$error":"#DIV/0!"}},{"$f":"(C837/C771)*100","v":{"$error":"#DIV/0!"}}]
[]
[null,{"$f":"B771-B770","v":0},{"$f":"C771-C770","v":0}]
[null,{"$f":"(B840/B770)*100","v":{"$error":"#DIV/0!"}},{"$f":"(C840/C770)*100","v":{"$error":"#DIV/0!"}}]
{"$rows_empty":12}
[{"$nulls":13},{"$f":"AVERAGE(B854:C854)","v":{"$error":"#DIV/0!"}}]
[{"$nulls":13},{"$f":"AVERAGE(B855:C855)","v":{"$error":"#DIV/0!"}}]
{"$rows_empty":65}
[null,{"$f":"B855-M854","v":0},{"$f":"C855-B855","v":0}]
[null,{"$f":"(B921/M854)*100","v":{"$error":"#DIV/0!"}},{"$f":"(C921/B855)*100","v":{"$error":"#DIV/0!"}}]
[]
[null,{"$f":"B855-B854","v":0},{"$f":"C855-C854","v":0}]
[null,{"$f":"(B924/B854)*100","v":{"$error":"#DIV/0!"}},{"$f":"(C924/C854)*100","v":{"$error":"#DIV/0!"}}]
{"$rows_empty":12}
[{"$nulls":13},{"$f":"AVERAGE(B938:C938)","v":{"$error":"#DIV/0!"}}]
[{"$nulls":13},{"$f":"AVERAGE(B939:C939)","v":{"$error":"#DIV/0!"}}]
{"$rows_empty":65}
[null,{"$f":"B939-M938","v":0},{"$f":"C939-B939","v":0}]
[null,{"$f":"(B1005/M938)*100","v":{"$error":"#DIV/0!"}},{"$f":"(C1005/B939)*100","v":{"$error":"#DIV/0!"}}]
[]
[null,{"$f":"B939-B938","v":0},{"$f":"C939-C938","v":0}]
[null,{"$f":"(B1008/B938)*100","v":{"$error":"#DIV/0!"}},{"$f":"(C1008/C938)*100","v":{"$error":"#DIV/0!"}}]

{"sheet":"mnth-mnth_03-04","index":1,"n_rows":2119,"n_cols":15,"rows_kept":2119,"cut":false,"hidden":false,"merged":[]}
["ecch"]
["tnf_em","jan","feb","mar","apr","may","jun","jul","aug","sep","oct","nov","dec","ytd_avg"]
[2003,73.8,76,75.8,77,78.2,77.3,77.099999999999994,76.5,77.7,78.900000000000006,78.900000000000006,78.2,{"$f":"AVERAGE(B3:M3)","v":77.116666666666674},{"$f":"AVERAGE(B3:M3)","v":77.116666666666674}]
[2004,74.2,76.400000000000006,76.8,78.099999999999994,78.8,78.2,78.099999999999994,77.400000000000006,78.7,79.3,80.2,79.400000000000006,77.966666666666669,77.966666666666669]
[2005,76,77.5,78,79.900000000000006,80.7,80.400000000000006,80.400000000000006,79.7,81.2,81.900000000000006,82.1,81.8,79.966666666666669,79.966666666666669]
[2006,78.599999999999994,80.2,80.8,82.6,83.4,82.7,82.3,82.1,82.8,83.5,84.5,84.2,82.308333333333337,82.308333333333337]
[2007,81.2,81.8,81.900000000000006,83.4,84.3,84,83.9,83.7,84,84.7,85.2,85.1,83.600000000000009,83.600000000000009]
[2008,81.7,82.5,82.5,83.6,83.9,83.1,82.8,81.599999999999994,82.1,82.4,82.4,81.7,82.524999999999991,82.524999999999991]
[2009,77.2,77.900000000000006,77.900000000000006,79.2,79.400000000000006,78.400000000000006,78.5,78.400000000000006,79.099999999999994,80.599999999999994,80.7,80,{"$f":"AVERAGE(B9:M9)","v":78.941666666666677},78.941666666666677]
[2010,76.3,77.900000000000006,78.2,79.900000000000006,81.2,80,80,80,80.8,81.099999999999994,81.599999999999994,81.599999999999994,79.88333333333334,79.88333333333334]
[2011,77.5,78.400000000000006,79.599999999999994,81,81.900000000000006,80,79.900000000000006,80.2,82.9,82.9,83.3,83.1,80.891666666666666,80.891666666666666]
[2012,78.900000000000006,81.3,81.3,82.8,84.1,82.2,81.400000000000006,81.400000000000006,83.4,83.7,84.3,83.3,82.341666666666654,{"$f":"AVERAGE(B12:M12)","v":82.341666666666654}]
[2013,79.099999999999994,81.400000000000006,81.5,81.900000000000006,82.9,82.1,81.099999999999994,81.8,83,84.1,84.8,84.1,82.316666666666663,{"$f":"AVERAGE(B13:M13)","v":82.316666666666663}]
[2014,81,81.400000000000006,81.7,82.4,83.8,83.1,82.9,83.5,83.8,85.1,85.9,85.4,83.333333333333329,{"$f":"AVERAGE(B14:M14)","v":83.333333333333329}]
[2015,{"$nulls":12},{"$f":"AVERAGE(B15:B15)","v":{"$error":"#DIV/0!"}},{"$f":"AVERAGE(B15:M15)","v":{"$error":"#DIV/0!"}}]
[null,"jan-dec","feb-jan","mar-feb","apr-mar","may-apr","jun-may","jul-jun","aug-jul","sep-aug","oct-sep","nov-oct","dec-nov"]
["change_04",{"$f":"B4-M3","v":-4},{"$f":"C4-B4","v":2.2000000000000028},0.39999999999999147,1.2999999999999972,0.70000000000000284,-0.59999999999999432,-0.10000000000000853,-0.69999999999998863,1.2999999999999972,0.59999999999999432,0.90000000000000568,-0.79999999999999716]
["%change_04",{"$f":"(B17/M3)*100","v":-5.1150895140664963},{"$f":"(C17/B4)*100","v":2.9649595687331574},0.52356020942407266,1.6927083333333297,0.89628681177977321,-0.76142131979694716,-0.12787723785167329,-0.896286811779755,1.6795865633074898,0.76238881829732441,1.1349306431273716,-0.99750623441396158]
[null,"jan","feb","mar","apr","may","jun","jul","aug","sep","oct","nov","dec","ytd_avg_total"]
["chg_prv_04-03",{"$f":"B4-B3","v":0.40000000000000568},0.40000000000000568,1,1.0999999999999943,0.59999999999999432,0.90000000000000568,1,0.90000000000000568,1,0.39999999999999147,1.2999999999999972,1.2000000000000028,{"$f":"O4-O3","v":0.84999999999999432}]
["%chg_prv_04-03",{"$f":"(B20/B3)*100","v":0.54200542005420826},0.52631578947369162,1.3192612137203166,1.4285714285714213,0.7672634271099672,1.1642949547218702,1.2970168612191959,1.1764705882353015,1.287001287001287,0.50697084917616153,1.6476552598225565,1.5345268542199524,{"$f":"(N20/O3)*100","v":1.1022260644045743}]
[]
[null,"jan-dec","feb-jan","mar-feb","apr-mar","may-apr","jun-may","jul-jun","aug-jul","sep-aug","oct-sep","nov-oct","dec-nov"]
["change_05",{"$f":"B5-M4","v":-3.4000000000000057},{"$f":"C5-B5","v":1.5},0.5,1.9000000000000057,0.79999999999999716,-0.29999999999999716,0,-0.70000000000000284,1.5,0.70000000000000284,0.19999999999998863,-0.29999999999999716]
["%change_05",{"$f":"(B24/M4)*100","v":-4.2821158690176393},{"$f":"(C24/B5)*100","v":1.9736842105263157},0.64516129032258063,2.4358974358974432,1.0012515644555657,-0.37174721189590726,0,-0.8706467661691577,1.8820577164366372,0.86206896551724488,0.24420024420023032,-0.36540803897685403]
[null,"jan","feb","mar","apr","may","jun","jul","aug","sep","oct","nov","dec","ytd_avg_total"]
["chg_prv_05-04",{"$f":"B5-B4","v":1.7999999999999972},1.0999999999999943,1.2000000000000028,1.8000000000000114,1.9000000000000057,2.2000000000000028,2.3000000000000114,2.2999999999999972,2.5,2.6000000000000085,1.8999999999999915,2.3999999999999915,{"$f":"O5-O4","v":2}]
["%chg_prv_05-04",{"$f":"(B27/B4)*100","v":2.4258760107816673},1.4397905759162228,1.5625000000000038,2.3047375160051362,2.4111675126903624,2.8132992327365764,2.9449423815621145,2.9715762273901767,3.1766200762388821,3.2786885245901747,2.3690773067331561,3.0226700251889058,{"$f":"(N27/O4)*100","v":2.5651988029072252}]
[]
[null,"jan-dec","feb-jan","mar-feb","apr-mar","may-apr","jun-may","jul-jun","aug-jul","sep-aug","oct-sep","nov-oct","dec-nov"]
["change_06",{"$f":"B6-M5","v":-3.2000000000000028},{"$f":"C6-B6","v":1.6000000000000085},0.59999999999999432,1.7999999999999972,0.80000000000001137,-0.70000000000000284,-0.40000000000000568,-0.20000000000000284,0.70000000000000284,{"$f":"K6-J6","v":0.70000000000000284},{"$f":"L6-K6","v":1},{"$f":"M6-L6","v":-0.29999999999999716}]
["%change_06",{"$f":"(B31/M5)*100","v":-3.9119804400978029},{"$f":"(C31/B6)*100","v":2.0356234096692223},0.74812967581046663,2.2277227722772244,0.96852300242132128,-0.83932853717026712,-0.48367593712213502,-0.24301336573511889,0.85261875761267103,0.84541062801932709,1.1976047904191618,-0.35502958579881322]
[null,"jan","feb","mar","apr","may","jun","jul","aug","sep","oct","nov","dec","ytd_avg_total"]
["chg_prv_06-05",{"$f":"B6-B5","v":2.5999999999999943},2.7000000000000028,2.7999999999999972,2.6999999999999886,2.7000000000000028,2.2999999999999972,1.8999999999999915,{"$f":"I6-I5","v":2.3999999999999915},{"$f":"J6-J5","v":1.5999999999999943},{"$f":"K6-K5","v":1.5999999999999943},{"$f":"L6-L5","v":2.4000000000000057},{"$f":"M6-M5","v":2.4000000000000057},{"$f":"O6-O5","v":2.3416666666666686}]
["%chg_prv_06-05",{"$f":"(B34/B5)*100","v":3.4210526315789398},3.4838709677419395,3.5897435897435859,3.3792240300375322,3.3457249070632002,2.8606965174129315,2.3631840796019792,3.011292346298609,1.9704433497536877,1.9536019536019467,2.9232643118148669,2.9339853300733565,{"$f":"(N34/O5)*100","v":2.9283034597749085}]
[]
[null,"jan-dec","feb-jan","mar-feb","apr-mar","may-apr","jun-may","jul-jun","aug-jul","sep-aug","oct-sep","nov-oct","dec-nov"]
["change_07",{"$f":"B7-M6","v":-3},{"$f":"C7-B7","v":0.59999999999999432},0.10000000000000853,1.5,0.89999999999999147,-0.29999999999999716,-9.9999999999994316E-2,-0.20000000000000284,0.29999999999999716,0.70000000000000284,0.5,-0.10000000000000853]
["%change_07",{"$f":"(B38/M6)*100","v":-3.5629453681710213},{"$f":"(C38/B7)*100","v":0.73891625615762846},0.12224938875306667,1.8315018315018312,1.0791366906474718,-0.35587188612099308,-0.11904761904761227,-0.23837902264601052,0.35842293906809691,0.83333333333333681,0.59031877213695394,-0.11737089201878934]
[null,"jan","feb","mar","apr","may","jun","jul","aug","sep","oct","nov","dec","ytd_avg_total"]
["chg_prv_07-06",{"$f":"B7-B6","v":2.6000000000000085},1.5999999999999943,1.1000000000000085,0.80000000000001137,0.89999999999999147,1.2999999999999972,1.6000000000000085,1.6000000000000085,{"$f":"J7-J6","v":1.2000000000000028},{"$f":"K7-K6","v":1.2000000000000028},{"$f":"L7-L6","v":0.70000000000000284},{"$f":"M7-M6","v":0.89999999999999147},{"$f":"O7-O6","v":1.2916666666666714}]
["%chg_prv_07-06",{"$f":"(B41/B6)*100","v":3.3078880407124789},1.9950124688279232,1.3613861386138719,0.96852300242132128,1.0791366906474718,1.5719467956469131,1.944106925880934,1.9488428745432507,{"$f":"(J41/J6)*100","v":1.4492753623188441},{"$f":"(K41/K6)*100","v":1.4371257485029976},{"$f":"(L41/L6)*100","v":0.82840236686390867},{"$f":"(M41/M6)*100","v":1.0688836104512962},{"$f":"(N41/O6)*100","v":1.5693024197630916}]
[]
[null,"jan-dec","feb-jan","mar-feb","apr-mar","may-apr","jun-may","jul-jun","aug-jul","sep-aug","oct-sep","nov-oct","dec-nov"]
["change_08",{"$f":"B8-M7","v":-3.3999999999999915},{"$f":"C8-B8","v":0.79999999999999716},0,1.0999999999999943,0.30000000000001137,-0.80000000000001137,-0.29999999999999716,-1.2000000000000028,0.5,0.30000000000001137,0,-0.70000000000000284]
["%change_08",{"$f":"(B45/M7)*100","v":-3.9952996474735505},{"$f":"(C45/B8)*100","v":0.97919216646266471},0,1.3333333333333264,0.35885167464116197,-0.95351609058404208,-0.36101083032490633,-1.4492753623188441,0.61274509803921573,0.36540803897687135,0,-0.84951456310679951]
[null,"jan","feb","mar","apr","may","jun","jul","aug","sep","oct","nov","dec","ytd_avg_total"]
["chg_prv_08-07",{"$f":"B8-B7","v":0.5},0.70000000000000284,0.59999999999999432,0.19999999999998863,-0.39999999999999147,-0.90000000000000568,-1.1000000000000085,-2.1000000000000085,-1.9000000000000057,-2.2999999999999972,-2.7999999999999972,-3.3999999999999915,{"$f":"O8-O7","v":-1.0750000000000171}]
["%chg_prv_08-07",{"$f":"(B48/B7)*100","v":0.61576354679802947},0.85574572127139703,0.73260073260072556,0.23980815347720458,-0.47449584816131846,-1.0714285714285783,-1.3110846245530494,-2.5089605734767129,-2.261904761904769,-2.7154663518299849,-3.2863849765258184,-3.9952996474735505,{"$f":"(N48/O7)*100","v":-1.2858851674641352}]
[]
[null,"jan-dec","feb-jan","mar-feb","apr-mar","may-apr","jun-may","jul-jun","aug-jul","sep-aug","oct-sep","nov-oct","dec-nov"]
["change_09",{"$f":"B9-M8","v":-4.5},{"$f":"C9-B9","v":0.70000000000000284},0,1.2999999999999972,0.20000000000000284,-1,9.9999999999994316E-2,-9.9999999999994316E-2,0.69999999999998863,1.5,0.10000000000000853,-0.70000000000000284]
["%change_09",{"$f":"(B52/M8)*100","v":-5.5079559363525092},{"$f":"(C52/B9)*100","v":0.90673575129534034},0,1.6688061617458241,0.25252525252525609,-1.2594458438287153,0.12755102040815602,-0.12738853503183989,0.89285714285712825,1.8963337547408345,0.12406947890819917,-0.86741016109046198]
[null,"jan","feb","mar","apr","may","jun","jul","aug","sep","oct","nov","dec","ytd_avg_total"]
["chg_prv_09-08",{"$f":"B9-B8","v":-4.5},-4.5999999999999943,-4.5999999999999943,-4.3999999999999915,-4.5,-4.6999999999999886,-4.2999999999999972,{"$f":"I9-I8","v":-3.1999999999999886},{"$f":"J9-J8","v":-3},{"$f":"K9-K8","v":-1.8000000000000114},{"$f":"L9-L8","v":-1.7000000000000028},{"$f":"M9-M8","v":-1.7000000000000028},{"$f":"O9-O8","v":-3.5833333333333144}]
["%chg_prv_09-08",{"$f":"(B55/B8)*100","v":-5.5079559363525092},-5.575757575757569,-5.575757575757569,-5.2631578947368318,-5.3635280095351598,-5.6558363417569062,-5.1932367149758418,-3.9215686274509665,-3.6540803897685747,-2.1844660194174894,-2.0631067961165082,-2.0807833537331737,{"$f":"(N55/O8)*100","v":-4.3421185499343409}]
[]
[null,"jan-dec","feb-jan","mar-feb","apr-mar","may-apr","jun-may","jul-jun","aug-jul","sep-aug","oct-sep","nov-oct","dec-nov"]
["change_10",{"$f":"B10-M9","v":-3.7000000000000028},{"$f":"C10-B10","v":1.6000000000000085},0.29999999999999716,1.7000000000000028,1.2999999999999972,-1.2000000000000028,0,0,0.79999999999999716,0.29999999999999716,0.5,0]
["%change_10",{"$f":"(B59/M9)*100","v":-4.6250000000000036},{"$f":"(C59/B10)*100","v":2.0969855832241264},0.38510911424903355,2.1739130434782643,1.6270337922402967,-1.4778325123152742,0,0,0.99999999999999634,0.37128712871286779,0.61652281134401976,0]
[null,"jan","feb","mar","apr","may","jun","jul","aug","sep","oct","nov","dec","ytd_avg_total"]
["chg_prv_10-09",{"$f":"B10-B9","v":-0.90000000000000568},0,0.29999999999999716,0.70000000000000284,1.7999999999999972,1.5999999999999943,{"$f":"H10-H9","v":1.5},1.5999999999999943,1.7000000000000028,0.5,0.89999999999999147,1.5999999999999943,{"$f":"O10-O9","v":0.94166666666666288}]
["%chg_prv_10-09",{"$f":"(B62/B9)*100","v":-1.1658031088082974},0,0.38510911424903355,0.88383838383838742,2.267002518891684,2.0408163265306047,{"$f":"(H62/H9)*100","v":1.910828025477707},2.0408163265306047,2.1491782553729495,0.62034739454094301,1.1152416356877217,1.9999999999999927,{"$f":"(N62/O9)*100","v":1.1928639290615384}]
[]
[null,"jan-dec","feb-jan","mar-feb","apr-mar","may-apr","jun-may","jul-jun","aug-jul","sep-aug","oct-sep","nov-oct","dec-nov"]
["change_11",{"$f":"B11-M10","v":-4.0999999999999943},{"$f":"C11-B11","v":0.90000000000000568},1.1999999999999886,1.4000000000000057,0.90000000000000568,-1.9000000000000057,-9.9999999999994316E-2,0.29999999999999716,2.7000000000000028,0,0.39999999999999147,-0.20000000000000284]
["%change_11",{"$f":"(B66/M10)*100","v":-5.0245098039215623},{"$f":"(C66/B11)*100","v":1.1612903225806526},1.5306122448979447,1.7587939698492534,1.111111111111118,-2.3199023199023268,-0.12499999999999289,0.37546933667083499,3.3665835411471354,0,0.48250904704462172,-0.24009603841536956]
[null,"jan","feb","mar","apr","may","jun","jul","aug","sep","oct","nov","dec","ytd_avg_total"]
["chg_prv_11-10",{"$f":"B11-B10","v":1.2000000000000028},0.5,1.3999999999999915,1.0999999999999943,0.70000000000000284,0,{"$f":"H11-H10","v":-9.9999999999994316E-2},0.20000000000000284,2.1000000000000085,1.8000000000000114,1.7000000000000028,1.5,{"$f":"O11-O10","v":1.0083333333333258}]
["%chg_prv_11-10",{"$f":"(B69/B10)*100","v":1.5727391874180903},0.64184852374839529,1.7902813299232627,1.3767209011264008,0.86206896551724488,0,{"$f":"(H69/H10)*100","v":-0.12499999999999289},0.25000000000000355,2.5990099009901098,2.2194821208384852,2.083333333333337,1.8382352941176472,{"$f":"(N69/O10)*100","v":1.2622574587940649}]
[]
[null,"jan-dec","feb-jan","mar-feb","apr-mar","may-apr","jun-may","jul-jun","aug-jul","sep-aug","oct-sep","nov-oct","dec-nov"]
["change_12",{"$f":"B12-M11","v":-4.1999999999999886},{"$f":"C12-B12","v":2.3999999999999915},0,1.5,1.2999999999999972,-1.8999999999999915,-0.79999999999999716,0,2,0.29999999999999716,0.59999999999999432,-1]
["%change_12",{"$f":"(B73/M11)*100","v":-5.054151624548723},{"$f":"(C73/B12)*100","v":3.0418250950570229},0,1.8450184501845017,1.5700483091787405,-2.259215219976209,-0.97323600973235669,0,2.4570024570024569,0.35971223021582388,0.71684587813619383,-1.1862396204033214]
[null,"jan","feb","mar","apr","may","jun","jul","aug","sep","oct","nov","dec","ytd_avg_total"]
["chg_prv_12-11",{"$f":"B12-B11","v":1.4000000000000057},2.8999999999999915,1.7000000000000028,1.7999999999999972,2.1999999999999886,2.2000000000000028,{"$f":"H12-H11","v":1.5},1.2000000000000028,{"$f":"J12-J11","v":0.5},0.79999999999999716,{"$f":"L12-L11","v":1},0.20000000000000284,{"$f":"O12-O11","v":1.4499999999999886}]
["%chg_prv_12-11",{"$f":"(B76/B11)*100","v":1.8064516129032333},3.6989795918367236,2.1356783919598028,2.2222222222222188,2.6862026862026722,2.7500000000000036,{"$f":"(H76/H11)*100","v":1.8773466833541925},1.496259351620951,{"$f":"(J76/J11)*100","v":0.60313630880579006},0.96501809408926065,{"$f":"(L76/L11)*100","v":1.2004801920768309},0.24067388688327659,{"$f":"(N76/O11)*100","v":1.7925208612341468}]
[]
[null,"jan-dec","feb-jan","mar-feb","apr-mar","may-apr","jun-may","jul-jun","aug-jul","sep-aug","oct-sep","nov-oct","dec-nov"]
["change_13",{"$f":"B13-M12","v":-4.2000000000000028},{"$f":"C13-B13","v":2.3000000000000114},9.9999999999994316E-2,0.40000000000000568,1,-0.80000000000001137,-1,0.70000000000000284,1.2000000000000028,1.0999999999999943,0.70000000000000284,-0.70000000000000284]
["%change_13",{"$f":"(B80/M12)*100","v":-5.0420168067226925},{"$f":"(C80/B13)*100","v":2.9077117572692943},0.12285012285011586,0.49079754601227693,1.2210012210012211,-0.96501809408927786,-1.2180267965895251,0.86313193588163117,1.4669926650366782,1.3253012048192703,0.83234244946492619,-0.82547169811321097]
[null,"jan","feb","mar","apr","may","jun","jul","aug","sep","oct","nov","dec","ytd_avg_total"]
["chg_prv_13-12",{"$f":"B13-B12","v":0.19999999999998863},0.10000000000000853,0.20000000000000284,-0.89999999999999147,-1.1999999999999886,-0.10000000000000853,-0.30000000000001137,0.39999999999999147,-0.40000000000000568,0.39999999999999147,0.5,0.79999999999999716,{"$f":"O13-O12","v":-2.4999999999991473E-2}]
["%chg_prv_13-12",{"$f":"(B83/B12)*100","v":0.25348542458807177},0.12300123001231063,0.24600246002460377,-1.0869565217391202,-1.4268727705112827,-0.12165450121655538,-0.36855036855038248,0.49140049140048092,-0.47961630695444329,0.47789725209079031,0.59311981020166071,0.96038415366146124,{"$f":"(N83/O12)*100","v":-3.0361299463606689E-2}]
[]
[null,"jan-dec","feb-jan","mar-feb","apr-mar","may-apr","jun-may","jul-jun","aug-jul","sep-aug","oct-sep","nov-oct","dec-nov"]
["change_14",{"$f":"B14-M13","v":-3.0999999999999943},{"$f":"C14-B14","v":0.40000000000000568},0.29999999999999716,0.70000000000000284,1.3999999999999915,-0.70000000000000284,-0.19999999999998863,0.59999999999999432,0.29999999999999716,1.2999999999999972,0.80000000000001137,-0.5]
["%change_14",{"$f":"(B87/M13)*100","v":-3.6860879904875086},{"$f":"(C87/B14)*100","v":0.49382716049383418},0.36855036855036505,0.85679314565483811,1.6990291262135817,-0.83532219570406074,-0.24067388688325952,0.72376357056694118,0.35928143712574512,1.5513126491646745,0.94007050528791014,-0.58207217694994173]
[null,"jan","feb","mar","apr","may","jun","jul","aug","sep","oct","nov","dec","ytd_avg_total"]
["chg_prv_14-13",{"$f":"B14-B13","v":1.9000000000000057},0,0.20000000000000284,0.5,0.89999999999999147,1,1.8000000000000114,1.7000000000000028,0.79999999999999716,1,1.1000000000000085,1.3000000000000114,{"$f":"O14-O13","v":1.0166666666666657}]
["%chg_prv_14-13",{"$f":"(B90/B13)*100","v":2.4020227560050644},0,0.24539877300613847,0.61050061050061055,1.0856453558504118,1.2180267965895251,2.2194821208384852,2.0782396088019595,0.96385542168674365,1.1890606420927468,1.2971698113207648,1.5457788347205843,{"$f":"(N90/O13)*100","v":1.2350678274954432}]
[]
[null,"jan-dec","feb-jan","mar-feb","apr-mar","may-apr","jun-may","jul-jun","aug-jul","sep-aug","oct-sep","nov-oct","dec-nov"]
["change_15"]
["%change_15"]
[null,"jan","feb","mar","apr","may","jun","jul","aug","sep","oct","nov","dec","ytd_avg_total"]
["chg_prv_15-14",{"$nulls":12},{"$f":"N15-N14","v":{"$error":"#DIV/0!"}}]
["%chg_prv_15-14",{"$nulls":12},{"$f":"(N97/N14)*100","v":{"$error":"#DIV/0!"}}]
[]
[]
["m_em","jan","feb","mar","apr","may","jun","jul","aug","sep","oct","nov","dec","ytd_avg"]
[2003,11.1,11,11,10.9,10.9,10.9,10.9,10.8,10.7,10.6,10.4,10.4,{"$f":"AVERAGE(B102:M102)","v":10.799999999999999},{"$f":"AVERAGE(B102:M102)","v":10.799999999999999}]
[2004,10.1,10.199999999999999,10.3,10.3,10.4,10.6,10.7,10.7,10.7,10.6,10.5,10.5,10.466666666666667,10.466666666666667]
[2005,10.3,10.5,10.6,10.7,10.8,11.1,11.2,11.3,11.3,11.3,11.3,11.4,10.983333333333333,10.983333333333333]
[2006,11.2,11.4,11.4,11.5,11.4,11.6,11.7,11.7,11.4,11.5,11.5,11.5,11.483333333333334,11.483333333333334]
[2007,11.3,11.4,11.1,11.2,11.1,11.4,11.3,11.3,11.1,11.1,11.1,11.1,11.20833333333333,11.20833333333333]
[2008,11,11.1,11.1,11.2,11.2,11.2,11.2,11.1,10.9,10.9,10.9,10.6,11.033333333333337,11.033333333333337]
[2009,10.5,10.3,10.1,10.1,9.8000000000000007,9.9,10.1,10,9.9,9.9,9.8000000000000007,9.8000000000000007,{"$f":"AVERAGE(B108:M108)","v":10.016666666666667},10.016666666666667]
[2010,9.6999999999999993,9.8000000000000007,9.8000000000000007,10,10.199999999999999,10.4,10.4,10.4,10.3,10.3,10.3,10.3,10.158333333333333,10.158333333333333]
[2011,10.3,10.3,10.4,10.3,10.4,10.5,10.6,10.6,10.5,10.3,10.4,10.3,10.408333333333333,10.408333333333333]
[2012,10.3,10.3,10.3,10.4,10.6,10.7,10.7,10.7,10.7,10.5,10.5,10.5,10.516666666666667,{"$f":"AVERAGE(B111:M111)","v":10.516666666666667}]
[2013,10.3,10.3,10.3,10.199999999999999,10.3,10.5,10.6,10.6,10.4,10.4,10.4,10.4,10.391666666666667,{"$f":"AVERAGE(B112:M112)","v":10.391666666666667}]
[2014,10.3,10.3,10.3,10.4,10.4,10.6,10.6,10.6,10.3,10.3,10.3,10.3,10.391666666666666,{"$f":"AVERAGE(B113:M113)","v":10.391666666666666}]
[2015,{"$nulls":12},{"$f":"AVERAGE(B114:B114)","v":{"$error":"#DIV/0!"}},{"$f":"AVERAGE(B114:M114)","v":{"$error":"#DIV/0!"}}]
[null,"jan-dec","feb-jan","mar-feb","apr-mar","may-apr","jun-may","jul-jun","aug-jul","sep-aug","oct-sep","nov-oct","dec-nov"]
["change_04",{"$f":"B103-M102","v":-0.30000000000000071},{"$f":"C103-B103","v":9.9999999999999645E-2},0.10000000000000142,0,9.9999999999999645E-2,0.19999999999999929,9.9999999999999645E-2,0,{"$f":"J103-I103","v":0},{"$f":"K103-J103","v":-9.9999999999999645E-2},{"$f":"L103-K103","v":-9.9999999999999645E-2},{"$f":"M103-L103","v":0}]
["%change_04",{"$f":"(B116/M102)*100","v":-2.8846153846153912},{"$f":"(C116/B103)*100","v":0.99009900990098665},0.98039215686275916,0,0.97087378640776345,1.9230769230769162,0.94339622641509102,0,0,-0.93457943925233322,-0.94339622641509102,0]
[null,"jan","feb","mar","apr","may","jun","jul","aug","sep","oct","nov","dec","ytd_avg_total"]
["chg_prv_04-03",{"$f":"B103-B102","v":-1},-0.80000000000000071,-0.69999999999999929,-0.59999999999999964,-0.5,-0.30000000000000071,-0.20000000000000107,-0.10000000000000142,0,0,9.9999999999999645E-2,9.9999999999999645E-2,{"$f":"O103-O102","v":-0.33333333333333215}]
["%chg_prv_04-03",{"$f":"(B119/B102)*100","v":-9.0090090090090094},-7.2727272727272796,-6.3636363636363571,-5.5045871559632999,-4.5871559633027514,-2.752293577981658,-1.8348623853211108,-0.92592592592593903,0,0,0.96153846153845812,0.96153846153845812,{"$f":"(N119/O102)*100","v":-3.086419753086409}]
[]
[null,"jan-dec","feb-jan","mar-feb","apr-mar","may-apr","jun-may","jul-jun","aug-jul","sep-aug","oct-sep","nov-oct","dec-nov"]
["change_05",{"$f":"B104-M103","v":-0.19999999999999929},{"$f":"C104-B104","v":0.19999999999999929},9.9999999999999645E-2,9.9999999999999645E-2,0.10000000000000142,0.29999999999999893,9.9999999999999645E-2,0.10000000000000142,0,0,0,9.9999999999999645E-2]
["%change_05",{"$f":"(B123/M103)*100","v":-1.904761904761898},{"$f":"(C123/B104)*100","v":1.9417475728155269},0.952380952380949,0.94339622641509102,0.93457943925234976,2.7777777777777675,0.90090090090089781,0.89285714285715567,0,0,0,0.8849557522123862]
[" ","jan","feb","mar","apr","may","jun","jul","aug","sep","oct","nov","dec","ytd_avg_total"]
["chg_prv_05-04",{"$f":"B104-B103","v":0.20000000000000107},0.30000000000000071,0.29999999999999893,0.39999999999999858,0.40000000000000036,0.5,0.5,0.60000000000000142,0.60000000000000142,0.70000000000000107,0.80000000000000071,0.90000000000000036,{"$f":"O104-O103","v":0.51666666666666572}]
["%chg_prv_05-04",{"$f":"(B126/B103)*100","v":1.9801980198019911},2.9411764705882426,2.9126213592232904,3.8834951456310538,3.8461538461538494,4.716981132075472,4.6728971962616832,5.6074766355140326,5.6074766355140326,6.60377358490567,7.6190476190476257,8.5714285714285747,{"$f":"(N126/O103)*100","v":4.9363057324840671}]
[]
[null,"jan-dec","feb-jan","mar-feb","apr-mar","may-apr","jun-may","jul-jun","aug-jul","sep-aug","oct-sep","nov-oct","dec-nov"]
["change_06",{"$f":"B105-M104","v":-0.20000000000000107},{"$f":"C105-B105","v":0.20000000000000107},0,9.9999999999999645E-2,-9.9999999999999645E-2,0.19999999999999929,9.9999999999999645E-2,0,-0.29999999999999893,{"$f":"K105-J105","v":9.9999999999999645E-2},{"$f":"L105-K105","v":0},{"$f":"M105-L105","v":0}]
["%change_06",{"$f":"(B130/M104)*100","v":-1.7543859649122899},{"$f":"(C130/B105)*100","v":1.7857142857142954},0,0.87719298245613719,-0.86956521739130122,1.7543859649122744,0.86206896551723844,0,-2.564102564102555,{"$f":"(K130/J105)*100","v":0.87719298245613719},{"$f":"(L130/K105)*100","v":0},{"$f":"(M130/L105)*100","v":0}]
[null,"jan","feb","mar","apr","may","jun","jul","aug","sep","oct","nov","dec","ytd_avg_total"]
["chg_prv_06-05",{"$f":"B105-B104","v":0.89999999999999858},0.90000000000000036,0.80000000000000071,0.80000000000000071,0.59999999999999964,0.5,0.5,{"$f":"I105-I104","v":0.39999999999999858},{"$f":"J105-J104","v":9.9999999999999645E-2},{"$f":"K105-K104","v":0.19999999999999929},{"$f":"L105-L104","v":0.19999999999999929},{"$f":"M105-M104","v":9.9999999999999645E-2},{"$f":"O105-O104","v":0.50000000000000178}]
["%chg_prv_06-05",{"$f":"(B133/B104)*100","v":8.7378640776698884},8.5714285714285747,7.547169811320761,7.4766355140186995,5.5555555555555518,4.5045045045045047,4.4642857142857144,3.5398230088495448,0.8849557522123862,{"$f":"(K133/K104)*100","v":1.7699115044247724},{"$f":"(L133/L104)*100","v":1.7699115044247724},{"$f":"(M133/M104)*100","v":0.87719298245613719},{"$f":"(N133/O104)*100","v":4.5523520485584381}]
[]
[null,"jan-dec","feb-jan","mar-feb","apr-mar","may-apr","jun-may","jul-jun","aug-jul","sep-aug","oct-sep","nov-oct","dec-nov"]
["change_07",{"$f":"B106-M105","v":-0.19999999999999929},{"$f":"C106-B106","v":9.9999999999999645E-2},-0.30000000000000071,9.9999999999999645E-2,-9.9999999999999645E-2,0.30000000000000071,-9.9999999999999645E-2,0,-0.20000000000000107,0,0,0]
["%change_07",{"$f":"(B137/M105)*100","v":-1.7391304347826024},{"$f":"(C137/B106)*100","v":0.8849557522123862},-2.631578947368427,0.90090090090089781,-0.89285714285713969,2.7027027027027093,-0.87719298245613719,0,-1.7699115044247882,0,0,0]
[null,"jan","feb","mar","apr","may","jun","jul","aug","sep","oct","nov","dec","ytd_avg_total"]
["chg_prv_07-06",{"$f":"B106-B105","v":0.10000000000000142},0,-0.30000000000000071,-0.30000000000000071,-0.30000000000000071,-0.19999999999999929,-0.39999999999999858,-0.39999999999999858,{"$f":"J106-J105","v":-0.30000000000000071},{"$f":"K106-K105","v":-0.40000000000000036},{"$f":"L106-L105","v":-0.40000000000000036},{"$f":"M106-M105","v":-0.40000000000000036},{"$f":"O106-O105","v":-0.27500000000000391}]
["%chg_prv_07-06",{"$f":"(B140/B105)*100","v":0.89285714285715567},0,-2.631578947368427,-2.6086956521739193,-2.631578947368427,-1.7241379310344769,-3.4188034188034067,-3.4188034188034067,{"$f":"(J140/J105)*100","v":-2.631578947368427},{"$f":"(K140/K105)*100","v":-3.4782608695652204},{"$f":"(L140/L105)*100","v":-3.4782608695652204},{"$f":"(M140/M105)*100","v":-3.4782608695652204},{"$f":"(N140/O105)*100","v":-2.3947750362845044}]
[]
[null,"jan-dec","feb-jan","mar-feb","apr-mar","may-apr","jun-may","jul-jun","aug-jul","sep-aug","oct-sep","nov-oct","dec-nov"]
["change_08",{"$f":"B107-M106","v":-9.9999999999999645E-2},{"$f":"C107-B107","v":9.9999999999999645E-2},0,9.9999999999999645E-2,0,0,0,-9.9999999999999645E-2,-0.19999999999999929,0,0,-0.30000000000000071]
["%change_08",{"$f":"(B144/M106)*100","v":-0.90090090090089781},{"$f":"(C144/B107)*100","v":0.90909090909090595},0,0.90090090090089781,0,0,0,-0.89285714285713969,-1.8018018018017956,0,0,-2.752293577981658]
[null,"jan","feb","mar","apr","may","jun","jul","aug","sep","oct","nov","dec","ytd_avg_total"]
["chg_prv_08-07",{"$f":"B107-B106","v":-0.30000000000000071},-0.30000000000000071,0,0,9.9999999999999645E-2,-0.20000000000000107,-0.10000000000000142,-0.20000000000000107,-0.19999999999999929,-0.19999999999999929,-0.19999999999999929,-0.5,{"$f":"O107-O106","v":-0.17499999999999361}]
["%chg_prv_08-07",{"$f":"(B147/B106)*100","v":-2.6548672566371745},-2.631578947368427,0,0,0.90090090090089781,-1.7543859649122899,-0.88495575221240186,-1.7699115044247882,-1.8018018018017956,-1.8018018018017956,-1.8018018018017956,-4.5045045045045047,{"$f":"(N147/O106)*100","v":-1.5613382899627686}]
[]
[null,"jan-dec","feb-jan","mar-feb","apr-mar","may-apr","jun-may","jul-jun","aug-jul","sep-aug","oct-sep","nov-oct","dec-nov"]
["change_09",{"$f":"B108-M107","v":-9.9999999999999645E-2},{"$f":"C108-B108","v":-0.19999999999999929},-0.20000000000000107,0,-0.29999999999999893,9.9999999999999645E-2,0.19999999999999929,-9.9999999999999645E-2,-9.9999999999999645E-2,0,-9.9999999999999645E-2,0]
["%change_09",{"$f":"(B151/M107)*100","v":-0.94339622641509102},{"$f":"(C151/B108)*100","v":-1.904761904761898},-1.9417475728155442,0,-2.9702970297029596,1.0204081632653024,2.0202020202020132,-0.99009900990098665,-0.99999999999999634,0,-1.0101010101010066,0]
[null,"jan","feb","mar","apr","may","jun","jul","aug","sep","oct","nov","dec","ytd_avg_total"]
["chg_prv_09-08",{"$f":"B108-B107","v":-0.5},-0.79999999999999893,-1,-1.0999999999999996,-1.3999999999999986,-1.2999999999999989,-1.0999999999999996,-1.0999999999999996,-1,-1,-1.0999999999999996,-0.79999999999999893,{"$f":"O108-O107","v":-1.0166666666666693}]
["%chg_prv_09-08",{"$f":"(B154/B107)*100","v":-4.5454545454545459},-7.2072072072071975,-9.0090090090090094,-9.8214285714285676,-12.499999999999988,-11.607142857142847,-9.8214285714285676,-9.9099099099099064,-9.1743119266055029,-9.1743119266055029,-10.091743119266052,-7.547169811320745,{"$f":"(N154/O107)*100","v":-9.2145015105740384}]
[]
[null,"jan-dec","feb-jan","mar-feb","apr-mar","may-apr","jun-may","jul-jun","aug-jul","sep-aug","oct-sep","nov-oct","dec-nov"]
["change_10",{"$f":"B109-M108","v":-0.10000000000000142},{"$f":"C109-B109","v":0.10000000000000142},0,0.19999999999999929,0.19999999999999929,0.20000000000000107,0,0,-9.9999999999999645E-2,0,0,0]
["%change_10",{"$f":"(B158/M108)*100","v":-1.0204081632653206},{"$f":"(C158/B109)*100","v":1.0309278350515612},0,2.0408163265306047,1.9999999999999927,1.960784313725501,0,0,-0.96153846153845812,0,0,0]
[null,"jan","feb","mar","apr","may","jun","jul","aug","sep","oct","nov","dec","ytd_avg_total"]
["chg_prv_10-09",{"$f":"B109-B108","v":-0.80000000000000071},-0.5,-0.29999999999999893,-9.9999999999999645E-2,0.39999999999999858,0.5,{"$f":"H109-H108","v":0.30000000000000071},0.40000000000000036,0.40000000000000036,0.40000000000000036,0.5,0.5,{"$f":"O109-O108","v":0.14166666666666572}]
["%chg_prv_10-09",{"$f":"(B161/B108)*100","v":-7.6190476190476257},-4.8543689320388346,-2.9702970297029596,-0.99009900990098665,4.0816326530612095,5.0505050505050502,{"$f":"(H161/H108)*100","v":2.9702970297029774},4.0000000000000036,4.0404040404040433,4.0404040404040433,5.1020408163265296,5.1020408163265296,{"$f":"(N161/O108)*100","v":1.414309484193002}]
[]
[null,"jan-dec","feb-jan","mar-feb","apr-mar","may-apr","jun-may","jul-jun","aug-jul","sep-aug","oct-sep","nov-oct","dec-nov"]
["change_11",{"$f":"B110-M109","v":0},{"$f":"C110-B110","v":0},9.9999999999999645E-2,-9.9999999999999645E-2,9.9999999999999645E-2,9.9999999999999645E-2,9.9999999999999645E-2,0,-9.9999999999999645E-2,-0.19999999999999929,9.9999999999999645E-2,-9.9999999999999645E-2]
["%change_11",{"$f":"(B165/M109)*100","v":0},{"$f":"(C165/B110)*100","v":0},0.97087378640776345,-0.96153846153845812,0.97087378640776345,0.96153846153845812,0.952380952380949,0,-0.94339622641509102,-1.904761904761898,0.97087378640776345,-0.96153846153845812]
[null,"jan","feb","mar","apr","may","jun","jul","aug","sep","oct","nov","dec","ytd_avg_total"]
["chg_prv_11-10",{"$f":"B110-B109","v":0.60000000000000142},0.5,0.59999999999999964,0.30000000000000071,0.20000000000000107,9.9999999999999645E-2,{"$f":"H110-H109","v":0.19999999999999929},0.19999999999999929,0.19999999999999929,0,9.9999999999999645E-2,0,{"$f":"O110-O109","v":0.25}]
["%chg_prv_11-10",{"$f":"(B168/B109)*100","v":6.1855670103092928},5.1020408163265296,6.122448979591832,3.0000000000000071,1.960784313725501,0.96153846153845812,{"$f":"(H168/H109)*100","v":1.9230769230769162},1.9230769230769162,1.9417475728155269,0,0.97087378640776345,0,{"$f":"(N168/O109)*100","v":2.4610336341263328}]
[]
[null,"jan-dec","feb-jan","mar-feb","apr-mar","may-apr","jun-may","jul-jun","aug-jul","sep-aug","oct-sep","nov-oct","dec-nov"]
["change_12",{"$f":"B111-M110","v":0},{"$f":"C111-B111","v":0},0,9.9999999999999645E-2,0.19999999999999929,9.9999999999999645E-2,0,0,0,-0.19999999999999929,0,0]
["%change_12",{"$f":"(B172/M110)*100","v":0},{"$f":"(C172/B111)*100","v":0},0,0.97087378640776345,1.9230769230769162,0.94339622641509102,0,0,0,-1.8691588785046664,0,0]
[null,"jan","feb","mar","apr","may","jun","jul","aug","sep","oct","nov","dec","ytd_avg_total"]
["chg_prv_12-11",{"$f":"B111-B110","v":0},0,-9.9999999999999645E-2,9.9999999999999645E-2,0.19999999999999929,0.19999999999999929,{"$f":"H111-H110","v":9.9999999999999645E-2},9.9999999999999645E-2,{"$f":"J111-J110","v":0.19999999999999929},0.19999999999999929,{"$f":"L111-L110","v":9.9999999999999645E-2},0.19999999999999929,{"$f":"O111-O110","v":0.10833333333333428}]
["%chg_prv_12-11",{"$f":"(B175/B110)*100","v":0},0,-0.96153846153845812,0.97087378640776345,1.9230769230769162,1.904761904761898,{"$f":"(H175/H110)*100","v":0.94339622641509102},0.94339622641509102,{"$f":"(J175/J110)*100","v":1.904761904761898},1.9417475728155269,{"$f":"(L175/L110)*100","v":0.96153846153845812},1.9417475728155269,{"$f":"(N175/O110)*100","v":1.0408326661329155}]
[]
[null,"jan-dec","feb-jan","mar-feb","apr-mar","may-apr","jun-may","jul-jun","aug-jul","sep-aug","oct-sep","nov-oct","dec-nov"]
["change_13",{"$f":"B112-M111","v":-0.19999999999999929},{"$f":"C112-B112","v":0},0,-0.10000000000000142,0.10000000000000142,0.19999999999999929,9.9999999999999645E-2,0,-0.19999999999999929,0,0,0]
["%change_13",{"$f":"(B179/M111)*100","v":-1.904761904761898},{"$f":"(C179/B112)*100","v":0},0,-0.97087378640778077,0.98039215686275916,1.9417475728155269,0.952380952380949,0,-1.886792452830182,0,0,0]
[null,"jan","feb","mar","apr","may","jun","jul","aug","sep","oct","nov","dec","ytd_avg_total"]
["chg_prv_13-12",{"$f":"B112-B111","v":0},0,0,-0.20000000000000107,-0.29999999999999893,-0.19999999999999929,-9.9999999999999645E-2,-9.9999999999999645E-2,-0.29999999999999893,-9.9999999999999645E-2,-9.9999999999999645E-2,-9.9999999999999645E-2,{"$f":"O112-O111","v":-0.125}]
["%chg_prv_13-12",{"$f":"(B182/B111)*100","v":0},0,0,-1.9230769230769333,-2.8301886792452731,-1.8691588785046664,-0.93457943925233322,-0.93457943925233322,-2.8037383177569994,-0.952380952380949,-0.952380952380949,-0.952380952380949,{"$f":"(N182/O111)*100","v":-1.1885895404120443}]
[]
[null,"jan-dec","feb-jan","mar-feb","apr-mar","may-apr","jun-may","jul-jun","aug-jul","sep-aug","oct-sep","nov-oct","dec-nov"]
["change_14",{"$f":"B113-M112","v":-9.9999999999999645E-2},{"$f":"C113-B113","v":0},0,9.9999999999999645E-2,0,0.19999999999999929,0,0,-0.29999999999999893,0,0,0]
["%change_14",{"$f":"(B186/M112)*100","v":-0.96153846153845812},{"$f":"(C186/B113)*100","v":0},0,0.97087378640776345,0,1.9230769230769162,0,0,-2.8301886792452731,0,0,0]
[null,"jan","feb","mar","apr","may","jun","jul","aug","sep","oct","nov","dec","ytd_avg_total"]
["chg_prv_14-13",{"$f":"B113-B112","v":0},0,0,0.20000000000000107,9.9999999999999645E-2,9.9999999999999645E-2,{"$f":"H113-H112","v":0},0,{"$f":"J113-J112","v":-9.9999999999999645E-2},-9.9999999999999645E-2,{"$f":"L113-L112","v":-9.9999999999999645E-2},-9.9999999999999645E-2,{"$f":"O113-O112","v":0}]
["%chg_prv_14-13",{"$f":"(B189/B112)*100","v":0},0,0,1.960784313725501,0.97087378640776345,0.952380952380949,{"$f":"(H189/H112)*100","v":0},0,{"$f":"(J189/J112)*100","v":-0.96153846153845812},-0.96153846153845812,{"$f":"(L189/L112)*100","v":-0.96153846153845812},-0.96153846153845812,{"$f":"(N189/O112)*100","v":0}]
[]
[null,"jan-dec","feb-jan","mar-feb","apr-mar","may-apr","jun-may","jul-jun","aug-jul","sep-aug","oct-sep","nov-oct","dec-nov"]
["change_15"]
["%change_15"]
[null,"jan","feb","mar","apr","may","jun","jul","aug","sep","oct","nov","dec","ytd_avg_total"]
["chg_prv_15-14",{"$nulls":12},{"$f":"N114-N113","v":{"$error":"#DIV/0!"}}]
["%chg_prv_15-14",{"$nulls":12},{"$f":"(N196/N113)*100","v":{"$error":"#DIV/0!"}}]
[]
[]
["rt_em","jan","feb","mar","apr","may","jun","jul","aug","sep","oct","nov","dec","ytd_avg"]
[2003,10.199999999999999,10,9.9,10.1,10.3,10.199999999999999,10.199999999999999,10.3,10.5,10.9,11.2,11.3,{"$f":"AVERAGE(B201:M201)","v":10.425000000000001},{"$f":"AVERAGE(B201:M201)","v":10.425000000000001}]
[2004,10.7,10.6,10.5,10.6,10.7,10.8,10.5,10.6,10.7,10.7,11.1,11.2,10.725,10.725]
[2005,10.6,10.5,10.5,10.9,11,10.8,10.8,10.8,10.9,11,11.4,11.4,10.883333333333333,10.883333333333333]
[2006,10.8,10.7,10.8,10.9,11,10.9,10.8,10.8,10.9,11,11.4,11.5,10.958333333333334,10.958333333333334]
[2007,11,10.8,10.8,10.9,11.1,11,10.9,10.9,10.9,11,11.2,11.3,10.983333333333334,10.983333333333334]
[2008,10.8,10.8,10.8,10.7,10.7,10.6,10.5,10.5,10.5,10.7,10.9,11.1,10.716666666666669,10.716666666666669]
[2009,10.4,10.3,10.3,10.3,10.3,10.199999999999999,10.199999999999999,10.3,10.199999999999999,10.3,10.6,10.7,10.341666666666667,10.341666666666667]
[2010,10.199999999999999,10,10.1,10.1,10.4,10.3,10.3,10.3,10.199999999999999,10.5,10.8,10.8,{"$f":"AVERAGE(B208:M208)","v":10.333333333333332},10.333333333333332]
[2011,10.199999999999999,10.1,10.1,10.4,10.6,10.5,10.5,10.5,10.5,10.6,11,11.1,{"$f":"AVERAGE(B209:M209)","v":10.508333333333333},10.508333333333333]
[2012,10.4,10.4,10.4,10.6,10.7,10.6,10.5,10.6,10.6,10.7,11.2,11.2,{"$f":"AVERAGE(B210:M210)","v":10.658333333333333},{"$f":"AVERAGE(B210:M210)","v":10.658333333333333}]
[2013,10.5,10.4,10.5,10.5,10.6,10.5,10.5,10.5,10.5,10.6,11.1,11.3,{"$f":"AVERAGE(B211:M211)","v":10.624999999999998},{"$f":"AVERAGE(B211:M211)","v":10.624999999999998}]
[2014,10.7,10.5,10.6,10.6,10.6,10.4,10.4,10.4,10.4,10.6,11.1,11.3,{"$f":"AVERAGE(B212:M212)","v":10.633333333333333},{"$f":"AVERAGE(B212:M212)","v":10.633333333333333}]
[2015,{"$nulls":12},{"$f":"AVERAGE(B213:B213)","v":{"$error":"#DIV/0!"}},{"$f":"AVERAGE(B213:M213)","v":{"$error":"#DIV/0!"}}]
[null,"jan-dec","feb-jan","mar-feb","apr-mar","may-apr","jun-may","jul-jun","aug-jul","sep-aug","oct-sep","nov-oct","dec-nov"]
["change_04",{"$f":"B202-M201","v":-0.60000000000000142},{"$f":"C202-B202","v":-9.9999999999999645E-2},-9.9999999999999645E-2,9.9999999999999645E-2,9.9999999999999645E-2,0.10000000000000142,-0.30000000000000071,9.9999999999999645E-2,9.9999999999999645E-2,0,0.40000000000000036,9.9999999999999645E-2]
["%change_04",{"$f":"(B215/M201)*100","v":-5.309734513274349},{"$f":"(C215/B202)*100","v":-0.93457943925233322},-0.94339622641509102,0.952380952380949,0.94339622641509102,0.93457943925234976,-2.7777777777777843,0.952380952380949,0.94339622641509102,0,3.7383177570093498,0.90090090090089781]
[null,"jan","feb","mar","apr","may","jun","jul","aug","sep","oct","nov","dec","ytd_avg_total"]
["chg_prv_04-03",{"$f":"B202-B201","v":0.5},0.59999999999999964,0.59999999999999964,0.5,0.39999999999999858,0.60000000000000142,0.30000000000000071,0.29999999999999893,0.19999999999999929,-0.20000000000000107,-9.9999999999999645E-2,-0.10000000000000142,{"$f":"O202-O201","v":0.29999999999999893}]
["%chg_prv_04-03",{"$f":"(B218/B201)*100","v":4.9019607843137258},5.9999999999999964,6.060606060606057,4.9504950495049505,3.8834951456310538,5.8823529411764852,2.9411764705882426,2.9126213592232904,1.904761904761898,-1.8348623853211108,-0.89285714285713969,-0.88495575221240186,{"$f":"(N218/O201)*100","v":2.8776978417266084}]
[]
[null,"jan-dec","feb-jan","mar-feb","apr-mar","may-apr","jun-may","jul-jun","aug-jul","sep-aug","oct-sep","nov-oct","dec-nov"]
["change_05",{"$f":"B203-M202","v":-0.59999999999999964},{"$f":"C203-B203","v":-9.9999999999999645E-2},0,0.40000000000000036,9.9999999999999645E-2,-0.19999999999999929,0,0,9.9999999999999645E-2,9.9999999999999645E-2,0.40000000000000036,0]
["%change_05",{"$f":"(B222/M202)*100","v":-5.3571428571428541},{"$f":"(C222/B203)*100","v":-0.94339622641509102},0,3.8095238095238129,0.91743119266054718,-1.8181818181818119,0,0,0.9259259259259226,0.91743119266054718,3.6363636363636398,0]
[null,"jan","feb","mar","apr","may","jun","jul","aug","sep","oct","nov","dec","ytd_avg_total"]
["chg_prv_05-04",{"$f":"B203-B202","v":-9.9999999999999645E-2},-9.9999999999999645E-2,0,0.30000000000000071,0.30000000000000071,0,0.30000000000000071,0.20000000000000107,0.20000000000000107,0.30000000000000071,0.30000000000000071,0.20000000000000107,{"$f":"O203-O202","v":0.15833333333333321}]
["%chg_prv_05-04",{"$f":"(B225/B202)*100","v":-0.93457943925233322},-0.94339622641509102,0,2.8301886792452895,2.8037383177570163,0,2.8571428571428639,1.8867924528301987,1.8691588785046829,2.8037383177570163,2.7027027027027093,1.7857142857142954,{"$f":"(N225/O202)*100","v":1.4763014763014752}]
[]
[null,"jan-dec","feb-jan","mar-feb","apr-mar","may-apr","jun-may","jul-jun","aug-jul","sep-aug","oct-sep","nov-oct","dec-nov"]
["change_06",{"$f":"B204-M203","v":-0.59999999999999964},{"$f":"C204-B204","v":-0.10000000000000142},0.10000000000000142,9.9999999999999645E-2,9.9999999999999645E-2,-9.9999999999999645E-2,-9.9999999999999645E-2,0,9.9999999999999645E-2,9.9999999999999645E-2,0.40000000000000036,9.9999999999999645E-2]
["%change_06",{"$f":"(B229/M203)*100","v":-5.2631578947368389},{"$f":"(C229/B204)*100","v":-0.92592592592593903},0.93457943925234976,0.9259259259259226,0.91743119266054718,-0.90909090909090595,-0.91743119266054718,0,0.9259259259259226,0.91743119266054718,3.6363636363636398,0.87719298245613719]
[null,"jan","feb","mar","apr","may","jun","jul","aug","sep","oct","nov","dec","ytd_avg_total"]
["chg_prv_06-05",{"$f":"B204-B203","v":0.20000000000000107},0.19999999999999929,0.30000000000000071,0,0,9.9999999999999645E-2,0,0,0,0,0,9.9999999999999645E-2,{"$f":"O204-O203","v":7.5000000000001066E-2}]
["%chg_prv_06-05",{"$f":"(B232/B203)*100","v":1.8867924528301987},1.904761904761898,2.8571428571428639,0,0,0.9259259259259226,0,0,0,0,0,0.87719298245613719,{"$f":"(N232/O203)*100","v":0.68912710566616608}]
[]
[null,"jan-dec","feb-jan","mar-feb","apr-mar","may-apr","jun-may","jul-jun","aug-jul","sep-aug","oct-sep","nov-oct","dec-nov"]
["change_07",{"$f":"B205-M204","v":-0.5},{"$f":"C205-B205","v":-0.19999999999999929},0,9.9999999999999645E-2,0.19999999999999929,-9.9999999999999645E-2,-9.9999999999999645E-2,0,0,9.9999999999999645E-2,0.19999999999999929,0.10000000000000142]
["%change_07",{"$f":"(B236/M204)*100","v":-4.3478260869565215},{"$f":"(C236/B205)*100","v":-1.8181818181818119},0,0.9259259259259226,1.8348623853210944,-0.90090090090089781,-0.90909090909090595,0,0,0.91743119266054718,1.8181818181818119,0.89285714285715567]
[null,"jan","feb","mar","apr","may","jun","jul","aug","sep","oct","nov","dec","ytd_avg_total"]
["chg_prv_07-06",{"$f":"B205-B204","v":0.19999999999999929},0.10000000000000142,0,0,9.9999999999999645E-2,9.9999999999999645E-2,9.9999999999999645E-2,9.9999999999999645E-2,0,0,-0.20000000000000107,-0.19999999999999929,{"$f":"O205-O204","v":2.5000000000000355E-2}]
["%chg_prv_07-06",{"$f":"(B239/B204)*100","v":1.8518518518518452},0.93457943925234976,0,0,0.90909090909090595,0.91743119266054718,0.9259259259259226,0.9259259259259226,0,0,-1.7543859649122899,-1.7391304347826024,{"$f":"(N239/O204)*100","v":0.22813688212928079}]
[]
[null,"jan-dec","feb-jan","mar-feb","apr-mar","may-apr","jun-may","jul-jun","aug-jul","sep-aug","oct-sep","nov-oct","dec-nov"]
["change_08",{"$f":"B206-M205","v":-0.5},{"$f":"C206-B206","v":0},0,-0.10000000000000142,0,-9.9999999999999645E-2,-9.9999999999999645E-2,0,0,0.19999999999999929,0.20000000000000107,0.19999999999999929]
["%change_08",{"$f":"(B243/M205)*100","v":-4.4247787610619467},{"$f":"(C243/B206)*100","v":0},0,-0.92592592592593903,0,-0.93457943925233322,-0.94339622641509102,0,0,1.904761904761898,1.8691588785046829,1.8348623853210944]
[null,"jan","feb","mar","apr","may","jun","jul","aug","sep","oct","nov","dec","ytd_avg_total"]
["chg_prv_08-07",{"$f":"B206-B205","v":-0.19999999999999929},0,0,-0.20000000000000107,-0.40000000000000036,-0.40000000000000036,-0.40000000000000036,-0.40000000000000036,-0.40000000000000036,-0.30000000000000071,-0.29999999999999893,-0.20000000000000107,{"$f":"O206-O205","v":-0.26666666666666572}]
["%chg_prv_08-07",{"$f":"(B246/B205)*100","v":-1.8181818181818119},0,0,-1.8348623853211108,-3.6036036036036072,-3.6363636363636398,-3.6697247706422047,-3.6697247706422047,-3.6697247706422047,-2.7272727272727337,-2.6785714285714191,-1.7699115044247882,{"$f":"(N246/O205)*100","v":-2.4279210925644827}]
[]
[null,"jan-dec","feb-jan","mar-feb","apr-mar","may-apr","jun-may","jul-jun","aug-jul","sep-aug","oct-sep","nov-oct","dec-nov"]
["change_09",{"$f":"B207-M206","v":-0.69999999999999929},{"$f":"C207-B207","v":-9.9999999999999645E-2},0,0,0,-0.10000000000000142,0,0.10000000000000142,-0.10000000000000142,0.10000000000000142,0.29999999999999893,9.9999999999999645E-2]
["%change_09",{"$f":"(B250/M206)*100","v":-6.3063063063063005},{"$f":"(C250/B207)*100","v":-0.96153846153845812},0,0,0,-0.97087378640778077,0,0.98039215686275916,-0.97087378640778077,0.98039215686275916,2.9126213592232904,0.94339622641509102]
[null,"jan","feb","mar","apr","may","jun","jul","aug","sep","oct","nov","dec","ytd_avg_total"]
["chg_prv_09-08",{"$f":"B207-B206","v":-0.40000000000000036},-0.5,-0.5,-0.39999999999999858,-0.39999999999999858,-0.40000000000000036,-0.30000000000000071,-0.19999999999999929,-0.30000000000000071,-0.39999999999999858,-0.30000000000000071,-0.40000000000000036,{"$f":"O207-O206","v":-0.37500000000000178}]
["%chg_prv_09-08",{"$f":"(B253/B206)*100","v":-3.7037037037037068},-4.6296296296296298,-4.6296296296296298,-3.7383177570093329,-3.7383177570093329,-3.7735849056603805,-2.8571428571428639,-1.904761904761898,-2.8571428571428639,-3.7383177570093329,-2.752293577981658,-3.6036036036036072,{"$f":"(N253/O206)*100","v":-3.4992223950233443}]
[]
[null,"jan-dec","feb-jan","mar-feb","apr-mar","may-apr","jun-may","jul-jun","aug-jul","sep-aug","oct-sep","nov-oct","dec-nov"]
["change_10",{"$f":"B208-M207","v":-0.5},{"$f":"C208-B208","v":-0.19999999999999929},9.9999999999999645E-2,0,0.30000000000000071,-9.9999999999999645E-2,0,0,-0.10000000000000142,0.30000000000000071,0.30000000000000071,0]
["%change_10",{"$f":"(B257/M207)*100","v":-4.6728971962616832},{"$f":"(C257/B208)*100","v":-1.9607843137254832},0.99999999999999634,0,2.9702970297029774,-0.96153846153845812,0,0,-0.97087378640778077,2.9411764705882426,2.8571428571428639,0]
[null,"jan","feb","mar","apr","may","jun","jul","aug","sep","oct","nov","dec","ytd_avg_total"]
["chg_prv_10-09",{"$f":"B208-B207","v":-0.20000000000000107},-0.30000000000000071,-0.20000000000000107,-0.20000000000000107,9.9999999999999645E-2,0.10000000000000142,0.10000000000000142,0,0,0.19999999999999929,0.20000000000000107,0.10000000000000142,{"$f":"O208-O207","v":-8.333333333334636E-3}]
["%chg_prv_10-09",{"$f":"(B260/B207)*100","v":-1.9230769230769333},-2.9126213592233077,-1.9417475728155442,-1.9417475728155442,0.97087378640776345,0.98039215686275916,0.98039215686275916,0,0,1.9417475728155269,1.8867924528301987,0.93457943925234976,{"$f":"(N260/O207)*100","v":-8.0580177276402598E-2}]
[]
[null,"jan-dec","feb-jan","mar-feb","apr-mar","may-apr","jun-may","jul-jun","aug-jul","sep-aug","oct-sep","nov-oct","dec-nov"]
["change_11",{"$f":"B209-M208","v":-0.60000000000000142},{"$f":"C209-B209","v":-9.9999999999999645E-2},0,0.30000000000000071,0.19999999999999929,-9.9999999999999645E-2,0,0,0,9.9999999999999645E-2,0.40000000000000036,9.9999999999999645E-2]
["%change_11",{"$f":"(B264/M208)*100","v":-5.5555555555555687},{"$f":"(C264/B209)*100","v":-0.98039215686274161},0,2.9702970297029774,1.9230769230769162,-0.94339622641509102,0,0,0,0.952380952380949,3.7735849056603805,0.90909090909090595]
[null,"jan","feb","mar","apr","may","jun","jul","aug","sep","oct","nov","dec","ytd_avg_total"]
["chg_prv_11-10",{"$f":"B209-B208","v":0},9.9999999999999645E-2,0,0.30000000000000071,0.19999999999999929,0.19999999999999929,0.19999999999999929,0.19999999999999929,0.30000000000000071,9.9999999999999645E-2,0.19999999999999929,0.29999999999999893,{"$f":"O209-O208","v":0.17500000000000071}]
["%chg_prv_11-10",{"$f":"(B267/B208)*100","v":0},0.99999999999999634,0,2.9702970297029774,1.9230769230769162,1.9417475728155269,1.9417475728155269,1.9417475728155269,2.9411764705882426,0.952380952380949,1.8518518518518452,2.7777777777777675,{"$f":"(N267/O208)*100","v":1.6935483870967813}]
[]
[null,"jan-dec","feb-jan","mar-feb","apr-mar","may-apr","jun-may","jul-jun","aug-jul","sep-aug","oct-sep","nov-oct","dec-nov"]
["change_12",{"$f":"B210-M209","v":-0.69999999999999929},{"$f":"C210-B210","v":0},0,0.19999999999999929,9.9999999999999645E-2,-9.9999999999999645E-2,-9.9999999999999645E-2,9.9999999999999645E-2,0,9.9999999999999645E-2,0.5,0]
["%change_12",{"$f":"(B271/M209)*100","v":-6.3063063063063005},{"$f":"(C271/B210)*100","v":0},0,1.9230769230769162,0.94339622641509102,-0.93457943925233322,-0.94339622641509102,0.952380952380949,0,0.94339622641509102,4.6728971962616832,0]
[null,"jan","feb","mar","apr","may","jun","jul","aug","sep","oct","nov","dec","ytd_avg_total"]
["chg_prv_12-11",{"$f":"B210-B209","v":0.20000000000000107},0.30000000000000071,0.30000000000000071,0.19999999999999929,9.9999999999999645E-2,9.9999999999999645E-2,0,9.9999999999999645E-2,9.9999999999999645E-2,9.9999999999999645E-2,0.19999999999999929,9.9999999999999645E-2,{"$f":"O210-O209","v":0.15000000000000036}]
["%chg_prv_12-11",{"$f":"(B274/B209)*100","v":1.960784313725501},2.9702970297029774,2.9702970297029774,1.9230769230769162,0.94339622641509102,0.952380952380949,0,0.952380952380949,0.952380952380949,0.94339622641509102,1.8181818181818119,0.90090090090089781,{"$f":"(N274/O209)*100","v":1.4274385408406061}]
[]
[null,"jan-dec","feb-jan","mar-feb","apr-mar","may-apr","jun-may","jul-jun","aug-jul","sep-aug","oct-sep","nov-oct","dec-nov"]
["change_13",{"$f":"B211-M210","v":-0.69999999999999929},{"$f":"C211-B211","v":-9.9999999999999645E-2},9.9999999999999645E-2,0,9.9999999999999645E-2,-9.9999999999999645E-2,0,0,0,9.9999999999999645E-2,0.5,0.20000000000000107]
["%change_13",{"$f":"(B278/M210)*100","v":-6.2499999999999938},{"$f":"(C278/B211)*100","v":-0.952380952380949},0.96153846153845812,0,0.952380952380949,-0.94339622641509102,0,0,0,0.952380952380949,4.716981132075472,1.8018018018018116]
[null,"jan","feb","mar","apr","may","jun","jul","aug","sep","oct","nov","dec","ytd_avg_total"]
["chg_prv_13-12",{"$f":"B211-B210","v":9.9999999999999645E-2},0,9.9999999999999645E-2,-9.9999999999999645E-2,-9.9999999999999645E-2,-9.9999999999999645E-2,0,-9.9999999999999645E-2,-9.9999999999999645E-2,-9.9999999999999645E-2,-9.9999999999999645E-2,0.10000000000000142,{"$f":"O211-O210","v":-3.3333333333334991E-2}]
["%chg_prv_13-12",{"$f":"(B281/B210)*100","v":0.96153846153845812},0,0.96153846153845812,-0.94339622641509102,-0.93457943925233322,-0.94339622641509102,0,-0.94339622641509102,-0.94339622641509102,-0.93457943925233322,-0.89285714285713969,0.89285714285715567,{"$f":"(N281/O210)*100","v":-0.31274433150900699}]
[]
[null,"jan-dec","feb-jan","mar-feb","apr-mar","may-apr","jun-may","jul-jun","aug-jul","sep-aug","oct-sep","nov-oct","dec-nov"]
["change_14",{"$f":"B212-M211","v":-0.60000000000000142},{"$f":"C212-B212","v":-0.19999999999999929},9.9999999999999645E-2,0,0,-0.19999999999999929,0,0,0,0.19999999999999929,0.5,0.20000000000000107]
["%change_14",{"$f":"(B285/M211)*100","v":-5.309734513274349},{"$f":"(C285/B212)*100","v":-1.8691588785046664},0.952380952380949,0,0,-1.886792452830182,0,0,0,1.9230769230769162,4.716981132075472,1.8018018018018116]
[null,"jan","feb","mar","apr","may","jun","jul","aug","sep","oct","nov","dec","ytd_avg_total"]
["chg_prv_14-13",{"$f":"B212-B211","v":0.19999999999999929},9.9999999999999645E-2,9.9999999999999645E-2,9.9999999999999645E-2,0,-9.9999999999999645E-2,-9.9999999999999645E-2,-9.9999999999999645E-2,-9.9999999999999645E-2,0,0,0,{"$f":"O212-O211","v":8.333333333334636E-3}]
["%chg_prv_14-13",{"$f":"(B288/B211)*100","v":1.904761904761898},0.96153846153845812,0.952380952380949,0.952380952380949,0,-0.952380952380949,-0.952380952380949,-0.952380952380949,-0.952380952380949,0,0,0,{"$f":"(N288/O211)*100","v":7.8431372549031875E-2}]
[]
[null,"jan-dec","feb-jan","mar-feb","apr-mar","may-apr","jun-may","jul-jun","aug-jul","sep-aug","oct-sep","nov-oct","dec-nov"]
["change_15"]
["%change_15"]
[null,"jan","feb","mar","apr","may","jun","jul","aug","sep","oct","nov","dec","ytd_avg_total"]
["chg_prv_15-14",{"$nulls":12},{"$f":"N213-N212","v":{"$error":"#DIV/0!"}}]
["%chg_prv_15-14",{"$nulls":12},{"$f":"(N295/N212)*100","v":{"$error":"#DIV/0!"}}]
[]
[]
["hlthed_em","jan","feb","mar","apr","may","jun","jul","aug","sep","oct","nov","dec","ytd_avg"]
[2003,12.3,12.3,12.3,12.4,12.4,12.4,12.4,12.4,12.4,12.4,12.5,12.5,{"$f":"AVERAGE(B300:M300)","v":12.391666666666671},{"$f":"AVERAGE(B300:M300)","v":12.391666666666671}]
[2004,12.5,12.5,12.5,12.6,12.5,12.6,12.6,12.6,12.6,12.5,12.6,12.6,12.558333333333332,12.558333333333332]
[2005,12.6,12.7,12.7,12.8,12.8,12.9,12.8,12.8,12.8,13,13.1,13.1,12.841666666666667,12.841666666666667]
[2006,12.9,13,13,13,13.2,13.2,13.3,13.4,13.5,13.4,13.4,13.6,13.241666666666667,13.241666666666667]
[2007,13.5,13.5,13.6,13.6,13.6,13.7,13.6,13.8,13.7,13.7,13.8,13.8,13.658333333333333,13.658333333333333]
[2008,13.8,13.8,13.9,13.8,13.8,13.8,13.9,13.8,13.7,13.9,14,13.9,13.841666666666667,13.841666666666667]
[2009,13.8,13.8,13.8,13.8,13.8,13.8,13.7,13.7,13.8,13.8,13.8,13.8,13.783333333333337,13.783333333333337]
[2010,13.9,14,14,14,14,14,14,14.1,14.1,14.1,14.2,14.3,{"$f":"AVERAGE(B307:M307)","v":14.058333333333332},14.058333333333332]
[2011,14.2,14.3,14.4,14.2,14.2,14.2,13.9,14.2,14.2,14,14.1,14.2,{"$f":"AVERAGE(B308:M308)","v":14.174999999999999},14.174999999999999]
[2012,14,13.9,14,14.1,14.2,14.3,14.1,14.2,14.4,14.5,14.5,14.6,{"$f":"AVERAGE(B309:M309)","v":14.233333333333333},{"$f":"AVERAGE(B309:M309)","v":14.233333333333333}]
[2013,14.5,14.6,14.7,14.7,14.7,14.5,14.5,14.5,14.5,14.5,14.6,14.4,{"$f":"AVERAGE(B310:M310)","v":14.558333333333332},{"$f":"AVERAGE(B310:M310)","v":14.558333333333332}]
[2014,14.3,14.4,14.5,14.4,14.4,14.3,14.2,14.3,14.4,14.5,14.5,14.5,{"$f":"AVERAGE(B311:M311)","v":14.391666666666666},{"$f":"AVERAGE(B311:M311)","v":14.391666666666666}]
[2015,{"$nulls":12},{"$f":"AVERAGE(B312:B312)","v":{"$error":"#DIV/0!"}},{"$f":"AVERAGE(B312:M312)","v":{"$error":"#DIV/0!"}}]
[null,"jan-dec","feb-jan","mar-feb","apr-mar","may-apr","jun-may","jul-jun","aug-jul","sep-aug","oct-sep","nov-oct","dec-nov"]
["change_04",{"$f":"B301-M300","v":0},{"$f":"C301-B301","v":0},0,9.9999999999999645E-2,-9.9999999999999645E-2,9.9999999999999645E-2,0,0,0,-9.9999999999999645E-2,9.9999999999999645E-2,0]
["%change_04",{"$f":"(B314/M300)*100","v":0},{"$f":"(C314/B301)*100","v":0},0,0.79999999999999727,-0.79365079365079083,0.79999999999999727,0,0,0,-0.79365079365079083,0.79999999999999727,0]
[null,"jan","feb","mar","apr","may","jun","jul","aug","sep","oct","nov","dec","ytd_avg_total"]
["chg_prv_04-03",{"$f":"B301-B300","v":0.19999999999999929},0.19999999999999929,0.19999999999999929,0.19999999999999929,9.9999999999999645E-2,0.19999999999999929,0.19999999999999929,0.19999999999999929,0.19999999999999929,9.9999999999999645E-2,9.9999999999999645E-2,9.9999999999999645E-2,{"$f":"O301-O300","v":0.16666666666666075}]
["%chg_prv_04-03",{"$f":"(B317/B300)*100","v":1.6260162601625958},1.6260162601625958,1.6260162601625958,1.6129032258064457,0.80645161290322287,1.6129032258064457,1.6129032258064457,1.6129032258064457,1.6129032258064457,0.80645161290322287,0.79999999999999727,0.79999999999999727,{"$f":"(N317/O300)*100","v":1.3449899125756073}]
[]
[null,"jan-dec","feb-jan","mar-feb","apr-mar","may-apr","jun-may","jul-jun","aug-jul","sep-aug","oct-sep","nov-oct","dec-nov"]
["change_05",{"$f":"B302-M301","v":0},{"$f":"C302-B302","v":9.9999999999999645E-2},0,0.10000000000000142,0,9.9999999999999645E-2,-9.9999999999999645E-2,0,0,0.19999999999999929,9.9999999999999645E-2,0]
["%change_05",{"$f":"(B321/M301)*100","v":0},{"$f":"(C321/B302)*100","v":0.79365079365079083},0,0.78740157480316086,0,0.78124999999999722,-0.77519379844960956,0,0,1.5624999999999944,0.7692307692307665,0]
[null,"jan","feb","mar","apr","may","jun","jul","aug","sep","oct","nov","dec","ytd_avg_total"]
["chg_prv_05-04",{"$f":"B302-B301","v":9.9999999999999645E-2},0.19999999999999929,0.19999999999999929,0.20000000000000107,0.30000000000000071,0.30000000000000071,0.20000000000000107,0.20000000000000107,0.20000000000000107,0.5,0.5,0.5,{"$f":"O302-O301","v":0.28333333333333499}]
["%chg_prv_05-04",{"$f":"(B324/B301)*100","v":0.79999999999999727},1.5999999999999945,1.5999999999999945,1.5873015873015959,2.4000000000000057,2.3809523809523867,1.5873015873015959,1.5873015873015959,1.5873015873015959,4,3.9682539682539679,3.9682539682539679,{"$f":"(N324/O301)*100","v":2.2561380225613936}]
[]
[null,"jan-dec","feb-jan","mar-feb","apr-mar","may-apr","jun-may","jul-jun","aug-jul","sep-aug","oct-sep","nov-oct","dec-nov"]
["change_06",{"$f":"B303-M302","v":-0.19999999999999929},{"$f":"C303-B303","v":9.9999999999999645E-2},0,0,0.19999999999999929,0,0.10000000000000142,9.9999999999999645E-2,9.9999999999999645E-2,{"$f":"K303-J303","v":-9.9999999999999645E-2},{"$f":"L303-K303","v":0},{"$f":"M303-L303","v":0.19999999999999929}]
["%change_06",{"$f":"(B328/M302)*100","v":-1.5267175572519029},{"$f":"(C328/B303)*100","v":0.77519379844960956},0,0,1.538461538461533,0,0.75757575757576834,0.75187969924811759,0.74626865671641518,{"$f":"(K328/J303)*100","v":-0.74074074074073804},{"$f":"(L328/K303)*100","v":0},{"$f":"(M328/L303)*100","v":1.4925373134328304}]
[null,"jan","feb","mar","apr","may","jun","jul","aug","sep","oct","nov","dec","ytd_avg_total"]
["chg_prv_06-05",{"$f":"B303-B302","v":0.30000000000000071},0.30000000000000071,0.30000000000000071,0.19999999999999929,0.39999999999999858,0.29999999999999893,0.5,{"$f":"I303-I302","v":0.59999999999999964},{"$f":"J303-J302","v":0.69999999999999929},{"$f":"K303-K302","v":0.40000000000000036},{"$f":"L303-L302","v":0.30000000000000071},{"$f":"M303-M302","v":0.5},{"$f":"O303-O302","v":0.40000000000000036}]
["%chg_prv_06-05",{"$f":"(B331/B302)*100","v":2.3809523809523867},2.3622047244094548,2.3622047244094548,1.5624999999999944,3.1249999999999889,2.3255813953488289,3.90625,4.6874999999999973,5.4687499999999947,{"$f":"(K331/K302)*100","v":3.0769230769230793},{"$f":"(L331/L302)*100","v":2.2900763358778682},{"$f":"(M331/M302)*100","v":3.8167938931297711},{"$f":"(N331/O302)*100","v":3.11486048020766}]
[]
[null,"jan-dec","feb-jan","mar-feb","apr-mar","may-apr","jun-may","jul-jun","aug-jul","sep-aug","oct-sep","nov-oct","dec-nov"]
["change_07",{"$f":"B304-M303","v":-9.9999999999999645E-2},{"$f":"C304-B304","v":0},9.9999999999999645E-2,0,0,9.9999999999999645E-2,-9.9999999999999645E-2,0.20000000000000107,-0.10000000000000142,0,0.10000000000000142,0]
["%change_07",{"$f":"(B335/M303)*100","v":-0.73529411764705621},{"$f":"(C335/B304)*100","v":0},0.74074074074073804,0,0,0.73529411764705621,-0.72992700729926752,1.4705882352941255,-0.7246376811594305,0,0.72992700729928051,0]
[null,"jan","feb","mar","apr","may","jun","jul","aug","sep","oct","nov","dec","ytd_avg_total"]
["chg_prv_07-06",{"$f":"B304-B303","v":0.59999999999999964},0.5,0.59999999999999964,0.59999999999999964,0.40000000000000036,0.5,0.29999999999999893,0.40000000000000036,{"$f":"J304-J303","v":0.19999999999999929},{"$f":"K304-K303","v":0.29999999999999893},{"$f":"L304-L303","v":0.40000000000000036},{"$f":"M304-M303","v":0.20000000000000107},{"$f":"O304-O303","v":0.41666666666666607}]
["%chg_prv_07-06",{"$f":"(B338/B303)*100","v":4.651162790697672},3.8461538461538463,4.6153846153846132,4.6153846153846132,3.0303030303030329,3.7878787878787881,2.255639097744353,2.9850746268656745,{"$f":"(J338/J303)*100","v":1.4814814814814761},{"$f":"(K338/K303)*100","v":2.2388059701492455},{"$f":"(L338/L303)*100","v":2.9850746268656745},{"$f":"(M338/M303)*100","v":1.4705882352941255},{"$f":"(N338/O303)*100","v":3.1466331025802345}]
[]
[null,"jan-dec","feb-jan","mar-feb","apr-mar","may-apr","jun-may","jul-jun","aug-jul","sep-aug","oct-sep","nov-oct","dec-nov"]
["change_08",{"$f":"B305-M304","v":0},{"$f":"C305-B305","v":0},9.9999999999999645E-2,-9.9999999999999645E-2,0,0,9.9999999999999645E-2,-9.9999999999999645E-2,-0.10000000000000142,0.20000000000000107,9.9999999999999645E-2,-9.9999999999999645E-2]
["%change_08",{"$f":"(B342/M304)*100","v":0},{"$f":"(C342/B305)*100","v":0},0.72463768115941773,-0.71942446043165209,0,0,0.72463768115941773,-0.71942446043165209,-0.7246376811594305,1.4598540145985481,0.71942446043165209,-0.71428571428571175]
[null,"jan","feb","mar","apr","may","jun","jul","aug","sep","oct","nov","dec","ytd_avg_total"]
["chg_prv_08-07",{"$f":"B305-B304","v":0.30000000000000071},0.30000000000000071,0.30000000000000071,0.20000000000000107,0.20000000000000107,0.10000000000000142,0.30000000000000071,0,0,0.20000000000000107,0.19999999999999929,9.9999999999999645E-2,{"$f":"O305-O304","v":0.18333333333333357}]
["%chg_prv_08-07",{"$f":"(B345/B304)*100","v":2.2222222222222276},2.2222222222222276,2.205882352941182,1.4705882352941255,1.4705882352941255,0.72992700729928051,2.205882352941182,0,0,1.4598540145985481,1.4492753623188355,0.72463768115941773,{"$f":"(N345/O304)*100","v":1.3422818791946325}]
[]
[null,"jan-dec","feb-jan","mar-feb","apr-mar","may-apr","jun-may","jul-jun","aug-jul","sep-aug","oct-sep","nov-oct","dec-nov"]
["change_09",{"$f":"B306-M305","v":-9.9999999999999645E-2},{"$f":"C306-B306","v":0},0,0,0,0,-0.10000000000000142,0,0.10000000000000142,0,0,0]
["%change_09",{"$f":"(B349/M305)*100","v":-0.71942446043165209},{"$f":"(C349/B306)*100","v":0},0,0,0,0,-0.7246376811594305,0,0.72992700729928051,0,0,0]
[null,"jan","feb","mar","apr","may","jun","jul","aug","sep","oct","nov","dec","ytd_avg_total"]
["chg_prv_09-08",{"$f":"B306-B305","v":0},0,-9.9999999999999645E-2,0,0,0,-0.20000000000000107,{"$f":"I306-I305","v":-0.10000000000000142},{"$f":"J306-J305","v":0.10000000000000142},{"$f":"K306-K305","v":-9.9999999999999645E-2},{"$f":"L306-L305","v":-0.19999999999999929},{"$f":"M306-M305","v":-9.9999999999999645E-2},{"$f":"O306-O305","v":-5.8333333333330017E-2}]
["%chg_prv_09-08",{"$f":"(B352/B305)*100","v":0},0,-0.71942446043165209,0,0,0,-1.4388489208633171,-0.7246376811594305,0.72992700729928051,-0.71942446043165209,-1.4285714285714235,-0.71942446043165209,{"$f":"(N352/O305)*100","v":-0.42143287176397365}]
[]
[null,"jan-dec","feb-jan","mar-feb","apr-mar","may-apr","jun-may","jul-jun","aug-jul","sep-aug","oct-sep","nov-oct","dec-nov"]
["change_10",{"$f":"B307-M306","v":9.9999999999999645E-2},{"$f":"C307-B307","v":9.9999999999999645E-2},0,0,0,0,0,9.9999999999999645E-2,0,0,9.9999999999999645E-2,0.10000000000000142]
["%change_10",{"$f":"(B356/M306)*100","v":0.72463768115941773},{"$f":"(C356/B307)*100","v":0.71942446043165209},0,0,0,0,0,0.71428571428571175,0,0,0.70921985815602584,0.70422535211268611]
[null,"jan","feb","mar","apr","may","jun","jul","aug","sep","oct","nov","dec","ytd_avg_total"]
["chg_prv_10-09",{"$f":"B307-B306","v":9.9999999999999645E-2},0.19999999999999929,0.19999999999999929,0.19999999999999929,0.19999999999999929,0.19999999999999929,{"$f":"H307-H306","v":0.30000000000000071},0.40000000000000036,0.29999999999999893,0.29999999999999893,0.39999999999999858,0.5,{"$f":"O307-O306","v":0.27499999999999503}]
["%chg_prv_10-09",{"$f":"(B359/M306)*100","v":0.72463768115941773},{"$f":"(C359/C306)*100","v":1.4492753623188355},1.4492753623188355,1.4492753623188355,1.4492753623188355,1.4492753623188355,2.1897810218978155,2.9197080291970829,2.1739130434782532,2.1739130434782532,{"$f":"(L359/L306)*100","v":2.8985507246376709},{"$f":"(M359/M306)*100","v":3.6231884057971016},{"$f":"(N359/O306)*100","v":1.9951632406287421}]
[]
[null,"jan-dec","feb-jan","mar-feb","apr-mar","may-apr","jun-may","jul-jun","aug-jul","sep-aug","oct-sep","nov-oct","dec-nov"]
["change_11",{"$f":"B308-M307","v":-0.10000000000000142},{"$f":"C308-B308","v":0.10000000000000142},9.9999999999999645E-2,-0.20000000000000107,0,0,-0.29999999999999893,0.29999999999999893,0,-0.19999999999999929,{"$f":"L308-K308","v":9.9999999999999645E-2},{"$f":"M308-L308","v":9.9999999999999645E-2}]
["%change_11",{"$f":"(B363/M307)*100","v":-0.69930069930070915},{"$f":"(C363/B308)*100","v":0.70422535211268611},0.69930069930069683,-1.3888888888888962,0,0,-2.1126760563380209,2.1582733812949559,0,-1.4084507042253471,{"$f":"(L363/K308)*100","v":0.71428571428571175},{"$f":"(M363/L308)*100","v":0.70921985815602584}]
[null,"jan","feb","mar","apr","may","jun","jul","aug","sep","oct","nov","dec","ytd_avg_total"]
["chg_prv_11-10",{"$f":"B308-B307","v":0.29999999999999893},0.30000000000000071,0.40000000000000036,0.19999999999999929,0.19999999999999929,0.19999999999999929,{"$f":"H308-H307","v":-9.9999999999999645E-2},9.9999999999999645E-2,9.9999999999999645E-2,-9.9999999999999645E-2,-9.9999999999999645E-2,-0.10000000000000142,{"$f":"O308-O307","v":0.11666666666666714}]
["%chg_prv_11-10",{"$f":"(B366/B307)*100","v":2.1582733812949559},2.1428571428571481,2.8571428571428599,1.4285714285714235,1.4285714285714235,1.4285714285714235,{"$f":"(H366/H307)*100","v":-0.71428571428571175},0.70921985815602584,0.70921985815602584,-0.70921985815602584,-0.70422535211267356,-0.69930069930070915,{"$f":"(N366/O307)*100","v":0.82987551867220266}]
[]
[null,"jan-dec","feb-jan","mar-feb","apr-mar","may-apr","jun-may","jul-jun","aug-jul","sep-aug","oct-sep","nov-oct","dec-nov"]
["change_12",{"$f":"B309-M308","v":-0.19999999999999929},{"$f":"C309-B309","v":-9.9999999999999645E-2},9.9999999999999645E-2,9.9999999999999645E-2,9.9999999999999645E-2,0.10000000000000142,-0.20000000000000107,9.9999999999999645E-2,0.20000000000000107,9.9999999999999645E-2,0,9.9999999999999645E-2]
["%change_12",{"$f":"(B370/M308)*100","v":-1.4084507042253471},{"$f":"(C370/B309)*100","v":-0.71428571428571175},0.71942446043165209,0.71428571428571175,0.70921985815602584,0.70422535211268611,-1.3986013986014061,0.70921985815602584,1.4084507042253596,0.69444444444444198,0,0.68965517241379071]
[null,"jan","feb","mar","apr","may","jun","jul","aug","sep","oct","nov","dec","ytd_avg_total"]
["chg_prv_12-11",{"$f":"B309-B308","v":-0.19999999999999929},-0.40000000000000036,-0.40000000000000036,-9.9999999999999645E-2,0,{"$f":"G309-G308","v":0.10000000000000142},0.19999999999999929,0,0.20000000000000107,0.5,0.40000000000000036,{"$f":"M309-M308","v":0.40000000000000036},{"$f":"O309-O308","v":5.833333333333357E-2}]
["%chg_prv_12-11",{"$f":"(B373/B308)*100","v":-1.4084507042253471},-2.7972027972027997,-2.7777777777777799,-0.70422535211267356,0,{"$f":"(G373/G308)*100","v":0.70422535211268611},1.4388489208633042,0,1.4084507042253596,3.5714285714285712,2.8368794326241162,{"$f":"(M373/M308)*100","v":2.8169014084507067},{"$f":"(N373/O308)*100","v":0.41152263374485765}]
[]
[null,"jan-dec","feb-jan","mar-feb","apr-mar","may-apr","jun-may","jul-jun","aug-jul","sep-aug","oct-sep","nov-oct","dec-nov"]
["change_13",{"$f":"B310-M309","v":-9.9999999999999645E-2},{"$f":"C310-B310","v":9.9999999999999645E-2},9.9999999999999645E-2,0,0,-0.19999999999999929,0,0,0,0,9.9999999999999645E-2,-0.19999999999999929]
["%change_13",{"$f":"(B377/M309)*100","v":-0.6849315068493127},{"$f":"(C377/B310)*100","v":0.68965517241379071},0.6849315068493127,0,0,-1.3605442176870701,0,0,0,0,0.68965517241379071,-1.3698630136986254]
[null,"jan","feb","mar","apr","may","jun","jul","aug","sep","oct","nov","dec","ytd_avg_total"]
["chg_prv_13-12",{"$f":"B310-B309","v":0.5},0.69999999999999929,0.69999999999999929,0.59999999999999964,0.5,0.19999999999999929,0.40000000000000036,0.30000000000000071,9.9999999999999645E-2,0,9.9999999999999645E-2,-0.19999999999999929,{"$f":"O310-O309","v":0.32499999999999929}]
["%chg_prv_13-12",{"$f":"(B380/B309)*100","v":3.5714285714285712},5.0359712230215781,4.9999999999999947,4.2553191489361684,3.5211267605633805,1.3986013986013937,2.8368794326241162,2.1126760563380333,0.69444444444444198,0,0.68965517241379071,-1.3698630136986254,{"$f":"(N380/O309)*100","v":2.2833723653395737}]
[]
[null,"jan-dec","feb-jan","mar-feb","apr-mar","may-apr","jun-may","jul-jun","aug-jul","sep-aug","oct-sep","nov-oct","dec-nov"]
["change_14",{"$f":"B311-M310","v":-9.9999999999999645E-2},{"$f":"C311-B311","v":9.9999999999999645E-2},9.9999999999999645E-2,-9.9999999999999645E-2,0,-9.9999999999999645E-2,-0.10000000000000142,0.10000000000000142,9.9999999999999645E-2,9.9999999999999645E-2,0,0]
["%change_14",{"$f":"(B384/M310)*100","v":-0.69444444444444198},{"$f":"(C384/B311)*100","v":0.69930069930069683},0.69444444444444198,-0.68965517241379071,0,-0.69444444444444198,-0.69930069930070915,0.70422535211268611,0.69930069930069683,0.69444444444444198,0,0]
[null,"jan","feb","mar","apr","may","jun","jul","aug","sep","oct","nov","dec","ytd_avg_total"]
["chg_prv_14-13",{"$f":"B311-B310","v":-0.19999999999999929},-0.19999999999999929,-0.19999999999999929,-0.29999999999999893,-0.29999999999999893,-0.19999999999999929,{"$f":"H311-H310","v":-0.30000000000000071},-0.19999999999999929,{"$f":"J311-J310","v":-9.9999999999999645E-2},0,{"$f":"L311-L310","v":-9.9999999999999645E-2},9.9999999999999645E-2,{"$f":"O311-O310","v":-0.16666666666666607}]
["%chg_prv_14-13",{"$f":"(B387/B310)*100","v":-1.3793103448275814},-1.3698630136986254,-1.3605442176870701,-2.0408163265306052,-2.0408163265306052,-1.3793103448275814,{"$f":"(H387/H310)*100","v":-2.0689655172413843},-1.3793103448275814,{"$f":"(J387/J310)*100","v":-0.68965517241379071},0,{"$f":"(L387/L310)*100","v":-0.6849315068493127},0.69444444444444198,{"$f":"(N387/O310)*100","v":-1.1448196908986794}]
[]
[null,"jan-dec","feb-jan","mar-feb","apr-mar","may-apr","jun-may","jul-jun","aug-jul","sep-aug","oct-sep","nov-oct","dec-nov"]
["change_15"]
["%change_15"]
[null,"jan","feb","mar","apr","may","jun","jul","aug","sep","oct","nov","dec","ytd_avg_total"]
["chg_prv_15-14",{"$nulls":12},{"$f":"N312-N311","v":{"$error":"#DIV/0!"}}]
["%chg_prv_15-14",{"$nulls":12},{"$f":"(N394/N311)*100","v":{"$error":"#DIV/0!"}}]
[]
[]
["nrmc_em","jan","feb","mar","apr","may","jun","jul","aug","sep","oct","nov","dec","ytd_avg"]
[2003,2.5,2.4,2.4,2.8,3.4,3.6,3.6,3.8,3.7,3.6,3.3,2.9,{"$f":"AVERAGE(B399:M399)","v":3.1666666666666665},{"$f":"AVERAGE(B399:M399)","v":3.1666666666666665}]
[2004,2.5,2.4,2.5,3,3.4,3.5,3.7,3.7,3.6,3.6,3.5,3,3.2000000000000006,3.2000000000000006]
[2005,2.5,2.4,2.5,3,3.3,3.5,3.6,3.6,3.5,3.6,3.4,2.9,3.1500000000000004,3.1500000000000004]
[2006,2.6,2.6,2.7,3.2,3.5,3.8,3.7,3.7,3.6,3.5,3.4,3,3.2750000000000004,3.2750000000000004]
[2007,2.8,2.8,3,3.3,3.8,4.0999999999999996,4.0999999999999996,4.2,4.0999999999999996,4,3.8,3.4,3.6166666666666658,3.6166666666666658]
[2008,3,3,2.9,3.2,3.4,3.6,3.3,3.3,3.1,3.1,2.8,2.6,3.1083333333333338,3.1083333333333338]
[2009,2.2000000000000002,2.1,2,2.5,2.9,3.1,3.2,3.1,3.4,3.5,3.2,2.7,2.8249999999999997,2.8249999999999997]
[2010,2.1,2.1,2,2.4,2.8,3,3.1,3.1,3.1,3.1,2.8,2.4,{"$f":"AVERAGE(B406:M406)","v":2.6666666666666674},2.6666666666666674]
[2011,2,2,2.1,2.5,2.8,3.1,3.3,3.3,3.3,3.2,3.1,2.7,{"$f":"AVERAGE(B407:M407)","v":2.7833333333333332},2.7833333333333332]
[2012,2.2999999999999998,2.2000000000000002,2.4,2.9,3.1,3.2,3.2,3.2,3.2,3.2,3,2.7,{"$f":"AVERAGE(B408:M408)","v":2.8833333333333333},2.8833333333333333]
[2013,2.2999999999999998,2.2000000000000002,2.2999999999999998,2.5,3.1,3.4,3.5,3.5,3.3,3.3,3.1,2.4,{"$f":"AVERAGE(B409:M409)","v":2.9083333333333332},2.9083333333333332]
[2014,2.1,2.1,2.1,2.5,3.5,3.8,3.9,3.9,3.9,3.9,3.7,3.3,{"$f":"AVERAGE(B410:M410)","v":3.2249999999999996},3.2249999999999996]
[2015,{"$nulls":12},{"$f":"AVERAGE(B411:B411)","v":{"$error":"#DIV/0!"}},{"$f":"AVERAGE(B411:M411)","v":{"$error":"#DIV/0!"}}]
[null,"jan-dec","feb-jan","mar-feb","apr-mar","may-apr","jun-may","jul-jun","aug-jul","sep-aug","oct-sep","nov-oct","dec-nov"]
["change_04",{"$f":"B400-M399","v":-0.39999999999999991},{"$f":"C400-B400","v":-0.10000000000000009},0.10000000000000009,0.5,0.39999999999999991,0.10000000000000009,0.20000000000000018,0,-0.10000000000000009,0,-0.10000000000000009,-0.5]
["%change_04",{"$f":"(B413/M399)*100","v":-13.793103448275859},{"$f":"(C413/B400)*100","v":-4.0000000000000036},4.1666666666666705,20,13.33333333333333,2.9411764705882382,5.7142857142857197,0,-2.7027027027027049,0,-2.7777777777777799,-14.285714285714285]
[null,"jan","feb","mar","apr","may","jun","jul","aug","sep","oct","nov","dec","ytd_avg_total"]
["chg_prv_04-03",{"$f":"B400-B399","v":0},0,0.10000000000000009,0.20000000000000018,0,-0.10000000000000009,0.10000000000000009,-9.9999999999999645E-2,-0.10000000000000009,0,0.20000000000000018,0.10000000000000009,{"$f":"O400-O399","v":3.3333333333334103E-2}]
["%chg_prv_04-03",{"$f":"(B416/B399)*100","v":0},0,4.1666666666666705,7.1428571428571495,0,-2.7777777777777799,2.7777777777777799,-2.6315789473684119,-2.7027027027027049,0,6.0606060606060659,3.4482758620689689,{"$f":"(N416/O399)*100","v":1.0526315789473928}]
[]
[null,"jan-dec","feb-jan","mar-feb","apr-mar","may-apr","jun-may","jul-jun","aug-jul","sep-aug","oct-sep","nov-oct","dec-nov"]
["change_05",{"$f":"B401-M400","v":-0.5},{"$f":"C401-B401","v":-0.10000000000000009},0.10000000000000009,0.5,0.29999999999999982,0.20000000000000018,0.10000000000000009,0,-0.10000000000000009,0.10000000000000009,-0.20000000000000018,-0.5]
["%change_05",{"$f":"(B420/M400)*100","v":-16.666666666666664},{"$f":"(C420/B401)*100","v":-4.0000000000000036},4.1666666666666705,20,9.9999999999999929,6.0606060606060659,2.8571428571428599,0,-2.7777777777777799,2.8571428571428599,-5.5555555555555598,-14.705882352941178]
[null,"jan","feb","mar","apr","may","jun","jul","aug","sep","oct","nov","dec","ytd_avg_total"]
["chg_prv_05-04",{"$f":"B401-B400","v":0},0,0,0,-0.10000000000000009,0,-0.10000000000000009,-0.10000000000000009,-0.10000000000000009,0,-0.10000000000000009,-0.10000000000000009,{"$f":"O401-O400","v":-5.0000000000000266E-2}]
["%chg_prv_05-04",{"$f":"(B423/B400)*100","v":0},0,0,0,-2.9411764705882382,0,-2.7027027027027049,-2.7027027027027049,-2.7777777777777799,0,-2.8571428571428599,-3.3333333333333361,{"$f":"(N423/O400)*100","v":-1.562500000000008}]
[]
[null,"jan-dec","feb-jan","mar-feb","apr-mar","may-apr","jun-may","jul-jun","aug-jul","sep-aug","oct-sep","nov-oct","dec-nov"]
["change_06",{"$f":"B402-M401","v":-0.29999999999999982},{"$f":"C402-B402","v":0},0.10000000000000009,0.5,0.29999999999999982,0.29999999999999982,-9.9999999999999645E-2,0,-0.10000000000000009,{"$f":"K402-J402","v":-0.10000000000000009},{"$f":"L402-K402","v":-0.10000000000000009},{"$f":"M402-L402","v":-0.39999999999999991}]
["%change_06",{"$f":"(B427/M401)*100","v":-10.344827586206891},{"$f":"(C427/B402)*100","v":0},3.8461538461538494,18.518518518518519,9.3749999999999947,8.5714285714285658,-2.6315789473684119,0,-2.7027027027027049,{"$f":"(K427/J402)*100","v":-2.7777777777777799},{"$f":"(L427/K402)*100","v":-2.8571428571428599},{"$f":"(M427/L402)*100","v":-11.764705882352938}]
[null,"jan","feb","mar","apr","may","jun","jul","aug","sep","oct","nov","dec","ytd_avg_total"]
["chg_prv_06-05",{"$f":"B402-B401","v":0.10000000000000009},0.20000000000000018,0.20000000000000018,0.20000000000000018,0.20000000000000018,0.29999999999999982,0.10000000000000009,{"$f":"I402-I401","v":0.10000000000000009},{"$f":"J402-J401","v":0.10000000000000009},{"$f":"K402-K401","v":-0.10000000000000009},{"$f":"L402-L401","v":0},{"$f":"M402-M401","v":0.10000000000000009},{"$f":"O402-O401","v":0.125}]
["%chg_prv_06-05",{"$f":"(B430/B401)*100","v":4.0000000000000036},8.333333333333341,8.0000000000000071,6.6666666666666723,6.0606060606060659,8.5714285714285658,2.7777777777777799,2.7777777777777799,2.8571428571428599,{"$f":"(K430/K401)*100","v":-2.7777777777777799},{"$f":"(L430/L401)*100","v":0},{"$f":"(M430/M401)*100","v":3.4482758620689689},{"$f":"(N430/O401)*100","v":3.9682539682539679}]
[]
[null,"jan-dec","feb-jan","mar-feb","apr-mar","may-apr","jun-may","jul-jun","aug-jul","sep-aug","oct-sep","nov-oct","dec-nov"]
["change_07",{"$f":"B403-M402","v":-0.20000000000000018},{"$f":"C403-B403","v":0},0.20000000000000018,0.29999999999999982,0.5,0.29999999999999982,0,0.10000000000000053,{"$f":"J403-I403","v":-0.10000000000000053},{"$f":"K403-J403","v":-9.9999999999999645E-2},{"$f":"L403-K403","v":-0.20000000000000018},{"$f":"M403-L403","v":-0.39999999999999991}]
["%change_07",{"$f":"(B434/M402)*100","v":-6.6666666666666723},{"$f":"(C434/B403)*100","v":0},7.1428571428571495,9.9999999999999929,15.151515151515152,7.8947368421052584,0,2.4390243902439157,{"$f":"(J434/I403)*100","v":-2.3809523809523938},{"$f":"(K434/J403)*100","v":-2.4390243902438939},{"$f":"(L434/K403)*100","v":-5.0000000000000044},{"$f":"(M434/L403)*100","v":-10.526315789473681}]
[null,"jan","feb","mar","apr","may","jun","jul","aug","sep","oct","nov","dec","ytd_avg_total"]
["chg_prv_07-06",{"$f":"B403-B402","v":0.19999999999999973},0.19999999999999973,0.29999999999999982,9.9999999999999645E-2,0.29999999999999982,0.29999999999999982,0.39999999999999947,0.5,{"$f":"J403-J402","v":0.49999999999999956},{"$f":"K403-K402","v":0.5},{"$f":"K403-K402","v":0.5},{"$f":"L403-L402","v":0.39999999999999991},{"$f":"O403-O402","v":0.34166666666666545}]
["%chg_prv_07-06",{"$f":"(B437/B402)*100","v":7.6923076923076819},{"$f":"(C437/C403)*100","v":7.1428571428571344},9.9999999999999929,3.0303030303030196,7.8947368421052584,7.317073170731704,9.7560975609755971,11.904761904761903,{"$f":"(J437/J403)*100","v":12.195121951219502},{"$f":"(K437/K403)*100","v":12.5},{"$f":"(L437/K403)*100","v":12.5},{"$f":"(M437/L403)*100","v":10.526315789473681},{"$f":"(N437/O402)*100","v":10.432569974554669}]
[]
[null,"jan-dec","feb-jan","mar-feb","apr-mar","may-apr","jun-may","jul-jun","aug-jul","sep-aug","oct-sep","nov-oct","dec-nov"]
["change_08",{"$f":"B404-M403","v":-0.39999999999999991},{"$f":"C404-B404","v":0},-0.10000000000000009,0.30000000000000027,0.19999999999999973,0.20000000000000018,-0.30000000000000027,0,-0.19999999999999973,0,-0.30000000000000027,-0.19999999999999973]
["%change_08",{"$f":"(B441/M403)*100","v":-11.764705882352938},{"$f":"(C441/B404)*100","v":0},-3.3333333333333361,10.344827586206906,6.249999999999992,5.8823529411764763,-8.333333333333341,0,-6.0606060606060534,0,-9.6774193548387171,-7.1428571428571344]
[null,"jan","feb","mar","apr","may","jun","jul","aug","sep","oct","nov","dec","ytd_avg_total"]
["chg_prv_08-07",{"$f":"B404-B403","v":0.20000000000000018},0.20000000000000018,-0.10000000000000009,-9.9999999999999645E-2,-0.39999999999999991,-0.49999999999999956,-0.79999999999999982,-0.90000000000000036,-0.99999999999999956,-0.89999999999999991,-1,-0.79999999999999982,{"$f":"O404-O403","v":-0.50833333333333197}]
["%chg_prv_08-07",{"$f":"(B444/B403)*100","v":7.1428571428571495},7.1428571428571495,-3.3333333333333361,-3.0303030303030196,-10.526315789473681,-12.195121951219502,-19.512195121951219,-21.428571428571434,-24.390243902439014,-22.499999999999996,-26.315789473684209,-23.529411764705877,{"$f":"(N444/O403)*100","v":-14.055299539170473}]
[]
[null,"jan-dec","feb-jan","mar-feb","apr-mar","may-apr","jun-may","jul-jun","aug-jul","sep-aug","oct-sep","nov-oct","dec-nov"]
["change_09",{"$f":"B405-M404","v":-0.39999999999999991},{"$f":"C405-B405","v":-0.10000000000000009},-0.10000000000000009,0.5,0.39999999999999991,0.20000000000000018,0.10000000000000009,-0.10000000000000009,0.29999999999999982,0.10000000000000009,-0.29999999999999982,-0.5]
["%change_09",{"$f":"(B448/A404)*100","v":-1.9920318725099598E-2},{"$f":"(C448/B405)*100","v":-4.5454545454545494},-4.7619047619047654,25,15.999999999999998,6.8965517241379377,3.2258064516129057,-3.1250000000000027,9.6774193548387046,2.9411764705882382,-8.5714285714285658,-15.625]
[null,"jan","feb","mar","apr","may","jun","jul","aug","sep","oct","nov","dec","ytd_avg_total"]
["chg_prv_09-08",{"$f":"B405-B404","v":-0.79999999999999982},-0.89999999999999991,-0.89999999999999991,-0.70000000000000018,-0.5,-0.5,-9.9999999999999645E-2,-0.19999999999999973,0.29999999999999982,0.39999999999999991,0.40000000000000036,0.10000000000000009,{"$f":"O405-O404","v":-0.2833333333333341}]
["%chg_prv_09-08",{"$f":"(B451/B404)*100","v":-26.666666666666661},-30,-31.034482758620683,-21.875000000000007,-14.705882352941178,-13.888888888888889,-3.0303030303030196,-6.0606060606060534,9.6774193548387046,12.90322580645161,14.285714285714299,3.8461538461538494,{"$f":"(N451/O404)*100","v":-9.1152815013405046}]
[]
[null,"jan-dec","feb-jan","mar-feb","apr-mar","may-apr","jun-may","jul-jun","aug-jul","sep-aug","oct-sep","nov-oct","dec-nov"]
["change_10",{"$f":"B406-M405","v":-0.60000000000000009},{"$f":"C406-B406","v":0},-0.10000000000000009,0.39999999999999991,0.39999999999999991,0.20000000000000018,0.10000000000000009,0,0,0,-0.30000000000000027,-0.39999999999999991]
["%change_10",{"$f":"(B455/M405)*100","v":-22.222222222222225},{"$f":"(C455/B406)*100","v":0},-4.7619047619047654,19.999999999999996,16.666666666666664,7.1428571428571495,3.3333333333333361,0,0,0,-9.6774193548387171,-14.285714285714283]
[null,"jan","feb","mar","apr","may","jun","jul","aug","sep","oct","nov","dec","ytd_avg_total"]
["chg_prv_10-09",{"$f":"B406-B405","v":-0.10000000000000009},0,0,-0.10000000000000009,-0.10000000000000009,-0.10000000000000009,{"$f":"H406-H405","v":-0.10000000000000009},0,-0.29999999999999982,-0.39999999999999991,-0.40000000000000036,-0.30000000000000027,{"$f":"O406-O405","v":-0.15833333333333233}]
["%chg_prv_10-09",{"$f":"(B458/M405)*100","v":-3.7037037037037068},{"$f":"(C458/C405)*100","v":0},0,-4.0000000000000036,-3.4482758620689689,-3.2258064516129057,-3.1250000000000027,0,-8.8235294117647012,-11.428571428571425,{"$f":"(L458/L405)*100","v":-12.500000000000011},{"$f":"(M458/M405)*100","v":-11.11111111111112},{"$f":"(N458/O405)*100","v":-5.6047197640117643}]
[]
[null,"jan-dec","feb-jan","mar-feb","apr-mar","may-apr","jun-may","jul-jun","aug-jul","sep-aug","oct-sep","nov-oct","dec-nov"]
["change_11",{"$f":"B407-M406","v":-0.39999999999999991},{"$f":"C407-B407","v":0},0.10000000000000009,0.39999999999999991,0.29999999999999982,0.30000000000000027,0.19999999999999973,0,0,-9.9999999999999645E-2,-0.10000000000000009,-0.39999999999999991]
["%change_11",{"$f":"(B462/M406)*100","v":-16.666666666666664},{"$f":"(C462/B407)*100","v":0},5.0000000000000044,19.047619047619044,11.999999999999993,10.714285714285724,6.4516129032257981,0,0,-3.0303030303030196,-3.1250000000000027,-12.90322580645161]
[null,"jan","feb","mar","apr","may","jun","jul","aug","sep","oct","nov","dec","ytd_avg_total"]
["chg_prv_11-10",{"$f":"B407-B406","v":-0.10000000000000009},-0.10000000000000009,0.10000000000000009,0.10000000000000009,0,0.10000000000000009,{"$f":"H407-H406","v":0.19999999999999973},0.19999999999999973,0.19999999999999973,0.10000000000000009,0.30000000000000027,0.30000000000000027,{"$f":"O407-O406","v":0.11666666666666581}]
["%chg_prv_11-10",{"$f":"(B465/B406)*100","v":-4.7619047619047654},-4.7619047619047654,5.0000000000000044,4.1666666666666705,0,3.3333333333333361,{"$f":"(H465/H406)*100","v":6.4516129032257981},6.4516129032257981,6.4516129032257981,3.2258064516129057,10.714285714285724,12.500000000000011,{"$f":"(N465/O406)*100","v":4.3749999999999662}]
[]
[null,"jan-dec","feb-jan","mar-feb","apr-mar","may-apr","jun-may","jul-jun","aug-jul","sep-aug","oct-sep","nov-oct","dec-nov"]
["change_12",{"$f":"B408-M407","v":-0.40000000000000036},{"$f":"C408-B408","v":-9.9999999999999645E-2},0.19999999999999973,0.5,0.20000000000000018,0.10000000000000009,0,0,0,0,-0.20000000000000018,-0.29999999999999982]
["%change_12",{"$f":"(B469/M407)*100","v":-14.814814814814827},{"$f":"(C469/B408)*100","v":-4.3478260869565064},9.0909090909090793,20.833333333333336,6.8965517241379377,3.2258064516129057,0,0,0,0,-6.2500000000000053,-9.9999999999999929]
[null,"jan","feb","mar","apr","may","jun","jul","aug","sep","oct","nov","dec","ytd_avg_total"]
["chg_prv_12-11",{"$f":"B408-B407","v":0.29999999999999982},0.20000000000000018,0.29999999999999982,0.39999999999999991,0.30000000000000027,0.10000000000000009,{"$f":"H408-H407","v":-9.9999999999999645E-2},-9.9999999999999645E-2,{"$f":"J408-J407","v":-9.9999999999999645E-2},0,{"$f":"L408-L407","v":-0.10000000000000009},0,{"$f":"O408-O407","v":0.10000000000000009}]
["%chg_prv_12-11",{"$f":"(B472/B407)*100","v":14.999999999999991},10.000000000000009,14.285714285714276,15.999999999999998,10.714285714285724,3.2258064516129057,{"$f":"(H472/H407)*100","v":-3.0303030303030196},-3.0303030303030196,{"$f":"(J472/J407)*100","v":-3.0303030303030196},0,{"$f":"(L472/L407)*100","v":-3.2258064516129057},0,{"$f":"(N472/O407)*100","v":3.5928143712574885}]
[]
[null,"jan-dec","feb-jan","mar-feb","apr-mar","may-apr","jun-may","jul-jun","aug-jul","sep-aug","oct-sep","nov-oct","dec-nov"]
["change_13",{"$f":"B409-M408","v":-0.40000000000000036},{"$f":"C409-B409","v":-9.9999999999999645E-2},9.9999999999999645E-2,0.20000000000000018,0.60000000000000009,0.29999999999999982,0.10000000000000009,0,-0.20000000000000018,0,-0.19999999999999973,-0.70000000000000018]
["%change_13",{"$f":"(B476/M408)*100","v":-14.814814814814827},{"$f":"(C476/B409)*100","v":-4.3478260869565064},4.545454545454529,8.6956521739130519,24.000000000000004,9.6774193548387046,2.9411764705882382,0,-5.7142857142857197,0,-6.0606060606060534,-22.580645161290327]
[null,"jan","feb","mar","apr","may","jun","jul","aug","sep","oct","nov","dec","ytd_avg_total"]
["chg_prv_13-12",{"$f":"B409-B408","v":0},0,-0.10000000000000009,-0.39999999999999991,0,0.19999999999999973,0.29999999999999982,0.29999999999999982,9.9999999999999645E-2,9.9999999999999645E-2,0.10000000000000009,-0.30000000000000027,{"$f":"O409-O408","v":2.4999999999999911E-2}]
["%chg_prv_13-12",{"$f":"(B479/B408)*100","v":0},0,-4.1666666666666705,-13.793103448275859,0,6.249999999999992,9.3749999999999947,9.3749999999999947,3.1249999999999889,3.1249999999999889,3.3333333333333361,-11.11111111111112,{"$f":"(N479/O408)*100","v":0.8670520231213843}]
[]
[null,"jan-dec","feb-jan","mar-feb","apr-mar","may-apr","jun-may","jul-jun","aug-jul","sep-aug","oct-sep","nov-oct","dec-nov"]
["change_14",{"$f":"B410-M409","v":-0.29999999999999982},{"$f":"C410-B410","v":0},0,0.39999999999999991,1,0.29999999999999982,0.10000000000000009,0,0,0,-0.19999999999999973,-0.40000000000000036]
["%change_14",{"$f":"(B483/M409)*100","v":-12.499999999999993},{"$f":"(C483/B410)*100","v":0},0,19.047619047619044,40,8.5714285714285658,2.6315789473684239,0,0,0,-5.1282051282051215,-10.810810810810819]
[null,"jan","feb","mar","apr","may","jun","jul","aug","sep","oct","nov","dec","ytd_avg_total"]
["chg_prv_14-13",{"$f":"B410-B409","v":-0.19999999999999973},-0.10000000000000009,-0.19999999999999973,0,0.39999999999999991,0.39999999999999991,{"$f":"H410-H409","v":0.39999999999999991},0.39999999999999991,{"$f":"J410-J409","v":0.60000000000000009},0.60000000000000009,{"$f":"L410-L409","v":0.60000000000000009},0.89999999999999991,{"$f":"O410-O409","v":0.31666666666666643}]
["%chg_prv_14-13",{"$f":"(B486/B409)*100","v":-8.6956521739130324},-4.5454545454545494,-8.6956521739130324,0,12.90322580645161,11.764705882352938,{"$f":"(H486/H409)*100","v":11.428571428571425},11.428571428571425,{"$f":"(J486/J409)*100","v":18.181818181818183},18.181818181818183,{"$f":"(L486/L409)*100","v":19.35483870967742},37.5,{"$f":"(N486/O409)*100","v":10.888252148997127}]
[]
[null,"jan-dec","feb-jan","mar-feb","apr-mar","may-apr","jun-may","jul-jun","aug-jul","sep-aug","oct-sep","nov-oct","dec-nov"]
["change_15"]
["%change_15"]
[null,"jan","feb","mar","apr","may","jun","jul","aug","sep","oct","nov","dec","ytd_avg_total"]
["chg_prv_15-14",{"$nulls":12},{"$f":"N411-N410","v":{"$error":"#DIV/0!"}}]
["%chg_prv_15-14",{"$nulls":12},{"$f":"(N493/N410)*100","v":{"$error":"#DIV/0!"}}]
[]
[]
["lh_em","jan","feb","mar","apr","may","jun","jul","aug","sep","oct","nov","dec","ytd_avg"]
[2003,7.2,7.3,7.4,7.4,7.7,7.8,8,7.8,7.8,7.6,7.5,7.3,{"$f":"AVERAGE(B498:M498)","v":7.5666666666666655},{"$f":"AVERAGE(B498:M498)","v":7.5666666666666655}]
[2004,7.1,7.1,7.2,7.4,7.7,7.8,8.3000000000000007,7.7,7.7,7.7,7.6,7.5,7.5666666666666664,7.5666666666666664]
[2005,7.2,7.1,7.2,7.6,7.9,8,8.1999999999999993,7.7,7.7,7.6,7.5,7.4,7.5916666666666677,7.5916666666666677]
[2006,7.2,7.2,7.4,7.7,8,7.9,8.1,8.1,7.6,7.5,7.4,7.3,7.6166666666666671,7.6166666666666671]
[2007,7.1,7.1,7.2,7.6,7.8,7.9,8.4,8.1999999999999993,7.9,7.7,7.5,7.4,7.6500000000000012,7.6500000000000012]
[2008,7.2,7.2,7.2,7.5,7.7,7.7,8,7.6,7.6,7.5,7.4,7.4,7.5000000000000009,7.5000000000000009]
[2009,7,7.1,7.2,7.4,7.7,7.7,7.9,8,8,7.5,7.3,7.3,{"$f":"AVERAGE(B504:M504)","v":7.5083333333333329},7.5083333333333329]
[2010,6.7,7,7.1,7.4,7.6,7.6,7.8,8,8.1,7.6,7.5,7.5,7.4916666666666663,7.4916666666666663]
[2011,7,7.2,7.3,7.5,7.8,7.7,8.1,8.1,8.1999999999999993,7.6,7.5,7.4,7.6166666666666671,{"$f":"AVERAGE(B506:M506)","v":7.6166666666666671}]
[2012,7,7.3,7.4,7.7,7.8,7.8,8.4,8.4,8.3000000000000007,7.7,7.6,7.6,7.7499999999999991,{"$f":"AVERAGE(B507:M507)","v":7.7499999999999991}]
[2013,7.1,7.3,7.4,7.5,7.9,7.9,8.1,8.4,8.3000000000000007,8.4,8.1999999999999993,8.1999999999999993,7.8916666666666666,{"$f":"AVERAGE(B508:M508)","v":7.8916666666666666}]
[2014,7.7,7.8,8,8.1999999999999993,8.6999999999999993,8.6,8.9,8.9,8.9,9,8.9,8.8000000000000007,8.5333333333333332,{"$f":"AVERAGE(B509:M509)","v":8.5333333333333332}]
[2015,{"$nulls":12},{"$f":"AVERAGE(B510:B510)","v":{"$error":"#DIV/0!"}},{"$f":"AVERAGE(B510:M510)","v":{"$error":"#DIV/0!"}}]
[null,"jan-dec","feb-jan","mar-feb","apr-mar","may-apr","jun-may","jul-jun","aug-jul","sep-aug","oct-sep","nov-oct","dec-nov"]
["change_04",{"$f":"B499-M498","v":-0.20000000000000018},{"$f":"C499-B499","v":0},0.10000000000000053,0.20000000000000018,0.29999999999999982,9.9999999999999645E-2,0.50000000000000089,-0.60000000000000053,0,0,-0.10000000000000053,-9.9999999999999645E-2]
["%change_04",{"$f":"(B512/M498)*100","v":-2.7397260273972628},{"$f":"(C512/B499)*100","v":0},1.4084507042253596,2.7777777777777799,4.0540540540540517,1.298701298701294,6.4102564102564221,-7.2289156626506079,0,0,-1.2987012987013056,-1.315789473684206]
[null,"jan","feb","mar","apr","may","jun","jul","aug","sep","oct","nov","dec","ytd_avg_total"]
["chg_prv_04-03",{"$f":"B499-B498","v":-0.10000000000000053},-0.20000000000000018,-0.20000000000000018,0,0,0,0.30000000000000071,-9.9999999999999645E-2,-9.9999999999999645E-2,0.10000000000000053,9.9999999999999645E-2,0.20000000000000018,{"$f":"O499-O498","v":0}]
["%chg_prv_04-03",{"$f":"(B515/B498)*100","v":-1.3888888888888962},-2.7397260273972628,-2.7027027027027049,0,0,0,3.7500000000000089,-1.2820512820512775,-1.2820512820512775,1.3157894736842175,1.3333333333333286,2.7397260273972628,{"$f":"(N515/O498)*100","v":0}]
[]
[null,"jan-dec","feb-jan","mar-feb","apr-mar","may-apr","jun-may","jul-jun","aug-jul","sep-aug","oct-sep","nov-oct","dec-nov"]
["change_05",{"$f":"B500-M499","v":-0.29999999999999982},{"$f":"C500-B500","v":-0.10000000000000053},0.10000000000000053,0.39999999999999947,0.30000000000000071,9.9999999999999645E-2,0.19999999999999929,-0.49999999999999911,0,-0.10000000000000053,-9.9999999999999645E-2,-9.9999999999999645E-2]
["%change_05",{"$f":"(B519/M499)*100","v":-3.9999999999999973},{"$f":"(C519/B500)*100","v":-1.3888888888888962},1.4084507042253596,5.5555555555555483,3.9473684210526412,1.265822784810122,2.4999999999999911,-6.0975609756097455,0,-1.2987012987013056,-1.315789473684206,-1.3333333333333286]
[null,"jan","feb","mar","apr","may","jun","jul","aug","sep","oct","nov","dec","ytd_avg_total"]
["chg_prv_05-04",{"$f":"B500-B499","v":0.10000000000000053},0,0,0.19999999999999929,0.20000000000000018,0.20000000000000018,-0.10000000000000142,0,0,-0.10000000000000053,-9.9999999999999645E-2,-9.9999999999999645E-2,{"$f":"O500-O499","v":2.5000000000001243E-2}]
["%chg_prv_05-04",{"$f":"(B522/B499)*100","v":1.4084507042253596},0,0,2.7027027027026933,2.5974025974025996,2.5641025641025665,-1.2048192771084507,0,0,-1.2987012987013056,-1.315789473684206,-1.3333333333333286,{"$f":"(N522/O499)*100","v":0.33039647577094156}]
[]
[null,"jan-dec","feb-jan","mar-feb","apr-mar","may-apr","jun-may","jul-jun","aug-jul","sep-aug","oct-sep","nov-oct","dec-nov"]
["change_06",{"$f":"B501-M500","v":-0.20000000000000018},{"$f":"C501-B501","v":0},0.20000000000000018,0.29999999999999982,0.29999999999999982,-9.9999999999999645E-2,0.19999999999999929,0,-0.5,{"$f":"K501-J501","v":-9.9999999999999645E-2},{"$f":"L501-K501","v":-9.9999999999999645E-2},{"$f":"M501-L501","v":-0.10000000000000053}]
["%change_06",{"$f":"(B526/M500)*100","v":-2.7027027027027049},{"$f":"(C526/B501)*100","v":0},2.7777777777777799,4.0540540540540517,3.8961038961038938,-1.2499999999999956,2.531645569620244,0,-6.1728395061728403,{"$f":"(K526/J501)*100","v":-1.315789473684206},{"$f":"(L526/K501)*100","v":-1.3333333333333286},{"$f":"(M526/L501)*100","v":-1.3513513513513586}]
[null,"jan","feb","mar","apr","may","jun","jul","aug","sep","oct","nov","dec","ytd_avg_total"]
["chg_prv_06-05",{"$f":"B501-B500","v":0},0.10000000000000053,0.20000000000000018,0.10000000000000053,9.9999999999999645E-2,-9.9999999999999645E-2,-9.9999999999999645E-2,{"$f":"I501-I500","v":0.39999999999999947},{"$f":"J501-J500","v":-0.10000000000000053},{"$f":"K501-K500","v":-9.9999999999999645E-2},{"$f":"L501-L500","v":-9.9999999999999645E-2},{"$f":"M501-M500","v":-0.10000000000000053},{"$f":"O501-O500","v":2.4999999999999467E-2}]
["%chg_prv_06-05",{"$f":"(B529/B500)*100","v":0},1.4084507042253596,2.7777777777777799,1.3157894736842175,1.265822784810122,-1.2499999999999956,-1.219512195121947,5.1948051948051877,-1.2987012987013056,{"$f":"(K529/K500)*100","v":-1.315789473684206},{"$f":"(L529/L500)*100","v":-1.3333333333333286},{"$f":"(M529/M500)*100","v":-1.3513513513513586},{"$f":"(N529/O500)*100","v":0.32930845225026734}]
[]
[null,"jan-dec","feb-jan","mar-feb","apr-mar","may-apr","jun-may","jul-jun","aug-jul","sep-aug","oct-sep","nov-oct","dec-nov"]
["change_07",{"$f":"B502-M501","v":-0.20000000000000018},{"$f":"C502-B502","v":0},0.10000000000000053,0.39999999999999947,0.20000000000000018,0.10000000000000053,0.5,-0.20000000000000107,-0.29999999999999893,-0.20000000000000018,-0.20000000000000018,-9.9999999999999645E-2]
["%change_07",{"$f":"(B533/M501)*100","v":-2.7397260273972628},{"$f":"(C533/B502)*100","v":0},1.4084507042253596,5.5555555555555483,2.6315789473684239,1.282051282051289,6.329113924050632,-2.3809523809523938,-3.6585365853658409,-2.5316455696202551,-2.5974025974025996,-1.3333333333333286]
[null,"jan","feb","mar","apr","may","jun","jul","aug","sep","oct","nov","dec","ytd_avg_total"]
["chg_prv_07-06",{"$f":"B502-B501","v":-0.10000000000000053},-0.10000000000000053,-0.20000000000000018,-0.10000000000000053,-0.20000000000000018,0,0.30000000000000071,9.9999999999999645E-2,{"$f":"J502-J501","v":0.30000000000000071},{"$f":"K502-K501","v":0.20000000000000018},{"$f":"L502-L501","v":9.9999999999999645E-2},{"$f":"M502-M501","v":0.10000000000000053},{"$f":"O502-O501","v":3.3333333333334103E-2}]
["%chg_prv_07-06",{"$f":"(B536/B501)*100","v":-1.3888888888888962},-1.3888888888888962,-2.7027027027027049,-1.2987012987013056,-2.5000000000000022,0,3.7037037037037126,1.2345679012345634,{"$f":"(J536/J501)*100","v":3.9473684210526412},{"$f":"(K536/K501)*100","v":2.6666666666666687},{"$f":"(L536/L501)*100","v":1.3513513513513467},{"$f":"(M536/M501)*100","v":1.3698630136986376},{"$f":"(N536/O501)*100","v":0.43763676148797503}]
[]
[null,"jan-dec","feb-jan","mar-feb","apr-mar","may-apr","jun-may","jul-jun","aug-jul","sep-aug","oct-sep","nov-oct","dec-nov"]
["change_08",{"$f":"B503-M502","v":-0.20000000000000018},{"$f":"C503-B503","v":0},0,0.29999999999999982,0.20000000000000018,0,0.29999999999999982,-0.40000000000000036,0,-9.9999999999999645E-2,-9.9999999999999645E-2,0]
["%change_08",{"$f":"(B540/M502)*100","v":-2.7027027027027049},{"$f":"(C540/B503)*100","v":0},0,4.1666666666666643,2.6666666666666687,0,3.8961038961038938,-5.0000000000000044,0,-1.315789473684206,-1.3333333333333286,0]
[null,"jan","feb","mar","apr","may","jun","jul","aug","sep","oct","nov","dec","ytd_avg_total"]
["chg_prv_08-07",{"$f":"B503-B502","v":0.10000000000000053},0.10000000000000053,0,-9.9999999999999645E-2,-9.9999999999999645E-2,-0.20000000000000018,-0.40000000000000036,-0.59999999999999964,-0.30000000000000071,-0.20000000000000018,-9.9999999999999645E-2,0,{"$f":"O503-O502","v":-0.15000000000000036}]
["%chg_prv_08-07",{"$f":"(B543/B502)*100","v":1.4084507042253596},1.4084507042253596,0,-1.315789473684206,-1.2820512820512775,-2.5316455696202551,-4.7619047619047654,-7.317073170731704,-3.7974683544303889,-2.5974025974025996,-1.3333333333333286,0,{"$f":"(N543/O502)*100","v":-1.9607843137254948}]
[]
[null,"jan-dec","feb-jan","mar-feb","apr-mar","may-apr","jun-may","jul-jun","aug-jul","sep-aug","oct-sep","nov-oct","dec-nov"]
["change_09",{"$f":"B504-M503","v":-0.40000000000000036},{"$f":"C504-B504","v":9.9999999999999645E-2},0.10000000000000053,0.20000000000000018,0.29999999999999982,0,0.20000000000000018,9.9999999999999645E-2,0,-0.5,-0.20000000000000018,0]
["%change_09",{"$f":"(B547/M503)*100","v":-5.4054054054054097},{"$f":"(C547/B504)*100","v":1.4285714285714235},1.4084507042253596,2.7777777777777799,4.0540540540540517,0,2.5974025974025996,1.265822784810122,0,-6.25,-2.6666666666666687,0]
[null,"jan","feb","mar","apr","may","jun","jul","aug","sep","oct","nov","dec","ytd_avg_total"]
["chg_prv_09-08",{"$f":"B504-B503","v":-0.20000000000000018},-0.10000000000000053,0,-9.9999999999999645E-2,0,0,-9.9999999999999645E-2,0.40000000000000036,0.40000000000000036,0,-0.10000000000000053,-0.10000000000000053,{"$f":"O504-O503","v":8.3333333333319715E-3}]
["%chg_prv_09-08",{"$f":"(B550/B503)*100","v":-2.7777777777777799},-1.3888888888888962,0,-1.3333333333333286,0,0,-1.2499999999999956,5.2631578947368478,5.2631578947368478,0,-1.3513513513513586,-1.3513513513513586,{"$f":"(N550/O503)*100","v":0.11111111111109294}]
[]
[null,"jan-dec","feb-jan","mar-feb","apr-mar","may-apr","jun-may","jul-jun","aug-jul","sep-aug","oct-sep","nov-oct","dec-nov"]
["change_10",{"$f":"B505-M504","v":-0.59999999999999964},{"$f":"C505-B505","v":0.29999999999999982},9.9999999999999645E-2,0.30000000000000071,0.19999999999999929,0,0.20000000000000018,0.20000000000000018,9.9999999999999645E-2,-0.5,-9.9999999999999645E-2,0]
["%change_10",{"$f":"(B554/M504)*100","v":-8.2191780821917764},{"$f":"(C554/B505)*100","v":4.4776119402985044},{"$f":"(D554/C307)*100","v":0.71428571428571175},2.1428571428571481,1.4285714285714235,0,1.4285714285714299,1.4285714285714299,0.70921985815602584,-3.5460992907801421,-0.70921985815602584,0]
[null,"jan","feb","mar","apr","may","jun","jul","aug","sep","oct","nov","dec","ytd_avg_total"]
["chg_prv_10-09",{"$f":"B505-B504","v":-0.29999999999999982},-9.9999999999999645E-2,-0.10000000000000053,0,-0.10000000000000053,-0.10000000000000053,{"$f":"H505-H504","v":-0.10000000000000053},0,9.9999999999999645E-2,9.9999999999999645E-2,0.20000000000000018,0.20000000000000018,{"$f":"O505-O504","v":-1.6666666666666607E-2}]
["%chg_prv_10-09",{"$f":"(B557/B504)*100","v":-4.2857142857142829},-1.4084507042253471,-1.3888888888888962,0,-1.2987012987013056,-1.2987012987013056,{"$f":"(H557/H504)*100","v":-1.2658227848101333},0,1.2499999999999956,1.3333333333333286,2.7397260273972628,2.7397260273972628,{"$f":"(N557/O504)*100","v":-0.22197558268590378}]
[]
[null,"jan-dec","feb-jan","mar-feb","apr-mar","may-apr","jun-may","jul-jun","aug-jul","sep-aug","oct-sep","nov-oct","dec-nov"]
["change_11",{"$f":"B506-M505","v":-0.5},{"$f":"C506-B506","v":0.20000000000000018},9.9999999999999645E-2,0.20000000000000018,0.29999999999999982,-9.9999999999999645E-2,0.39999999999999947,0,9.9999999999999645E-2,-0.59999999999999964,-9.9999999999999645E-2,-9.9999999999999645E-2]
["%change_11",{"$f":"(B561/M505)*100","v":-6.666666666666667},{"$f":"(C561/B506)*100","v":2.8571428571428599},1.388888888888884,2.7397260273972628,3.9999999999999973,-1.2820512820512775,5.1948051948051877,0,1.2345679012345634,-7.317073170731704,-1.315789473684206,-1.3333333333333286]
[null,"jan","feb","mar","apr","may","jun","jul","aug","sep","oct","nov","dec","ytd_avg_total"]
["chg_prv_11-10",{"$f":"B506-B505","v":0.29999999999999982},0.20000000000000018,0.20000000000000018,9.9999999999999645E-2,0.20000000000000018,0.10000000000000053,{"$f":"H506-H505","v":0.29999999999999982},9.9999999999999645E-2,9.9999999999999645E-2,0,0,-9.9999999999999645E-2,{"$f":"O506-O505","v":0.12500000000000089}]
["%chg_prv_11-10",{"$f":"(B564/B505)*100","v":4.4776119402985044},2.8571428571428599,2.8169014084507067,1.3513513513513467,2.6315789473684239,1.3157894736842175,{"$f":"(H564/H505)*100","v":3.8461538461538445},1.2499999999999956,1.2345679012345634,0,0,-1.3333333333333286,{"$f":"(N564/O505)*100","v":1.6685205784204793}]
[]
[null,"jan-dec","feb-jan","mar-feb","apr-mar","may-apr","jun-may","jul-jun","aug-jul","sep-aug","oct-sep","nov-oct","dec-nov"]
["change_12",{"$f":"B507-M506","v":-0.40000000000000036},{"$f":"C507-B507","v":0.29999999999999982},0.10000000000000053,0.29999999999999982,9.9999999999999645E-2,0,0.60000000000000053,0,-9.9999999999999645E-2,-0.60000000000000053,-0.10000000000000053,0]
["%change_12",{"$f":"(B568/M506)*100","v":-5.4054054054054097},{"$f":"(C568/B507)*100","v":4.2857142857142829},1.3698630136986376,4.0540540540540517,1.298701298701294,0,7.6923076923076996,0,-1.1904761904761862,-7.2289156626506079,-1.2987012987013056,0]
[null,"jan","feb","mar","apr","may","jun","jul","aug","sep","oct","nov","dec","ytd_avg_total"]
["chg_prv_12-11",{"$f":"B507-B506","v":0},9.9999999999999645E-2,0.10000000000000053,0.20000000000000018,0,{"$f":"G507-G506","v":9.9999999999999645E-2},0.30000000000000071,0.30000000000000071,0.10000000000000142,0.10000000000000053,9.9999999999999645E-2,{"$f":"M507-M506","v":0.19999999999999929},{"$f":"O507-O506","v":0.13333333333333197}]
["%chg_prv_12-11",{"$f":"(B571/B506)*100","v":0},1.388888888888884,1.3698630136986376,2.6666666666666687,0,1.298701298701294,{"$f":"(H571/H506)*100","v":3.7037037037037126},3.7037037037037126,{"$f":"(J571/J506)*100","v":1.2195121951219685},1.3157894736842175,{"$f":"(L571/L506)*100","v":1.3333333333333286},2.7027027027026933,{"$f":"(N571/O506)*100","v":1.750547045951842}]
[]
[null,"jan-dec","feb-jan","mar-feb","apr-mar","may-apr","jun-may","jul-jun","aug-jul","sep-aug","oct-sep","nov-oct","dec-nov"]
["change_13",{"$f":"B508-M507","v":-0.5},{"$f":"C508-B508","v":0.20000000000000018},0.10000000000000053,9.9999999999999645E-2,0.40000000000000036,0,0.19999999999999929,0.30000000000000071,-9.9999999999999645E-2,9.9999999999999645E-2,-0.20000000000000107,0]
["%change_13",{"$f":"(B575/M507)*100","v":-6.5789473684210522},{"$f":"(C575/B508)*100","v":2.8169014084507067},1.3698630136986376,1.3513513513513467,5.3333333333333375,0,2.531645569620244,3.7037037037037126,-1.1904761904761862,1.2048192771084292,-2.3809523809523938,0]
[null,"jan","feb","mar","apr","may","jun","jul","aug","sep","oct","nov","dec","ytd_avg_total"]
["chg_prv_13-12",{"$f":"B508-B507","v":9.9999999999999645E-2},0,0,-0.20000000000000018,0.10000000000000053,0.10000000000000053,-0.30000000000000071,0,0,0.70000000000000018,0.59999999999999964,0.59999999999999964,{"$f":"O508-O507","v":0.1416666666666675}]
["%chg_prv_13-12",{"$f":"(B578/B507)*100","v":1.4285714285714235},0,0,-2.5974025974025996,1.282051282051289,1.282051282051289,-3.5714285714285796,0,0,9.0909090909090917,7.8947368421052584,7.8947368421052584,{"$f":"(N578/O507)*100","v":1.8279569892473226}]
[]
[null,"jan-dec","feb-jan","mar-feb","apr-mar","may-apr","jun-may","jul-jun","aug-jul","sep-aug","oct-sep","nov-oct","dec-nov"]
["change_14",{"$f":"B509-M508","v":-0.49999999999999911},{"$f":"C509-B509","v":9.9999999999999645E-2},0.20000000000000018,0.19999999999999929,0.5,-9.9999999999999645E-2,0.30000000000000071,0,0,9.9999999999999645E-2,-9.9999999999999645E-2,-9.9999999999999645E-2]
["%change_14",{"$f":"(B582/M508)*100","v":-6.0975609756097455},{"$f":"(C582/B509)*100","v":1.298701298701294},2.5641025641025665,2.4999999999999911,6.0975609756097571,-1.1494252873563178,3.4883720930232642,0,0,1.1235955056179736,-1.1111111111111072,-1.1235955056179736]
[null,"jan","feb","mar","apr","may","jun","jul","aug","sep","oct","nov","dec","ytd_avg_total"]
["chg_prv_14-13",{"$f":"B509-B508","v":0.60000000000000053},0.5,0.59999999999999964,0.69999999999999929,0.79999999999999893,0.69999999999999929,{"$f":"H509-H508","v":0.80000000000000071},0.5,{"$f":"J509-J508","v":0.59999999999999964},0.59999999999999964,{"$f":"L509-L508","v":0.70000000000000107},0.60000000000000142,{"$f":"O509-O508","v":0.64166666666666661}]
["%chg_prv_14-13",{"$f":"(B585/B508)*100","v":8.450704225352121},6.8493150684931505,8.1081081081081035,9.3333333333333233,10.126582278480999,8.8607594936708765,{"$f":"(H585/H508)*100","v":9.8765432098765515},5.9523809523809517,{"$f":"(J585/J508)*100","v":7.2289156626505982},7.1428571428571379,{"$f":"(L585/L508)*100","v":8.5365853658536714},7.3170731707317245,{"$f":"(N585/O508)*100","v":8.1309398099260815}]
[]
[null,"jan-dec","feb-jan","mar-feb","apr-mar","may-apr","jun-may","jul-jun","aug-jul","sep-aug","oct-sep","nov-oct","dec-nov"]
["change_15"]
["%change_15"]
[null,"jan","feb","mar","apr","may","jun","jul","aug","sep","oct","nov","dec","ytd_avg_total"]
["chg_prv_15-14",{"$nulls":12},{"$f":"N510-N509","v":{"$error":"#DIV/0!"}}]
["%chg_prv_15-14",{"$nulls":12},{"$f":"(N592/N509)*100","v":{"$error":"#DIV/0!"}}]
[]
[]
[]
["wi"]
["tnf_em","jan","feb","mar","apr","may","jun","jul","aug","sep","oct","nov","dec","ytd_avg_total"]
[2003,2709.5,2717.4,2725.5,2760.3,2794.5,2816.8,2780.3,2782.3,2791.3,2808.5,2801.5,2798.1,{"$f":"AVERAGE(B599:M599)","v":2773.8333333333335},{"$f":"AVERAGE(B599:M599)","v":2773.8333333333335}]
[2004,2716,2725.1,2742,2781.5,2814.8,2845.2,2831.8,2836.1,2833.9,2844.7,2844.1,2838.4,2804.4666666666667,2804.4666666666667]
[2005,2754,2765.5,2780.1,2827.2,2851.3,2876.7,2858,2860.2,2873,2870,2871.8,2872,2838.3166666666671,2838.3166666666671]
[2006,2785.6,2789.4,2807.2,2846.9,2875.8,2912.2,2880.9,2882,2891,2889.9,2889.9,2887.7,2861.5416666666674,2861.5416666666674]
[2007,2808.9,2804.4,2824.3,2856.6,2898.4,2936.8,2900.2,2901.5,2901.7,2902.8,2904,2900.3,2878.3250000000003,2878.3250000000003]
[2008,2821.6,2817.3,2830.1,2858.6,2900.8,2921.9,2890.3,2889.1,2892.3,2892.4,2879.9,2857.4,2870.9750000000004,2870.9750000000004]
[2009,2747.3,2734.3,2726.4,2738.5,2767.9,2778.2,2741.3,2735.2,2734.9,2747.1,2742.8,2734.9,{"$f":"AVERAGE(B605:M605)","v":2744.0666666666662},2744.0666666666662]
[2010,2649.3,2654,2668.4,2713.8,2746.5,2765.3,2744.4,2748.9,2751.2,2772,2772.8,2758.1,2728.7249999999999,2728.7249999999999]
[2011,2681.6,2688.9,2705,2743.4,2773.3,2791.3,2778,2778.4,2790,2793.7,2794,2785.6,2758.6000000000004,{"$f":"AVERAGE(B607:M607)","v":2758.6000000000004}]
[2012,2698.7,2713.2,2741.7,2777.6,2811.2,2829,2796.7,2803.3,2814.3,2828,2835.9,2823.4,2789.4166666666665,{"$f":"AVERAGE(B608:M608)","v":2789.4166666666665}]
[2013,2725.8,2755.2,2769.3,2787.6,2828.6,2850.4,2828,2836.7,2848,2870.1,2864.9,2852.5,2818.0916666666672,{"$f":"AVERAGE(B609:M609)","v":2818.0916666666672}]
[2014,2780.3,2782.7,2797,2836.7,2871.1,2910.1,2890.3,2897,2891.6,2912.3,2922.9,2905.5,2866.4583333333335,{"$f":"AVERAGE(B610:M610)","v":2866.4583333333335}]
[2015,{"$nulls":12},{"$f":"AVERAGE(B611:B611)","v":{"$error":"#DIV/0!"}},{"$f":"AVERAGE(B611:M611)","v":{"$error":"#DIV/0!"}}]
[null,"jan-dec","feb-jan","mar-feb","apr-mar","may-apr","jun-may","jul-jun","aug-jul","sep-aug","oct-sep","nov-oct","dec-nov"]
["change_04",{"$f":"B600-M599","v":-82.099999999999909},{"$f":"C600-B600","v":9.0999999999999091},16.900000000000091,39.5,33.300000000000182,30.399999999999636,-13.399999999999636,4.2999999999997272,-2.1999999999998181,10.799999999999727,-0.59999999999990905,-5.6999999999998181]
["%change_04",{"$f":"(B613/M599)*100","v":-2.9341338765590903},{"$f":"(C613/B600)*100","v":0.33505154639174922},0.62016072804668054,1.4405543398978848,1.1971957576847092,1.0800056842404304,-0.4709686489526092,0.15184688184192835,-7.7571312718162908E-2,0.38110025053811802,-2.1091855028646574E-2,-0.20041489399106283]
[null,"jan","feb","mar","apr","may","jun","jul","aug","sep","oct","nov","dec","ytd_avg_total"]
["chg_prv_04-03",{"$f":"B600-B599","v":6.5},7.6999999999998181,16.5,21.199999999999818,20.300000000000182,28.399999999999636,51.5,53.799999999999727,42.599999999999909,36.199999999999818,42.599999999999909,40.300000000000182,{"$f":"O600-O599","v":30.633333333333212}]
["%chg_prv_04-03",{"$f":"(B616/B599)*100","v":0.23989665990035064},0.28335909325089492,0.60539350577875617,0.76803246023982241,0.72642691000179582,1.0082362965066614,1.8523180951695857,1.9336520145203508,1.526170601511837,1.2889442763040704,1.5206139568088493,1.440263035631328,{"$f":"(N616/O599)*100","v":1.1043682028480397}]
[]
[null,"jan-dec","feb-jan","mar-feb","apr-mar","may-apr","jun-may","jul-jun","aug-jul","sep-aug","oct-sep","nov-oct","dec-nov"]
["change_05",{"$f":"B601-M600","v":-84.400000000000091},{"$f":"C601-B601","v":11.5},14.599999999999909,47.099999999999909,24.100000000000364,25.399999999999636,-18.699999999999818,2.1999999999998181,12.800000000000182,-3,1.8000000000001819,0.1999999999998181]
["%change_05",{"$f":"(B620/M600)*100","v":-2.9735062006764403},{"$f":"(C620/B601)*100","v":0.41757443718228027},0.5279334659193603,1.6941836624581819,0.85243350311263311,0.89082173043873447,-0.65005040497791977,7.6976906927915256E-2,0.44752115236697376,-0.10442046641141664,6.2717770034849546E-2,6.9642732780770978E-3]
[null,"jan","feb","mar","apr","may","jun","jul","aug","sep","oct","nov","dec","ytd_avg_total"]
["chg_prv_05-04",{"$f":"B601-B600","v":38},40.400000000000091,38.099999999999909,45.699999999999818,36.5,31.5,26.199999999999818,24.099999999999909,39.099999999999909,25.300000000000182,27.700000000000273,33.599999999999909,{"$f":"O601-O600","v":33.850000000000364}]
["%chg_prv_05-04",{"$f":"(B623/B600)*100","v":1.399116347569956},1.4825144031411726,1.3894967177242856,1.6429983821678884,1.2967173511439534,1.1071277941796711,0.92520658238575515,0.84975847113994241,1.3797240551889589,0.88937322037473832,0.97394606378117066,1.1837655016910904,{"$f":"(N623/O600)*100","v":1.2070031140799331}]
[]
[null,"jan-dec","feb-jan","mar-feb","apr-mar","may-apr","jun-may","jul-jun","aug-jul","sep-aug","oct-sep","nov-oct","dec-nov"]
["change_06",{"$f":"B602-M601","v":-86.400000000000091},{"$f":"C602-B602","v":3.8000000000001819},17.799999999999727,39.700000000000273,28.900000000000091,36.399999999999636,-31.299999999999727,1.0999999999999091,9,-1.0999999999999091,0,-2.2000000000002728]
["%change_06",{"$f":"(B627/M601)*100","v":-3.0083565459610058},{"$f":"(C627/B602)*100","v":0.13641585295807659},0.63813006381299664,1.4142205756625919,1.0151392742983627,1.2657347520689768,-1.0747888194492043,3.8182512409313377E-2,0.31228313671061764,-3.8049117952262505E-2,0,-7.6127201633283945E-2]
[null,"jan","feb","mar","apr","may","jun","jul","aug","sep","oct","nov","dec","ytd_avg_total"]
["chg_prv_06-05",{"$f":"B602-B601","v":31.599999999999909},23.900000000000091,27.099999999999909,19.700000000000273,24.5,35.5,22.900000000000091,21.800000000000182,18,19.900000000000091,18.099999999999909,15.699999999999818,{"$f":"O602-O601","v":23.225000000000364}]
["%chg_prv_06-05",{"$f":"(B630/B601)*100","v":1.147421931735654},0.86421985174471494,0.97478507967338979,0.69680249009621797,0.85925718093501202,1.2340529078457956,0.80125962211336921,0.76218446262499762,0.62652279846849979,0.69337979094076974,0.63026673166654734,0.54665738161559252,{"$f":"(N630/O601)*100","v":0.81826669563533649}]
[]
[null,"jan-dec","feb-jan","mar-feb","apr-mar","may-apr","jun-may","jul-jun","aug-jul","sep-aug","oct-sep","nov-oct","dec-nov"]
["change_07",{"$f":"B603-M602","v":-78.799999999999727},{"$f":"C603-B603","v":-4.5},19.900000000000091,32.299999999999727,41.800000000000182,38.400000000000091,-36.600000000000364,1.3000000000001819,0.1999999999998181,1.1000000000003638,1.1999999999998181,-3.6999999999998181]
["%change_07",{"$f":"(B634/M602)*100","v":-2.7288153201509759},{"$f":"(C634/B603)*100","v":-0.16020506247997437},0.70959920125517362,1.1436462132209655,1.4632780228243432,1.3248688931824486,-1.2462544265867734,4.4824494862429558E-2,6.8929863863456181E-3,3.7908812075692314E-2,4.1339396444805637E-2,-0.12741046831955297]
[null,"jan","feb","mar","apr","may","jun","jul","aug","sep","oct","nov","dec","ytd_avg_total"]
["chg_prv_07-06",{"$f":"B603-B602","v":23.300000000000182},15,17.100000000000364,9.6999999999998181,22.599999999999909,24.600000000000364,19.299999999999727,19.5,10.699999999999818,12.900000000000091,14.099999999999909,12.600000000000364,{"$f":"O603-O602","v":16.783333333332848}]
["%chg_prv_07-06",{"$f":"(B637/B602)*100","v":0.83644457208501521},0.5377500537750054,0.60914790538616292,0.34072148652920081,0.78586828013074306,0.84472220314540081,0.66992953590890791,0.67661346287300494,0.37011414735385051,0.44638222775874914,0.4879061559223471,0.4363334141358301,{"$f":"(N637/O602)*100","v":0.58651367998018}]
[]
[null,"jan-dec","feb-jan","mar-feb","apr-mar","may-apr","jun-may","jul-jun","aug-jul","sep-aug","oct-sep","nov-oct","dec-nov"]
["change_08",{"$f":"B604-M603","v":-78.700000000000273},{"$f":"C604-B604","v":-4.2999999999997272},12.799999999999727,28.5,42.200000000000273,21.099999999999909,-31.599999999999909,-1.2000000000002728,3.2000000000002728,9.9999999999909051E-2,-12.5,-22.5]
["%change_08",{"$f":"(B641/M603)*100","v":-2.7135123952694644},{"$f":"(C641/B604)*100","v":-0.15239580379925316},0.45433571149681345,1.0070315536553478,1.476247113971884,0.7273855488141171,-1.0814880728293201,-4.1518181503659574E-2,0.11076113668617468,3.457456003869206E-3,-0.43216705849813303,-0.78127712767804436]
[null,"jan","feb","mar","apr","may","jun","jul","aug","sep","oct","nov","dec","ytd_avg_total"]
["chg_prv_08-07",{"$f":"B604-B603","v":12.699999999999818},12.900000000000091,5.7999999999997272,2,2.4000000000000909,-14.900000000000091,-9.8999999999996362,-12.400000000000091,-9.3999999999996362,-10.400000000000091,-24.099999999999909,-42.900000000000091,{"$f":"O604-O603","v":-7.3499999999999091}]
["%chg_prv_08-07",{"$f":"(B644/B603)*100","v":0.45213428744347672},0.45999144201968661,0.20536062033069172,7.0013302527480226E-2,8.280430582390598E-2,-0.50735494415690852,-0.34135576856767247,-0.42736515595382013,-0.32394803046488735,-0.35827476918837292,-0.82988980716253125,-1.4791573285522217,{"$f":"(N644/O603)*100","v":-0.25535684816689946}]
[]
[null,"jan-dec","feb-jan","mar-feb","apr-mar","may-apr","jun-may","jul-jun","aug-jul","sep-aug","oct-sep","nov-oct","dec-nov"]
["change_09",{"$f":"B605-M604","v":-110.09999999999991},{"$f":"C605-B605","v":-13},-7.9000000000000909,12.099999999999909,29.400000000000091,10.299999999999727,-36.899999999999636,-6.1000000000003638,-0.29999999999972715,12.199999999999818,-4.2999999999997272,-7.9000000000000909]
["%change_09",{"$f":"(B648/M604)*100","v":-3.8531532162105377},{"$f":"(C648/B605)*100","v":-0.47319186109998901},-0.28892221043777533,0.4438086854460061,1.0735804272411937,0.3721232703493525,-1.3281981138866761,-0.22252216101850811,-1.0968119333128371E-2,0.44608578010164235,-0.15652870299587665,-0.28802683389237604]
[null,"jan","feb","mar","apr","may","jun","jul","aug","sep","oct","nov","dec","ytd_avg_total"]
["chg_prv_09-08",{"$f":"B605-B604","v":-74.299999999999727},-83,-103.69999999999982,-120.09999999999991,-132.90000000000009,-143.70000000000027,-149,-153.90000000000009,-157.40000000000009,-145.30000000000018,-137.09999999999991,-122.5,{"$f":"O605-O604","v":-126.90833333333421}]
["%chg_prv_09-08",{"$f":"(B651/B604)*100","v":-2.6332577261128343},-2.9460831292372127,-3.6641814776862942,-4.2013573077730326,-4.5814947600661915,-4.9180327868852549,-5.1551742033698922,-5.3269184175002628,-5.4420357500950827,-5.0235098879823044,-4.7605819646515473,-4.2871141597256246,{"$f":"(N651/O604)*100","v":-4.4203914465759606}]
[]
[null,"jan-dec","feb-jan","mar-feb","apr-mar","may-apr","jun-may","jul-jun","aug-jul","sep-aug","oct-sep","nov-oct","dec-nov"]
["change_10",{"$f":"B606-M605","v":-85.599999999999909},{"$f":"C606-B606","v":4.6999999999998181},14.400000000000091,45.400000000000091,32.699999999999818,18.800000000000182,-20.900000000000091,4.5,2.2999999999997272,20.800000000000182,0.8000000000001819,-14.700000000000273]
["%change_10",{"$f":"(B655/M605)*100","v":-3.1299133423525505},{"$f":"(C655/B606)*100","v":0.17740535235721958},0.54257724189902379,1.701394093839008,1.2049524651779724,0.68450755507009575,-0.75579503128051528,0.1639702667249672,8.3669831568981307E-2,0.75603373073568569,2.8860028860035421E-2,-0.53015002885171203]
[null,"jan","feb","mar","apr","may","jun","jul","aug","sep","oct","nov","dec","ytd_avg_total"]
["chg_prv_10-09",{"$f":"B606-B605","v":-98},-80.300000000000182,-58,-24.699999999999818,-21.400000000000091,-12.899999999999636,3.0999999999999091,13.700000000000273,16.299999999999727,24.900000000000091,30,23.199999999999818,{"$f":"O606-O605","v":-15.341666666666242}]
["%chg_prv_10-09",{"$f":"(B658/M605)*100","v":-3.5833120040952133},{"$f":"(C658/C605)*100","v":-2.9367662655890054},-2.1273474178403755,-0.90195362424684378,-0.77314931897828998,-0.46432942192785387,0.11308503264873997,0.50087744954666114,0.5959998537423572,0.90641039641804422,1.0937727869330611,0.84829427035722749,{"$f":"(N658/O605)*100","v":-0.55908505624254434}]
[]
[null,"jan-dec","feb-jan","mar-feb","apr-mar","may-apr","jun-may","jul-jun","aug-jul","sep-aug","oct-sep","nov-oct","dec-nov"]
["change_11",{"$f":"B607-M606","v":-76.5},{"$f":"C607-B607","v":7.3000000000001819},16.099999999999909,38.400000000000091,29.900000000000091,18,-13.300000000000182,0.40000000000009095,11.599999999999909,3.6999999999998181,0.3000000000001819,-8.4000000000000909]
["%change_11",{"$f":"(B662/M606)*100","v":-2.7736485261593127},{"$f":"(C662/B607)*100","v":0.27222553699284685},0.5987578563724909,1.4195933456561955,1.0898884595757121,0.64904626257527132,-0.47648049296027584,1.4398848092155902E-2,0.41750647854880174,0.13261648745519061,1.0738447220538423E-2,-0.3006442376521149]
[null,"jan","feb","mar","apr","may","jun","jul","aug","sep","oct","nov","dec","ytd_avg_total"]
["chg_prv_11-10",{"$f":"B607-B606","v":32.299999999999727},34.900000000000091,36.599999999999909,29.599999999999909,26.800000000000182,26,33.599999999999909,29.5,38.800000000000182,21.699999999999818,21.199999999999818,27.5,{"$f":"O607-O606","v":29.875000000000455}]
["%chg_prv_11-10",{"$f":"(B665/B606)*100","v":1.2191899747102906},1.3149962321024902,1.3716084545045686,1.0907214975311337,0.97578736573821889,0.94022348388963206,1.2243113248797517,1.0731565353414094,1.4102936900261771,0.78282828282827621,0.76457010963646199,0.99706319567818436,{"$f":"(N665/O606)*100","v":1.0948336677386126}]
[]
[null,"jan-dec","feb-jan","mar-feb","apr-mar","may-apr","jun-may","jul-jun","aug-jul","sep-aug","oct-sep","nov-oct","dec-nov"]
["change_12",{"$f":"B608-M607","v":-86.900000000000091},{"$f":"C608-B608","v":14.5},28.5,35.900000000000091,33.599999999999909,17.800000000000182,-32.300000000000182,6.6000000000003638,11,13.699999999999818,7.9000000000000909,-12.5]
["%change_12",{"$f":"(B669/M607)*100","v":-3.1196151636990268},{"$f":"(C669/B608)*100","v":0.53729573498351069},1.0504201680672269,1.3094065725644708,1.2096774193548356,0.63318155947638666,-1.1417462000707028,0.23599241963744286,0.39239467770128056,0.48679955939309305,0.27934936350778256,-0.44077717832081525]
[null,"jan","feb","mar","apr","may","jun","jul","aug","sep","oct","nov","dec","ytd_avg_total"]
["chg_prv_12-11",{"$f":"B608-B607","v":17.099999999999909},24.299999999999727,36.699999999999818,34.199999999999818,37.899999999999636,37.699999999999818,18.699999999999818,24.900000000000091,24.300000000000182,34.300000000000182,41.900000000000091,37.800000000000182,{"$f":"O608-O607","v":30.816666666666151}]
["%chg_prv_12-11",{"$f":"(B672/B607)*100","v":0.63767899761336178},0.90371527390381667,1.3567467652495311,1.246628271487928,1.3666029639779194,1.3506251567369976,0.6731461483081288,0.89619925136769696,0.87096774193549042,1.2277624655474884,1.4996420901932745,1.356978747846072,{"$f":"(N672/O607)*100","v":1.1171125450107355}]
[]
[null,"jan-dec","feb-jan","mar-feb","apr-mar","may-apr","jun-may","jul-jun","aug-jul","sep-aug","oct-sep","nov-oct","dec-nov"]
["change_13",{"$f":"B609-M608","v":-97.599999999999909},{"$f":"C609-B609","v":29.399999999999636},14.100000000000364,18.299999999999727,41,21.800000000000182,-22.400000000000091,8.6999999999998181,11.300000000000182,22.099999999999909,-5.1999999999998181,-12.400000000000091]
["%change_13",{"$f":"(B676/M608)*100","v":-3.4568251044839524},{"$f":"(C676/B609)*100","v":1.0785824345146244},0.51175958188154635,0.66081681291300065,1.4707992538384274,0.77069928586580583,-0.78585461689587754,0.30763790664780122,0.39835019564988128,0.77598314606741259,-0.18117835615483147,-0.43282488044958256]
[null,"jan","feb","mar","apr","may","jun","jul","aug","sep","oct","nov","dec","ytd_avg_total"]
["chg_prv_13-12",{"$f":"B609-B608","v":27.100000000000364},42,27.600000000000364,10,17.400000000000091,21.400000000000091,31.300000000000182,33.399999999999636,33.699999999999818,42.099999999999909,29,29.099999999999909,{"$f":"O609-O608","v":28.675000000000637}]
["%chg_prv_13-12",{"$f":"(B679/B608)*100","v":1.0041872012450574},1.5479876160990713,1.0066746908852306,0.36002304147465436,0.61895276038702662,0.75645104277130049,1.1191761719169087,1.1914529304747845,1.1974558504779098,1.4886845827439856,1.0226030537042914,1.0306722391442908,{"$f":"(N679/O608)*100","v":1.0279927105428486}]
[]
[null,"jan-dec","feb-jan","mar-feb","apr-mar","may-apr","jun-may","jul-jun","aug-jul","sep-aug","oct-sep","nov-oct","dec-nov"]
["change_14",{"$f":"B610-M609","v":-72.199999999999818},{"$f":"C610-B610","v":2.3999999999996362},14.300000000000182,39.699999999999818,34.400000000000091,39,-19.799999999999727,6.6999999999998181,-5.4000000000000909,20.700000000000273,10.599999999999909,-17.400000000000091]
["%change_14",{"$f":"(B683/M609)*100","v":-2.5311130587204143},{"$f":"(C683/B610)*100","v":8.6321619969055005E-2},0.51388938800446271,1.4193779048980986,1.2126767018013922,1.3583643899550695,-0.6803889900690604,0.231809846728707,-0.18639972385226408,0.71586664822244683,0.36397349174191906,-0.5952991891614523]
[null,"jan","feb","mar","apr","may","jun","jul","aug","sep","oct","nov","dec","ytd_avg_total"]
["chg_prv_14-13",{"$f":"B610-B609","v":54.5},27.5,27.699999999999818,49.099999999999909,42.5,59.699999999999818,62.300000000000182,60.300000000000182,43.599999999999909,42.200000000000273,58,53,{"$f":"O610-O609","v":48.366666666666333}]
["%chg_prv_14-13",{"$f":"(B686/B609)*100","v":1.9994130163621688},0.99811265969802565,1.0002527714584848,1.7613717893528451,1.5025100756558016,2.0944428852090873,2.2029702970297094,2.1257094511227903,1.5308988764044911,1.4703320441796548,2.0245034730706135,1.8580192813321648,{"$f":"(N686/O609)*100","v":1.7162914620118104}]
[]
[null,"jan-dec","feb-jan","mar-feb","apr-mar","may-apr","jun-may","jul-jun","aug-jul","sep-aug","oct-sep","nov-oct","dec-nov"]
["change_15"]
["%change_15"]
[null,"jan","feb","mar","apr","may","jun","jul","aug","sep","oct","nov","dec","ytd_avg_total"]
["chg_prv_15-14",{"$nulls":12},{"$f":"N611-N610","v":{"$error":"#DIV/0!"}}]
["%chg_prv_15-14",{"$nulls":12},{"$f":"(N693/N610)*100","v":{"$error":"#DIV/0!"}}]
[]
[]
["m_em","jan","feb","mar","apr","may","jun","jul","aug","sep","oct","nov","dec","ytd_avg_total"]
[2003,509.3,504.9,504.2,503.5,504,508.6,507.6,507.6,503.4,500.4,498.1,496.8,{"$f":"AVERAGE(B698:M698)","v":504.0333333333333},{"$f":"AVERAGE(B698:M698)","v":504.0333333333333}]
[2004,493.5,492.6,494.5,497.4,500.4,506.6,510.7,512.9,508.7,505.9,504.5,505,502.72499999999997,502.72499999999997]
[2005,496.6,498.5,499.7,501.4,502.5,511.4,512.5,513.70000000000005,508.5,505.6,504.2,504.2,504.90000000000003,504.90000000000003]
[2006,501.1,498.6,500.3,501.9,503.5,513.9,513.9,514.5,509.3,505.9,503.3,502.9,505.75833333333327,505.75833333333327]
[2007,498.7,496.3,495.9,497.3,499.5,509.6,509.1,509.1,503.2,499.6,498.6,498.7,501.3,501.3]
[2008,495.8,493.9,493.8,493.4,493.9,502.2,500.4,499.3,492.6,488.3,483.6,478.1,492.94166666666678,492.94166666666678]
[2009,464.9,452.8,444.7,435.5,431.7,434.2,432.1,432.9,430.9,427,425.5,424.6,{"$f":"AVERAGE(B704:M704)","v":436.40000000000003},436.40000000000003]
[2010,419.8,418.6,420.6,422.6,426.1,435.2,439.3,441.5,437.5,434.6,435.1,435.1,430.50000000000006,430.50000000000006]
[2011,433.3,433.2,435.2,438.8,441.8,450.6,454.9,455.7,450.9,447.9,448.5,448.6,444.95000000000005,444.95000000000005]
[2012,446.7,446.2,448.4,450.5,452.6,462.5,465.8,465.5,459.5,457.2,456.1,456.4,455.61666666666673,{"$f":"AVERAGE(B707:M707)","v":455.61666666666673}]
[2013,452.6,451.5,452.6,452.6,454.8,462.7,464.6,464.9,459.1,458.4,460.8,461.4,458,{"$f":"AVERAGE(B708:M708)","v":458}]
[2014,459.8,459.4,460.6,463.9,465.4,472.1,474.7,474.8,470.8,471.5,473.1,472.2,468.19166666666666,{"$f":"AVERAGE(B709:M709)","v":468.19166666666666}]
[2015,{"$nulls":12},{"$f":"AVERAGE(B710:B710)","v":{"$error":"#DIV/0!"}},{"$f":"AVERAGE(B710:M710)","v":{"$error":"#DIV/0!"}}]
[null,"jan-dec","feb-jan","mar-feb","apr-mar","may-apr","jun-may","jul-jun","aug-jul","sep-aug","oct-sep","nov-oct","dec-nov"]
["change_04",{"$f":"B699-M698","v":-3.3000000000000114},{"$f":"C699-B699","v":-0.89999999999997726},1.8999999999999773,2.8999999999999773,3,6.2000000000000455,4.0999999999999659,2.1999999999999886,-4.1999999999999886,-2.8000000000000114,-1.3999999999999773,0.5]
["%change_04",{"$f":"(B712/M698)*100","v":-0.66425120772947088},{"$f":"(C712/B699)*100","v":-0.1823708206686884},0.38570848558667825,0.58645096056622392,0.60313630880579017,1.2390087929656366,0.80931701539675593,0.43078128059525922,-0.81887307467342352,-0.55042264596029322,-0.27673453251630309,9.9108027750247768E-2]
[null,"jan","feb","mar","apr","may","jun","jul","aug","sep","oct","nov","dec","ytd_avg_total"]
["chg_prv_04-03",{"$f":"B699-B698","v":-15.800000000000011},-12.299999999999955,-9.6999999999999886,-6.1000000000000227,-3.6000000000000227,-2,3.0999999999999659,5.2999999999999545,5.3000000000000114,5.5,6.3999999999999773,8.1999999999999886,{"$f":"O699-O698","v":-1.3083333333333371}]
["%chg_prv_04-03",{"$f":"(B715/B698)*100","v":-3.1022972707637955},-2.4361259655377214,-1.923839746132485,-1.2115193644488627,-0.71428571428571874,-0.39323633503735744,0.61071710007879543,1.0441292356185883,1.0528406833532007,1.0991207034372503,1.2848825537040709,1.6505636070853438,{"$f":"(N715/O698)*100","v":-0.25957277957807101}]
[]
[null,"jan-dec","feb-jan","mar-feb","apr-mar","may-apr","jun-may","jul-jun","aug-jul","sep-aug","oct-sep","nov-oct","dec-nov"]
["change_05",{"$f":"B700-M699","v":-8.3999999999999773},{"$f":"C700-B700","v":1.8999999999999773},1.1999999999999886,1.6999999999999886,1.1000000000000227,8.8999999999999773,1.1000000000000227,1.2000000000000455,-5.2000000000000455,-2.8999999999999773,{"$f":"L700-K700","v":-1.4000000000000341},{"$f":"M700-L700","v":0}]
["%change_05",{"$f":"(B719/M699)*100","v":-1.6633663366336588},{"$f":"(C719/B700)*100","v":0.38260169150221046},0.24072216649949621,0.34020412247348181,0.21938571998404924,1.7711442786069607,0.2150958154086865,0.2341463414634235,-1.012263967296096,-0.57030481809242417,{"$f":"(L719/K700)*100","v":-0.27689873417722194},{"$f":"(M719/L700)*100","v":0}]
[null,"jan","feb","mar","apr","may","jun","jul","aug","sep","oct","nov","dec","ytd_avg_total"]
["chg_prv_05-04",{"$f":"B700-B699","v":3.1000000000000227},5.8999999999999773,5.1999999999999886,4,2.1000000000000227,4.7999999999999545,1.8000000000000114,0.80000000000006821,-0.19999999999998863,-0.29999999999995453,-0.30000000000001137,-0.80000000000001137,{"$f":"O700-O699","v":2.1750000000000682}]
["%chg_prv_05-04",{"$f":"(B722/B699)*100","v":0.6281661600810583},1.1977263499796948,1.0515672396359936,0.80418174507438689,0.4196642685851365,0.94749309119620106,0.35245741139612519,0.15597582374733246,-3.9315903282875687E-2,-5.9300256967771206E-2,{"$f":"(L722/L699)*100","v":-5.9464816650150909E-2},{"$f":"(M722/M699)*100","v":-0.15841584158416067},{"$f":"(N722/O699)*100","v":0.43264210055200525}]
[]
[null,"jan-dec","feb-jan","mar-feb","apr-mar","may-apr","jun-may","jul-jun","aug-jul","sep-aug","oct-sep","nov-oct","dec-nov"]
["change_06",{"$f":"B701-M700","v":-3.0999999999999659},{"$f":"C701-B701","v":-2.5},1.6999999999999886,1.5999999999999659,1.6000000000000227,10.399999999999977,0,{"$f":"I701-H701","v":0.60000000000002274},{"$f":"J701-I701","v":-5.1999999999999886},{"$f":"K701-J701","v":-3.4000000000000341},{"$f":"L701-K701","v":-2.5999999999999659},{"$f":"M701-L701","v":-0.40000000000003411}]
["%change_06",{"$f":"(B726/M700)*100","v":-0.61483538278460259},{"$f":"(C726/B701)*100","v":-0.49890241468768709},0.34095467308463467,0.31980811513091462,0.3187886033074363,2.0655412115193599,0,{"$f":"(I726/H701)*100","v":0.11675423234092679},{"$f":"(J726/I701)*100","v":-1.0106899902818247},{"$f":"(K726/J701)*100","v":-0.66758295699981041},{"$f":"(L726/K701)*100","v":-0.51393556038742161},{"$f":"(M726/L701)*100","v":-7.9475461951129367E-2}]
[null,"jan","feb","mar","apr","may","jun","jul","aug","sep","oct","nov","dec","ytd_avg_total"]
["chg_prv_06-05",{"$f":"B701-B700","v":4.5},0.10000000000002274,0.60000000000002274,0.5,1,2.5,1.3999999999999773,{"$f":"I701-I700","v":0.79999999999995453},{"$f":"J701-J700","v":0.80000000000001137},{"$f":"K701-K700","v":0.29999999999995453},{"$f":"L701-L700","v":-0.89999999999997726},{"$f":"M701-M700","v":-1.3000000000000114},{"$f":"O701-O700","v":0.8583333333332348}]
["%chg_prv_06-05",{"$f":"(B729/B700)*100","v":0.90616190092629878},2.0060180541629436E-2,0.12007204322594012,9.9720781810929401E-2,0.19900497512437809,0.48885412592882288,0.27317073170731265,{"$f":"(I729/I700)*100","v":0.15573291804554301},{"$f":"(J729/J700)*100","v":0.15732546705998257},{"$f":"(K729/K700)*100","v":5.9335443037965688E-2},{"$f":"(L729/L700)*100","v":-0.17850059500197885},{"$f":"(M729/M700)*100","v":-0.25783419278064484},{"$f":"(N729/O700)*100","v":0.17000066019671908}]
[]
[null,"jan-dec","feb-jan","mar-feb","apr-mar","may-apr","jun-may","jul-jun","aug-jul","sep-aug","oct-sep","nov-oct","dec-nov"]
["change_07",{"$f":"B702-M701","v":-4.1999999999999886},{"$f":"C702-B702","v":-2.3999999999999773},-0.40000000000003411,1.4000000000000341,2.1999999999999886,10.100000000000023,-0.5,0,-5.9000000000000341,-3.5999999999999659,-1,9.9999999999965894E-2]
["%change_07",{"$f":"(B733/M701)*100","v":-0.83515609465102181},{"$f":"(C733/B702)*100","v":-0.48125125325846746},-8.0596413459607927E-2,0.28231498285945439,0.4423889000603235,2.0220220220220266,-9.8116169544740964E-2,0,-1.1589078766450667,-0.71542130365659107,-0.20016012810248196,2.005615724026592E-2]
[null,"jan","feb","mar","apr","may","jun","jul","aug","sep","oct","nov","dec","ytd_avg_total"]
["chg_prv_07-06",{"$f":"B702-B701","v":-2.4000000000000341},-2.3000000000000114,-4.4000000000000341,-4.5999999999999659,-4,-4.2999999999999545,-4.7999999999999545,-5.3999999999999773,{"$f":"J702-J701","v":-6.1000000000000227},{"$f":"K702-K701","v":-6.2999999999999545},{"$f":"L702-L701","v":-4.6999999999999886},{"$f":"M702-M701","v":-4.1999999999999886},{"$f":"O702-O701","v":-4.4583333333332575}]
["%chg_prv_07-06",{"$f":"(B736/B701)*100","v":-0.47894631810018634},-0.46129161652627582,-0.87947231661004088,-0.91651723450885958,-0.79443892750744782,-0.83673866510993478,-0.93403385872736999,-1.0495626822157389,{"$f":"(J736/J701)*100","v":-1.197722364029064},{"$f":"(K736/K701)*100","v":-1.2453053963233751},{"$f":"(L736/L701)*100","v":-0.93383667792568814},{"$f":"(M736/M701)*100","v":-0.83515609465102181},{"$f":"(N736/O701)*100","v":-0.88151455734786199}]
[]
[null,"jan-dec","feb-jan","mar-feb","apr-mar","may-apr","jun-may","jul-jun","aug-jul","sep-aug","oct-sep","nov-oct","dec-nov"]
["change_08",{"$f":"B703-M702","v":-2.8999999999999773},{"$f":"C703-B703","v":-1.9000000000000341},-9.9999999999965894E-2,-0.40000000000003411,0.5,8.3000000000000114,-1.8000000000000114,-1.0999999999999659,-6.6999999999999886,{"$f":"K703-J703","v":-4.3000000000000114},{"$f":"L703-K703","v":-4.6999999999999886},{"$f":"M703-L703","v":-5.5}]
["%change_08",{"$f":"(B740/M702)*100","v":-0.58151193102064913},{"$f":"(C740/B703)*100","v":-0.38321903993546469},-2.0247013565492186E-2,-8.100445524504539E-2,0.10133765707336848,1.6805021259364266,-0.35842293906810263,-0.21982414068744321,-1.3418786300821126,-0.87291920422249514,{"$f":"(L740/K703)*100","v":-0.96252303911529558},{"$f":"(M740/L703)*100","v":-1.1373035566583953}]
[null,"jan","feb","mar","apr","may","jun","jul","aug","sep","oct","nov","dec","ytd_avg_total"]
["chg_prv_08-07",{"$f":"B703-B702","v":-2.8999999999999773},-2.4000000000000341,-2.0999999999999659,-3.9000000000000341,-5.6000000000000227,-7.4000000000000341,-8.7000000000000455,-9.8000000000000114,-10.599999999999966,-11.300000000000011,-15,-20.599999999999966,{"$f":"O703-O702","v":-8.3583333333332348}]
["%chg_prv_08-07",{"$f":"(B743/B702)*100","v":-0.58151193102064913},-0.48357848075761312,-0.42347247428916435,-0.78423486828876621,-1.1211211211211258,-1.4521193092621729,-1.7088980553918769,{"$f":"(I743/I702)*100","v":-1.9249656256138306},{"$f":"(J743/J702)*100","v":-2.1065182829888647},{"$f":"(K743/K702)*100","v":-2.2618094475580488},{"$f":"(L743/L702)*100","v":-3.0084235860409145},{"$f":"(M743/M702)*100","v":-4.1307399238018778},{"$f":"(N743/O702)*100","v":-1.66733160449496}]
[]
[null,"jan-dec","feb-jan","mar-feb","apr-mar","may-apr","jun-may","jul-jun","aug-jul","sep-aug","oct-sep","nov-oct","dec-nov"]
["change_09",{"$f":"B704-M703","v":-13.200000000000045},{"$f":"C704-B704","v":-12.099999999999966},-8.1000000000000227,-9.1999999999999886,-3.8000000000000114,2.5,-2.0999999999999659,0.79999999999995453,-2,-3.8999999999999773,-1.5,-0.89999999999997726]
["%change_09",{"$f":"(B747/M703)*100","v":-2.7609286760092124},{"$f":"(C747/B704)*100","v":-2.6027102602710186},-1.7888692579505352,-2.0688104340004472,-0.87256027554535287,0.57910586055130875,-0.48364808843849971,0.18514232816476614,-0.46200046200046202,-0.90508238570433452,-0.35128805620608899,-0.21151586368977141]
[null,"jan","feb","mar","apr","may","jun","jul","aug","sep","oct","nov","dec","ytd_avg_total"]
["chg_prv_09-08",{"$f":"B704-B703","v":-30.900000000000034},-41.099999999999966,-49.100000000000023,-57.899999999999977,-62.199999999999989,-68,-68.299999999999955,-66.400000000000034,-61.700000000000045,-61.300000000000011,-58.100000000000023,-53.5,{"$f":"O704-O703","v":-56.541666666666742}]
["%chg_prv_09-08",{"$f":"(B750/B703)*100","v":-6.2323517547398213},-8.3215225754201185,-9.943296881328477,-11.734900689096065,-12.593642437740431,-13.54042214257268,-13.649080735411662,-13.298618065291414,-12.525375558262292,-12.55375793569527,-12.014061207609599,-11.190127588370634,{"$f":"(N750/O703)*100","v":-11.470255101178314}]
[]
[null,"jan-dec","feb-jan","mar-feb","apr-mar","may-apr","jun-may","jul-jun","aug-jul","sep-aug","oct-sep","nov-oct","dec-nov"]
["change_10",{"$f":"B705-M704","v":-4.8000000000000114},{"$f":"C705-B705","v":-1.1999999999999886},2,2,3.5,9.0999999999999659,4.1000000000000227,2.1999999999999886,-4,-2.8999999999999773,{"$f":"L705-K705","v":0.5},{"$f":"M705-L705","v":0}]
["%change_10",{"$f":"(B754/M704)*100","v":-1.1304757418747082},{"$f":"(C754/B705)*100","v":-0.28585040495473762},0.47778308647873863,0.47551117451260105,0.82820634169427343,2.1356489087068682,0.94209558823529949,0.50079672205781667,-0.90600226500566261,-0.6628571428571377,{"$f":"(L754/K705)*100","v":0.11504832029452369},{"$f":"(M754/L705)*100","v":0}]
[null,"jan","feb","mar","apr","may","jun","jul","aug","sep","oct","nov","dec","ytd_avg_total"]
["chg_prv_10-09",{"$f":"B705-B704","v":-45.099999999999966},-34.199999999999989,-24.099999999999966,-12.899999999999977,-5.5999999999999659,1,7.1999999999999886,8.6000000000000227,6.6000000000000227,7.6000000000000227,{"$f":"L705-L704","v":9.6000000000000227},{"$f":"M705-M704","v":10.5},{"$f":"O705-O704","v":-5.8999999999999773}]
["%chg_prv_10-09",{"$f":"(B757/B704)*100","v":-9.7010109701010894},-7.5530035335689014,-5.4193838542837787,-2.9621125143513152,-1.2971971276349237,0.23030861354214649,1.6662809534829872,1.9866019866019922,1.5316778834996574,1.7798594847775229,{"$f":"(L757/L704)*100","v":2.2561692126909572},{"$f":"(M757/M704)*100","v":2.4729156853509182},{"$f":"(N757/O704)*100","v":-1.3519706691109021}]
[]
[null,"jan-dec","feb-jan","mar-feb","apr-mar","may-apr","jun-may","jul-jun","aug-jul","sep-aug","oct-sep","nov-oct","dec-nov"]
["change_11",{"$f":"B706-M705","v":-1.8000000000000114},{"$f":"C706-B706","v":-0.10000000000002274},2,3.6000000000000227,3,8.8000000000000114,4.2999999999999545,0.80000000000001137,-4.8000000000000114,-3,0.60000000000002274,0.10000000000002274]
["%change_11",{"$f":"(B761/M705)*100","v":-0.41369800045966704},{"$f":"(C761/B706)*100","v":-2.3078698361417661E-2},0.46168051708217916,0.82720588235294634,0.68368277119416587,1.9918515165233162,0.95428317798489892,0.17586282699494646,-1.0533245556287056,-0.66533599467731208,0.13395847287341434,2.2296544035679541E-2]
[null,"jan","feb","mar","apr","may","jun","jul","aug","sep","oct","nov","dec","ytd_avg_total"]
["chg_prv_11-10",{"$f":"B706-B705","v":13.5},14.599999999999966,14.599999999999966,16.199999999999989,15.699999999999989,15.400000000000034,{"$f":"H706-H705","v":15.599999999999966},14.199999999999989,13.399999999999977,13.299999999999955,13.399999999999977,13.5,{"$f":"O706-O705","v":14.449999999999989}]
["%chg_prv_11-10",{"$f":"(B764/B705)*100","v":3.2158170557408288},3.4878165312947838,3.4712315739419797,3.8334122101277774,3.6845810842525202,3.538602941176479,{"$f":"(H764/H705)*100","v":3.5511040291372558},3.2163080407700995,3.0628571428571378,3.0602853198343198,3.079751781199719,3.1027350034474832,{"$f":"(N764/O705)*100","v":3.3565621370499383}]
[]
[null,"jan-dec","feb-jan","mar-feb","apr-mar","may-apr","jun-may","jul-jun","aug-jul","sep-aug","oct-sep","nov-oct","dec-nov"]
["change_12",{"$f":"B707-M706","v":-1.9000000000000341},{"$f":"C707-B707","v":-0.5},{"$f":"D707-C707","v":2.1999999999999886},{"$f":"E707-D707","v":2.1000000000000227},{"$f":"F707-E707","v":2.1000000000000227},9.8999999999999773,3.3000000000000114,{"$f":"I707-H707","v":-0.30000000000001137},{"$f":"J707-I707","v":-6},{"$f":"K707-J707","v":-2.3000000000000114},{"$f":"L707-K707","v":-1.0999999999999659},{"$f":"M707-L707","v":0.29999999999995453}]
["%change_12",{"$f":"(B768/M706)*100","v":-0.42353990191708291},{"$f":"(C768/B707)*100","v":-0.11193194537721066},{"$f":"(D768/C707)*100","v":0.49305244285073707},{"$f":"(E768/D707)*100","v":0.46833184656557159},{"$f":"(F768/E707)*100","v":0.46614872364040461},2.187361908970388,0.713513513513516,{"$f":"(I768/H707)*100","v":-6.4405324173467449E-2},{"$f":"(J768/I707)*100","v":-1.288936627282492},{"$f":"(K768/J707)*100","v":-0.50054406964091658},{"$f":"(L768/K707)*100","v":-0.24059492563428828},{"$f":"(M768/L707)*100","v":6.5775049331277022E-2}]
[null,"jan","feb","mar","apr","may","jun","jul","aug","sep","oct","nov","dec","ytd_avg_total"]
["chg_prv_12-11",{"$f":"B707-B706","v":13.399999999999977},{"$f":"C707-C706","v":13},{"$f":"D707-D706","v":13.199999999999989},{"$f":"E707-E706","v":11.699999999999989},{"$f":"F707-F706","v":10.800000000000011},11.899999999999977,{"$f":"H707-H706","v":10.900000000000034},9.8000000000000114,{"$f":"J707-J706","v":8.6000000000000227},9.3000000000000114,{"$f":"L707-L706","v":7.6000000000000227},7.7999999999999545,{"$f":"O707-O706","v":10.666666666666686}]
["%chg_prv_12-11",{"$f":"(B771/B706)*100","v":3.0925455804292583},3.0009233610341646,3.0330882352941151,2.6663628076572445,2.4445450430058875,2.6409232134931151,2.3961310178061188,2.1505376344086047,1.9072965180749661,2.076356329537846,1.6945373467112648,1.7387427552385097,{"$f":"(N771/O706)*100","v":2.3972731018466535}]
[]
[null,"jan-dec","feb-jan","mar-feb","apr-mar","may-apr","jun-may","jul-jun","aug-jul","sep-aug","oct-sep","nov-oct","dec-nov"]
["change_13",{"$f":"B708-M707","v":-3.7999999999999545},{"$f":"C708-B708","v":-1.1000000000000227},1.1000000000000227,0,2.1999999999999886,7.8999999999999773,1.9000000000000341,0.29999999999995453,-5.7999999999999545,-0.70000000000004547,2.4000000000000341,0.59999999999996589]
["%change_13",{"$f":"(B775/M707)*100","v":-0.83260297984223375},{"$f":"(C775/B708)*100","v":-0.2430402121078265},0.2436323366555975,0,0.48608042421564041,1.7370272647317453,0.4106332396801457,6.457167455875043E-2,-1.2475801247580027,-0.15247222827271736,0.52356020942409121,0.13020833333332593]
[null,"jan","feb","mar","apr","may","jun","jul","aug","sep","oct","nov","dec","ytd_avg_total"]
["chg_prv_13-12",{"$f":"B708-B707","v":5.9000000000000341},5.3000000000000114,4.2000000000000455,2.1000000000000227,2.1999999999999886,0.19999999999998863,-1.1999999999999886,-0.60000000000002274,-0.39999999999997726,1.1999999999999886,4.6999999999999886,5,{"$f":"O708-O707","v":2.3833333333332689}]
["%chg_prv_13-12",{"$f":"(B778/B707)*100","v":1.3207969554510934},1.1878081577767843,0.93666369313114317,0.46614872364040461,0.48608042421564041,4.3243243243240789E-2,-0.25762129669385758,-0.12889366272825409,-8.7051142546240967E-2,0.26246719160104737,1.030475772856827,1.0955302366345312,{"$f":"(N778/O707)*100","v":0.52310055968100422}]
[]
[null,"jan-dec","feb-jan","mar-feb","apr-mar","may-apr","jun-may","jul-jun","aug-jul","sep-aug","oct-sep","nov-oct","dec-nov"]
["change_14",{"$f":"B709-M708","v":-1.5999999999999659},{"$f":"C709-B709","v":-0.40000000000003411},1.2000000000000455,3.2999999999999545,1.5,6.7000000000000455,2.5999999999999659,0.10000000000002274,-4,{"$f":"K709-J709","v":0.69999999999998863},{"$f":"L709-K709","v":1.6000000000000227},{"$f":"M709-L709","v":-0.90000000000003411}]
["%change_14",{"$f":"(B782/M708)*100","v":-0.3467706978760221},{"$f":"(C782/B709)*100","v":-8.6994345367558526E-2},0.2612102742707979,0.71645679548414121,0.32334554860961418,1.4396218306832931,0.55073077737766696,2.1065936380876921E-2,-0.84245998315080028,0.14868309260832382,0.33934252386002606,-0.19023462270133884]
[null,"jan","feb","mar","apr","may","jun","jul","aug","sep","oct","nov","dec","ytd_avg_total"]
["chg_prv_14-13",{"$f":"B709-B708","v":7.1999999999999886},{"$f":"C709-C708","v":7.8999999999999773},8,{"$f":"E709-E708","v":11.299999999999955},10.599999999999966,{"$f":"G709-G708","v":9.4000000000000341},10.099999999999966,{"$f":"I709-I708","v":9.9000000000000341},{"$f":"J709-J708","v":11.699999999999989},{"$f":"K709-K708","v":13.100000000000023},{"$f":"L709-L708","v":12.300000000000011},{"$f":"M709-M708","v":10.800000000000011},{"$f":"O709-O708","v":10.191666666666663}]
["%chg_prv_14-13",{"$f":"(B785/B708)*100","v":1.5908086610693744},{"$f":"(C785/C708)*100","v":1.7497231450719772},1.7675651789659745,{"$f":"(E785/E708)*100","v":2.4966858152894287},2.3306948109058849,{"$f":"(G785/G708)*100","v":2.0315539226280603},2.1739130434782536,{"$f":"(I785/I708)*100","v":2.1294902129490287},{"$f":"(J785/J708)*100","v":2.5484643868438224},{"$f":"(K785/K708)*100","v":2.857766143106462},{"$f":"(L785/L708)*100","v":2.6692708333333357},{"$f":"(M785/M708)*100","v":2.3407022106632014},{"$f":"(N785/O708)*100","v":2.2252547307132451}]
[]
[null,"jan-dec","feb-jan","mar-feb","apr-mar","may-apr","jun-may","jul-jun","aug-jul","sep-aug","oct-sep","nov-oct","dec-nov"]
["change_15"]
["%change_15"]
[null,"jan","feb","mar","apr","may","jun","jul","aug","sep","oct","nov","dec","ytd_avg_total"]
["chg_prv_15-14",{"$nulls":12},{"$f":"N710-N709","v":{"$error":"#DIV/0!"}}]
["%chg_prv_15-14",{"$nulls":12},{"$f":"(N792/N709)*100","v":{"$error":"#DIV/0!"}}]
[]
[]
["rt_em","jan","feb","mar","apr","may","jun","jul","aug","sep","oct","nov","dec","ytd_avg_total"]
[2003,314.2,308,307.2,310.7,315.60000000000002,318.3,315.89999999999998,318.3,316.7,321.2,330.6,336.6,{"$f":"AVERAGE(B797:M797)","v":317.77499999999998},{"$f":"AVERAGE(B797:M797)","v":317.77499999999998}]
[2004,313.8,307.3,308.10000000000002,310.39999999999998,315.60000000000002,319.7,317.89999999999998,318.5,316.10000000000002,318.89999999999998,329.1,333.4,317.39999999999998,317.39999999999998]
[2005,311.7,306.2,307.39999999999998,310.2,314,315.39999999999998,315.7,317.7,315.10000000000002,321.89999999999998,331.5,336.1,316.9083333333333,316.9083333333333]
[2006,310.39999999999998,303.89999999999998,305.5,307.60000000000002,311.39999999999998,314.39999999999998,312.5,314,311.2,315.5,328,331.4,313.81666666666666,313.81666666666666]
[2007,313.5,305.60000000000002,307.60000000000002,307.89999999999998,314,316.10000000000002,315.7,315,311.89999999999998,314.89999999999998,325.60000000000002,327.39999999999998,314.59999999999997,314.59999999999997]
[2008,310.3,302.5,303.8,305.89999999999998,309.89999999999998,312,311.2,312,307.89999999999998,310.7,316.8,319.10000000000002,310.17500000000001,310.17500000000001]
[2009,299.39999999999998,292.39999999999998,291.39999999999998,292.5,296.89999999999998,299.8,297.8,298.39999999999998,294.7,298.5,305.39999999999998,307.10000000000002,{"$f":"AVERAGE(B803:M803)","v":297.85833333333329},297.85833333333329]
[2010,290.3,283.89999999999998,285.3,287.3,291.7,294.5,293.3,294.8,291.60000000000002,297.39999999999998,304.7,307,293.48333333333329,293.48333333333329]
[2011,290.60000000000002,284.60000000000002,286,289.5,292.2,295,295.5,297.10000000000002,294.2,298.2,307,309,294.9083333333333,294.9083333333333]
[2012,292,285.39999999999998,286.7,288.10000000000002,292.60000000000002,295.39999999999998,294.5,296.39999999999998,293.2,298,309.5,310.2,295.16666666666663,{"$f":"AVERAGE(B806:M806)","v":295.16666666666663}]
[2013,292,287,288.2,290.89999999999998,296.2,300.5,300,301.39999999999998,297.5,304.89999999999998,311.39999999999998,315.60000000000002,298.8,{"$f":"AVERAGE(B807:M807)","v":298.8}]
[2014,301.10000000000002,291.89999999999998,293.10000000000002,298.10000000000002,300.7,304.7,305.8,304.60000000000002,299.8,307.3,313.60000000000002,316.8,303.12500000000006,{"$f":"AVERAGE(B808:M808)","v":303.12500000000006}]
[2015,{"$nulls":12},{"$f":"AVERAGE(B809:B809)","v":{"$error":"#DIV/0!"}},{"$f":"AVERAGE(B809:M809)","v":{"$error":"#DIV/0!"}}]
[null,"jan-dec","feb-jan","mar-feb","apr-mar","may-apr","jun-may","jul-jun","aug-jul","sep-aug","oct-sep","nov-oct","dec-nov"]
["change_04",{"$f":"B798-M797","v":-22.800000000000011},{"$f":"C798-B798","v":-6.5},0.80000000000001137,2.2999999999999545,5.2000000000000455,4.0999999999999659,-1.8000000000000114,0.60000000000002274,-2.3999999999999773,2.7999999999999545,10.200000000000045,4.2999999999999545]
["%change_04",{"$f":"(B811/M797)*100","v":-6.7736185383244232},{"$f":"(C811/B798)*100","v":-2.0713830465264498},0.26033192320208637,0.74651087309313668,1.6752577319587778,1.2991128010139308,-0.56302783859868988,0.18873859704310247,-0.75353218210360351,0.88579563429293084,3.1984948259642669,1.3065937405043919]
[null,"jan","feb","mar","apr","may","jun","jul","aug","sep","oct","nov","dec","ytd_avg_total"]
["chg_prv_04-03",{"$f":"B798-B797","v":-0.39999999999997726},-0.69999999999998863,0.90000000000003411,-0.30000000000001137,0,1.3999999999999773,2,0.19999999999998863,-0.59999999999996589,-2.3000000000000114,-1.5,-3.2000000000000455,{"$f":"O798-O797","v":-0.375}]
["%chg_prv_04-03",{"$f":"(B814/B797)*100","v":-0.12730744748567069},-0.22727272727272357,0.2929687500000111,-9.6556163501773859E-2,0,0.439836632108067,0.63311174422285543,6.2833804586864161E-2,-0.18945374171138804,-0.7160647571606511,-0.45372050816696907,-0.95068330362449349,{"$f":"(N814/O797)*100","v":-0.11800802454566912}]
[]
[null,"jan-dec","feb-jan","mar-feb","apr-mar","may-apr","jun-may","jul-jun","aug-jul","sep-aug","oct-sep","nov-oct","dec-nov"]
["change_05",{"$f":"B799-M798","v":-21.699999999999989},{"$f":"C799-B799","v":-5.5},1.1999999999999886,2.8000000000000114,3.8000000000000114,1.3999999999999773,0.30000000000001137,2,-2.5999999999999659,6.7999999999999545,{"$f":"L799-K799","v":9.6000000000000227},{"$f":"M799-L799","v":4.6000000000000227}]
["%change_05",{"$f":"(B818/M798)*100","v":-6.5086982603479271},{"$f":"(C818/B799)*100","v":-1.7645171639396855},0.39190071848464686,0.91086532205595683,1.2250161186331436,0.44585987261145776,9.5117311350669434E-2,0.63351282863477987,-0.81838212149825806,2.1580450650586971,{"$f":"(L818/K799)*100","v":2.9822926374650582},{"$f":"(M818/L799)*100","v":1.3876319758672768}]
[null,"jan","feb","mar","apr","may","jun","jul","aug","sep","oct","nov","dec","ytd_avg_total"]
["chg_prv_05-04",{"$f":"B799-B798","v":-2.1000000000000227},-1.1000000000000227,-0.70000000000004547,-0.19999999999998863,-1.6000000000000227,-4.3000000000000114,-2.1999999999999886,-0.80000000000001137,-1,3,2.3999999999999773,2.7000000000000455,{"$f":"O799-O798","v":-0.49166666666667425}]
["%chg_prv_05-04",{"$f":"(B821/B798)*100","v":-0.66921606118547572},-0.35795639440287103,-0.22719896137619131,-6.4432989690717993E-2,-0.50697084917617952,-1.3450109477635319,-0.69204152249134598,-0.25117739403454048,-0.31635558367605188,0.94073377234242717,{"$f":"(L821/L798)*100","v":0.72926162260710337},{"$f":"(M821/M798)*100","v":0.80983803239353491},{"$f":"(N821/O798)*100","v":-0.15490443184205241}]
[]
[null,"jan-dec","feb-jan","mar-feb","apr-mar","may-apr","jun-may","jul-jun","aug-jul","sep-aug","oct-sep","nov-oct","dec-nov"]
["change_06",{"$f":"B800-M799","v":-25.700000000000045},{"$f":"C800-B800","v":-6.5},1.6000000000000227,2.1000000000000227,3.7999999999999545,3,-1.8999999999999773,{"$f":"I800-H800","v":1.5},{"$f":"J800-I800","v":-2.8000000000000114},{"$f":"K800-J800","v":4.3000000000000114},{"$f":"L800-K800","v":12.5},{"$f":"M800-L800","v":3.3999999999999773}]
["%change_06",{"$f":"(B825/M799)*100","v":-7.6465337697114082},{"$f":"(C825/B800)*100","v":-2.0940721649484537},0.52648897663705918,0.68739770867431182,1.23537061118334,0.96339113680154154,-0.60432569974553985,{"$f":"(I825/H800)*100","v":0.48},{"$f":"(J825/I800)*100","v":-0.89171974522293351},{"$f":"(K825/J800)*100","v":1.3817480719794382},{"$f":"(L825/K800)*100","v":3.9619651347068143},{"$f":"(M825/L800)*100","v":1.0365853658536517}]
[null,"jan","feb","mar","apr","may","jun","jul","aug","sep","oct","nov","dec","ytd_avg_total"]
["chg_prv_06-05",{"$f":"B800-B799","v":-1.3000000000000114},-2.3000000000000114,-1.8999999999999773,-2.5999999999999659,-2.6000000000000227,-1,-3.1999999999999886,{"$f":"I800-I799","v":-3.6999999999999886},{"$f":"J800-J799","v":-3.9000000000000341},{"$f":"K800-K799","v":-6.3999999999999773},{"$f":"L800-L799","v":-3.5},{"$f":"M800-M799","v":-4.7000000000000455},{"$f":"O800-O799","v":-3.0916666666666401}]
["%chg_prv_06-05",{"$f":"(B828/B799)*100","v":-0.41706769329483845},-0.75114304376225061,-0.61808718282367514,-0.83816892327529535,-0.82802547770701362,-0.31705770450221943,-1.0136205258156441,{"$f":"(I828/I799)*100","v":-1.1646207113629174},{"$f":"(J828/J799)*100","v":-1.23770231672486},{"$f":"(K828/K799)*100","v":-1.9881950916433606},{"$f":"(L828/L799)*100","v":-1.0558069381598794},{"$f":"(M828/M799)*100","v":-1.3983933353168836},{"$f":"(N828/O799)*100","v":-0.97557127455362191}]
[]
[null,"jan-dec","feb-jan","mar-feb","apr-mar","may-apr","jun-may","jul-jun","aug-jul","sep-aug","oct-sep","nov-oct","dec-nov"]
["change_07",{"$f":"B801-M800","v":-17.899999999999977},{"$f":"C801-B801","v":-7.8999999999999773},2,0.29999999999995453,6.1000000000000227,2.1000000000000227,-0.40000000000003411,-0.69999999999998863,-3.1000000000000227,3,10.700000000000045,1.7999999999999545]
["%change_07",{"$f":"(B832/M800)*100","v":-5.4013277006638436},{"$f":"(C832/B801)*100","v":-2.519936204146723},0.65445026178010457,9.7529258777618505E-2,1.9811627151672697,0.66878980891720463,-0.12654223347043153,-0.22172949002216935,-0.98412698412699129,0.9618467457518437,3.397904096538598,0.5528255528255388]
[null,"jan","feb","mar","apr","may","jun","jul","aug","sep","oct","nov","dec","ytd_avg_total"]
["chg_prv_07-06",{"$f":"B801-B800","v":3.1000000000000227},1.7000000000000455,2.1000000000000227,0.29999999999995453,2.6000000000000227,1.7000000000000455,3.1999999999999886,1,{"$f":"J801-J800","v":0.69999999999998863},{"$f":"K801-K800","v":-0.60000000000002274},{"$f":"L801-L800","v":-2.3999999999999773},{"$f":"M801-M800","v":-4},{"$f":"O801-O800","v":0.78333333333330302}]
["%chg_prv_07-06",{"$f":"(B835/B800)*100","v":0.9987113402061929},0.55939453767688241,0.68739770867431182,9.7529258777618505E-2,0.83493898522800991,0.54071246819339869,1.0239999999999965,0.31847133757961787,{"$f":"(J835/J800)*100","v":0.22493573264781128},{"$f":"(K835/K800)*100","v":-0.1901743264659343},{"$f":"(L835/L800)*100","v":-0.73170731707316383},{"$f":"(M835/M800)*100","v":-1.2070006035003018},{"$f":"(N835/O800)*100","v":0.24961495565350356}]
[]
[null,"jan-dec","feb-jan","mar-feb","apr-mar","may-apr","jun-may","jul-jun","aug-jul","sep-aug","oct-sep","nov-oct","dec-nov"]
["change_08",{"$f":"B802-M801","v":-17.099999999999966},{"$f":"C802-B802","v":-7.8000000000000114},1.3000000000000114,2.0999999999999659,4,2.1000000000000227,-0.80000000000001137,0.80000000000001137,-4.1000000000000227,2.8000000000000114,6.1000000000000227,2.3000000000000114]
["%change_08",{"$f":"(B839/M801)*100","v":-5.2229688454489818},{"$f":"(C839/B802)*100","v":-2.5136964228166327},0.42975206611570621,0.6912442396313252,1.3076168682576006,0.6776379477250799,-0.25641025641026005,0.25706940874036355,-1.3141025641025714,0.90938616433907482,1.9633086578693348,0.72601010101010455]
[null,"jan","feb","mar","apr","may","jun","jul","aug","sep","oct","nov","dec","ytd_avg_total"]
["chg_prv_08-07",{"$f":"B802-B801","v":-3.1999999999999886},-3.1000000000000227,-3.8000000000000114,-2,-4.1000000000000227,-4.1000000000000227,-4.5,-3,-4,-4.1999999999999886,-8.8000000000000114,-8.2999999999999545,{"$f":"O802-O801","v":-4.4249999999999545}]
["%chg_prv_08-07",{"$f":"(B842/B801)*100","v":-1.0207336523125961},-1.0143979057591697,-1.2353706111833587,-0.64956154595647941,-1.3057324840764404,-1.29705789307182,-1.4254038644282547,{"$f":"(I842/I801)*100","v":-0.95238095238095244},{"$f":"(J842/J801)*100","v":-1.2824623276691249},{"$f":"(K842/K801)*100","v":-1.33375674817402},{"$f":"(L842/L801)*100","v":-2.7027027027027062},{"$f":"(M842/M801)*100","v":-2.5351252290775674},{"$f":"(N842/O801)*100","v":-1.406547997457074}]
[]
[null,"jan-dec","feb-jan","mar-feb","apr-mar","may-apr","jun-may","jul-jun","aug-jul","sep-aug","oct-sep","nov-oct","dec-nov"]
["change_09",{"$f":"B803-M802","v":-19.700000000000045},{"$f":"C803-B803","v":-7},-1,1.1000000000000227,4.3999999999999773,2.9000000000000341,-2,0.59999999999996589,-3.6999999999999886,3.8000000000000114,6.8999999999999773,1.7000000000000455]
["%change_09",{"$f":"(B846/M802)*100","v":-6.1736132873707437},{"$f":"(C846/B803)*100","v":-2.3380093520374081},-0.34199726402188785,0.37748798901853908,1.5042735042734965,0.97675985180196501,-0.66711140760507004,0.20147750167896772,-1.2399463806970472,1.2894468951476117,2.3115577889447159,0.55664702030125923]
[null,"jan","feb","mar","apr","may","jun","jul","aug","sep","oct","nov","dec","ytd_avg_total"]
["chg_prv_09-08",{"$f":"B803-B802","v":-10.900000000000034},-10.100000000000023,-12.400000000000034,-13.399999999999977,-13,-12.199999999999989,-13.399999999999977,-13.600000000000023,-13.199999999999989,-12.199999999999989,-11.400000000000034,-12,{"$f":"O803-O802","v":-12.31666666666672}]
["%chg_prv_09-08",{"$f":"(B849/B802)*100","v":-3.5127296165001725},-3.3388429752066191,-4.0816326530612352,-4.3805165086629545,-4.1949015811552117,-3.9102564102564066,-4.3059125964010212,-4.3589743589743666,-4.2871062033127609,-3.9266173157386506,-3.5984848484848593,-3.760576621748668,{"$f":"(N849/O802)*100","v":-3.9708766556513968}]
[]
[null,"jan-dec","feb-jan","mar-feb","apr-mar","may-apr","jun-may","jul-jun","aug-jul","sep-aug","oct-sep","nov-oct","dec-nov"]
["change_10",{"$f":"B804-M803","v":-16.800000000000011},{"$f":"C804-B804","v":-6.4000000000000341},1.4000000000000341,2,4.3999999999999773,2.8000000000000114,-1.1999999999999886,1.5,-3.1999999999999886,5.7999999999999545,{"$f":"L804-K804","v":7.3000000000000114},{"$f":"M804-L804","v":2.3000000000000114}]
["%change_10",{"$f":"(B853/M803)*100","v":-5.4705307717355938},{"$f":"(C853/B803)*100","v":-2.1376085504342135},{"$f":"(D853/C804)*100","v":0.4931313842902551},0.70101647388713639,1.5315001740341025,0.9598902982516323,-0.40747028862478396,0.51142175247187183,-1.085481682496604,1.9890260631001213,{"$f":"(L853/K804)*100","v":2.4546065904505756},{"$f":"(M853/L804)*100","v":0.75484082704299682}]
[null,"jan","feb","mar","apr","may","jun","jul","aug","sep","oct","nov","dec","ytd_avg_total"]
["chg_prv_10-09",{"$f":"B804-B803","v":-9.0999999999999659},-8.5,-6.0999999999999659,-5.1999999999999886,-5.1999999999999886,-5.3000000000000114,-4.5,-3.5999999999999659,-3.0999999999999659,-1.1000000000000227,{"$f":"L804-L803","v":-0.69999999999998863},{"$f":"M804-M803","v":-0.10000000000002274},{"$f":"O804-O803","v":-4.375}]
["%chg_prv_10-09",{"$f":"(B856/B803)*100","v":-3.0394121576486195},-2.9069767441860468,-2.0933424845572981,-1.7777777777777739,-1.7514314584034989,-1.7678452301534393,-1.5110812625923438,-1.206434316353876,-1.0519172039361948,-0.36850921273032589,{"$f":"(L856/L803)*100","v":-0.22920759659462628},{"$f":"(M856/M803)*100","v":-3.2562683165100206E-2},{"$f":"(N856/O803)*100","v":-1.4688190694681478}]
[]
[null,"jan-dec","feb-jan","mar-feb","apr-mar","may-apr","jun-may","jul-jun","aug-jul","sep-aug","oct-sep","nov-oct","dec-nov"]
["change_11",{"$f":"B805-M804","v":-16.399999999999977},{"$f":"C805-B805","v":-6},1.3999999999999773,3.5,2.6999999999999886,2.8000000000000114,0.5,1.6000000000000227,-2.9000000000000341,4,8.8000000000000114,2]
["%change_11",{"$f":"(B860/M804)*100","v":-5.342019543973934},{"$f":"(C860/B805)*100","v":-2.0646937370956642},0.49191848208010441,1.2237762237762237,0.93264248704662822,0.95824777549623941,0.16949152542372881,0.54145516074450861,-0.97610232245036488,1.3596193065941535,2.9510395707578843,0.65146579804560267]
[null,"jan","feb","mar","apr","may","jun","jul","aug","sep","oct","nov","dec","ytd_avg_total"]
["chg_prv_11-10",{"$f":"B805-B804","v":0.30000000000001137},0.70000000000004547,0.69999999999998863,2.1999999999999886,0.5,0.5,{"$f":"H805-H804","v":2.1999999999999886},2.3000000000000114,2.5999999999999659,0.80000000000001137,2.3000000000000114,2,{"$f":"O805-O804","v":1.4250000000000114}]
["%chg_prv_11-10",{"$f":"(B863/B804)*100","v":0.10334137099552579},0.24656569214513757,0.24535576586049374,0.76575008701705127,0.17140898183064793,0.1697792869269949,{"$f":"(H863/H804)*100","v":0.75008523695874141},0.78018995929444068,0.8916323731138428,0.26899798251513501,0.75484082704299682,0.65146579804560267,{"$f":"(N863/O804)*100","v":0.48554716338236525}]
[]
[null,"jan-dec","feb-jan","mar-feb","apr-mar","may-apr","jun-may","jul-jun","aug-jul","sep-aug","oct-sep","nov-oct","dec-nov"]
["change_12",{"$f":"B806-M805","v":-17},{"$f":"C806-B806","v":-6.6000000000000227},{"$f":"D806-C806","v":1.3000000000000114},{"$f":"E806-D806","v":1.4000000000000341},{"$f":"F806-E806","v":4.5},2.7999999999999545,-0.89999999999997726,1.8999999999999773,-3.1999999999999886,4.8000000000000114,11.5,0.69999999999998863]
["%change_12",{"$f":"(B867/M805)*100","v":-5.5016181229773462},{"$f":"(C867/B806)*100","v":-2.2602739726027474},{"$f":"(D867/C806)*100","v":0.45550105115627593},{"$f":"(E867/D806)*100","v":0.48831531217301505},{"$f":"(F867/E806)*100","v":1.5619576535925024},0.95693779904304654,-0.30467163168584205,0.64516129032257297,-1.0796221322537076,1.6371077762619413,3.8590604026845639,0.22617124394183802]
[null,"jan","feb","mar","apr","may","jun","jul","aug","sep","oct","nov","dec","ytd_avg_total"]
["chg_prv_12-11",{"$f":"B806-B805","v":1.3999999999999773},{"$f":"C806-C805","v":0.79999999999995453},{"$f":"D806-D805","v":0.69999999999998863},{"$f":"E806-E805","v":-1.3999999999999773},{"$f":"F806-F805","v":0.40000000000003411},0.39999999999997726,{"$f":"H806-H805","v":-1},-0.70000000000004547,{"$f":"J806-J805","v":-1},-0.19999999999998863,{"$f":"L806-L805","v":2.5},1.1999999999999886,{"$f":"O806/O805","v":1.0008759784113708}]
["%chg_prv_12-11",{"$f":"(B870/B805)*100","v":0.48176187198898041},{"$f":"(C870/C805)*100","v":0.28109627547433397},{"$f":"(D870/D805)*100","v":0.2447552447552408},{"$f":"(E870/E805)*100","v":-0.48359240069083848},{"$f":"(F870/F805)*100","v":0.13689253935661674},0.13559322033897533,{"$f":"(H870/H805)*100","v":-0.33840947546531303},-0.2356109054190661,{"$f":"(J870/J805)*100","v":-0.33990482664853838},-6.7069081153584384E-2,{"$f":"(L870/L805)*100","v":0.81433224755700329},0.38834951456310313,{"$f":"(N870/O805)*100","v":0.33938545143791715}]
[]
[null,"jan-dec","feb-jan","mar-feb","apr-mar","may-apr","jun-may","jul-jun","aug-jul","sep-aug","oct-sep","nov-oct","dec-nov"]
["change_13",{"$f":"B807-M806","v":-18.199999999999989},{"$f":"C807-B807","v":-5},1.1999999999999886,2.6999999999999886,5.3000000000000114,4.3000000000000114,-0.5,1.3999999999999773,-3.8999999999999773,7.3999999999999773,6.5,4.2000000000000455]
["%change_13",{"$f":"(B874/M806)*100","v":-5.8671824629271407},{"$f":"(C874/B807)*100","v":-1.7123287671232876},0.41811846689895071,0.93684941013184897,1.8219319353729846,1.4517218095881201,-0.16638935108153077,0.46666666666665907,-1.2939615129396076,2.4873949579831853,2.1318465070514927,1.3487475915221727]
[null,"jan","feb","mar","apr","may","jun","jul","aug","sep","oct","nov","dec","ytd_avg_total"]
["chg_prv_13-12",{"$f":"B807-B806","v":0},1.6000000000000227,1.5,2.7999999999999545,3.5999999999999659,5.1000000000000227,5.5,5,4.3000000000000114,6.8999999999999773,1.8999999999999773,5.4000000000000341,{"$f":"O807-O806","v":3.6333333333333826}]
["%chg_prv_13-12",{"$f":"(B877/B806)*100","v":0},0.56061667834618878,0.52319497732821763,0.97188476223531906,1.2303485987696396,1.7264725795531561,1.8675721561969438,1.6869095816464237,1.4665757162346562,2.3154362416107306,0.6138933764135629,1.7408123791102625,{"$f":"(N877/O806)*100","v":1.2309429700734218}]
[]
[null,"jan-dec","feb-jan","mar-feb","apr-mar","may-apr","jun-may","jul-jun","aug-jul","sep-aug","oct-sep","nov-oct","dec-nov"]
["change_14",{"$f":"B808-M807","v":-14.5},{"$f":"C808-B808","v":-9.2000000000000455},1.2000000000000455,5,2.5999999999999659,4,1.1000000000000227,-1.1999999999999886,-4.8000000000000114,7.5,6.3000000000000114]
["%change_14",{"$f":"(B881/M807)*100","v":-4.5944233206590619},{"$f":"(C881/B808)*100","v":-3.0554633012288424},0.41109969167524685,1.7059024223814396,0.87219054008720753,1.3302294645826405,0.36101083032491721,-0.3924133420536261,-1.5758371634931094,2.5016677785190127,2.0501138952164046]
[null,"jan","feb","mar","apr","may","jun","jul","aug","sep","oct","nov","dec","ytd_avg_total"]
["chg_prv_14-13",{"$f":"B808-B807","v":9.1000000000000227},{"$f":"C808-C807","v":4.8999999999999773},4.9000000000000341,{"$f":"E808-E807","v":7.2000000000000455},4.5,{"$f":"G808-G807","v":4.1999999999999886},5.8000000000000114,{"$f":"I808-I807","v":3.2000000000000455},2.3000000000000114,{"$f":"K808-K807","v":2.4000000000000341},2.2000000000000455,null,{"$f":"O808-O807","v":4.3250000000000455}]
["%chg_prv_14-13",{"$f":"(B884/B807)*100","v":3.1164383561643914},{"$f":"(C884/C807)*100","v":1.7073170731707239},1.7002081887578191,{"$f":"(E884/E807)*100","v":2.4750773461670836},1.5192437542201216,{"$f":"(G884/G807)*100","v":1.3976705490848549},1.9333333333333373,{"$f":"(I884/I807)*100","v":1.0617120106171352},0.7731092436974828,{"$f":"(K884/K807)*100","v":0.78714332568056222},0.7064868336544784,null,{"$f":"(N884/O807)*100","v":1.4474564926372309}]
[]
[null,"jan-dec","feb-jan","mar-feb","apr-mar","may-apr","jun-may","jul-jun","aug-jul","sep-aug","oct-sep","nov-oct","dec-nov"]
["change_15"]
["%change_15"]
[null,"jan","feb","mar","apr","may","jun","jul","aug","sep","oct","nov","dec","ytd_avg_total"]
["chg_prv_15-14",{"$nulls":12},{"$f":"N809-N808","v":{"$error":"#DIV/0!"}}]
["%chg_prv_15-14",{"$nulls":12},{"$f":"(N891/N808)*100","v":{"$error":"#DIV/0!"}}]
[]
[]
["hlthed_em","jan","feb","mar","apr","may","jun","jul","aug","sep","oct","nov","dec","ytd_avg_total"]
[2003,358.8,360.6,360.8,362.7,362.6,358.1,358.8,359,366.3,370.1,370.1,369.5,{"$f":"AVERAGE(B896:M896)","v":363.11666666666662},{"$f":"AVERAGE(B896:M896)","v":363.11666666666662}]
[2004,366.5,369.1,369.7,372.4,371.9,372.6,372.2,372,372.7,374.7,376.6,377,372.2833333333333,372.2833333333333]
[2005,373.9,375.8,376.9,379.2,378.8,380.3,378.7,379,381.1,382.3,384.4,384.4,379.56666666666661,379.56666666666661]
[2006,381.5,383.9,384.2,385.3,386.4,387.4,386.3,386.7,388.5,390.8,392.3,392.1,387.11666666666673,387.11666666666673]
[2007,387.6,389.8,390.7,391.2,392.7,393.5,392.3,393.5,394.7,394.5,395.2,396.2,392.6583333333333,392.6583333333333]
[2008,392.3,394.3,395.7,396.5,398.1,398.5,397.8,399.5,400.8,405.3,406.5,408.4,399.47500000000008,399.47500000000008]
[2009,403.7,405.7,407.4,405.9,406.3,406.1,404.4,405,405.2,408.9,409,409.3,{"$f":"AVERAGE(B902:M902)","v":406.40833333333336},406.40833333333336]
[2010,405.4,407.5,409.3,406.5,407.1,406.1,405.5,406,406.2,409.5,410.5,411,407.55,407.55]
[2011,405.2,407.5,408.4,410.4,411.6,408.2,406.9,407.4,412.8,415.9,416.7,418.1,410.75833333333338,410.75833333333338]
[2012,410.1,415.6,418.2,418.4,419.3,416.2,410.6,413.3,420.2,425.1,425.8,427.1,418.32500000000005,{"$f":"AVERAGE(B905:M905)","v":418.32500000000005}]
[2013,416.7,423.4,424.8,425.2,424.3,420.7,416.4,418.9,425.1,429.5,431,431.8,423.98333333333335,{"$f":"AVERAGE(B906:M906)","v":423.98333333333335}]
[2014,422.8,429.2,431.2,432.4,430.7,428.6,425.4,425.8,430.8,434.5,436.5,435.4,430.27499999999992,{"$f":"AVERAGE(B907:M907)","v":430.27499999999992}]
[2015,{"$nulls":12},{"$f":"AVERAGE(B908:B908)","v":{"$error":"#DIV/0!"}},{"$f":"AVERAGE(B908:M908)","v":{"$error":"#DIV/0!"}}]
[null,"jan-dec","feb-jan","mar-feb","apr-mar","may-apr","jun-may","jul-jun","aug-jul","sep-aug","oct-sep","nov-oct","dec-nov"]
["change_04",{"$f":"B897-M896","v":-3},{"$f":"C897-B897","v":2.6000000000000227},0.59999999999996589,2.6999999999999886,-0.5,0.70000000000004547,-0.40000000000003411,-0.19999999999998863,0.69999999999998863,2,1.9000000000000341,0.39999999999997726]
["%change_04",{"$f":"(B910/M896)*100","v":-0.81190798376184026},{"$f":"(C910/B897)*100","v":0.70941336971351243},0.16255757247357513,0.73032188260751663,-0.13426423200859292,0.18822264049476889,-0.10735373054214549,-5.3734551316493455E-2,0.18817204301074963,0.53662463107056613,0.5070723245262968,0.10621348911311133]
[null,"jan","feb","mar","apr","may","jun","jul","aug","sep","oct","nov","dec","ytd_avg_total"]
["chg_prv_04-03",{"$f":"B897-B896","v":7.6999999999999886},8.5,8.8999999999999773,9.6999999999999886,9.2999999999999545,14.5,13.399999999999977,13,6.3999999999999773,4.5999999999999659,6.5,7.5,{"$f":"O897-O896","v":9.1666666666666856}]
["%chg_prv_04-03",{"$f":"(B913/B896)*100","v":2.1460423634336645},2.3571824736550195,2.4667405764966679,2.6743865453542841,2.5648097076668379,4.0491482826026246,3.7346711259754675,3.6211699164345403,1.7472017472017412,1.2429073223453027,1.7562820859227235,2.029769959404601,{"$f":"(N913/O896)*100","v":2.5244411805204994}]
[]
[null,"jan-dec","feb-jan","mar-feb","apr-mar","may-apr","jun-may","jul-jun","aug-jul","sep-aug","oct-sep","nov-oct","dec-nov"]
["change_05",{"$f":"B898-M897","v":-3.1000000000000227},{"$f":"C898-B898","v":1.9000000000000341},1.0999999999999659,2.3000000000000114,-0.39999999999997726,1.5,-1.6000000000000227,0.30000000000001137,2.1000000000000227,1.1999999999999886,2.0999999999999659,0]
["%change_05",{"$f":"(B917/M897)*100","v":-0.82228116710875931},{"$f":"(C917/B898)*100","v":0.50815726129982197},0.29270888770621761,0.6102414433536778,-0.10548523206750456,0.395987328405491,-0.42072048382856242,7.921837866385302E-2,0.55408970976253902,0.3148779847808944,0.54930682709912781,0]
[null,"jan","feb","mar","apr","may","jun","jul","aug","sep","oct","nov","dec","ytd_avg_total"]
["chg_prv_05-04",{"$f":"B898-B897","v":7.3999999999999773},6.6999999999999886,7.1999999999999886,6.8000000000000114,6.9000000000000341,7.6999999999999886,6.5,7,8.4000000000000341,7.6000000000000227,7.7999999999999545,7.3999999999999773,{"$f":"O898-O897","v":7.283333333333303}]
["%chg_prv_05-04",{"$f":"(B920/B897)*100","v":2.0190995907230498},1.8152262259550225,1.947525020286716,1.8259935553168669,1.8553374563054676,2.0665593129361213,1.7463729177861365,1.881720430107527,2.253823450496387,2.028289298105157,{"$f":"(L920/L897)*100","v":2.0711630377057766},{"$f":"(M920/M897)*100","v":1.9628647214854049},{"$f":"(N920/O897)*100","v":1.9563952186954301}]
[]
[null,"jan-dec","feb-jan","mar-feb","apr-mar","may-apr","jun-may","jul-jun","aug-jul","sep-aug","oct-sep","nov-oct","dec-nov"]
["change_06",{"$f":"B899-M898","v":-2.8999999999999773},{"$f":"C899-B899","v":2.3999999999999773},0.30000000000001137,1.1000000000000227,1.0999999999999659,1,-1.0999999999999659,{"$f":"I899-H899","v":0.39999999999997726},{"$f":"J899-I899","v":1.8000000000000114},{"$f":"K899-J899","v":2.3000000000000114},{"$f":"L899-K899","v":1.5},{"$f":"M899-L899","v":-0.19999999999998863}]
["%change_06",{"$f":"(B924/M898)*100","v":-0.75442247658688277},{"$f":"(C924/B899)*100","v":0.62909567496722862},7.8145350351657039E-2,0.28630921395107312,0.28549182455228805,0.25879917184265011,-0.28394424367577853,{"$f":"(I924/H899)*100","v":0.10354646647682558},{"$f":"(J924/I899)*100","v":0.4654771140418959},{"$f":"(K924/J899)*100","v":0.59202059202059487},{"$f":"(L924/K899)*100","v":0.38382804503582391},{"$f":"(M924/L899)*100","v":-5.0981391791993021E-2}]
[null,"jan","feb","mar","apr","may","jun","jul","aug","sep","oct","nov","dec","ytd_avg_total"]
["chg_prv_06-05",{"$f":"B899-B898","v":7.6000000000000227},8.0999999999999659,7.3000000000000114,6.1000000000000227,7.5999999999999659,7.0999999999999659,7.6000000000000227,{"$f":"I899-I898","v":7.6999999999999886},{"$f":"J899-J898","v":7.3999999999999773},{"$f":"K899-K898","v":8.5},{"$f":"L899-L898","v":7.9000000000000341},{"$f":"M899-M898","v":7.7000000000000455},{"$f":"O899-O898","v":7.5500000000001251}]
["%chg_prv_06-05",{"$f":"(B927/B898)*100","v":2.0326290451992572},2.1554018094731147,1.9368532767312314,1.6086497890295419,2.0063357972544789,1.86694714698921,2.0068655928175398,{"$f":"(I927/I898)*100","v":2.0316622691292845},{"$f":"(J927/J898)*100","v":1.941747572815528},{"$f":"(K927/K898)*100","v":2.2233847763536487},{"$f":"(L927/L898)*100","v":2.0551508844953261},{"$f":"(M927/M898)*100","v":2.0031217481789922},{"$f":"(N927/O898)*100","v":1.9891103890401667}]
[]
[null,"jan-dec","feb-jan","mar-feb","apr-mar","may-apr","jun-may","jul-jun","aug-jul","sep-aug","oct-sep","nov-oct","dec-nov"]
["change_07",{"$f":"B900-M899","v":-4.5},{"$f":"C900-B900","v":2.1999999999999886},0.89999999999997726,0.5,1.5,0.80000000000001137,-1.1999999999999886,1.1999999999999886,1.1999999999999886,-0.19999999999998863,0.69999999999998863,1]
["%change_07",{"$f":"(B931/M899)*100","v":-1.1476664116296862},{"$f":"(C931/B900)*100","v":0.56759545923632315},0.23088763468444773,0.12797542871768622,0.3834355828220859,0.2037178507766772,-0.30495552731892978,0.30588835075197263,0.30495552731892978,-5.0671395996956838E-2,0.17743979721165745,0.25303643724696356]
[null,"jan","feb","mar","apr","may","jun","jul","aug","sep","oct","nov","dec","ytd_avg_total"]
["chg_prv_07-06",{"$f":"B900-B899","v":6.1000000000000227},5.9000000000000341,6.5,5.8999999999999773,6.3000000000000114,6.1000000000000227,6,6.8000000000000114,{"$f":"J900-J899","v":6.1999999999999886},{"$f":"K900-K899","v":3.6999999999999886},{"$f":"L900-L899","v":2.8999999999999773},{"$f":"M900-M899","v":4.0999999999999659},{"$f":"O900-O899","v":5.5416666666665719}]
["%chg_prv_07-06",{"$f":"(B934/B899)*100","v":1.598951507208394},1.5368585569158724,1.691827173347215,1.5312743316895865,1.6304347826086987,1.5745998967475539,1.5531969971524722,1.7584690974915984,{"$f":"(J934/J899)*100","v":1.5958815958815931},{"$f":"(K934/K899)*100","v":0.94677584442169616},{"$f":"(L934/L899)*100","v":0.739230180983935},{"$f":"(M934/M899)*100","v":1.0456516194848167},{"$f":"(N934/O899)*100","v":1.4315236578120043}]
[]
[null,"jan-dec","feb-jan","mar-feb","apr-mar","may-apr","jun-may","jul-jun","aug-jul","sep-aug","oct-sep","nov-oct","dec-nov"]
["change_08",{"$f":"B901-M900","v":-3.8999999999999773},{"$f":"C901-B901","v":2},1.3999999999999773,0.80000000000001137,1.6000000000000227,0.39999999999997726,-0.69999999999998863,1.6999999999999886,1.3000000000000114,4.5,1.1999999999999886,1.8999999999999773]
["%change_08",{"$f":"(B938/M900)*100","v":-0.98435133770822247},{"$f":"(C938/B901)*100","v":0.50981391791995911},0.35505959928987502,0.20217336365934077,0.40353089533417974,0.10047726701833139,-0.17565872020074996,0.42735042735042444,0.32540675844806288,1.1227544910179641,0.29607698001480104,0.46740467404673491]
[null,"jan","feb","mar","apr","may","jun","jul","aug","sep","oct","nov","dec","ytd_avg_total"]
["chg_prv_08-07",{"$f":"B901-B900","v":4.6999999999999886},4.5,5,5.3000000000000114,5.4000000000000341,5,5.5,6,6.1000000000000227,10.800000000000011,11.300000000000011,12.199999999999989,{"$f":"O901-O900","v":6.8166666666667766}]
["%chg_prv_08-07",{"$f":"(B941/B900)*100","v":1.2125902992776028},1.154438173422268,1.2797542871768621,1.3548057259713731,1.3750954927425603,1.2706480304955527,1.4019882742798879,{"$f":"(I941/I900)*100","v":1.5247776365946633},{"$f":"(J941/J900)*100","v":1.5454775779072771},{"$f":"(K941/K900)*100","v":2.7376425855513338},{"$f":"(L941/L900)*100","v":2.8593117408906914},{"$f":"(M941/M900)*100","v":3.0792529025744546},{"$f":"(N941/O900)*100","v":1.736030051571581}]
[]
[null,"jan-dec","feb-jan","mar-feb","apr-mar","may-apr","jun-may","jul-jun","aug-jul","sep-aug","oct-sep","nov-oct","dec-nov"]
["change_09",{"$f":"B902-M901","v":-4.6999999999999886},{"$f":"C902-B902","v":2},1.6999999999999886,-1.5,0.40000000000003411,-0.19999999999998863,-1.7000000000000455,0.60000000000002274,0.19999999999998863,3.6999999999999886,0.10000000000002274,0.30000000000001137]
["%change_09",{"$f":"(B945/M901)*100","v":-1.150832517140056},{"$f":"(C945/B902)*100","v":0.49541738915035916},0.41902883904362548,-0.36818851251840945,9.8546440009863054E-2,-4.9224710804821221E-2,-0.41861610440779251,0.14836795252226082,4.938271604937991E-2,0.91312931885488369,2.4455857177799644E-2,7.3349633251836521E-2]
[null,"jan","feb","mar","apr","may","jun","jul","aug","sep","oct","nov","dec","ytd_avg_total"]
["chg_prv_09-08",{"$f":"B902-B901","v":11.399999999999977},11.399999999999977,11.699999999999989,9.3999999999999773,8.1999999999999886,7.6000000000000227,6.5999999999999659,5.5,4.3999999999999773,3.5999999999999659,2.5,0.90000000000003411,{"$f":"O902-O901","v":6.9333333333332803}]
["%chg_prv_09-08",{"$f":"(B948/B901)*100","v":2.9059393321437614},2.891199594217595,2.9567854435178136,2.3707440100882669,2.0597839738759074,1.907151819322465,1.6591251885369447,1.3767209011264081,1.0978043912175592,0.88823094004440317,0.61500615006150061,0.22037218413321114,{"$f":"(N948/O901)*100","v":1.7356113231950132}]
[]
[null,"jan-dec","feb-jan","mar-feb","apr-mar","may-apr","jun-may","jul-jun","aug-jul","sep-aug","oct-sep","nov-oct","dec-nov"]
["change_10",{"$f":"B903-M902","v":-3.9000000000000341},{"$f":"C903-B903","v":2.1000000000000227},1.8000000000000114,-2.8000000000000114,0.60000000000002274,-1,-0.60000000000002274,0.5,0.19999999999998863,3.3000000000000114,{"$f":"L903-K903","v":1},{"$f":"M903-L903","v":0.5}]
["%change_10",{"$f":"(B952/M902)*100","v":-0.95284632299047989},{"$f":"(C952/B903)*100","v":0.51800690675876249},0.44171779141104572,-0.68409479599316181,0.14760147601476573,-0.24563989191844754,-0.14774686037922255,0.12330456226880394,4.9261083743839564E-2,0.81240768094534999,{"$f":"(L952/K903)*100","v":0.24420024420024419},{"$f":"(M952/L903)*100","v":0.12180267965895249}]
[null,"jan","feb","mar","apr","may","jun","jul","aug","sep","oct","nov","dec","ytd_avg_total"]
["chg_prv_10-09",{"$f":"B903-B902","v":1.6999999999999886},{"$f":"C903-B903","v":2.1000000000000227},{"$f":"D903-D902","v":1.9000000000000341},0.60000000000002274,0.80000000000001137,0,1.1000000000000227,1,1,0.60000000000002274,{"$f":"L903-L902","v":1.5},{"$f":"M903-M902","v":1.6999999999999886},{"$f":"O903-O902","v":1.1416666666666515}]
["%chg_prv_10-09",{"$f":"(B955/B902)*100","v":0.4211047807778025},0.51762385999507587,0.46637211585666033,0.14781966001478758,0.1968988432192989,0,0.27200791295747351,0.24691358024691357,0.24679170779861795,0.14673514306677005,{"$f":"(L955/L902)*100","v":0.36674816625916873},{"$f":"(M955/M902)*100","v":0.41534326899584378},{"$f":"(N955/O902)*100","v":0.28091615575467649}]
[]
[null,"jan-dec","feb-jan","mar-feb","apr-mar","may-apr","jun-may","jul-jun","aug-jul","sep-aug","oct-sep","nov-oct","dec-nov"]
["change_11",{"$f":"B904-M903","v":-5.8000000000000114},{"$f":"C904-B904","v":2.3000000000000114},0.89999999999997726,2,1.2000000000000455,-3.4000000000000341,-1.3000000000000114,0.5,5.4000000000000341,3.0999999999999659,0.80000000000001137,1.4000000000000341]
["%change_11",{"$f":"(B959/M903)*100","v":-1.4111922141119249},{"$f":"(C959/B904)*100","v":0.56762092793682417},0.22085889570551592,0.48971596474045059,0.29239766081872454,-0.82604470359573223,-0.31847133757962065,0.12288031457360531,1.3254786450662823,0.75096899224805369,0.19235393123347233,0.33597312215023617]
[null,"jan","feb","mar","apr","may","jun","jul","aug","sep","oct","nov","dec","ytd_avg_total"]
["chg_prv_11-10",{"$f":"B904-B903","v":-0.19999999999998863},0,-0.90000000000003411,3.8999999999999773,4.5,2.0999999999999659,{"$f":"H904-H903","v":1.3999999999999773},1.3999999999999773,6.6000000000000227,6.3999999999999773,6.1999999999999886,7.1000000000000227,{"$f":"O904-O903","v":3.2083333333333712}]
["%chg_prv_11-10",{"$f":"(B962/B903)*100","v":-4.9333991119878795E-2},0,-0.21988761299780946,0.9594095940959354,1.105379513633014,0.51711401132725088,{"$f":"(H962/H903)*100","v":0.34525277435264545},0.34482758620689097,1.6248153618907,1.5628815628815573,1.5103532277710081,1.7274939172749446,{"$f":"(N962/O903)*100","v":0.78722447143500707}]
[]
[null,"jan-dec","feb-jan","mar-feb","apr-mar","may-apr","jun-may","jul-jun","aug-jul","sep-aug","oct-sep","nov-oct","dec-nov"]
["change_12",{"$f":"B905-M904","v":-8},{"$f":"C905-B905","v":5.5},{"$f":"D905-C905","v":2.5999999999999659},{"$f":"E905-D905","v":0.19999999999998863},{"$f":"F905-E905","v":0.90000000000003411},-3.1000000000000227,-5.5999999999999659,2.6999999999999886,6.8999999999999773,4.9000000000000341,0.69999999999998863,1.3000000000000114]
["%change_12",{"$f":"(B966/M904)*100","v":-1.9134178426213824},{"$f":"(C966/B905)*100","v":1.3411363082175078},{"$f":"(D966/C905)*100","v":0.62560153994224388},{"$f":"(E966/D905)*100","v":4.7824007651838508E-2},{"$f":"(F966/E905)*100","v":0.21510516252390871},-0.73932745051276472,-1.3455069678039322,0.65757428153920805,1.6694894749576523,1.1661113755354675,0.1646671371441987,0.30530765617661143]
[null,"jan","feb","mar","apr","may","jun","jul","aug","sep","oct","nov","dec","ytd_avg_total"]
["chg_prv_12-11",{"$f":"B905-B904","v":4.9000000000000341},{"$f":"C905-C904","v":8.1000000000000227},{"$f":"D905-D904","v":9.8000000000000114},{"$f":"E905-E904","v":8},{"$f":"F905-F904","v":7.6999999999999886},8,{"$f":"H905-H904","v":3.7000000000000455},5.9000000000000341,{"$f":"J905-J904","v":7.3999999999999773},9.2000000000000455,{"$f":"L905-L904","v":9.1000000000000227},9,{"$f":"O905/O904","v":1.0184212127974681}]
["%chg_prv_12-11",{"$f":"(B969/B904)*100","v":1.2092793682132366},{"$f":"(C969/C904)*100","v":1.9877300613496991},{"$f":"(D969/D904)*100","v":2.3996082272282107},{"$f":"(E969/E904)*100","v":1.9493177387914233},{"$f":"(F969/F904)*100","v":1.8707482993197251},1.9598236158745712,{"$f":"(H969/H904)*100","v":0.90931432784469057},1.4482081492390855,{"$f":"(J969/J904)*100","v":1.7926356589147232},2.2120702091849114,{"$f":"(L969/L904)*100","v":2.1838252939764873},2.1525950729490551,{"$f":"(N969/O904)*100","v":0.24793683539732639}]
[]
[null,"jan-dec","feb-jan","mar-feb","apr-mar","may-apr","jun-may","jul-jun","aug-jul","sep-aug","oct-sep","nov-oct","dec-nov"]
["change_13",{"$f":"B906-M905","v":-10.400000000000034},{"$f":"C906-B906","v":6.6999999999999886},1.4000000000000341,0.39999999999997726,-0.89999999999997726,-3.6000000000000227,-4.3000000000000114,2.5,6.2000000000000455,4.3999999999999773,1.5,0.80000000000001137]
["%change_13",{"$f":"(B973/M905)*100","v":-2.435026925778514},{"$f":"(C973/C906)*100","v":1.5824279641001391},0.32956685499059185,9.4073377234237365E-2,-0.21211407023332013,-0.85571666270502078,-1.0326609029779086,0.5968011458582001,1.4584803575629368,1.0244470314318921,0.34802784222737815,0.18527095877721431]
[null,"jan","feb","mar","apr","may","jun","jul","aug","sep","oct","nov","dec","ytd_avg_total"]
["chg_prv_13-12",{"$f":"B906-B905","v":6.5999999999999659},7.7999999999999545,6.6000000000000227,6.8000000000000114,5,4.5,5.7999999999999545,5.5999999999999659,4.9000000000000341,4.3999999999999773,5.1999999999999886,4.6999999999999886,{"$f":"O906-O905","v":5.658333333333303}]
["%chg_prv_13-12",{"$f":"(B976/B905)*100","v":1.6093635698610012},1.8768046198267454,1.5781922525107659,1.6252390057361406,1.1924636298592892,1.0812109562710237,1.4125669751582937,1.354947979675772,1.1661113755354675,1.0350505763349747,1.2212306247064324,1.1004448606883606,{"$f":"(N976/O905)*100","v":1.3526165859877612}]
[]
[null,"jan-dec","feb-jan","mar-feb","apr-mar","may-apr","jun-may","jul-jun","aug-jul","sep-aug","oct-sep","nov-oct","dec-nov"]
["change_14",{"$f":"B907-M906","v":-9},{"$f":"C907-B907","v":6.3999999999999773},2,1.1999999999999886,-1.6999999999999886,-2.0999999999999659,-3.2000000000000455,0.40000000000003411,5,3.6999999999999886,2,-1.1000000000000227]
["%change_14",{"$f":"(B980/M906)*100","v":-2.0842982862436314},{"$f":"(C980/B907)*100","v":1.5137180700094555},0.46598322460391428,0.27829313543598999,-0.39315448658649138,-0.48757836080797912,-0.74661689220719674,9.4029149036209236E-2,1.1742602160638798,0.85886722376972802,0.46029919447640966,-0.25200458190149433]
[null,"jan","feb","mar","apr","may","jun","jul","aug","sep","oct","nov","dec","ytd_avg_total"]
["chg_prv_14-13",{"$f":"B907-B906","v":6.1000000000000227},{"$f":"C907-C906","v":5.8000000000000114},6.3999999999999773,{"$f":"E907-E906","v":7.1999999999999886},6.3999999999999773,{"$f":"G907-G906","v":7.9000000000000341},9,{"$f":"I907-I906","v":6.9000000000000341},5.6999999999999886,{"$f":"K907-K906","v":5},5.5,{"$f":"M907-M906","v":3.5999999999999659},{"$f":"O907-O906","v":6.2916666666665719}]
["%chg_prv_14-13",{"$f":"(B983/B906)*100","v":1.463882889368856},{"$f":"(C983/C906)*100","v":1.3698630136986329},1.5065913370998063,{"$f":"(E983/E906)*100","v":1.6933207902163663},1.5083667216591981,{"$f":"(G983/G906)*100","v":1.87782267649157},2.1613832853025938,{"$f":"(I983/I906)*100","v":1.6471711625686403},1.340860973888494,{"$f":"(K983/K906)*100","v":1.1641443538998837},1.2761020881670533,{"$f":"(M983/M906)*100","v":0.83371931449744452},{"$f":"(N983/O906)*100","v":1.4839419788513477}]
[]
[null,"jan-dec","feb-jan","mar-feb","apr-mar","may-apr","jun-may","jul-jun","aug-jul","sep-aug","oct-sep","nov-oct","dec-nov"]
["change_15"]
["%change_15"]
[null,"jan","feb","mar","apr","may","jun","jul","aug","sep","oct","nov","dec","ytd_avg_total"]
["chg_prv_15-14",{"$nulls":12},{"$f":"N908-N907","v":{"$error":"#DIV/0!"}}]
["%chg_prv_15-14",{"$nulls":12},{"$f":"(N990/N907)*100","v":{"$error":"#DIV/0!"}}]
[]
[]
["const_em","jan","feb","mar","apr","may","jun","jul","aug","sep","oct","nov","dec","ytd_avg_total"]
[2003,108.6,105,106.6,116.2,127.8,133.6,136,136.5,133.30000000000001,132.80000000000001,129.1,123.4,{"$f":"AVERAGE(B995:M995)","v":124.07499999999999},{"$f":"AVERAGE(B995:M995)","v":124.07499999999999}]
[2004,110.4,107.6,110.9,122.2,129.6,135.4,139.69999999999999,138.69999999999999,135.69999999999999,134,131.4,125.4,126.75000000000001,126.75000000000001]
[2005,112.1,109.5,111.8,123.2,130.5,136.5,139.5,138.9,136.19999999999999,134.6,132.19999999999999,125.2,127.51666666666665,127.51666666666665]
[2006,114.3,111.9,113.4,124,131.1,137.80000000000001,138.5,138.1,134.9,132.9,129.30000000000001,123.6,127.48333333333333,127.48333333333333]
[2007,112.5,107.9,113,120,130.19999999999999,135.69999999999999,137,136.9,133.80000000000001,132.80000000000001,130,121.2,125.91666666666667,125.91666666666667]
[2008,108,104.9,106.8,113.8,123.9,127.9,129.4,129,125.6,124.1,118.4,108.9,118.39166666666667,118.39166666666667]
[2009,93.9,91.4,91,98,105.7,109.5,110.8,109.5,107.6,106.2,102.7,94.3,{"$f":"AVERAGE(B1001:M1001)","v":101.71666666666665},101.71666666666665]
[2010,82.1,79.900000000000006,81.599999999999994,92.1,97.1,101.7,103.6,103.9,102.1,102.3,98.5,90,94.575000000000003,94.575000000000003]
[2011,79.2,76.8,79.5,87.7,95.1,100.5,102.8,103,101,100.3,97.3,89.6,92.733333333333306,92.733333333333306]
[2012,79.7,78,81.5,90.4,95.3,100.6,101.9,102.3,100.5,101.2,98.3,93.1,93.566666666666663,{"$f":"AVERAGE(B1004:M1004)","v":93.566666666666663}]
[2013,83.6,82.9,85.2,89.2,100.7,105.9,108.5,109.8,107.2,106.1,103.4,92,97.875,{"$f":"AVERAGE(B1005:M1005)","v":97.875}]
[2014,81.8,82.3,85.2,93.9,105.8,112.9,114.7,115.5,113.4,113.7,111.9,104.5,102.96666666666668,{"$f":"AVERAGE(B1006:M1006)","v":102.96666666666668}]
[2015,{"$nulls":12},{"$f":"AVERAGE(B1007:B1007)","v":{"$error":"#DIV/0!"}},{"$f":"AVERAGE(B1007:M1007)","v":{"$error":"#DIV/0!"}}]
[null,"jan-dec","feb-jan","mar-feb","apr-mar","may-apr","jun-may","jul-jun","aug-jul","sep-aug","oct-sep","nov-oct","dec-nov"]
["change_04",{"$f":"B996-M995","v":-13},{"$f":"C996-B996","v":-2.8000000000000114},3.3000000000000114,11.299999999999997,7.3999999999999915,5.8000000000000114,4.2999999999999829,-1,-3,-1.6999999999999886,-2.5999999999999943,-6]
["%change_04",{"$f":"(B1009/M995)*100","v":-10.534846029173419},{"$f":"(C1009/B996)*100","v":-2.5362318840579814},3.0669144981412746,10.189359783588815,6.055646481178389,4.4753086419753174,3.1757754800590718,-0.71581961345740885,-2.1629416005767848,-1.2527634487840742,-1.9402985074626824,-4.5662100456620998]
[null,"jan","feb","mar","apr","may","jun","jul","aug","sep","oct","nov","dec","ytd_avg_total"]
["chg_prv_04-03",{"$f":"B996-B995","v":1.8000000000000114},2.5999999999999943,4.3000000000000114,6,1.7999999999999972,1.8000000000000114,3.6999999999999886,2.1999999999999886,2.3999999999999773,1.1999999999999886,2.3000000000000114,2,{"$f":"O996-O995","v":2.6750000000000256}]
["%chg_prv_04-03",{"$f":"(B1012/B995)*100","v":1.6574585635359222},2.4761904761904709,4.0337711069418498,5.1635111876075728,1.4084507042253498,1.3473053892215654,2.7205882352941093,1.6117216117216033,1.8004501125281149,0.90361445783131655,1.7815646785437733,1.6207455429497568,{"$f":"(N1012/O995)*100","v":2.155954060044349}]
[]
[null,"jan-dec","feb-jan","mar-feb","apr-mar","may-apr","jun-may","jul-jun","aug-jul","sep-aug","oct-sep","nov-oct","dec-nov"]
["change_05",{"$f":"B997-M996","v":-13.300000000000011},{"$f":"C997-B997","v":-2.5999999999999943},2.2999999999999972,11.400000000000006,7.2999999999999972,6,3,-0.59999999999999432,-2.7000000000000171,-1.5999999999999943,{"$f":"L997-K997","v":-2.4000000000000057},{"$f":"M997-L997","v":-6.9999999999999858}]
["%change_05",{"$f":"(B1016/M996)*100","v":-10.606060606060614},{"$f":"(C1016/B997)*100","v":-2.319357716324705},2.1004566210045637,10.196779964221831,5.9253246753246733,4.5977011494252871,2.197802197802198,-0.43010752688171633,-1.9438444924406169,-1.1747430249632853,{"$f":"(L1016/K997)*100","v":-1.783060921248147},{"$f":"(M1016/L997)*100","v":-5.29500756429651}]
[null,"jan","feb","mar","apr","may","jun","jul","aug","sep","oct","nov","dec","ytd_avg_total"]
["chg_prv_05-04",{"$f":"B997-B996","v":1.6999999999999886},1.9000000000000057,0.89999999999999147,1,0.90000000000000568,1.0999999999999943,-0.19999999999998863,0.20000000000001705,0.5,0.59999999999999432,0.79999999999998295,-0.20000000000000284,{"$f":"O997-O996","v":0.7666666666666373}]
["%chg_prv_05-04",{"$f":"(B1019/B996)*100","v":1.5398550724637579},1.7657992565055816,0.8115419296663583,0.81833060556464821,0.69444444444444886,0.81240768094534288,-0.14316392269147363,0.14419610670513128,0.36845983787767139,0.44776119402984654,{"$f":"(L1019/L996)*100","v":0.60882800608826704},{"$f":"(M1019/M996)*100","v":-0.15948963317384596},{"$f":"(N1019/O996)*100","v":0.60486522024981237}]
[]
[null,"jan-dec","feb-jan","mar-feb","apr-mar","may-apr","jun-may","jul-jun","aug-jul","sep-aug","oct-sep","nov-oct","dec-nov"]
["change_06",{"$f":"B998-M997","v":-10.900000000000006},{"$f":"C998-B998","v":-2.3999999999999915},1.5,10.599999999999994,7.0999999999999943,6.7000000000000171,0.69999999999998863,{"$f":"I998-H998","v":-0.40000000000000568},{"$f":"J998-I998","v":-3.1999999999999886},{"$f":"K998-J998","v":-2},{"$f":"L998-K998","v":-3.5999999999999943},{"$f":"M998-L998","v":-5.7000000000000171}]
["%change_06",{"$f":"(B1023/M997)*100","v":-8.7060702875399407},{"$f":"(C1023/B998)*100","v":-2.0997375328083918},1.3404825737265413,9.3474426807760089,5.7258064516128986,5.1106025934401353,0.50798258345427327,{"$f":"(I1023/H998)*100","v":-0.2888086642599319},{"$f":"(J1023/I998)*100","v":-2.3171614771904334},{"$f":"(K1023/J998)*100","v":-1.4825796886582654},{"$f":"(L1023/K998)*100","v":-2.7088036117381442},{"$f":"(M1023/L998)*100","v":-4.4083526682134702}]
[null,"jan","feb","mar","apr","may","jun","jul","aug","sep","oct","nov","dec","ytd_avg_total"]
["chg_prv_06-05",{"$f":"B998-B997","v":2.2000000000000028},2.4000000000000057,1.6000000000000085,0.79999999999999716,0.59999999999999432,1.3000000000000114,-1,{"$f":"I998-I997","v":-0.80000000000001137},{"$f":"J998-J997","v":-1.2999999999999829},{"$f":"K998-K997","v":-1.6999999999999886},{"$f":"L998-L997","v":-2.8999999999999773},{"$f":"M998-M997","v":-1.6000000000000085},{"$f":"O998-O997","v":-3.3333333333317228E-2}]
["%chg_prv_06-05",{"$f":"(B1026/B997)*100","v":1.9625334522747573},2.1917808219178134,1.431127012522369,0.64935064935064701,0.4597701149425244,0.95238095238096077,-0.71684587813620071,{"$f":"(I1026/I997)*100","v":-0.5759539236861132},{"$f":"(J1026/J997)*100","v":-0.9544787077826602},{"$f":"(K1026/K997)*100","v":-1.2630014858840926},{"$f":"(L1026/L997)*100","v":-2.193645990922827},{"$f":"(M1026/M997)*100","v":-1.2779552715655018},{"$f":"(N1026/O997)*100","v":-2.6140373807332817E-2}]
[]
[null,"jan-dec","feb-jan","mar-feb","apr-mar","may-apr","jun-may","jul-jun","aug-jul","sep-aug","oct-sep","nov-oct","dec-nov"]
["change_07",{"$f":"B999-M998","v":-11.099999999999994},{"$f":"C999-B999","v":-4.5999999999999943},5.0999999999999943,7,10.199999999999989,5.5,1.3000000000000114,-9.9999999999994316E-2,-3.0999999999999943,-1,-2.8000000000000114,-8.7999999999999972]
["%change_07",{"$f":"(B1030/M998)*100","v":-8.9805825242718402},{"$f":"(C1030/B999)*100","v":-4.0888888888888832},4.7265987025023115,6.1946902654867255,8.4999999999999911,4.2242703533026118,0.95799557848195382,-7.2992700729922866E-2,-2.2644265887509087,-0.74738415545590431,-2.1084337349397675,-6.7692307692307674]
[null,"jan","feb","mar","apr","may","jun","jul","aug","sep","oct","nov","dec","ytd_avg_total"]
["chg_prv_07-06",{"$f":"B999-B998","v":-1.7999999999999972},-4,-0.40000000000000568,-4,-0.90000000000000568,-2.1000000000000227,-1.5,-1.1999999999999886,{"$f":"J999-J998","v":-1.0999999999999943},{"$f":"K999-K998","v":-9.9999999999994316E-2},{"$f":"L999-L998","v":0.69999999999998863},{"$f":"M999-M998","v":-2.3999999999999915},{"$f":"O999-O998","v":-1.5666666666666629}]
["%chg_prv_07-06",{"$f":"(B1033/B998)*100","v":-1.5748031496062969},-3.5746201966041107,-0.35273368606702443,-3.225806451612903,-0.68649885583524461,-1.5239477503628611,-1.0830324909747291,-0.86893555394640754,{"$f":"(J1033/J998)*100","v":-0.81541882876204164},{"$f":"(K1033/K998)*100","v":-7.5244544770499855E-2},{"$f":"(L1033/L998)*100","v":0.54137664346480163},{"$f":"(M1033/M998)*100","v":-1.9417475728155271},{"$f":"(N1033/O998)*100","v":-1.2289188129167181}]
[]
[null,"jan-dec","feb-jan","mar-feb","apr-mar","may-apr","jun-may","jul-jun","aug-jul","sep-aug","oct-sep","nov-oct","dec-nov"]
["change_08",{"$f":"B1000-M999","v":-13.200000000000003},{"$f":"C1000-B1000","v":-3.0999999999999943},1.8999999999999915,7,10.100000000000009,4,1.5,-0.40000000000000568,-3.4000000000000057,-1.5,-5.6999999999999886,-9.5]
["%change_08",{"$f":"(B1037/M999)*100","v":-10.891089108910894},{"$f":"(C1037/B1000)*100","v":-2.8703703703703654},1.8112488083889335,6.5543071161048694,8.8752196836555441,3.2284100080710245,1.1727912431587177,-0.30911901081916976,-2.6356589147286869,-1.1942675159235669,-4.5930701047542222,-8.0236486486486491]
[null,"jan","feb","mar","apr","may","jun","jul","aug","sep","oct","nov","dec","ytd_avg_total"]
["chg_prv_08-07",{"$f":"B1000-B999","v":-4.5},-3,-6.2000000000000028,-6.2000000000000028,-6.2999999999999829,-7.7999999999999829,-7.5999999999999943,-7.9000000000000057,-8.2000000000000171,-8.7000000000000171,-11.599999999999994,-12.299999999999997,{"$f":"O1000-O999","v":-7.5250000000000057}]
["%chg_prv_08-07",{"$f":"(B1040/B999)*100","v":-4},-2.7803521779425395,-5.4867256637168165,-5.1666666666666687,-4.8387096774193425,-5.7479734708916608,-5.5474452554744484,{"$f":"(I1040/I999)*100","v":-5.7706355003652341},{"$f":"(J1040/J999)*100","v":-6.1285500747384276},{"$f":"(K1040/K999)*100","v":-6.5512048192771202},{"$f":"(L1040/L999)*100","v":-8.923076923076918},{"$f":"(M1040/M999)*100","v":-10.148514851485146},{"$f":"(N1040/O999)*100","v":-5.9761747187293226}]
[]
[null,"jan-dec","feb-jan","mar-feb","apr-mar","may-apr","jun-may","jul-jun","aug-jul","sep-aug","oct-sep","nov-oct","dec-nov"]
["change_09",{"$f":"B1001-M1000","v":-15},{"$f":"C1001-B1001","v":-2.5},-0.40000000000000568,7,7.7000000000000028,3.7999999999999972,1.2999999999999972,-1.2999999999999972,-1.9000000000000057,-1.3999999999999915,-3.5,-8.4000000000000057]
["%change_09",{"$f":"(B1044/M1000)*100","v":-13.774104683195592},{"$f":"(C1044/B1001)*100","v":-2.662406815761448},-0.4376367614879712,7.6923076923076925,7.8571428571428594,3.5950804162724661,1.1872146118721436,-1.173285198555954,-1.7351598173516034,-1.3011152416356799,-3.2956685499058378,-8.1791626095423613]
[null,"jan","feb","mar","apr","may","jun","jul","aug","sep","oct","nov","dec","ytd_avg_total"]
["chg_prv_09-08",{"$f":"B1001-B1000","v":-14.099999999999994},-13.5,-15.799999999999997,-15.799999999999997,-18.200000000000003,-18.400000000000006,-18.600000000000009,-19.5,-18,-17.899999999999991,-15.700000000000003,-14.600000000000009,{"$f":"O1001-O1000","v":-16.675000000000011}]
["%chg_prv_09-08",{"$f":"(B1047/B1000)*100","v":-13.05555555555555},-12.869399428026693,-14.794007490636702,-13.884007029876974,-14.689265536723164,-14.386239249413608,{"$f":"(H1047/H1000)*100","v":-14.374034003091197},{"$f":"(I1047/I1000)*100","v":-15.11627906976744},{"$f":"J1006-J1001","v":5.8000000000000114},{"$f":"K1006-K1001","v":7.5},{"$f":"L1006-L1001","v":9.2000000000000028},{"$f":"M1006-M1001","v":10.200000000000003},{"$f":"(N1047/O1000)*100","v":-14.084606180052099}]
[]
[null,"jan-dec","feb-jan","mar-feb","apr-mar","may-apr","jun-may","jul-jun","aug-jul","sep-aug","oct-sep","nov-oct","dec-nov"]
["change_10",{"$f":"B1002-M1001","v":-12.200000000000003},{"$f":"C1002-B1002","v":-2.1999999999999886},1.6999999999999886,10.5,5,4.6000000000000085,1.8999999999999915,0.30000000000001137,-1.8000000000000114,0.20000000000000284,{"$f":"L1002-K1002","v":-3.7999999999999972},{"$f":"M1002-L1002","v":-8.5}]
["%change_10",{"$f":"(B1051/M1001)*100","v":-12.937433722163311},{"$f":"(C1051/B1002)*100","v":-2.6796589524969416},2.1276595744680709,12.867647058823531,5.4288816503800224,4.7373841400618009,1.8682399213372578,0.2895752895753006,-1.7324350336862477,0.19588638589618299,{"$f":"(L1051/K1002)*100","v":-3.7145650048875831},{"$f":"(M1051/L1002)*100","v":-8.6294416243654819}]
[null,"jan","feb","mar","apr","may","jun","jul","aug","sep","oct","nov","dec","ytd_avg_total"]
["chg_prv_10-09",{"$f":"B1002-B1001","v":-11.800000000000011},-11.5,-9.4000000000000057,-5.9000000000000057,-8.6000000000000085,-7.7999999999999972,-7.2000000000000028,-5.5999999999999943,-5.5,-3.9000000000000057,{"$f":"L1002-L1001","v":-4.2000000000000028},{"$f":"M1002-M1001","v":-4.2999999999999972},{"$f":"O1002-O1001","v":-7.1416666666666515}]
["%chg_prv_10-09",{"$f":"(B1054/B1001)*100","v":-12.566560170394048},-12.582056892778992,-10.329670329670336,-6.0204081632653121,-8.1362346263008583,-7.1232876712328741,-6.4981949458483772,-5.1141552511415469,-5.1115241635687738,-3.672316384180796,{"$f":"(L1054/L1001)*100","v":-4.0895813047711806},{"$f":"(M1054/M1001)*100","v":-4.5599151643690323},{"$f":"(N1054/O1001)*100","v":-7.0211371456660521}]
[]
[null,"jan-dec","feb-jan","mar-feb","apr-mar","may-apr","jun-may","jul-jun","aug-jul","sep-aug","oct-sep","nov-oct","dec-nov"]
["change_11",{"$f":"B1003-M1002","v":-10.799999999999997},{"$f":"C1003-B1003","v":-2.4000000000000057},2.7000000000000028,8.2000000000000028,7.3999999999999915,5.4000000000000057,2.2999999999999972,0.20000000000000284,-2,-0.70000000000000284,-3,-7.7000000000000028]
["%change_11",{"$f":"(B1058/M1002)*100","v":-11.999999999999996},{"$f":"(C1058/B1003)*100","v":-3.0303030303030374},3.515625000000004,10.314465408805034,8.4378563283922361,5.6782334384858109,2.2885572139303454,0.19455252918288216,-1.9417475728155338,-0.69306930693069591,-2.9910269192422732,-7.9136690647482046]
[null,"jan","feb","mar","apr","may","jun","jul","aug","sep","oct","nov","dec","ytd_avg_total"]
["chg_prv_11-10",{"$f":"B1003-B1002","v":-2.8999999999999915},-3.1000000000000085,-2.0999999999999943,-4.3999999999999915,-2,-1.2000000000000028,{"$f":"H1003-H1002","v":-0.79999999999999716},-0.90000000000000568,-1.0999999999999943,-2,-1.2000000000000028,-0.40000000000000568,{"$f":"O1003-O1002","v":-1.841666666666697}]
["%chg_prv_11-10",{"$f":"(B1061/B1002)*100","v":-3.5322777101096126},-3.8798498122653422,-2.573529411764699,-4.7774158523344106,-2.0597322348094749,-1.1799410029498554,{"$f":"(H1061/H1002)*100","v":-0.77220077220076955},-0.86621751684312387,-1.0773751224289858,-1.9550342130987293,-1.2182741116751299,-0.44444444444445075,{"$f":"(N1061/O1002)*100","v":-1.9473081328751751}]
[]
[null,"jan-dec","feb-jan","mar-feb","apr-mar","may-apr","jun-may","jul-jun","aug-jul","sep-aug","oct-sep","nov-oct","dec-nov"]
["change_12",{"$f":"B1004-M1003","v":-9.8999999999999915},{"$f":"C1004-B1004","v":-1.7000000000000028},{"$f":"D1004-C1004","v":3.5},{"$f":"E1004-D1004","v":8.9000000000000057},{"$f":"F1004-E1004","v":4.8999999999999915},5.2999999999999972,1.3000000000000114,0.39999999999999147,-1.7999999999999972,0.70000000000000284,-2.9000000000000057,-5.2000000000000028]
["%change_12",{"$f":"(B1065/M1003)*100","v":-11.049107142857133},{"$f":"(C1065/B1004)*100","v":-2.1329987452948593},{"$f":"(D1065/C1004)*100","v":4.4871794871794872},{"$f":"(E1065/D1004)*100","v":10.920245398773012},{"$f":"(F1065/E1004)*100","v":5.4203539823008757},5.5613850996852019,1.2922465208747629,0.39254170755641954,-1.7595307917888536,0.69651741293532621,-2.8656126482213495,-5.289928789420145]
[null,"jan","feb","mar","apr","may","jun","jul","aug","sep","oct","nov","dec","ytd_avg_total"]
["chg_prv_12-11",{"$f":"B1004-B1003","v":0.5},{"$f":"C1004-C1003","v":1.2000000000000028},{"$f":"D1004-D1003","v":2},{"$f":"E1004-E1003","v":2.7000000000000028},{"$f":"F1004-F1003","v":0.20000000000000284},9.9999999999994316E-2,{"$f":"H1004-H1003","v":-0.89999999999999147},-0.70000000000000284,{"$f":"J1004-J1003","v":-0.5},{"$f":"K1004-K1003","v":0.90000000000000568},{"$f":"L1004-L1003","v":1},{"$f":"M1004-M1003","v":3.5},{"$f":"O1004/O1003","v":1.0089863407620419}]
["%chg_prv_12-11",{"$f":"(B1068/B1003)*100","v":0.63131313131313127},{"$f":"(C1068/C1003)*100","v":1.5625000000000038},{"$f":"(D1068/D1003)*100","v":2.5157232704402519},{"$f":"(E1068/E1003)*100","v":3.0786773090079849},{"$f":"(F1068/F1003)*100","v":0.2103049421661439},9.9502487562183384E-2,{"$f":"(H1068/H1003)*100","v":-0.87548638132294887},-0.6796116504854397,{"$f":"(J1068/J1003)*100","v":-0.49504950495049505},{"$f":"(K1068/K1003)*100","v":0.89730807577268756},{"$f":"(L1068/L1003)*100","v":1.0277492291880781},{"$f":"(M1068/M1003)*100","v":3.90625},{"$f":"(N1068/O1003)*100","v":1.0880514098799878}]
[]
[null,"jan-dec","feb-jan","mar-feb","apr-mar","may-apr","jun-may","jul-jun","aug-jul","sep-aug","oct-sep","nov-oct","dec-nov"]
["change_13",{"$f":"B1005-M1004","v":-9.5},{"$f":"C1005-B1005","v":-0.69999999999998863},2.2999999999999972,4,11.5,5.2000000000000028,2.5999999999999943,1.2999999999999972,-2.5999999999999943,-1.1000000000000085,-2.6999999999999886,-11.400000000000006]
["%change_13",{"$f":"(B1072/M1004)*100","v":-10.204081632653061},{"$f":"(C1072/B1005)*100","v":-0.83732057416266592},2.7744270205066308,4.6948356807511731,12.892376681614348,5.1638530287984139,2.4551463644948011,1.198156682027647,-2.3679417122040021,-1.0261194029850826,-2.5447690857681327,-11.025145067698263]
[null,"jan","feb","mar","apr","may","jun","jul","aug","sep","oct","nov","dec","ytd_avg_total"]
["chg_prv_13-12",{"$f":"B1005-B1004","v":3.8999999999999915},4.9000000000000057,3.7000000000000028,-1.2000000000000028,5.4000000000000057,5.3000000000000114,6.5999999999999943,7.5,6.7000000000000028,4.8999999999999915,5.1000000000000085,-1.0999999999999943,{"$f":"O1005-O1004","v":4.3083333333333371}]
["%chg_prv_13-12",{"$f":"(B1075/B1004)*100","v":4.8933500627352462},6.282051282051289,4.5398773006135009,-1.3274336283185872,5.6663168940188937,5.268389662027845,6.4769381746810542,7.3313782991202352,6.6666666666666696,4.8418972332015722,5.1881993896236098,-1.1815252416756117,{"$f":"(N1075/O1004)*100","v":4.6045600285001829}]
[]
[null,"jan-dec","feb-jan","mar-feb","apr-mar","may-apr","jun-may","jul-jun","aug-jul","sep-aug","oct-sep","nov-oct","dec-nov"]
["change_14",{"$f":"B1006-M1005","v":-10.200000000000003},{"$f":"C1006-B1006","v":0.5},2.9000000000000057,8.7000000000000028,11.899999999999991,7.1000000000000085,1.7999999999999972,0.79999999999999716,-2.0999999999999943,0.29999999999999716,-1.7999999999999972,-7.4000000000000057]
["%change_14",{"$f":"(B1079/M1005)*100","v":-11.086956521739133},{"$f":"(C1079/B1006)*100","v":0.61124694376528121},3.5236938031591807,10.211267605633806,12.673056443024484,6.7107750472589878,1.5943312666076146,0.69747166521359816,-1.8181818181818132,0.26455026455026204,-1.5831134564643774,-6.6130473637176097]
[null,"jan","feb","mar","apr","may","jun","jul","aug","sep","oct","nov","dec","ytd_avg_total"]
["chg_prv_14-13",{"$f":"B1006-B1005","v":-1.7999999999999972},{"$f":"C1006-C1005","v":-0.60000000000000853},0,{"$f":"E1006-E1005","v":4.7000000000000028},5.0999999999999943,{"$f":"G1006-G1005","v":7},6.2000000000000028,{"$f":"I1006-I1005","v":5.7000000000000028},6.2000000000000028,{"$f":"K1006-K1005","v":7.6000000000000085},8.5,{"$f":"M1006-M1005","v":12.5},{"$f":"O1006-O1005","v":5.0916666666666828}]
["%chg_prv_14-13",{"$f":"(B1082/B1005)*100","v":-2.1531100478468868},{"$f":"(C1082/C1005)*100","v":-0.72376357056695839},0,{"$f":"(E1082/E1005)*100","v":5.2690582959641281},5.0645481628599738,{"$f":"(G1082/G1005)*100","v":6.6100094428706315},5.7142857142857171,{"$f":"(I1082/I1005)*100","v":5.1912568306010956},5.7835820895522421,{"$f":"(K1082/K1005)*100","v":7.1630537229029301},8.2205029013539637,{"$f":"(M1082/M1005)*100","v":13.586956521739129},{"$f":"(N1082/O1005)*100","v":5.2022137079608513}]
[]
[null,"jan-dec","feb-jan","mar-feb","apr-mar","may-apr","jun-may","jul-jun","aug-jul","sep-aug","oct-sep","nov-oct","dec-nov"]
["change_15"]
["%change_15"]
[null,"jan","feb","mar","apr","may","jun","jul","aug","sep","oct","nov","dec","ytd_avg_total"]
["chg_prv_15-14",{"$nulls":12},{"$f":"N1007-N1006","v":{"$error":"#DIV/0!"}}]
["%chg_prv_15-14",{"$nulls":12},{"$f":"(N1089/N1006)*100","v":{"$error":"#DIV/0!"}}]
[]
[]
["lh_em","jan","feb","mar","apr","may","jun","jul","aug","sep","oct","nov","dec","ytd_avg_total"]
[2003,225.6,224,226.6,235.8,252.2,262.60000000000002,267.5,268.2,257.5,248.3,239.5,237.9,{"$f":"AVERAGE(B1094:M1094)","v":245.47500000000002},{"$f":"AVERAGE(B1094:M1094)","v":245.47500000000002}]
[2004,230.3,229.4,232.6,242.7,256.2,265.89999999999998,275,275.60000000000002,263.39999999999998,252.9,243.4,242.6,250.83333333333334,250.83333333333334]
[2005,233.8,233.9,237.7,250.3,261.5,271.89999999999998,278,278.8,267.7,255.2,247.7,245.6,255.17499999999995,255.17499999999995]
[2006,239,239.6,243.4,252.6,264.39999999999998,276.5,282.10000000000002,283.10000000000002,271,260.60000000000002,251.4,250.2,259.49166666666662,259.49166666666662]
[2007,242.9,242.8,246,254.2,268.60000000000002,281,284.10000000000002,286.10000000000002,271.39999999999998,261.89999999999998,253.6,251,261.96666666666664,261.96666666666664]
[2008,242.2,241.1,244.2,252.7,268.3,277.89999999999998,281.2,282.2,268.7,259.60000000000002,249.2,246.1,259.45,259.45]
[2009,235.1,235.6,237.9,246.3,262,271.89999999999998,274,274.3,262.2,251.5,241.5,239.6,{"$f":"AVERAGE(B1100:M1100)","v":252.65833333333333},252.65833333333333]
[2010,230.8,230.7,233.6,245.4,258.10000000000002,268.8,273.10000000000002,275.39999999999998,262.8,253,244.1,241.2,251.41666666666666,251.41666666666666]
[2011,232.7,232.4,235,245.1,258.39999999999998,270.3,275.10000000000002,276.7,264.3,253.8,244.3,241,252.42500000000004,252.42500000000004]
[2012,234.4,235.4,240.4,250.2,263.89999999999998,276.5,280.2,280.60000000000002,269,256.60000000000002,247.8,247.6,256.88333333333338,{"$f":"AVERAGE(B1103:M1103)","v":256.88333333333338}]
[2013,238.8,239.6,243.2,250,268.3,279.3,283.5,285.3,272.10000000000002,264.5,253.9,252.6,260.92500000000001,{"$f":"AVERAGE(B1104:M1104)","v":260.92500000000001}]
[2014,245.6,244,247.7,256.39999999999998,274.60000000000002,291.8,297.10000000000002,296.3,280.3,273,263.89999999999998,261.8,269.37500000000006,{"$f":"AVERAGE(B1105:M1105)","v":269.37500000000006}]
[2015,{"$nulls":12},{"$f":"AVERAGE(B1106:B1106)","v":{"$error":"#DIV/0!"}},{"$f":"AVERAGE(B1106:M1106)","v":{"$error":"#DIV/0!"}}]
[null,"jan-dec","feb-jan","mar-feb","apr-mar","may-apr","jun-may","jul-jun","aug-jul","sep-aug","oct-sep","nov-oct","dec-nov"]
["change_04",{"$f":"B1095-M1094","v":-7.5999999999999943},{"$f":"C1095-B1095","v":-0.90000000000000568},3.1999999999999886,10.099999999999994,13.5,9.6999999999999886,9.1000000000000227,0.60000000000002274,-12.200000000000045,-10.499999999999972,-9.5,-0.80000000000001137]
["%change_04",{"$f":"(B1108/M1094)*100","v":-3.1946195880622086},{"$f":"(C1108/B1095)*100","v":-0.39079461571863028},1.3949433304271963,4.3422184006878739,5.5624227441285541,3.7861046057767327,3.4223392252726677,0.21818181818182644,-4.4267053701016126,-3.9863325740318802,-3.7564254646105182,-0.32867707477403918]
[null,"jan","feb","mar","apr","may","jun","jul","aug","sep","oct","nov","dec","ytd_avg_total"]
["chg_prv_04-03",{"$f":"B1095-B1094","v":4.7000000000000171},5.4000000000000057,6,6.8999999999999773,4,3.2999999999999545,7.5,7.4000000000000341,5.8999999999999773,4.5999999999999943,3.9000000000000057,4.6999999999999886,{"$f":"O1095-O1094","v":5.3583333333333201}]
["%chg_prv_04-03",{"$f":"(B1111/B1094)*100","v":2.083333333333341},2.4107142857142883,2.64783759929391,2.9262086513994809,1.5860428231562251,1.2566641279512392,2.8037383177570092,2.7591349739000877,2.2912621359223211,1.8525976641159865,1.6283924843423823,1.9756200084068889,{"$f":"(N1111/O1094)*100","v":2.1828427877923695}]
[]
[null,"jan-dec","feb-jan","mar-feb","apr-mar","may-apr","jun-may","jul-jun","aug-jul","sep-aug","oct-sep","nov-oct","dec-nov"]
["change_05",{"$f":"B1096-M1095","v":-8.7999999999999829},{"$f":"C1096-B1096","v":9.9999999999994316E-2},3.7999999999999829,12.600000000000023,11.199999999999989,10.399999999999977,6.1000000000000227,0.80000000000001137,-11.100000000000023,-12.5,{"$f":"L1096-K1096","v":-7.5},{"$f":"M1096-L1096","v":-2.0999999999999943}]
["%change_05",{"$f":"(B1115/M1095)*100","v":-3.6273701566364314},{"$f":"(C1115/B1096)*100","v":4.2771599657824774E-2},1.624625908507902,5.3007993268826343,4.4746304434678335,3.9770554493307757,2.243471864656132,0.28776978417266597,-3.98134863701579,-4.6694060515502427,{"$f":"(L1115/K1096)*100","v":-2.938871473354232},{"$f":"(M1115/L1096)*100","v":-0.84779975777149552}]
[null,"jan","feb","mar","apr","may","jun","jul","aug","sep","oct","nov","dec","ytd_avg_total"]
["chg_prv_05-04",{"$f":"B1096-B1095","v":3.5},4.5,5.0999999999999943,7.6000000000000227,5.3000000000000114,6,3,3.1999999999999886,4.3000000000000114,2.2999999999999829,4.2999999999999829,3,{"$f":"O1096-O1095","v":4.3416666666666117}]
["%chg_prv_05-04",{"$f":"(B1118/B1095)*100","v":1.519756838905775},1.9616390584132517,2.1926053310404101,3.1314379892871953,2.0686963309914175,2.2564874012786764,1.0909090909090911,1.1611030478954965,1.6324981017463978,0.90945037564253961,{"$f":"(L1118/L1095)*100","v":1.7666392769104284},{"$f":"(M1118/M1095)*100","v":1.2366034624896949},{"$f":"(N1118/O1095)*100","v":1.7308970099667556}]
[]
[null,"jan-dec","feb-jan","mar-feb","apr-mar","may-apr","jun-may","jul-jun","aug-jul","sep-aug","oct-sep","nov-oct","dec-nov"]
["change_06",{"$f":"B1097-M1096","v":-6.5999999999999943},{"$f":"C1097-B1097","v":0.59999999999999432},3.8000000000000114,9.1999999999999886,11.799999999999983,12.100000000000023,5.6000000000000227,{"$f":"I1097-H1097","v":1},{"$f":"J1097-I1097","v":-12.100000000000023},{"$f":"K1097-J1097","v":-10.399999999999977},{"$f":"L1097-K1097","v":-9.2000000000000171},{"$f":"M1097-L1097","v":-1.2000000000000171}]
["%change_06",{"$f":"(B1122/M1096)*100","v":-2.6872964169381084},{"$f":"(C1122/B1097)*100","v":0.25104602510460011},1.5859766277128595,3.7797863599013923,4.6714172604908875,4.5763993948562876,2.0253164556962111,{"$f":"(I1122/H1097)*100","v":0.35448422545196734},{"$f":"(J1122/I1097)*100","v":-4.27410808901449},{"$f":"(K1122/J1097)*100","v":-3.8376383763837554},{"$f":"(L1122/K1097)*100","v":-3.5303146584804357},{"$f":"(M1122/L1097)*100","v":-0.47732696897375382}]
[null,"jan","feb","mar","apr","may","jun","jul","aug","sep","oct","nov","dec","ytd_avg_total"]
["chg_prv_06-05",{"$f":"B1097-B1096","v":5.1999999999999886},5.6999999999999886,5.7000000000000171,2.2999999999999829,2.8999999999999773,4.6000000000000227,4.1000000000000227,{"$f":"I1097-I1096","v":4.3000000000000114},{"$f":"J1097-J1096","v":3.3000000000000114},{"$f":"K1097-K1096","v":5.4000000000000341},{"$f":"L1097-L1096","v":3.7000000000000171},{"$f":"M1097-M1096","v":4.5999999999999943},{"$f":"O1097-O1096","v":4.3166666666666629}]
["%chg_prv_06-05",{"$f":"(B1125/B1096)*100","v":2.2241231822070096},2.4369388627618593,2.3979806478754808,0.91889732321213857,1.1089866156787676,1.6917984553144625,1.4748201438849002,{"$f":"(I1125/I1096)*100","v":1.5423242467718834},{"$f":"(J1125/J1096)*100","v":1.2327231976092683},{"$f":"(K1125/K1096)*100","v":2.1159874608150604},{"$f":"(L1125/L1096)*100","v":1.4937424303593125},{"$f":"(M1125/M1096)*100","v":1.8729641693811052},{"$f":"(N1125/O1096)*100","v":1.691649521570163}]
[]
[null,"jan-dec","feb-jan","mar-feb","apr-mar","may-apr","jun-may","jul-jun","aug-jul","sep-aug","oct-sep","nov-oct","dec-nov"]
["change_07",{"$f":"B1098-M1097","v":-7.2999999999999829},{"$f":"C1098-B1098","v":-9.9999999999994316E-2},3.1999999999999886,8.1999999999999886,14.400000000000034,12.399999999999977,3.1000000000000227,2,-14.700000000000045,-9.5,-8.2999999999999829,-2.5999999999999943]
["%change_07",{"$f":"(B1129/M1097)*100","v":-2.9176658673061482},{"$f":"(C1129/B1098)*100","v":-4.1169205434332778E-2},1.3179571663920875,3.3333333333333286,5.6648308418568192,4.616530156366335,1.103202846975097,0.70397747272087285,-5.1380636141209521,-3.5003684598378779,-3.169148529973266,-1.0252365930599348]
[null,"jan","feb","mar","apr","may","jun","jul","aug","sep","oct","nov","dec","ytd_avg_total"]
["chg_prv_07-06",{"$f":"B1098-B1097","v":3.9000000000000057},3.2000000000000171,2.5999999999999943,1.5999999999999943,4.2000000000000455,4.5,2,3,{"$f":"J1098-J1097","v":0.39999999999997726},{"$f":"K1098-K1097","v":1.2999999999999545},{"$f":"L1098-L1097","v":2.1999999999999886},{"$f":"M1098-M1097","v":0.80000000000001137},{"$f":"O1098-O1097","v":2.4750000000000227}]
["%chg_prv_07-06",{"$f":"(B1132/B1097)*100","v":1.6317991631799187},1.3355592654424111,1.0682004930156097,0.63341250989706832,1.5885022692889734,1.62748643761302,0.70896845090393468,1.0596962204168137,{"$f":"(J1132/J1097)*100","v":0.14760147601475176},{"$f":"(K1132/K1097)*100","v":0.49884881043743451},{"$f":"(L1132/L1097)*100","v":0.87509944311853161},{"$f":"(M1132/M1097)*100","v":0.31974420463629549},{"$f":"(N1132/O1097)*100","v":0.95378785445904746}]
[]
[null,"jan-dec","feb-jan","mar-feb","apr-mar","may-apr","jun-may","jul-jun","aug-jul","sep-aug","oct-sep","nov-oct","dec-nov"]
["change_08",{"$f":"B1099-M1098","v":-8.8000000000000114},{"$f":"C1099-B1099","v":-1.0999999999999943},3.0999999999999943,8.5,15.600000000000023,9.5999999999999659,3.3000000000000114,1,-13.5,-9.0999999999999659,-10.400000000000034,-3.0999999999999943]
["%change_08",{"$f":"(B1136/M1098)*100","v":-3.5059760956175343},{"$f":"(C1136/B1099)*100","v":-0.4541701073492958},1.2857735379510553,3.480753480753481,6.1733280569845759,3.5780842340663312,1.1874775098956503,0.35561877667140823,-4.78384124734231,-3.3866765909936607,-4.00616332819724,-1.2439807383627588]
[null,"jan","feb","mar","apr","may","jun","jul","aug","sep","oct","nov","dec","ytd_avg_total"]
["chg_prv_08-07",{"$f":"B1099-B1098","v":-0.70000000000001705},-1.7000000000000171,-1.8000000000000114,-1.5,-0.30000000000001137,-3.1000000000000227,-2.9000000000000341,-3.9000000000000341,-2.6999999999999886,-2.2999999999999545,-4.4000000000000057,-4.9000000000000057,{"$f":"O1099-O1098","v":-2.5166666666666515}]
["%chg_prv_08-07",{"$f":"(B1139/B1098)*100","v":-0.28818443804035282},-0.70016474464580603,-0.73170731707317538,-0.59008654602675059,-0.1116902457185448,-1.103202846975097,-1.0207673354452778,{"$f":"(I1139/I1098)*100","v":-1.3631597343586277},{"$f":"(J1139/J1098)*100","v":-0.99484156226970855},{"$f":"(K1139/K1098)*100","v":-0.87819778541426297},{"$f":"(L1139/L1098)*100","v":-1.7350157728706648},{"$f":"(M1139/M1098)*100","v":-1.9521912350597632},{"$f":"(N1139/O1098)*100","v":-0.96068202061330399}]
[]
[null,"jan-dec","feb-jan","mar-feb","apr-mar","may-apr","jun-may","jul-jun","aug-jul","sep-aug","oct-sep","nov-oct","dec-nov"]
["change_09",{"$f":"B1100-M1099","v":-11},{"$f":"C1100-B1100","v":0.5},2.3000000000000114,8.4000000000000057,15.699999999999989,9.8999999999999773,2.1000000000000227,0.30000000000001137,-12.100000000000023,-10.699999999999989,-10,-1.9000000000000057]
["%change_09",{"$f":"(B1143/M1099)*100","v":-4.4697277529459569},{"$f":"(C1143/B1100)*100","v":0.21267545725223311},0.9762308998302256,3.530895334174025,6.3743402354851764,3.7786259541984646,0.77234277307834609,0.10948905109489467,-4.4112285818447043,-4.0808543096872576,-3.9761431411530817,-0.78674948240165865]
[null,"jan","feb","mar","apr","may","jun","jul","aug","sep","oct","nov","dec","ytd_avg_total"]
["chg_prv_09-08",{"$f":"B1100-B1099","v":-7.0999999999999943},-5.5,-6.2999999999999829,-6.3999999999999773,-6.3000000000000114,-6,-7.1999999999999886,{"$f":"I1100-I1099","v":-7.8999999999999773},{"$f":"J1100-J1099","v":-6.5},{"$f":"K1100-K1099","v":-8.1000000000000227},{"$f":"L1100-L1099","v":-7.6999999999999886},{"$f":"M1100-M1099","v":-6.5},{"$f":"O1100-O1099","v":-6.7916666666666572}]
["%chg_prv_09-08",{"$f":"(B1146/B1099)*100","v":-2.9314616019818307},-2.2812111157196187,-2.5798525798525729,-2.5326474079936592,-2.3481177786060421,-2.1590500179920835,-2.5604551920341354,-2.7994330262225291,-2.4190547078526237,-3.1201848998459254,{"$f":"(L1146/L1099)*100","v":-3.089887640449434},{"$f":"(M1146/M1099)*100","v":-2.6412027631044293},{"$f":"(N1146/O1099)*100","v":-2.6177169653754704}]
[]
[null,"jan-dec","feb-jan","mar-feb","apr-mar","may-apr","jun-may","jul-jun","aug-jul","sep-aug","oct-sep","nov-oct","dec-nov"]
["change_10",{"$f":"B1101-M1100","v":-8.7999999999999829},{"$f":"C1101-B1101","v":-0.10000000000002274},2.9000000000000057,11.800000000000011,12.700000000000017,10.699999999999989,4.3000000000000114,2.2999999999999545,-12.599999999999966,-9.8000000000000114,{"$f":"L1101-K1101","v":-8.9000000000000057},{"$f":"M1101-L1101","v":-2.9000000000000057}]
["%change_10",{"$f":"(B1150/M1100)*100","v":-3.6727879799666039},{"$f":"(C1150/B1101)*100","v":-4.3327556325833072E-2},1.2570437798006093,5.0513698630137034,5.1752241238793868,4.1456799690042576,1.5997023809523849,0.8421823507872408,-4.5751633986927986,-3.7290715372907193,{"$f":"(L1150/K1101)*100","v":-3.5177865612648249},{"$f":"(M1150/L1101)*100","v":-1.1880376894715303}]
[null,"jan","feb","mar","apr","may","jun","jul","aug","sep","oct","nov","dec","ytd_avg_total"]
["chg_prv_10-09",{"$f":"B1101-B1100","v":-4.2999999999999829},{"$f":"C1101-B1101","v":-0.10000000000002274},2.9000000000000057,11.800000000000011,12.700000000000017,10.699999999999989,4.3000000000000114,2.2999999999999545,-12.599999999999966,-9.8000000000000114,{"$f":"L1101-K1101","v":-8.9000000000000057},{"$f":"M1101-L1101","v":-2.9000000000000057},{"$f":"O1101-O1100","v":-1.2416666666666742}]
["%chg_prv_10-09",{"$f":"(B1153/B1100)*100","v":-1.8290089323691976},-4.2444821731758384E-2,1.2189995796553197,4.7909053999188025,4.8473282442748156,3.9352703199705732,1.5693430656934348,0.83849799489608257,-4.8054919908466696,-3.8966202783300243,{"$f":"(L1153/L1100)*100","v":-3.6853002070393397},{"$f":"(M1153/M1100)*100","v":-1.2103505843071811},{"$f":"(N1153/O1100)*100","v":-0.4914410105874234}]
[]
[null,"jan-dec","feb-jan","mar-feb","apr-mar","may-apr","jun-may","jul-jun","aug-jul","sep-aug","oct-sep","nov-oct","dec-nov"]
["change_11",{"$f":"B1102-M1101","v":-8.5},{"$f":"C1102-B1102","v":-0.29999999999998295},2.5999999999999943,10.099999999999994,13.299999999999983,11.900000000000034,4.8000000000000114,1.5999999999999659,-12.399999999999977,-10.5,-9.5,-3.3000000000000114]
["%change_11",{"$f":"(B1157/M1101)*100","v":-3.5240464344941955},{"$f":"(C1157/B1102)*100","v":-0.12892135797162996},1.1187607573149718,4.2978723404255295,5.4263565891472796,4.6052631578947505,1.7758046614872407,0.581606688476905,-4.481387784604256,-3.9727582292849033,-3.743104806934594,-1.3507981989357394]
[null,"jan","feb","mar","apr","may","jun","jul","aug","sep","oct","nov","dec","ytd_avg_total"]
["chg_prv_11-10",{"$f":"B1102-B1101","v":1.8999999999999773},1.7000000000000171,1.4000000000000057,-0.30000000000001137,0.29999999999995453,1.5,2,{"$f":"I1102-I1101","v":1.3000000000000114},{"$f":"J1102-J1101","v":1.5},{"$f":"K1102-K1101","v":0.80000000000001137},{"$f":"L1102-L1101","v":0.20000000000001705},{"$f":"M1102-M1101","v":-0.19999999999998863},{"$f":"O1102-O1101","v":1.0083333333333826}]
["%chg_prv_11-10",{"$f":"(B1160/B1101)*100","v":0.8232235701906313},0.73688773298657007,0.59931506849315319,-0.12224938875306088,0.11623401782253177,0.5580357142857143,0.73233247894544118,{"$f":"(I1160/I1101)*100","v":0.47204066811910367},{"$f":"(J1160/J1101)*100","v":0.57077625570776247},{"$f":"(K1160/K1101)*100","v":0.31620553359684245},{"$f":"(L1160/L1101)*100","v":8.1933633756664098E-2},{"$f":"(M1160/M1101)*100","v":-8.2918739635152838E-2},{"$f":"(N1160/O1101)*100","v":0.4010606562810935}]
[]
[null,"jan-dec","feb-jan","mar-feb","apr-mar","may-apr","jun-may","jul-jun","aug-jul","sep-aug","oct-sep","nov-oct","dec-nov"]
["change_12",{"$f":"B1103-M1102","v":-6.5999999999999943},{"$f":"C1103-B1103","v":1},{"$f":"D1103-C1103","v":5},{"$f":"E1103-D1103","v":9.7999999999999829},{"$f":"F1103-E1103","v":13.699999999999989},12.600000000000023,3.6999999999999886,0.40000000000003411,-11.600000000000023,-12.399999999999977,-8.8000000000000114,-0.20000000000001705]
["%change_12",{"$f":"(B1164/M1102)*100","v":-2.7385892116182546},{"$f":"(C1164/B1103)*100","v":0.42662116040955633},{"$f":"(D1164/C1103)*100","v":2.1240441801189465},{"$f":"(E1164/D1103)*100","v":4.076539101497497},{"$f":"(F1164/E1103)*100","v":5.4756195043964784},4.7745358090185768,1.338155515370701,0.14275517487510142,-4.1339985744832584,-4.6096654275092854,-3.4294621979735043,-8.0710250201782505E-2]
[null,"jan","feb","mar","apr","may","jun","jul","aug","sep","oct","nov","dec","ytd_avg_total"]
["chg_prv_12-11",{"$f":"B1103-B1102","v":1.7000000000000171},{"$f":"C1103-C1102","v":3},{"$f":"D1103-D1102","v":5.4000000000000057},{"$f":"E1103-E1102","v":5.0999999999999943},{"$f":"F1103-F1102","v":5.5},6.1999999999999886,{"$f":"H1103-H1102","v":5.0999999999999659},3.9000000000000341,{"$f":"J1103-J1102","v":4.6999999999999886},2.8000000000000114,{"$f":"L1103-L1102","v":3.5},6.5999999999999943,{"$f":"O1103/O1102","v":1.0176620118186921}]
["%chg_prv_12-11",{"$f":"(B1167/B1102)*100","v":0.73055436183928535},{"$f":"(C1167/C1102)*100","v":1.2908777969018932},{"$f":"(D1167/D1102)*100","v":2.2978723404255343},{"$f":"(E1167/E1102)*100","v":2.0807833537331675},{"$f":"(F1167/F1102)*100","v":2.1284829721362231},2.293747687754343,{"$f":"(H1167/H1102)*100","v":1.8538713195201622},1.4094687387061924,{"$f":"(J1167/J1102)*100","v":1.778282255013238},1.1032308904649373,{"$f":"(L1167/L1102)*100","v":1.4326647564469912},2.7385892116182546,{"$f":"(N1167/O1102)*100","v":0.40315420890113574}]
[]
[null,"jan-dec","feb-jan","mar-feb","apr-mar","may-apr","jun-may","jul-jun","aug-jul","sep-aug","oct-sep","nov-oct","dec-nov"]
["change_13",{"$f":"B1104-M1103","v":-8.7999999999999829},{"$f":"C1104-B1104","v":0.79999999999998295},3.5999999999999943,6.8000000000000114,18.300000000000011,11,4.1999999999999886,1.8000000000000114,-13.199999999999989,-7.6000000000000227,-10.599999999999994,-1.3000000000000114]
["%change_13",{"$f":"(B1171/M1103)*100","v":-3.5541195476575056},{"$f":"(C1171/B1104)*100","v":0.3350083752093731},1.5025041736227021,2.7960526315789522,7.3200000000000038,4.0998881848676856,1.5037593984962365,0.63492063492063888,-4.6267087276550951,-2.7930907754502101,-4.0075614366729653,-0.51201260338716481]
[null,"jan","feb","mar","apr","may","jun","jul","aug","sep","oct","nov","dec","ytd_avg_total"]
["chg_prv_13-12",{"$f":"B1104-B1103","v":4.4000000000000057},4.1999999999999886,2.7999999999999829,-0.19999999999998863,4.4000000000000341,2.8000000000000114,3.3000000000000114,4.6999999999999886,3.1000000000000227,7.8999999999999773,6.0999999999999943,5,{"$f":"O1104-O1103","v":4.0416666666666288}]
["%chg_prv_13-12",{"$f":"(B1174/B1103)*100","v":1.87713310580205},1.7841971112999102,1.1647254575707084,-7.9936051159068197E-2,1.6672982190223702,1.0126582278481056,1.1777301927194901,1.6749821810406229,1.1524163568773318,3.0787217459080187,2.4616626311541543,2.0193861066235863,{"$f":"(N1174/O1103)*100","v":1.5733471744631005}]
[]
[null,"jan-dec","feb-jan","mar-feb","apr-mar","may-apr","jun-may","jul-jun","aug-jul","sep-aug","oct-sep","nov-oct","dec-nov"]
["change_14",{"$f":"B1105-M1104","v":-7},{"$f":"C1105-B1105","v":-1.5999999999999943},3.6999999999999886,8.6999999999999886,18.200000000000045,17.199999999999989,5.3000000000000114,-0.80000000000001137,-16,-7.3000000000000114,-9.1000000000000227,-2.0999999999999659]
["%change_14",{"$f":"(B1178/M1104)*100","v":-2.771179730799683},{"$f":"(C1178/B1105)*100","v":-0.65146579804560034},1.5163934426229462,3.5123132821962009,7.0982839313572725,6.2636562272396166,1.8163125428375639,-0.26926960619320478,-5.3999325008437387,-2.6043524794862689,-3.3333333333333415,-0.79575596816974847]
[null,"jan","feb","mar","apr","may","jun","jul","aug","sep","oct","nov","dec","ytd_avg_total"]
["chg_prv_14-13",{"$f":"B1105-B1104","v":6.7999999999999829},{"$f":"C1105-C1104","v":4.4000000000000057},4.5,{"$f":"E1105-E1104","v":6.3999999999999773},6.3000000000000114,{"$f":"G1105-G1104","v":12.5},13.600000000000023,{"$f":"I1105-I1104","v":11},8.1999999999999886,{"$f":"K1105-K1104","v":8.5},9.9999999999999716,{"$f":"M1105-M1104","v":9.2000000000000171},{"$f":"O1105-O1104","v":8.4500000000000455}]
["%chg_prv_14-13",{"$f":"(B1181/B1104)*100","v":2.8475711892797246},{"$f":"(C1181/C1104)*100","v":1.8363939899833079},1.8503289473684212,{"$f":"(E1181/E1104)*100","v":2.5599999999999907},2.3481177786060421,{"$f":"(G1181/G1104)*100","v":4.4754744002864308},4.7971781305114716,{"$f":"(I1181/I1104)*100","v":3.8555906063792502},3.0135979419331083,{"$f":"(K1181/K1104)*100","v":3.2136105860113422},3.9385584875935296,{"$f":"(M1181/M1104)*100","v":3.6421219319081621},{"$f":"(N1181/O1104)*100","v":3.2384784899875618}]
[]
[null,"jan-dec","feb-jan","mar-feb","apr-mar","may-apr","jun-may","jul-jun","aug-jul","sep-aug","oct-sep","nov-oct","dec-nov"]
["change_15"]
["%change_15"]
[null,"jan","feb","mar","apr","may","jun","jul","aug","sep","oct","nov","dec","ytd_avg_total"]
["chg_prv_15-14",{"$nulls":12},{"$f":"N1106-N1105","v":{"$error":"#DIV/0!"}}]
["%chg_prv_15-14",{"$nulls":12},{"$f":"(N1188/N1105)*100","v":{"$error":"#DIV/0!"}}]
[]
[]
[]
["us"]
["tnf_em","jan","feb","mar","apr","may","jun","jul","aug","sep","oct","nov","dec","ytd_avg_total"]
[2003,128358,128769,129258,129908,130663,130989,129646,129697,130351,131142,131302,131120,{"$f":"AVERAGE(B1195:M1195)","v":130100.25},{"$f":"AVERAGE(B1195:M1195)","v":130100.25}]
[2004,128458,129067,130107,131224,132127,132569,131405,131421,132133,133111,133360,133129,131509.25,131509.25]
[2005,130423,131245,132083,133294,134104,134769,133705,133951,134576,135302,135857,135655,133747,133747]
[2006,133000,133924,134903,135816,136621,137121,135945,136149,136817,137516,137898,137786,136124.66666666666,136124.66666666666]
[2007,134994,135683,136576,137381,138323,138825,137425,137534,138096,138835,139143,138929,137645.33333333334,137645.33333333334]
[2008,135896,136414,137003,137535,138105,138296,136811,136697,136748,137038,136355,135321,136851.58333333334,136851.58333333334]
[2009,131627,131387,131249,131429,131697,131510,129910,129786,130144,130741,130787,130242,{"$f":"AVERAGE(B1201:M1201)","v":130875.75},130875.75]
[2010,127374,127811,128646,129770,130886,131004,129664,129728,130221,131195,131502,131199,129916.66666666667,129916.66666666667]
[2011,128338,129154,130061,131279,131963,132453,131181,131457,132204,133125,133456,133292,131496.91666666666,131496.91666666666]
[2012,130657,131604,132505,133400,134213,134556,133368,133753,134374,135241,135636,135560,133738.91666666666,{"$f":"AVERAGE(B1204:M1204)","v":133738.91666666666}]
[2013,132704,133752,134570,135513,136383,136769,135577,136002,136612,137523,138536,138266,136017.25,{"$f":"AVERAGE(B1205:M1205)","v":136017.25}]
[2014,135451,136192,137147,138265,139184,139772,138669,139061,139753,140811,141321,141256,{"$f":"AVERAGE(B1206:M1206)","v":138906.83333333334},{"$f":"AVERAGE(B1206:M1206)","v":138906.83333333334}]
[2015,{"$nulls":12},{"$f":"AVERAGE(B1207:B1207)","v":{"$error":"#DIV/0!"}},{"$f":"AVERAGE(B1207:M1207)","v":{"$error":"#DIV/0!"}}]
[null,"jan-dec","feb-jan","mar-feb","apr-mar","may-apr","jun-may","jul-jun","aug-jul","sep-aug","oct-sep","nov-oct","dec-nov"]
["change_04",{"$f":"B1196-M1195","v":-2662},{"$f":"C1196-B1196","v":609},1040,1117,903,442,-1164,16,712,978,249,-231]
["%change_04",{"$f":"(B1209/M1195)*100","v":-2.0302013422818792},{"$f":"(C1209/B1196)*100","v":0.47408491491382398},0.80578304291569502,0.85852413782502091,0.68813631652746454,0.33452662968204833,-0.87803332604153317,1.2176096799969558E-2,0.54177034111747746,0.74016332029091902,0.18706192576120681,-0.17321535692861428]
[null,"jan","feb","mar","apr","may","jun","jul","aug","sep","oct","nov","dec","ytd_avg_total"]
["chg_prv_04-03",{"$f":"B1196-B1195","v":100},298,849,1316,1464,1580,1759,1724,1782,1969,2058,2009,{"$f":"O1196-O1195","v":1409}]
["%chg_prv_04-03",{"$f":"(B1212/B1195)*100","v":7.7907103569703484E-2},0.2314221590600222,0.65682588311748591,1.0130246020260492,1.1204396041725662,1.2062081548832344,1.3567715162828009,1.3292520258756948,1.3670781198456474,1.5014259352457642,1.5673790193599486,1.5321842586943257,{"$f":"(N1212/O1195)*100","v":1.0830109857590589}]
[]
[null,"jan-dec","feb-jan","mar-feb","apr-mar","may-apr","jun-may","jul-jun","aug-jul","sep-aug","oct-sep","nov-oct","dec-nov"]
["change_05",{"$f":"B1197-M1196","v":-2706},{"$f":"C1197-B1197","v":822},838,1211,810,665,-1064,246,{"$f":"J1197-I1197","v":625},{"$f":"K1197-J1197","v":726},{"$f":"L1197-K1197","v":555},{"$f":"M1197-L1197","v":-202}]
["%change_05",{"$f":"(B1216/M1196)*100","v":-2.032614982460621},{"$f":"(C1216/B1197)*100","v":0.63025693320963327},0.63850051430530685,0.91684773967883826,0.60767926538328798,0.49588379168406616,-0.78949906877694431,0.18398713585879362,{"$f":"(J1216/I1197)*100","v":0.46658852864107025},{"$f":"(K1216/J1197)*100","v":0.53947211984306265},{"$f":"(L1216/K1197)*100","v":0.41019349307475128},{"$f":"(M1216/L1197)*100","v":-0.14868575045820237}]
[null,"jan","feb","mar","apr","may","jun","jul","aug","sep","oct","nov","dec","ytd_avg_total"]
["chg_prv_05-04",{"$f":"B1197-B1196","v":1965},2178,1976,2070,1977,2200,2300,2530,2443,2191,2497,2526,{"$f":"O1197-O1196","v":2237.75}]
["%chg_prv_05-04",{"$f":"(B1219/B1196)*100","v":1.5296828535396783},1.6874956417984457,1.5187499519626153,1.5774553435347192,1.4962876626276234,1.6595131591850283,1.7503139149956244,1.9251109031281151,{"$f":"(J1219/J1196)*100","v":1.8488946743054346},{"$f":"(K1219/K1196)*100","v":1.6459946961558398},{"$f":"(L1219/L1196)*100","v":1.8723755248950209},{"$f":"(M1219/M1196)*100","v":1.8974077774188944},{"$f":"(N1219/O1196)*100","v":1.7015913329290526}]
[]
[null,"jan-dec","feb-jan","mar-feb","apr-mar","may-apr","jun-may","jul-jun","aug-jul","sep-aug","oct-sep","nov-oct","dec-nov"]
["change_06",{"$f":"B1198-M1197","v":-2655},{"$f":"C1198-B1198","v":924},979,913,805,500,-1176,{"$f":"I1198-H1198","v":204},{"$f":"J1198-I1198","v":668},{"$f":"K1198-J1198","v":699},{"$f":"L1198-K1198","v":382},{"$f":"M1198-L1198","v":-112}]
["%change_06",{"$f":"(B1223/M1197)*100","v":-1.9571707640706204},{"$f":"(C1223/B1198)*100","v":0.69473684210526321},0.73101161852991248,0.67678257711096124,0.59271367143782761,0.36597594806069345,-0.85763668584680675,0.15006068630696237,0.4906389323461795,0.51090142306877073,0.27778585764565578,-8.1219452058768071E-2]
[null,"jan","feb","mar","apr","may","jun","jul","aug","sep","oct","nov","dec","ytd_avg_total"]
["chg_prv_06-05",{"$f":"B1198-B1197","v":2577},2679,2820,2522,2517,2352,2240,{"$f":"I1198-I1197","v":2198},{"$f":"J1198-J1197","v":2241},{"$f":"K1198-K1197","v":2214},{"$f":"L1198-L1197","v":2041},{"$f":"M1198-M1197","v":2131},{"$f":"O1198-O1197","v":2377.666666666657}]
["%chg_prv_06-05",{"$f":"(B1226/B1197)*100","v":1.9758784876900546},2.0412206179283023,2.135021160936684,1.8920581571563611,1.8769015092763826,1.7452084678227189,1.6753300175760069,{"$f":"(I1226/I1197)*100","v":1.6408985375249159},{"$f":"(J1226/J1197)*100","v":1.6652300558792059},{"$f":"(K1226/K1197)*100","v":1.6363394480495483},{"$f":"(L1226/L1197)*100","v":1.5023149340851041},{"$f":"(M1226/M1197)*100","v":1.5708967601636505},{"$f":"(N1226/O1197)*100","v":1.7777345784702887}]
[]
[null,"jan-dec","feb-jan","mar-feb","apr-mar","may-apr","jun-may","jul-jun","aug-jul","sep-aug","oct-sep","nov-oct","dec-nov"]
["change_07",{"$f":"B1199-M1198","v":-2792},{"$f":"C1199-B1199","v":689},{"$f":"D1199-C1199","v":893},805,942,502,-1400,109,562,739,308,-214]
["%change_07",{"$f":"(B1230/M1198)*100","v":-2.0263306867170829},{"$f":"(C1230/B1199)*100","v":0.51039305450612626},0.65815172129153987,0.5894154170571696,0.68568433771773396,0.36291867585289506,-1.00846389339096,7.9315990540294701E-2,0.40862623060479591,0.53513497856563552,0.22184607627759573,-0.15379861006302867]
[null,"jan","feb","mar","apr","may","jun","jul","aug","sep","oct","nov","dec","ytd_avg_total"]
["chg_prv_07-06",{"$f":"B1199-B1198","v":1994},{"$f":"C1199-C1198","v":1759},1673,1565,1702,1704,1480,1385,{"$f":"J1199-J1198","v":1279},{"$f":"K1199-K1198","v":1319},{"$f":"L1199-L1198","v":1245},{"$f":"M1199-M1198","v":1143},{"$f":"O1199-O1198","v":1520.6666666666861}]
["%chg_prv_07-06",{"$f":"(B1233/B1198)*100","v":1.4992481203007519},{"$f":"(C1233/C1198)*100","v":1.3134314984618141},1.2401503302372816,1.1522942804971432,1.2457821271986005,1.242698055002516,1.0886755673250212,1.0172678462566747,{"$f":"(J1233/J1198)*100","v":0.93482535065086936},{"$f":"(K1233/K1198)*100","v":0.95916111579743457},{"$f":"(L1233/L1198)*100","v":0.90284123047469877},{"$f":"(M1233/M1198)*100","v":0.82954726895330433},{"$f":"(N1233/O1198)*100","v":1.1171132344370744}]
[]
[null,"jan-dec","feb-jan","mar-feb","apr-mar","may-apr","jun-may","jul-jun","aug-jul","sep-aug","oct-sep","nov-oct","dec-nov"]
["change_08",{"$f":"B1200-M1199","v":-3033},{"$f":"C1200-B1200","v":518},589,532,570,191,-1485,{"$f":"I1200-H1200","v":-114},{"$f":"J1200-I1200","v":51},{"$f":"K1200-J1200","v":290},{"$f":"L1200-K1200","v":-683},{"$f":"M1200-L1200","v":-1034}]
["%change_08",{"$f":"(B1237/M1199)*100","v":-2.1831295121968775},{"$f":"(C1237/B1200)*100","v":0.38117383881791955},0.43177386485258107,0.38831266468617476,0.41443996073726685,0.13830056840809529,-1.0737837681494766,-8.3326633092368305E-2,3.7308792438751397E-2,0.21206891508468131,-0.49840190312176191,-0.75831469326390677]
[null,"jan","feb","mar","apr","may","jun","jul","aug","sep","oct","nov","dec","ytd_avg_total"]
["chg_prv_08-07",{"$f":"B1200-B1199","v":902},731,427,154,-218,-529,-614,-837,-1348,-1797,-2788,-3608,{"$f":"O1200-O1199","v":-793.75}]
["%chg_prv_08-07",{"$f":"(B1240/B1199)*100","v":0.66817784494125665},0.53875577633159644,0.31264643861293345,0.11209701487105204,-0.15760213413532095,-0.38105528543129841,-0.44678915772239403,-0.60857678828507866,-0.97613254547561124,-1.2943422047754529,-2.003694041381888,-2.5970099835167604,{"$f":"(N1240/O1198)*100","v":-0.58310519278896311}]
[]
[null,"jan-dec","feb-jan","mar-feb","apr-mar","may-apr","jun-may","jul-jun","aug-jul","sep-aug","oct-sep","nov-oct","dec-nov"]
["change_09",{"$f":"B1201-M1200","v":-3694},{"$f":"C1201-B1201","v":-240},-138,180,268,-187,-1600,-124,358,597,46,-545]
["%change_09",{"$f":"(B1244/M1200)*100","v":-2.7298054256176054},{"$f":"(C1244/B1201)*100","v":-0.18233341183799678},-0.10503322246493184,0.13714390204877752,0.20391237854659169,-0.14199260423547994,-1.2166375180594631,-9.5450696636132704E-2,0.2758386883022822,0.45872264568477988,3.5184066207234153E-2,-0.41670808260759862]
[null,"jan","feb","mar","apr","may","jun","jul","aug","sep","oct","nov","dec","ytd_avg_total"]
["chg_prv_09-08",{"$f":"B1201-B1200","v":-4269},-5027,-5754,-6106,-6408,-6786,-6901,-6911,-6604,-6297,-5568,-5079,{"$f":"O1201-O1200","v":-5975.833333333343}]
["%chg_prv_09-08",{"$f":"(B1247/B1200)*100","v":-3.1413728145052096},-3.6851056343190578,-4.1999080312109953,-4.4395971934416698,-4.6399478657543174,-4.9068664314224559,-5.0441850436002955,-5.0557071479257045,-4.8293210869628806,-4.5950758183861415,-4.0834586190458735,-3.7532977143237196,{"$f":"(N1247/O1200)*100","v":-4.3666526815242124}]
[]
[null,"jan-dec","feb-jan","mar-feb","apr-mar","may-apr","jun-may","jul-jun","aug-jul","sep-aug","oct-sep","nov-oct","dec-nov"]
["change_10",{"$f":"B1202-M1201","v":-2868},{"$f":"C1202-B1202","v":437},835,1124,1116,118,-1340,64,493,974,{"$f":"L1202-K1202","v":307},{"$f":"M1202-L1202","v":-303}]
["%change_10",{"$f":"(B1251/M1201)*100","v":-2.2020546367531213},{"$f":"(C1251/B1202)*100","v":0.34308414590104735},0.65330840068538709,0.8737154672512164,0.85998304692918237,9.0154791192335312E-2,-1.0228695307013527,4.9358341559723587E-2,0.38002590034533795,0.74795923852527635,{"$f":"(L1251/K1202)*100","v":0.23400282022942948},{"$f":"(M1251/L1202)*100","v":-0.2304147465437788}]
[null,"jan","feb","mar","apr","may","jun","jul","aug","sep","oct","nov","dec","ytd_avg_total"]
["chg_prv_10-09",{"$f":"B1202-B1201","v":-4253},-3576,-2603,-1659,-811,-506,-246,-58,77,454,{"$f":"L1202-L1201","v":715},{"$f":"M1202-M1201","v":957},{"$f":"O1202-O1201","v":-959.08333333332848}]
["%chg_prv_10-09",{"$f":"(B1254/M1201)*100","v":-3.2654596827444293},{"$f":"(C1254/C1201)*100","v":-2.7217304603956252},-1.9832532057387104,-1.2622784925701329,-0.61580749751323116,-0.38476161508630524,-0.1893618659071665,-4.4688949501487066E-2,5.9165232358003444E-2,0.34725143604531095,{"$f":"(L1254/L1201)*100","v":0.546690420301712},{"$f":"(M1254/M1201)*100","v":0.73478601372829044},{"$f":"(N1254/O1201)*100","v":-0.73281974187985821}]
[]
[null,"jan-dec","feb-jan","mar-feb","apr-mar","may-apr","jun-may","jul-jun","aug-jul","sep-aug","oct-sep","nov-oct","dec-nov"]
["change_11",{"$f":"B1203-M1202","v":-2861},{"$f":"C1203-B1203","v":816},907,1218,684,490,-1272,276,747,921,{"$f":"L1203-K1203","v":331},{"$f":"M1203-L1203","v":-164}]
["%change_11",{"$f":"(B1258/M1202)*100","v":-2.1806568647626889},{"$f":"(C1258/B1203)*100","v":0.63582103507924392},0.7022624154110596,0.93648364997962497,0.52102773482430553,0.37131620226881779,-0.96034064913591999,0.21039632263818694,0.56824665099614324,0.6966506308432423,{"$f":"(L1258/K1203)*100","v":0.24863849765258214},{"$f":"(M1258/L1203)*100","v":-0.12288694401150942}]
[null,"jan","feb","mar","apr","may","jun","jul","aug","sep","oct","nov","dec","ytd_avg_total"]
["chg_prv_11-10",{"$f":"B1203-B1202","v":964},1343,1415,1509,1077,1449,{"$f":"H1203-H1202","v":1517},1729,1983,1930,1954,2093,{"$f":"O1203-O1202","v":1580.2499999999854}]
["%chg_prv_11-10",{"$f":"(B1261/B1202)*100","v":0.7568263538869785},1.0507702779885926,1.0999176033456151,1.1628265392617707,0.82285347554360289,1.1060730970046717,{"$f":"(H1261/H1202)*100","v":1.1699469397828233},1.3327886038480512,1.5227958624185038,1.471092648347879,1.4859089595595505,1.5952865494401633,{"$f":"(N1261/O1202)*100","v":1.2163566388710598}]
[]
[null,"jan-dec","feb-jan","mar-feb","apr-mar","may-apr","jun-may","jul-jun","aug-jul","sep-aug","oct-sep","nov-oct","dec-nov"]
["change_12",{"$f":"B1204-M1203","v":-2635},{"$f":"C1204-B1204","v":947},{"$f":"D1204-C1204","v":901},{"$f":"E1204-D1204","v":895},{"$f":"F1204-E1204","v":813},343,{"$f":"H1204-G1204","v":-1188},385,621,867,395,-76]
["%change_12",{"$f":"(B1265/M1203)*100","v":-1.9768628274765176},{"$f":"(C1265/B1204)*100","v":0.72479851825772823},{"$f":"(D1265/C1204)*100","v":0.68462964651530345},{"$f":"(E1265/D1204)*100","v":0.67544620957699708},{"$f":"(F1265/E1204)*100","v":0.60944527736131937},0.25556391705721504,{"$f":"(H1265/G1204)*100","v":-0.88290377240702755},0.28867494451442627,0.46428865146949971,0.64521410391891287,0.2920711914286348,-5.6032321802471322E-2]
[null,"jan","feb","mar","apr","may","jun","jul","aug","sep","oct","nov","dec","ytd_avg_total"]
["chg_prv_12-11",{"$f":"B1204-B1203","v":2319},{"$f":"C1204-C1203","v":2450},{"$f":"D1204-D1203","v":2444},{"$f":"E1204-E1203","v":2121},{"$f":"F1204-F1203","v":2250},2103,{"$f":"H1204-H1203","v":2187},2296,{"$f":"J1204-J1203","v":2170},2116,{"$f":"L1204-L1203","v":2180},2268,{"$f":"O1204/O1203","v":1.0170498294319956}]
["%chg_prv_12-11",{"$f":"(B1268/B1203)*100","v":1.8069472798391748},{"$f":"(C1268/C1203)*100","v":1.8969602180342846},{"$f":"(D1268/D1203)*100","v":1.8791182598934346},{"$f":"(E1268/E1203)*100","v":1.6156430198279998},{"$f":"(F1268/F1203)*100","v":1.7050233777649797},1.5877330071799054,{"$f":"(H1268/H1203)*100","v":1.6671621652525899},1.7465787291661914,{"$f":"(J1268/J1203)*100","v":1.6414026807055762},1.5894835680751174,{"$f":"(L1268/L1203)*100","v":1.6334971825920153},1.7015274735167902,{"$f":"(N1268/O1203)*100","v":7.7344005868223455E-4}]
[]
[null,"jan-dec","feb-jan","mar-feb","apr-mar","may-apr","jun-may","jul-jun","aug-jul","sep-aug","oct-sep","nov-oct","dec-nov"]
["change_13",{"$f":"B1205-M1204","v":-2856},{"$f":"C1205-B1205","v":1048},818,943,870,386,-1192,425,610,911,1013,-270]
["%change_13",{"$f":"(B1272/M1204)*100","v":-2.1068161699616406},{"$f":"(C1272/B1205)*100","v":0.78972751386544493},0.61157963993061792,0.70075053875306537,0.64200482610524456,0.28302647690694588,-0.87154252791202691,0.31347499944680884,0.4485228158409435,0.6668521066963371,0.73660405895741077,-0.19489518969798464]
[null,"jan","feb","mar","apr","may","jun","jul","aug","sep","oct","nov","dec","ytd_avg_total"]
["chg_prv_13-12",{"$f":"B1205-B1204","v":2047},2148,2065,2113,2170,2213,2209,2249,2238,2282,2900,2706,{"$f":"O1205-1204","v":134813.25}]
["%chg_prv_13-12",{"$f":"(B1275/B1204)*100","v":1.5666975362973279},1.6321692349776602,1.5584317572921775,1.5839580209895052,1.6168329446476868,1.6446683908558517,1.6563193569671886,1.6814576121657085,1.6655007665173323,1.6873581236459358,2.1380754371995634,1.9961640601947477,{"$f":"(N1275/O1204)*100","v":100.80330644221608}]
[]
[null,"jan-dec","feb-jan","mar-feb","apr-mar","may-apr","jun-may","jul-jun","aug-jul","sep-aug","oct-sep","nov-oct","dec-nov"]
["change_14",{"$f":"B1206-M1205","v":-2815},{"$f":"C1206-B1206","v":741},955,1118,919,588,-1103,392,692,1058,510,-65]
["%change_14",{"$f":"(B1279/M1205)*100","v":-2.0359307421925852},{"$f":"(C1279/B1206)*100","v":0.54706129891990463},0.70121593045112784,0.81518370799215434,0.66466567822659384,0.42246235199448212,-0.78914231748848129,0.28268755093063336,0.49762334515068929,0.75704993810508536,0.36218761318362908,-4.5994579715682736E-2]
[null,"jan","feb","mar","apr","may","jun","jul","aug","sep","oct","nov","dec","ytd_avg_total"]
["chg_prv_14-13",{"$f":"B1206-B1205","v":2747},{"$f":"C1206-C1205","v":2440},2577,{"$f":"E1206-E1205","v":2752},2801,{"$f":"G1206-G1205","v":3003},3092,{"$f":"I1206-I1205","v":3059},3141,{"$f":"K1206-K1205","v":3288},2785,{"$f":"M1206-M1205","v":2990},{"$f":"O1206-O1205","v":2889.583333333343}]
["%chg_prv_14-13",{"$f":"(B1282/B1205)*100","v":2.0700204967446343},{"$f":"(C1282/C1205)*100","v":1.8242717865901072},1.9149884818310172,{"$f":"(E1282/E1205)*100","v":2.030801472921417},2.0537750306123197,{"$f":"(G1282/G1205)*100","v":2.1956729960736716},2.2806228195047833,{"$f":"(I1282/I1205)*100","v":2.249231628946633},2.2992123678739791,{"$f":"(K1282/K1205)*100","v":2.3908727994589993},2.0103077900329156,{"$f":"(M1282/M1205)*100","v":2.1624983727018936},{"$f":"(N1282/O1205)*100","v":2.1244241692383454}]
[]
[null,"jan-dec","feb-jan","mar-feb","apr-mar","may-apr","jun-may","jul-jun","aug-jul","sep-aug","oct-sep","nov-oct","dec-nov"]
["change_15"]
["%change_15"]
[null,"jan","feb","mar","apr","may","jun","jul","aug","sep","oct","nov","dec","ytd_avg_total"]
["chg_prv_15-14",{"$nulls":12},{"$f":"N1207-N1206","v":{"$error":"#DIV/0!"}}]
["%chg_prv_15-14",{"$nulls":12},{"$f":"(N1289/N1206)*100","v":{"$error":"#DIV/0!"}}]
[]
[]
["m_em","jan","feb","mar","apr","may","jun","jul","aug","sep","oct","nov","dec","ytd_avg_total"]
[2003,14744,14674,14654,14563,14556,14593,14432,14467,14419,14368,14339,14304,{"$f":"AVERAGE(B1294:M1294)","v":14509.416666666666},{"$f":"AVERAGE(B1294:M1294)","v":14509.416666666666}]
[2004,14171,14172,14220,14267,14337,14434,14370,14431,14385,14360,14331,14306,14315.333333333334,14315.333333333334]
[2005,14142,14168,14200,14203,14246,14323,14250,14288,14234,14224,14218,14222,14226.5,14226.5]
[2006,14093,14104,14141,14172,14187,14303,14215,14246,14192,14114,14060,14036,14155.25,14155.25]
[2007,13898,13886,13887,13875,13901,13987,13919,13927,13886,13812,13795,13776,13879.083333333334,13879.083333333334]
[2008,13619,13578,13559,13516,13530,13580,13472,13459,13376,13214,13085,12883,13405.916666666666,13405.916666666666]
[2009,12450,12266,12112,11957,11829,11791,11704,11722,11685,11607,11550,11494,{"$f":"AVERAGE(B1300:M1300)","v":11847.25},11847.25]
[2010,11357,11340,11367,11425,11499,11613,11614,11651,11638,11619,11610,11604,11528.083333333334,11528.083333333334]
[2011,11524,11542,11588,11640,11690,11801,11813,11863,11840,11826,11790,11800,11726.416666666666,11726.416666666666]
[2012,11735,11751,11822,11850,11907,12016,12029,12048,12008,11980,11939,11939,11918.666666666666,{"$f":"AVERAGE(B1303:M1303)","v":11918.666666666666}]
[2013,11860,11879,11912,11915,11961,12046,12013,12060,12037,12024,12051,12048,11983.833333333334,{"$f":"AVERAGE(B1304:M1304)","v":11983.833333333334}]
[2014,11949,11979,12018,12035,12095,12210,12218,12254,12230,12230,12239,12243,12141.666666666666,{"$f":"AVERAGE(B1305:M1305)","v":12141.666666666666}]
[2015,{"$nulls":12},{"$f":"AVERAGE(B1306:B1306)","v":{"$error":"#DIV/0!"}},{"$f":"AVERAGE(B1306:M1306)","v":{"$error":"#DIV/0!"}}]
[null,"jan-dec","feb-jan","mar-feb","apr-mar","may-apr","jun-may","jul-jun","aug-jul","sep-aug","oct-sep","nov-oct","dec-nov"]
["change_04",{"$f":"B1295-M1294","v":-133},{"$f":"C1295-B1295","v":1},48,47,70,97,-64,61,-46,-25,-29,-25]
["%change_04",{"$f":"(B1308/M1294)*100","v":-0.92980984340044737},{"$f":"(C1308/B1295)*100","v":7.056665020111496E-3},0.33869602032176122,0.33052039381153309,0.49064274199200958,0.67657110971611911,-0.44339753360121936,0.4244954766875435,-0.31875822881297206,-0.17379214459506431,-0.20194986072423399,-0.17444700300048846]
[null,"jan","feb","mar","apr","may","jun","jul","aug","sep","oct","nov","dec","ytd_avg_total"]
["chg_prv_04-03",{"$f":"B1295-B1294","v":-573},-502,-434,-296,-219,-159,-62,-36,-34,-8,-8,2,{"$f":"O1295-O1294","v":-194.08333333333212}]
["%chg_prv_04-03",{"$f":"(B1311/B1294)*100","v":-3.8863266413456317},-3.4210167643450999,-2.9616486966016105,-2.0325482386870837,-1.5045342126957957,-1.0895634893442061,-0.42960088691796011,-0.24884219257620793,-0.23579998612941258,-5.5679287305122491E-2,-5.5791896227073014E-2,1.3982102908277404E-2,{"$f":"(N1311/O1294)*100","v":-1.337637051799685}]
[]
[null,"jan-dec","feb-jan","mar-feb","apr-mar","may-apr","jun-may","jul-jun","aug-jul","sep-aug","oct-sep","nov-oct","dec-nov"]
["change_05",{"$f":"B1296-M1295","v":-164},{"$f":"C1296-B1296","v":26},32,3,43,77,-73,38,{"$f":"J1296-I1296","v":-54},{"$f":"K1296-J1296","v":-10},{"$f":"L1296-K1296","v":-6},{"$f":"M1296-L1296","v":4}]
["%change_05",{"$f":"(B1315/M1295)*100","v":-1.1463721515448064},{"$f":"(C1315/B1296)*100","v":0.18384952623391315},0.2258610954263128,2.1126760563380281E-2,0.30275293951981974,0.54050259722027238,-0.50966976192138524,0.26666666666666666,{"$f":"(J1315/I1296)*100","v":-0.37793952967525196},{"$f":"(K1315/J1296)*100","v":-7.0254320640719403E-2},{"$f":"(L1315/K1296)*100","v":-4.2182227221597299E-2},{"$f":"(M1315/L1296)*100","v":2.8133352088901394E-2}]
[null,"jan","feb","mar","apr","may","jun","jul","aug","sep","oct","nov","dec","ytd_avg_total"]
["chg_prv_05-04",{"$f":"B1296-B1295","v":-29},-4,-20,-64,-91,-111,-120,-143,-151,-136,-113,-84,{"$f":"O1296-O1295","v":-88.83333333333394}]
["%chg_prv_05-04",{"$f":"(B1318/B1295)*100","v":-0.20464328558323339},-2.8224668360146768E-2,-0.14064697609001406,-0.44858764982126587,-0.63472135035223554,-0.76901759733961483,-0.83507306889352806,-0.99092232000554359,{"$f":"(J1318/J1295)*100","v":-1.0497045533541884},{"$f":"(K1318/K1295)*100","v":-0.94707520891364905},{"$f":"(L1318/L1295)*100","v":-0.78850045356220777},{"$f":"(M1318/M1295)*100","v":-0.58716622396197393},{"$f":"(N1318/O1295)*100","v":-0.62054673310669628}]
[]
[null,"jan-dec","feb-jan","mar-feb","apr-mar","may-apr","jun-may","jul-jun","aug-jul","sep-aug","oct-sep","nov-oct","dec-nov"]
["change_06",{"$f":"B1297-M1296","v":-129},{"$f":"C1297-B1297","v":11},37,31,15,116,-88,{"$f":"I1297-H1297","v":31},{"$f":"J1297-I1297","v":-54},{"$f":"K1297-J1297","v":-78},{"$f":"L1297-K1297","v":-54},{"$f":"M1297-L1297","v":-24}]
["%change_06",{"$f":"(B1322/M1296)*100","v":-0.90704542258472787},{"$f":"(C1322/B1297)*100","v":7.8052934080749314E-2},0.26233692569483835,0.2192207057492398,0.10584250635055038,0.81764996123211386,-0.61525554079563727,{"$f":"(I1322/H1297)*100","v":0.21807949349278932},{"$f":"(J1322/I1297)*100","v":-0.37905376947915204},{"$f":"(K1322/J1297)*100","v":-0.54960541149943631},{"$f":"(L1322/K1297)*100","v":-0.38259883803315853},{"$f":"(M1322/L1297)*100","v":-0.17069701280227598}]
[null,"jan","feb","mar","apr","may","jun","jul","aug","sep","oct","nov","dec","ytd_avg_total"]
["chg_prv_06-05",{"$f":"B1297-B1296","v":-49},-64,-59,-31,-59,-20,-35,{"$f":"I1297-I1296","v":-42},{"$f":"J1297-J1296","v":-42},{"$f":"K1297-K1296","v":-110},{"$f":"L1297-L1296","v":-158},{"$f":"M1297-M1296","v":-186},{"$f":"O1297-O1296","v":-71.25}]
["%chg_prv_06-05",{"$f":"(B1325/B1296)*100","v":-0.34648564559468253},-0.4517221908526256,-0.41549295774647887,-0.21826374709568402,-0.41415134072722171,-0.13963555121133839,-0.24561403508771931,{"$f":"(I1325/I1296)*100","v":-0.29395296752519595},{"$f":"(J1325/J1296)*100","v":-0.29506814669102149},{"$f":"(K1325/K1296)*100","v":-0.77334083239595053},{"$f":"(L1325/L1296)*100","v":-1.1112674075116049},{"$f":"(M1325/M1296)*100","v":-1.3078329348896076},{"$f":"(N1325/O1296)*100","v":-0.50082592345271149}]
[]
[null,"jan-dec","feb-jan","mar-feb","apr-mar","may-apr","jun-may","jul-jun","aug-jul","sep-aug","oct-sep","nov-oct","dec-nov"]
["change_07",{"$f":"B1298-M1297","v":-138},{"$f":"C1298-B1298","v":-12},{"$f":"D1298-C1298","v":1},-12,26,86,-68,8,-41,-74,-17,-19]
["%change_07",{"$f":"(B1329/M1297)*100","v":-0.9831860929039612},{"$f":"(C1329/B1298)*100","v":-8.6343358756655636E-2},7.2014979115656054E-3,-8.6411751998271766E-2,0.18738738738738739,0.61866052801956695,-0.48616572531636515,5.7475393347223222E-2,-0.29439218783657639,-0.53291084545585476,-0.12308137851143933,-0.13773106197897789]
[null,"jan","feb","mar","apr","may","jun","jul","aug","sep","oct","nov","dec","ytd_avg_total"]
["chg_prv_07-06",{"$f":"B1298-B1297","v":-195},{"$f":"C1298-C1297","v":-218},-254,-297,-286,-316,-296,-319,{"$f":"J1298-J1297","v":-306},{"$f":"K1298-K1297","v":-302},{"$f":"L1298-L1297","v":-265},{"$f":"M1298-M1297","v":-260},{"$f":"O1298-O1297","v":-276.16666666666606}]
["%chg_prv_07-06",{"$f":"(B1332/B1297)*100","v":-1.3836656496132833},-1.5456608054452636,-1.7961954600099004,-2.0956816257408977,-2.0159300768309016,-2.2093267146752429,-2.082307421737601,-2.2392250456268425,{"$f":"(J1332/J1297)*100","v":-2.1561443066516346},{"$f":"(K1332/K1297)*100","v":-2.1397194275187754},{"$f":"(L1332/L1297)*100","v":-1.8847795163584635},{"$f":"(M1332/M1297)*100","v":-1.8523795953263038},{"$f":"(N1332/O1297)*100","v":-1.9509840283051594}]
[]
[null,"jan-dec","feb-jan","mar-feb","apr-mar","may-apr","jun-may","jul-jun","aug-jul","sep-aug","oct-sep","nov-oct","dec-nov"]
["change_08",{"$f":"B1299-M1298","v":-157},{"$f":"C1299-B1299","v":-41},-19,-43,14,50,-108,{"$f":"I1299-H1299","v":-13},{"$f":"J1299-I1299","v":-83},{"$f":"K1299-J1299","v":-162},{"$f":"L1299-K1299","v":-129},{"$f":"M1299-L1299","v":-202}]
["%change_08",{"$f":"(B1336/M1298)*100","v":-1.1396631823461092},{"$f":"(C1336/B1299)*100","v":-0.30105000367134149},-0.13993224333480631,-0.31713253189763257,0.10358094110683633,0.36954915003695493,-0.79528718703976431,-9.6496437054631831E-2,-0.61668771825544244,-1.2111244019138756,-0.97623732405024977,-1.5437523882307986]
[null,"jan","feb","mar","apr","may","jun","jul","aug","sep","oct","nov","dec","ytd_avg_total"]
["chg_prv_08-07",{"$f":"B1299-B1298","v":-279},-308,-328,-359,-371,-407,-447,-468,-510,-598,-710,-893,{"$f":"O1299-O1298","v":-473.16666666666788}]
["%chg_prv_08-07",{"$f":"(B1339/B1298)*100","v":-2.0074830910922437},-2.2180613567622065,-2.3619212212860949,-2.5873873873873876,-2.6688727429681318,-2.9098448559376564,-3.2114376032760976,-3.3603791196955557,-3.6727639348984589,-4.3295684911671009,-5.1467923160565423,-6.4822880371660858,{"$f":"(N1339/O1298)*100","v":-3.4092069000714589}]
[]
[null,"jan-dec","feb-jan","mar-feb","apr-mar","may-apr","jun-may","jul-jun","aug-jul","sep-aug","oct-sep","nov-oct","dec-nov"]
["change_09",{"$f":"B1300-M1299","v":-433},{"$f":"C1300-B1300","v":-184},-154,-155,-128,-38,-87,18,-37,-78,-57,-56]
["%change_09",{"$f":"(B1343/M1299)*100","v":-3.3610183963362572},{"$f":"(C1343/B1300)*100","v":-1.4779116465863453},-1.2555030164682863,-1.2797225891677675,-1.070502634440077,-0.3212443993575112,-0.73785090323127811,0.15379357484620643,-0.31564579423306605,-0.66752246469833121,-0.49108296717498062,-0.48484848484848486]
[null,"jan","feb","mar","apr","may","jun","jul","aug","sep","oct","nov","dec","ytd_avg_total"]
["chg_prv_09-08",{"$f":"B1300-B1299","v":-1169},-1312,-1447,-1559,-1701,-1789,-1768,-1737,-1691,-1607,-1535,-1389,{"$f":"O1300-O1299","v":-1558.6666666666661}]
["%chg_prv_09-08",{"$f":"(B1346/B1299)*100","v":-8.5835964461414207},-9.6626896450139927,-10.671878457113356,-11.534477656111275,-12.572062084257208,-13.17378497790869,-13.123515439429928,-12.905862248309683,-12.642045454545455,-12.161344029060087,-11.730989682842949,-10.781650236746101,{"$f":"(N1346/O1299)*100","v":-11.62670711315277}]
[]
[null,"jan-dec","feb-jan","mar-feb","apr-mar","may-apr","jun-may","jul-jun","aug-jul","sep-aug","oct-sep","nov-oct","dec-nov"]
["change_10",{"$f":"B1301-M1300","v":-137},{"$f":"C1301-B1301","v":-17},27,58,74,114,1,37,-13,-19,{"$f":"L1301-K1301","v":-9},{"$f":"M1301-L1301","v":-6}]
["%change_10",{"$f":"(B1350/M1300)*100","v":-1.1919262223768923},{"$f":"(C1350/B1301)*100","v":-0.14968741745179184},0.23809523809523811,0.51024896630597349,0.64770240700218817,0.99139055570049561,8.611039352449841E-3,0.31858102290339246,-0.11157840528709982,-0.16325829180271523,{"$f":"(L1350/K1301)*100","v":-7.7459333849728904E-2},{"$f":"(M1350/L1301)*100","v":-5.1679586563307491E-2}]
[null,"jan","feb","mar","apr","may","jun","jul","aug","sep","oct","nov","dec","ytd_avg_total"]
["chg_prv_10-09",{"$f":"B1301-B1300","v":-1093},-926,-745,-532,-330,-178,-90,-71,-47,12,{"$f":"L1301-L1300","v":60},{"$f":"M1301-M1300","v":110},{"$f":"O1301-O1300","v":-319.16666666666606}]
["%chg_prv_10-09",{"$f":"(B1353/M1300)*100","v":-9.5093092048025056},{"$f":"(C1353/C1300)*100","v":-7.5493233327898253},-6.1509247027741081,-4.4492765743915701,-2.7897539944204923,-1.5096259859214656,-0.76896787423103208,-0.60569868623101863,-0.40222507488232773,0.10338588782631171,{"$f":"(L1353/L1300)*100","v":0.51948051948051943},{"$f":"(M1353/M1300)*100","v":0.9570210544631983},{"$f":"(N1353/O1300)*100","v":-2.6940147854283993}]
[]
[null,"jan-dec","feb-jan","mar-feb","apr-mar","may-apr","jun-may","jul-jun","aug-jul","sep-aug","oct-sep","nov-oct","dec-nov"]
["change_11",{"$f":"B1302-M1301","v":-80},{"$f":"C1302-B1302","v":18},46,52,50,111,12,50,-23,-14,-36,10]
["%change_11",{"$f":"(B1357/M1301)*100","v":-0.6894174422612892},{"$f":"(C1357/B1302)*100","v":0.15619576535925028},0.39854444636977993,0.44874007594062826,0.42955326460481102,0.94952951240376382,0.10168629777137532,0.42326250740709387,-0.19388013150130656,-0.11824324324324326,-0.30441400304414001,8.4817642069550461E-2]
[null,"jan","feb","mar","apr","may","jun","jul","aug","sep","oct","nov","dec","ytd_avg_total"]
["chg_prv_11-10",{"$f":"B1302-B1301","v":167},202,221,215,191,188,{"$f":"H1302-H1301","v":199},212,202,207,180,196,{"$f":"O1302-O1301","v":198.33333333333212}]
["%chg_prv_11-10",{"$f":"(B1360/B1301)*100","v":1.4704587479087787},1.781305114638448,1.9442245095451747,1.8818380743982492,1.6610140012174972,1.6188753982605701,{"$f":"(H1360/H1301)*100","v":1.713449285345273},1.8195863016050127,1.7356934181130779,1.7815646785437647,1.5503875968992249,1.6890727335401585,{"$f":"(N1360/O1301)*100","v":1.7204363257841253}]
[]
[null,"jan-dec","feb-jan","mar-feb","apr-mar","may-apr","jun-may","jul-jun","aug-jul","sep-aug","oct-sep","nov-oct","dec-nov"]
["change_12",{"$f":"B1303-M1302","v":-65},{"$f":"C1303-B1303","v":16},{"$f":"D1303-C1303","v":71},{"$f":"E1303-D1303","v":28},{"$f":"F1303-E1303","v":57},109,13,19,-40,-28,-41,0]
["%change_12",{"$f":"(B1364/M1302)*100","v":-0.55084745762711862},{"$f":"(C1364/B1303)*100","v":0.13634426927993182},{"$f":"(D1364/C1303)*100","v":0.60420389754063486},{"$f":"(E1364/D1303)*100","v":0.23684655726611403},{"$f":"(F1364/E1303)*100","v":0.48101265822784811},0.91542789955488357,0.10818908122503328,0.15795161692576273,-0.33200531208499334,-0.23317788141239171,-0.34223706176961605,0]
[null,"jan","feb","mar","apr","may","jun","jul","aug","sep","oct","nov","dec","ytd_avg_total"]
["chg_prv_12-11",{"$f":"B1303-B1302","v":211},{"$f":"C1303-C1302","v":209},{"$f":"D1303-D1302","v":234},{"$f":"E1303-E1302","v":210},{"$f":"F1303-F1302","v":217},215,{"$f":"H1303-H1302","v":216},185,{"$f":"J1303-J1302","v":168},154,{"$f":"L1303-L1302","v":149},139,{"$f":"O1303/O1302","v":1.0163946076167059}]
["%chg_prv_12-11",{"$f":"(B1367/B1302)*100","v":1.8309614717112115},{"$f":"(C1367/C1302)*100","v":1.8107780280713914},{"$f":"(D1367/D1302)*100","v":2.019330341732827},{"$f":"(E1367/E1302)*100","v":1.804123711340206},{"$f":"(F1367/F1302)*100","v":1.8562874251497008},1.821879501737141,{"$f":"(H1367/H1302)*100","v":1.8284940319986458},1.5594706229452919,{"$f":"(J1367/J1302)*100","v":1.4189189189189191},1.3022154574665989,{"$f":"(L1367/L1302)*100","v":1.263782866836302},1.1779661016949152,{"$f":"(N1367/O1302)*100","v":8.6675634723597517E-3}]
[]
[null,"jan-dec","feb-jan","mar-feb","apr-mar","may-apr","jun-may","jul-jun","aug-jul","sep-aug","oct-sep","nov-oct","dec-nov"]
["change_13",{"$f":"B1304-M1303","v":-79},{"$f":"C1304-B1304","v":19},33,3,46,85,-33,47,-23,-13,27,-3]
["%change_13",{"$f":"(B1371/M1303)*100","v":-0.66169695954435048},{"$f":"(C1371/B1304)*100","v":0.16020236087689713},0.27780116171394903,2.5184687709872394E-2,0.38606798153587912,0.71064292283253905,-0.27394985887431511,0.39124282027803209,-0.19071310116086237,-0.10800033230871479,0.22455089820359281,-2.4894199651481205E-2]
[null,"jan","feb","mar","apr","may","jun","jul","aug","sep","oct","nov","dec","ytd_avg_total"]
["chg_prv_13-12",{"$f":"B1304-B1303","v":125},128,90,65,54,30,-16,12,29,44,112,109,{"$f":"O1304-O1303","v":65.166666666667879}]
["%chg_prv_13-12",{"$f":"(B1374/B1303)*100","v":1.0651896037494673},1.0892689983831163,0.76129250549822358,0.54852320675105493,0.45351473922902497,0.24966711051930759,-0.13301188793748442,9.9601593625498003E-2,0.24150566289140571,0.36727879799666113,0.93810201859452214,0.91297428595359753,{"$f":"(N1374/O1303)*100","v":0.54676138270501073}]
[]
[null,"jan-dec","feb-jan","mar-feb","apr-mar","may-apr","jun-may","jul-jun","aug-jul","sep-aug","oct-sep","nov-oct","dec-nov"]
["change_14",{"$f":"B1305-M1304","v":-99},{"$f":"C1305-B1305","v":30},39,17,60,115,8,36,-24,0,9,4]
["%change_14",{"$f":"(B1378/M1304)*100","v":-0.8217131474103585},{"$f":"(C1378/B1305)*100","v":0.25106703489831783},0.32556974705735037,0.14145448493925777,0.49854590776900709,0.95080611823067396,6.5520065520065521E-2,0.29464724177443119,-0.19585441488493552,0,7.3589533932951756E-2,3.2682408693520709E-2]
[null,"jan","feb","mar","apr","may","jun","jul","aug","sep","oct","nov","dec","ytd_avg_total"]
["chg_prv_14-13",{"$f":"B1305-B1304","v":89},{"$f":"C1305-C1304","v":100},106,{"$f":"E1305-E1304","v":120},134,{"$f":"G1305-G1304","v":164},205,{"$f":"I1305-I1304","v":194},193,{"$f":"K1305-K1304","v":206},188,{"$f":"M1305-M1304","v":195},{"$f":"O1305-O1304","v":157.83333333333212}]
["%chg_prv_14-13",{"$f":"(B1381/B1304)*100","v":0.75042158516020241},{"$f":"(C1381/C1304)*100","v":0.84182170216348173},0.88985896574882462,{"$f":"(E1381/E1304)*100","v":1.0071338648762065},1.1203076665830616,{"$f":"(G1381/G1304)*100","v":1.3614477834965963},1.7064846416382253,{"$f":"(I1381/I1304)*100","v":1.6086235489220564},1.6033895488909198,{"$f":"(K1381/K1304)*100","v":1.7132401862940787},1.5600365114928221,{"$f":"(M1381/M1304)*100","v":1.6185258964143425},{"$f":"(N1381/O1304)*100","v":1.3170521396881807}]
[]
[null,"jan-dec","feb-jan","mar-feb","apr-mar","may-apr","jun-may","jul-jun","aug-jul","sep-aug","oct-sep","nov-oct","dec-nov"]
["change_15"]
["%change_15"]
[null,"jan","feb","mar","apr","may","jun","jul","aug","sep","oct","nov","dec","ytd_avg_total"]
["chg_prv_15-14",{"$nulls":12},{"$f":"N1306-N1305","v":{"$error":"#DIV/0!"}}]
["%chg_prv_15-14",{"$nulls":12},{"$f":"(N1388/N1305)*100","v":{"$error":"#DIV/0!"}}]
[]
[]
["rt_em","jan","feb","mar","apr","may","jun","jul","aug","sep","oct","nov","dec","ytd_avg_total"]
[2003,14854.8,14648.1,14648.2,14721.7,14821.8,14885.1,14856,14893.8,14860.8,15005.8,15310.9,15500.7,{"$f":"AVERAGE(B1393:M1393)","v":14917.308333333334},{"$f":"AVERAGE(B1393:M1393)","v":14917.308333333334}]
[2004,14857.1,14689.3,14770.9,14858.1,14982.6,15077.3,15046.7,15049.9,14991.9,15149.9,15521.7,15702.4,15058.15,15058.15]
[2005,15046.8,14907.4,14950.9,15063.8,15189.6,15295.1,15322.6,15343.6,15221.7,15344,15736.7,15933.3,15279.625000000002,15279.625000000002]
[2006,15240.5,15062.1,15145.1,15166.2,15248.8,15327.4,15321.2,15331.9,15230.2,15380.8,15808.1,15977.1,15353.283333333333,15353.283333333333]
[2007,15337.1,15176.5,15295.4,15321.7,15457.6,15506.1,15508.8,15532.7,15435.5,15523.4,15988.8,16156.4,15520,15520]
[2008,15458.3,15225.6,15279,15241.8,15296.3,15337.1,15302.4,15265.1,15093.8,15132.4,15346,15418.7,15283.041666666666,15283.041666666666]
[2009,14682.7,14433.5,14404.8,14394.1,14490,14538,14483.6,14489.6,14362,14407.1,14724.2,14857.8,{"$f":"AVERAGE(B1399:M1399)","v":14522.283333333335},14522.283333333335]
[2010,14285,14117.3,14203.5,14263.7,14374.5,14436.2,14439.5,14457.9,14355.2,14505,14844.2,15002.8,14440.4,14440.4]
[2011,14443.1,14276.6,14343.3,14483.2,14582.9,14676.6,14712,14711.3,14611.7,14745.9,15136.5,15291,14667.841666666667,14667.841666666667]
[2012,14728.9,14514.2,14574.4,14673.6,14787.3,14836.5,14838.5,14854.3,14786.5,14935.9,15430.3,15538.3,14874.891666666665,{"$f":"AVERAGE(B1402:M1402)","v":14874.891666666665}]
[2013,14944,14766.7,14815.7,14906.9,15029.7,15143.3,15192.4,15225.7,15144.1,15303.3,15645.5,15828.9,15162.183333333332,{"$f":"AVERAGE(B1403:M1403)","v":15162.183333333332}]
[2014,15159.9,14940.8,15004,15127.4,15232.2,15353.6,15387,15379.3,15298.9,15480.9,15915.1,16084.1,15363.6,{"$f":"AVERAGE(B1404:M1404)","v":15363.6}]
[2015,{"$nulls":12},{"$f":"AVERAGE(B1405:B1405)","v":{"$error":"#DIV/0!"}},{"$f":"AVERAGE(B1405:M1405)","v":{"$error":"#DIV/0!"}}]
[null,"jan-dec","feb-jan","mar-feb","apr-mar","may-apr","jun-may","jul-jun","aug-jul","sep-aug","oct-sep","nov-oct","dec-nov"]
["change_04",{"$f":"B1394-M1393","v":-643.60000000000036},{"$f":"C1394-B1394","v":-167.80000000000109},81.600000000000364,87.200000000000728,124.5,94.699999999998909,-30.599999999998545,3.1999999999989086,-58,158,371.80000000000109,180.69999999999891]
["%change_04",{"$f":"(B1407/M1393)*100","v":-4.1520705516525087},{"$f":"(C1407/B1394)*100","v":-1.1294263348836657},0.55550638900424376,0.59034994482394931,0.83792678740888804,0.6320665305087162,-0.20295410982071421,2.1267121694450667E-2,-0.38538462049581723,1.0539024406512851,2.454141611495793,1.1641766043667825]
[null,"jan","feb","mar","apr","may","jun","jul","aug","sep","oct","nov","dec","ytd_avg_total"]
["chg_prv_04-03",{"$f":"B1394-B1393","v":2.3000000000010914},41.199999999998909,122.69999999999891,136.39999999999964,160.80000000000109,192.19999999999891,190.70000000000073,156.10000000000036,131.10000000000036,144.10000000000036,210.80000000000109,201.69999999999891,{"$f":"O1394-O1393","v":140.84166666666533}]
["%chg_prv_04-03",{"$f":"(B1410/B1393)*100","v":1.5483210814020326E-2},0.28126514701564642,0.83764558102701281,0.92652343139718663,1.0848884750840053,1.2912241100160489,1.2836564351103978,1.0480871235010565,0.88218669250646253,0.96029535246371645,1.3767969224539454,1.3012315572845026,{"$f":"(N1410/O1393)*100","v":0.94414932988915212}]
[]
[null,"jan-dec","feb-jan","mar-feb","apr-mar","may-apr","jun-may","jul-jun","aug-jul","sep-aug","oct-sep","nov-oct","dec-nov"]
["change_05",{"$f":"B1395-M1394","v":-655.60000000000036},{"$f":"C1395-B1395","v":-139.39999999999964},43.5,112.89999999999964,125.80000000000109,105.5,27.5,21,{"$f":"J1395-I1395","v":-121.89999999999964},{"$f":"K1395-J1395","v":122.29999999999927},{"$f":"L1395-K1395","v":392.70000000000073},{"$f":"M1395-L1395","v":196.59999999999854}]
["%change_05",{"$f":"(B1414/M1394)*100","v":-4.1751579376401082},{"$f":"(C1414/B1395)*100","v":-0.92644283169843189},0.29180138723050297,0.75513848664628647,0.83511464570693372,0.69455416864170216,0.17979614386306728,0.13705245846005246,{"$f":"(J1414/I1395)*100","v":-0.7944680518261662},{"$f":"(K1414/J1395)*100","v":0.80345822082946894},{"$f":"(L1414/K1395)*100","v":2.5593065693430703},{"$f":"(M1414/L1395)*100","v":1.2493089402479463}]
[null,"jan","feb","mar","apr","may","jun","jul","aug","sep","oct","nov","dec","ytd_avg_total"]
["chg_prv_05-04",{"$f":"B1395-B1394","v":189.69999999999891},218.10000000000036,180,205.69999999999891,207,217.80000000000109,275.89999999999964,293.70000000000073,229.80000000000109,194.10000000000036,215,230.89999999999964,{"$f":"O1395-O1394","v":221.47500000000218}]
["%chg_prv_05-04",{"$f":"(B1417/B1394)*100","v":1.2768306062421262},1.4847542088458971,1.2186122714255734,1.3844300415261634,1.3816026590845381,1.4445557228416301,1.8336246485940413,1.9515079834417555,{"$f":"(J1417/J1394)*100","v":1.5328277269725725},{"$f":"(K1417/K1394)*100","v":1.2811965755549566},{"$f":"(L1417/L1394)*100","v":1.3851575536184824},{"$f":"(M1417/M1394)*100","v":1.4704758508253493},{"$f":"(N1417/O1394)*100","v":1.4707982056228832}]
[]
[null,"jan-dec","feb-jan","mar-feb","apr-mar","may-apr","jun-may","jul-jun","aug-jul","sep-aug","oct-sep","nov-oct","dec-nov"]
["change_06",{"$f":"B1396-M1395","v":-692.79999999999927},{"$f":"C1396-B1396","v":-178.39999999999964},83,21.100000000000364,82.599999999998545,78.600000000000364,-6.1999999999989086,{"$f":"I1396-H1396","v":10.699999999998909},{"$f":"J1396-I1396","v":-101.69999999999891},{"$f":"K1396-J1396","v":150.59999999999854},{"$f":"L1396-K1396","v":427.30000000000109},{"$f":"M1396-L1396","v":169}]
["%change_06",{"$f":"(B1421/M1395)*100","v":-4.3481262513101449},{"$f":"(C1421/B1396)*100","v":-1.1705652701682991},0.5510519781438179,0.13931898765937739,0.54463214252745273,0.51545039609674448,-4.0450435168384126E-2,{"$f":"(I1421/H1396)*100","v":6.983787170716986E-2},{"$f":"(J1421/I1396)*100","v":-0.66332287583403826},{"$f":"(K1421/J1396)*100","v":0.98882483486755612},{"$f":"(L1421/K1396)*100","v":2.778138978466667},{"$f":"(M1421/L1396)*100","v":1.0690721845130029}]
[null,"jan","feb","mar","apr","may","jun","jul","aug","sep","oct","nov","dec","ytd_avg_total"]
["chg_prv_06-05",{"$f":"B1396-B1395","v":193.70000000000073},154.70000000000073,194.20000000000073,102.40000000000146,59.199999999998909,32.299999999999272,-1.3999999999996362,{"$f":"I1396-I1395","v":-11.700000000000728},{"$f":"J1396-J1395","v":8.5},{"$f":"K1396-K1395","v":36.799999999999272},{"$f":"L1396-L1395","v":71.399999999999636},{"$f":"M1396-M1395","v":43.800000000001091},{"$f":"O1396-O1395","v":73.658333333331029}]
["%chg_prv_06-05",{"$f":"(B1424/B1395)*100","v":1.2873169045910142},1.0377396460818165,1.2989184597582804,0.67977535548800072,0.389740348659602,0.21117874351916149,-9.1368305640011239E-3,{"$f":"(I1424/I1395)*100","v":-7.6253291274542653E-2},{"$f":"(J1424/J1395)*100","v":5.5841331782915178E-2},{"$f":"(K1424/K1395)*100","v":0.239833159541184},{"$f":"(L1424/L1395)*100","v":0.45371647168720014},{"$f":"(M1424/M1395)*100","v":0.27489597258572357},{"$f":"(N1424/O1395)*100","v":0.48206898620438016}]
[]
[null,"jan-dec","feb-jan","mar-feb","apr-mar","may-apr","jun-may","jul-jun","aug-jul","sep-aug","oct-sep","nov-oct","dec-nov"]
["change_07",{"$f":"B1396-M1395","v":-692.79999999999927},{"$f":"C1396-B1396","v":-178.39999999999964},{"$f":"D1396-C1396","v":83},21.100000000000364,82.599999999998545,78.600000000000364,-6.1999999999989086,10.699999999998909,-101.69999999999891,150.59999999999854,427.30000000000109,169]
["%change_07",{"$f":"(B1428/M1395)*100","v":-4.3481262513101449},{"$f":"(C1428/B1396)*100","v":-1.1705652701682991},0.5510519781438179,0.13931898765937739,0.54463214252745273,0.51545039609674448,-4.0450435168384126E-2,6.983787170716986E-2,-0.66332287583403826,0.98882483486755612,2.778138978466667,1.0690721845130029]
[null,"jan","feb","mar","apr","may","jun","jul","aug","sep","oct","nov","dec","ytd_avg_total"]
["chg_prv_07-06",{"$f":"B1396-B1395","v":193.70000000000073},{"$f":"C1396-C1395","v":154.70000000000073},194.20000000000073,102.40000000000146,59.199999999998909,32.299999999999272,-1.3999999999996362,-11.700000000000728,{"$f":"J1396-J1395","v":8.5},{"$f":"K1396-K1395","v":36.799999999999272},{"$f":"L1396-L1395","v":71.399999999999636},{"$f":"M1396-M1395","v":43.800000000001091},{"$f":"O1397-O1396","v":166.71666666666715}]
["%chg_prv_07-06",{"$f":"(B1431/B1395)*100","v":1.2873169045910142},1.0377396460818165,1.2989184597582804,0.67977535548800072,0.389740348659602,0.21117874351916149,-9.1368305640011239E-3,-7.6253291274542653E-2,{"$f":"(J1431/J1395)*100","v":5.5841331782915178E-2},{"$f":"(K1431/K1395)*100","v":0.239833159541184},{"$f":"(L1431/L1395)*100","v":0.45371647168720014},{"$f":"(M1431/M1395)*100","v":0.27489597258572357},{"$f":"(N1431/O1396)*100","v":1.0858697976654321}]
[]
["hcsa_em","jan","feb","mar","apr","may","jun","jul","aug","sep","oct","nov","dec","ytd_avg_total"]
[2003,13732,13765,13814.7,13861.6,13892.9,13924.8,13879.7,13893.8,13905,13984.7,14015.1,14041.3,{"$f":"AVERAGE(B1435:M1435)","v":13892.550000000001},{"$f":"AVERAGE(B1435:M1435)","v":13892.550000000001}]
[2004,13993.8,14015.8,14083.9,14143.7,14181.9,14216.6,14203.7,14214,14219.6,14298.5,14345,14365.5,{"$f":"AVERAGE(B1436:M1436)","v":14190.166666666666},{"$f":"AVERAGE(B1436:M1436)","v":14190.166666666666}]
[2005,14316.1,14347.6,14394.9,14450.9,14504.8,14566.2,14557.3,14581.1,14599.7,14661.7,14720.6,14734.1,{"$f":"AVERAGE(B1437:M1437)","v":14536.250000000002},{"$f":"AVERAGE(B1437:M1437)","v":14536.250000000002}]
[2006,14710.4,14749.4,14810.4,14843.4,14888.1,14935.7,14906.7,14938,14963.1,15042.3,15103.2,15149.6,{"$f":"AVERAGE(B1438:M1438)","v":14920.025},{"$f":"AVERAGE(B1438:M1438)","v":14920.025}]
[2007,null,{"$error":"#REF!"},{"$error":"#REF!"},{"$error":"#REF!"},{"$error":"#REF!"},{"$error":"#REF!"},{"$error":"#REF!"},{"$error":"#REF!"},{"$error":"#REF!"},{"$error":"#REF!"},{"$error":"#REF!"},{"$error":"#REF!"},{"$f":"AVERAGE(B1439:I1439)","v":{"$error":"#REF!"}},{"$f":"AVERAGE(B1439:M1439)","v":{"$error":"#REF!"}}]
[]
[null,"jan-dec","feb-jan","mar-feb","apr-mar","may-apr","jun-may","jul-jun","aug-jul","sep-aug","oct-sep","nov-oct","dec-nov"]
["change_04",{"$f":"B1436-M1435","v":-47.5},{"$f":"C1436-B1436","v":22},68.100000000000364,59.800000000001091,38.199999999998909,34.700000000000728,-12.899999999999636,10.299999999999272,5.6000000000003638,78.899999999999636,46.5,20.5]
["%change_04",{"$f":"(B1442/M1435)*100","v":-0.33828776537784966},{"$f":"(C1442/B1436)*100","v":0.1572124798124884},0.48588022089356558,0.42459830018674583,0.27008491413137231,0.24467807557521015,-9.073899525906079E-2,7.2516316171133383E-2,3.9397776839738032E-2,0.55486792877436519,0.32520893800048956,0.14290693621470896]
[null,"jan","feb","mar","apr","may","jun","jul","aug","sep","oct","nov","dec","ytd_avg_total"]
["chg_prv_04-03",{"$f":"B1436-B1435","v":261.79999999999927},250.79999999999927,269.19999999999891,282.10000000000036,289,291.80000000000109,324,320.20000000000073,314.60000000000036,313.79999999999927,329.89999999999964,324.20000000000073,{"$f":"O1436-O1435","v":297.61666666666497}]
["%chg_prv_04-03",{"$f":"(B1445/B1435)*100","v":1.9064957762889547},1.8220123501634526,1.9486489029801508,2.035118601027301,2.080199238459933,2.0955417672067185,2.3343444022565327,2.3046250845701013,2.2624955052139546,2.2438808126023386,2.353889733216314,2.3089030217999809,{"$f":"(N1445/O1435)*100","v":2.1422752962319009}]
[]
[null,"jan-dec","feb-jan","mar-feb","apr-mar","may-apr","jun-may","jul-jun","aug-jul","sep-aug","oct-sep","nov-oct","dec-nov"]
["change_05",{"$f":"B1437-M1436","v":-49.399999999999636},{"$f":"C1437-B1437","v":31.5},47.299999999999272,56,53.899999999999636,61.400000000001455,-8.9000000000014552,23.800000000001091,{"$f":"J1437-I1437","v":18.600000000000364},{"$f":"K1437-J1437","v":62},{"$f":"L1437-K1437","v":58.899999999999636},{"$f":"M1437-L1437","v":13.5}]
["%change_05",{"$f":"(B1449/M1436)*100","v":-0.34387943336465587},{"$f":"(C1449/B1437)*100","v":0.22003199195311571},0.32967186149599426,0.38902666916755241,0.37298714958929641,0.42330814626883145,-6.1100355617810104E-2,0.16349185631951729,{"$f":"(J1449/I1437)*100","v":0.1275623924120976},{"$f":"(K1449/J1437)*100","v":0.42466626026562182},{"$f":"(L1449/K1437)*100","v":0.40172694844390239},{"$f":"(M1449/L1437)*100","v":9.1708218415010256E-2}]
[null,"jan","feb","mar","apr","may","jun","jul","aug","sep","oct","nov","dec","ytd_avg_total"]
["chg_prv_05-04",{"$f":"B1437-B1436","v":322.30000000000109},331.80000000000109,311,307.19999999999891,322.89999999999964,349.60000000000036,353.59999999999854,367.10000000000036,380.10000000000036,363.20000000000073,375.60000000000036,368.60000000000036,{"$f":"O1437-O1436","v":346.08333333333576}]
["%chg_prv_05-04",{"$f":"(B1452/B1436)*100","v":2.3031628292529627},2.3673283009175439,2.2081951732119656,2.1719917701874256,2.2768458387099026,2.4590971118270217,2.4894921745742202,2.5826649781905191,{"$f":"(J1452/J1436)*100","v":2.6730709724605499},{"$f":"(K1452/K1436)*100","v":2.5401265867049041},{"$f":"(L1452/L1436)*100","v":2.6183339142558411},{"$f":"(M1452/M1436)*100","v":2.5658696181824538},{"$f":"(N1452/O1436)*100","v":2.4388954792638264}]
[]
[null,"jan-dec","feb-jan","mar-feb","apr-mar","may-apr","jun-may","jul-jun","aug-jul","sep-aug","oct-sep","nov-oct","dec-nov"]
["change_06",{"$f":"B1438-M1437","v":-23.700000000000728},{"$f":"C1438-B1438","v":39},61,33,44.700000000000728,47.600000000000364,-29,{"$f":"I1438-H1438","v":31.299999999999272},{"$f":"J1438-I1438","v":25.100000000000364},{"$f":"K1438-J1438","v":79.199999999998909},{"$f":"L1438-K1438","v":60.900000000001455},{"$f":"M1438-L1438","v":46.399999999999636}]
["%change_06",{"$f":"(B1456/M1437)*100","v":-0.16085135841348114},{"$f":"(C1456/B1438)*100","v":0.26511855557972591},0.41357614547032417,0.22281639928698754,0.30114394276244477,0.31971843284233964,-0.19416565678207248,{"$f":"(I1456/H1438)*100","v":0.20997269684101291},{"$f":"(J1456/I1438)*100","v":0.16802784844022201},{"$f":"(K1456/J1438)*100","v":0.52930208312447891},{"$f":"(L1456/K1438)*100","v":0.40485829959515141},{"$f":"(M1456/L1438)*100","v":0.30721966205836931}]
[null,"jan","feb","mar","apr","may","jun","jul","aug","sep","oct","nov","dec","ytd_avg_total"]
["chg_prv_06-05",{"$f":"B1438-B1437","v":394.29999999999927},401.79999999999927,415.5,392.5,383.30000000000109,369.5,349.40000000000146,{"$f":"I1438-I1437","v":356.89999999999964},{"$f":"J1438-J1437","v":363.39999999999964},{"$f":"K1438-K1437","v":380.59999999999854},{"$f":"L1438-L1437","v":382.60000000000036},{"$f":"M1438-M1437","v":415.5},{"$f":"O1438-O1437","v":383.77499999999782}]
["%chg_prv_06-05",{"$f":"(B1459/B1437)*100","v":2.7542417278448688},2.8004683710167502,2.8864389471271075,2.7160938073061196,2.6425734929126987,2.5366945394131619,2.4001703612620573,{"$f":"(I1459/I1437)*100","v":2.4476891318213281},{"$f":"(J1459/J1437)*100","v":2.4890922416214005},{"$f":"(K1459/K1437)*100","v":2.5958790590449849},{"$f":"(L1459/L1437)*100","v":2.5990788418950337},{"$f":"(M1459/M1437)*100","v":2.8199890050970198},{"$f":"(N1459/O1437)*100","v":2.6401238283601187}]
[]
[null,"jan-dec","feb-jan","mar-feb","apr-mar","may-apr","jun-may","jul-jun","aug-jul","sep-aug","oct-sep","nov-oct","dec-nov"]
["change_07",{"$f":"B1439-M1438","v":-15149.6},{"$f":"C1439-B1439","v":{"$error":"#REF!"}},{"$f":"D1439-C1439","v":{"$error":"#REF!"}},{"$error":"#REF!"},{"$error":"#REF!"},{"$error":"#REF!"},{"$error":"#REF!"},{"$error":"#REF!"},{"$f":"J1445-I1445","v":-5.6000000000003638},{"$f":"K1445-J1445","v":-0.80000000000109139},{"$f":"L1445-K1445","v":16.100000000000364},{"$f":"M1445-L1445","v":-5.6999999999989086}]
["%change_07",{"$f":"(B1463/M1438)*100","v":-100},{"$f":"(C1463/B1439)*100","v":{"$error":"#REF!"}},{"$error":"#REF!"},{"$error":"#REF!"},{"$error":"#REF!"},{"$error":"#REF!"},{"$error":"#REF!"},{"$error":"#REF!"},{"$f":"(J1463/I1445)*100","v":-1.7489069331668803},{"$f":"(K1463/J1445)*100","v":-0.25429116338241908},{"$f":"(L1463/K1445)*100","v":5.1306564690887191},{"$f":"(M1463/L1445)*100","v":-1.7277963019093407}]
[null,"jan","feb","mar","apr","may","jun","jul","aug","sep","oct","nov","dec","ytd_avg_total"]
["chg_prv_07-06",{"$f":"B1439-B1438","v":-14710.4},{"$f":"C1439-C1438","v":{"$error":"#REF!"}},{"$error":"#REF!"},{"$error":"#REF!"},{"$error":"#REF!"},{"$error":"#REF!"},{"$error":"#REF!"},{"$error":"#REF!"},{"$f":"J1445-J1444","v":{"$error":"#VALUE!"}},{"$f":"K1445-K1444","v":{"$error":"#VALUE!"}},{"$f":"L1445-L1444","v":{"$error":"#VALUE!"}},{"$f":"M1445-M1444","v":{"$error":"#VALUE!"}},{"$f":"O1445-O1444","v":0}]
["%chg_prv_07-06",{"$f":"(B1466/B1438)*100","v":-100},{"$error":"#REF!"},{"$error":"#REF!"},{"$error":"#REF!"},{"$error":"#REF!"},{"$error":"#REF!"},{"$error":"#REF!"},{"$error":"#REF!"},{"$f":"(J1466/J1444)*100","v":{"$error":"#VALUE!"}},{"$f":"(K1466/K1444)*100","v":{"$error":"#VALUE!"}},{"$f":"(L1466/L1444)*100","v":{"$error":"#VALUE!"}},{"$f":"(M1466/M1444)*100","v":{"$error":"#VALUE!"}},{"$f":"(N1466/O1444)*100","v":{"$error":"#DIV/0!"}}]
[]
[null,"jan-dec","feb-jan","mar-feb","apr-mar","may-apr","jun-may","jul-jun","aug-jul","sep-aug","oct-sep","nov-oct","dec-nov"]
["change_08",{"$f":"B1398-M1397","v":-698.10000000000036},{"$f":"C1398-B1398","v":-232.69999999999891},53.399999999999636,-37.200000000000728,54.5,40.800000000001091,-34.700000000000728,{"$f":"I1398-H1398","v":-37.299999999999272},{"$f":"J1398-I1398","v":-171.30000000000109},{"$f":"K1398-J1398","v":38.600000000000364},{"$f":"L1398-K1398","v":213.60000000000036},{"$f":"M1398-L1398","v":72.700000000000728}]
["%change_08",{"$f":"(B1470/M1397)*100","v":-4.3208883167042185},{"$f":"(C1470/B1398)*100","v":-1.5053401732402587},0.35072509457755119,-0.24347143137640376,0.35756931596005725,0.26673117028301674,-0.22624876932406207,-0.24375261396904585,-1.1221675586796096,0.25573414249559667,1.4115407998731224,0.47373908510361479]
[null,"jan","feb","mar","apr","may","jun","jul","aug","sep","oct","nov","dec","ytd_avg_total"]
["chg_prv_08-07",{"$f":"B1398-B1397","v":121.19999999999891},49.100000000000364,-16.399999999999636,-79.900000000001455,-161.30000000000109,-169,-206.39999999999964,-267.60000000000036,-341.70000000000073,-391,-642.79999999999927,-737.69999999999891,{"$f":"O1398-O1397","v":-236.95833333333394}]
["%chg_prv_08-07",{"$f":"(B1473/B1397)*100","v":0.79024065827306922},0.32352650479359774,-0.10722177909698104,-0.52148260310540906,-1.0434996377186696,-1.0898936547552254,-1.3308573197152562,-1.7228170247284784,-2.2137280943280149,-2.5187781027352254,-4.0203142199539634,-4.5659924240548575,{"$f":"(N1473/O1397)*100","v":-1.526793384879729}]
[]
[null,"jan-dec","feb-jan","mar-feb","apr-mar","may-apr","jun-may","jul-jun","aug-jul","sep-aug","oct-sep","nov-oct","dec-nov"]
["change_09",{"$f":"B1399-M1398","v":-736},{"$f":"C1399-B1399","v":-249.20000000000073},-28.700000000000728,-10.699999999998909,95.899999999999636,48,-54.399999999999636,6,-127.60000000000036,45.100000000000364,317.10000000000036,133.59999999999854]
["%change_09",{"$f":"(B1477/M1398)*100","v":-4.7734244780688382},{"$f":"(C1477/B1399)*100","v":-1.697235522077007},-0.19884296948072697,-7.428079529045116E-2,0.66624519768516011,0.33126293995859213,-0.37419177328380543,4.142616476566599E-2,-0.8806316254416986,0.31402311655758508,2.2009981189830037,0.90734980508277896]
[null,"jan","feb","mar","apr","may","jun","jul","aug","sep","oct","nov","dec","ytd_avg_total"]
["chg_prv_09-08",{"$f":"B1399-B1398","v":-775.59999999999854},-792.10000000000036,-874.20000000000073,-847.69999999999891,-806.29999999999927,-799.10000000000036,-818.79999999999927,-775.5,-731.79999999999927,-725.29999999999927,-621.79999999999927,-560.90000000000146,{"$f":"O1399-O1398","v":-760.75833333333139}]
["%chg_prv_09-08",{"$f":"(B1480/B1398)*100","v":-5.0173693096912251},-5.2024222362337138,-5.721578637345381,-5.5616790667768834,-5.2712093774311386,-5.210241831897819,-5.3507946465913792,-5.08021565531834,-4.8483483284527376,-4.7930268827152291,-4.0518701941874058,-3.6377904752021988,{"$f":"(N1480/O1398)*100","v":-4.9777940146076816}]
[]
[null,"jan-dec","feb-jan","mar-feb","apr-mar","may-apr","jun-may","jul-jun","aug-jul","sep-aug","oct-sep","nov-oct","dec-nov"]
["change_10",{"$f":"B1400-M1399","v":-572.79999999999927},{"$f":"C1400-B1400","v":-167.70000000000073},86.200000000000728,60.200000000000728,110.79999999999927,61.700000000000728,3.2999999999992724,18.399999999999636,-102.69999999999891,149.79999999999927,{"$f":"L1400-K1400","v":339.20000000000073},{"$f":"M1400-L1400","v":158.59999999999854}]
["%change_10",{"$f":"(B1484/M1399)*100","v":-3.8552140962995822},{"$f":"(C1484/B1400)*100","v":-1.1739586979349019},0.61059834387595879,0.42383919456472507,0.7767970442451767,0.42923232112421805,2.2859201174819356E-2,0.12742823504968756,-0.71033829255976955,1.0435242978154207,{"$f":"(L1484/K1400)*100","v":2.338503964150298},{"$f":"(M1484/L1400)*100","v":1.06843076757251}]
[null,"jan","feb","mar","apr","may","jun","jul","aug","sep","oct","nov","dec","ytd_avg_total"]
["chg_prv_10-09",{"$f":"B1400-B1399","v":-397.70000000000073},-316.20000000000073,-201.29999999999927,-130.39999999999964,-115.5,-101.79999999999927,-44.100000000000364,-31.700000000000728,-6.7999999999992724,97.899999999999636,{"$f":"L1400-L1399","v":120},{"$f":"M1400-M1399","v":145},{"$f":"O1400-O1399","v":-81.883333333335031}]
["%chg_prv_10-09",{"$f":"(B1487/M1399)*100","v":-2.676708530199631},{"$f":"(C1487/C1399)*100","v":-2.1907368275193178},-1.3974508497167561,-0.9059267338701249,-0.79710144927536231,-0.70023386985829739,-0.30448231102764756,-0.21877760600707216,-4.7347166132845508E-2,0.67952606700862517,{"$f":"(L1487/L1399)*100","v":0.81498485486478034},{"$f":"(M1487/M1399)*100","v":0.9759183728412012},{"$f":"(N1487/O1399)*100","v":-0.56384613530701688}]
[]
[null,"jan-dec","feb-jan","mar-feb","apr-mar","may-apr","jun-may","jul-jun","aug-jul","sep-aug","oct-sep","nov-oct","dec-nov"]
["change_11",{"$f":"B1401-M1400","v":-559.69999999999891},{"$f":"C1401-B1401","v":-166.5},66.699999999998909,139.90000000000146,99.699999999998909,93.700000000000728,35.399999999999636,-0.7000000000007276,-99.599999999998545,134.19999999999891,390.60000000000036,154.5]
["%change_11",{"$f":"(B1491/M1400)*100","v":-3.7306369477697423},{"$f":"(C1491/B1401)*100","v":-1.1527996067326267},0.46719807237016453,0.975368290421322,0.68838378258947541,0.6425333781346696,0.24120027799353827,-4.7580206634089701E-3,-0.67703058193360577,0.9184420703956343,2.6488718898134422,1.0207115251213954]
[null,"jan","feb","mar","apr","may","jun","jul","aug","sep","oct","nov","dec","ytd_avg_total"]
["chg_prv_11-10",{"$f":"B1401-B1400","v":158.10000000000036},159.30000000000109,139.79999999999927,219.5,208.39999999999964,240.39999999999964,{"$f":"H1401-H1400","v":272.5},253.39999999999964,256.5,240.89999999999964,292.29999999999927,288.20000000000073,{"$f":"O1401-O1400","v":227.44166666666752}]
["%chg_prv_11-10",{"$f":"(B1494/B1400)*100","v":1.1067553377668908},1.1284027399006971,0.98426444186291606,1.5388714008286768,1.4497895578976634,1.6652581704326597,{"$f":"(H1494/H1400)*100","v":1.8871844592956821},1.7526750081270421,1.7868089612126616,1.660806618407443,1.9691192519637251,1.9209747513797473,{"$f":"(N1494/O1400)*100","v":1.5750371642521503}]
[]
[null,"jan-dec","feb-jan","mar-feb","apr-mar","may-apr","jun-may","jul-jun","aug-jul","sep-aug","oct-sep","nov-oct","dec-nov"]
["change_12",{"$f":"B1402-M1401","v":-562.10000000000036},{"$f":"C1402-B1402","v":-214.69999999999891},{"$f":"D1402-C1402","v":60.199999999998909},{"$f":"E1402-D1402","v":99.200000000000728},{"$f":"F1402-E1402","v":113.69999999999891},49.200000000000728,2,{"$f":"I1402-H1402","v":15.799999999999272},{"$f":"J1402-I1402","v":-67.799999999999272},{"$f":"K1402-J1402","v":149.39999999999964},{"$f":"L1402-K1402","v":494.39999999999964},{"$f":"M1402-L1402","v":108}]
["%change_12",{"$f":"(B1498/M1401)*100","v":-3.6760185730168091},{"$f":"(C1498/B1402)*100","v":-1.4576784417030391},{"$f":"(D1498/C1402)*100","v":0.41476622893441528},{"$f":"(E1498/D1402)*100","v":0.68064551542431062},{"$f":"(F1498/E1402)*100","v":0.77486097481189964},0.33271794039480318,1.3480268257338321E-2,{"$f":"(I1498/H1402)*100","v":0.10647976547494202},{"$f":"(J1498/I1402)*100","v":-0.45643349063906929},{"$f":"(K1498/J1402)*100","v":1.0103810908599036},{"$f":"(L1498/K1402)*100","v":3.3101453544814823},{"$f":"(M1498/L1402)*100","v":0.69992158285969819}]
[null,"jan","feb","mar","apr","may","jun","jul","aug","sep","oct","nov","dec","ytd_avg_total"]
["chg_prv_12-11",{"$f":"B1402-B1401","v":285.79999999999927},{"$f":"C1402-C1401","v":237.60000000000036},{"$f":"D1402-D1401","v":231.10000000000036},{"$f":"E1402-E1401","v":190.39999999999964},{"$f":"F1402-F1401","v":204.39999999999964},159.89999999999964,{"$f":"H1402-H1401","v":126.5},143,{"$f":"J1402-J1401","v":174.79999999999927},190,{"$f":"L1402-L1401","v":293.79999999999927},247.29999999999927,{"$f":"O1402/O1401","v":1.014115914577298}]
["%chg_prv_12-11",{"$f":"(B1501/B1401)*100","v":1.9787995651902934},{"$f":"(C1501/C1401)*100","v":1.6642617990277824},{"$f":"(D1501/D1401)*100","v":1.6112052317109757},{"$f":"(E1501/E1401)*100","v":1.3146266018559409},{"$f":"(F1501/F1401)*100","v":1.4016416487804184},1.089489391275906,{"$f":"(H1501/H1401)*100","v":0.85984230560087005},0.97204189976412692,{"$f":"(J1501/J1401)*100","v":1.1963015939281485},1.2884937508053087,{"$f":"(L1501/L1401)*100","v":1.9410035345026875},1.6172912170557798,{"$f":"(N1501/O1401)*100","v":6.9138727948088105E-3}]
[]
[null,"jan-dec","feb-jan","mar-feb","apr-mar","may-apr","jun-may","jul-jun","aug-jul","sep-aug","oct-sep","nov-oct","dec-nov"]
["change_13",{"$f":"B1403-M1402","v":-594.29999999999927},{"$f":"C1403-B1403","v":-177.29999999999927},49,91.199999999998909,122.80000000000109,113.59999999999854,49.100000000000364,33.300000000001091,-81.600000000000364,159.19999999999891,342.20000000000073,183.39999999999964]
["%change_13",{"$f":"(B1505/M1402)*100","v":-3.8247427324739474},{"$f":"(C1505/B1403)*100","v":-1.1864293361884319},0.33182769339121126,0.61556322009759179,0.82377959200102702,0.75583677651582226,0.32423580065111546,0.21918854163924784,-0.53593595039965558,1.0512344741516426,2.2361190070115646,1.172222044677381]
[null,"jan","feb","mar","apr","may","jun","jul","aug","sep","oct","nov","dec","ytd_avg_total"]
["chg_prv_13-12",{"$f":"B1403-B1402","v":215.10000000000036},252.5,241.30000000000109,233.29999999999927,242.40000000000146,306.79999999999927,353.89999999999964,371.40000000000146,357.60000000000036,367.39999999999964,215.20000000000073,290.60000000000036,{"$f":"O1403-O1402","v":287.29166666666788}]
["%chg_prv_13-12",{"$f":"(B1508/B1402)*100","v":1.46039419101223},1.7396756280056773,1.6556427708859445,1.5899302148075407,1.6392444868231622,2.0678731506756933,2.3850119621255494,2.5002861124388325,2.4184222094478098,2.4598450712712299,1.3946585614019218,1.8702174626567925,{"$f":"(N1508/O1438)*100","v":1.9255441372696618}]
[]
[null,"jan-dec","feb-jan","mar-feb","apr-mar","may-apr","jun-may","jul-jun","aug-jul","sep-aug","oct-sep","nov-oct","dec-nov"]
["change_14",{"$f":"B1404-M1403","v":-669},{"$f":"C1404-B1404","v":-219.10000000000036},63.200000000000728,123.39999999999964,104.80000000000109,121.39999999999964,33.399999999999636,-7.7000000000007276,-80.399999999999636,182,434.20000000000073,169]
["%change_14",{"$f":"(B1512/M1403)*100","v":-4.2264465629323578},{"$f":"(C1512/B1404)*100","v":-1.4452601930091913},0.42300278432212957,0.82244734737403125,0.69278263283843289,0.79699583776473271,0.21753855773238612,-5.0042243452269632E-2,-0.52278062070445108,1.1896280124714849,2.8047464940668871,1.0618846252929608]
[null,"jan","feb","mar","apr","may","jun","jul","aug","sep","oct","nov","dec","ytd_avg_total"]
["chg_prv_14-13",{"$f":"B1404-B1403","v":215.89999999999964},{"$f":"C1404-C1403","v":174.09999999999854},188.29999999999927,{"$f":"E1404-E1403","v":220.5},202.5,210.30000000000109,194.60000000000036,153.59999999999854,154.79999999999927,{"$f":"K1404-K1403","v":177.60000000000036},{"$f":"L1404-L1403","v":269.60000000000036},{"$f":"M1404-M1403","v":255.20000000000073},{"$f":"O1404-O1403","v":201.41666666666788}]
["%chg_prv_14-13",{"$f":"(B1515/B1403)*100","v":1.4447269807280489},{"$f":"(C1515/C1403)*100","v":1.1790041106001918},1.2709490607936125,{"$f":"(E1515/E1403)*100","v":1.4791807820539482},1.3473322820814786,1.3887329710168925,1.2809036096995889,1.0088206125169847,1.0221802550168004,1.1605340024700579,{"$f":"(L1515/L1403)*100","v":1.7231791889041601},{"$f":"(M1515/M1403)*100","v":1.6122409011365333},{"$f":"(N1515/O1403)*100","v":1.328414663235624}]
[]
[null,"jan-dec","feb-jan","mar-feb","apr-mar","may-apr","jun-may","jul-jun","aug-jul","sep-aug","oct-sep","nov-oct","dec-nov"]
["change_15"]
["%change_15"]
[null,"jan","feb","mar","apr","may","jun","jul","aug","sep","oct","nov","dec","ytd_avg_total"]
["chg_prv_15-14",{"$nulls":12},{"$f":"N1405-N1404","v":{"$error":"#DIV/0!"}}]
["%chg_prv_15-14",{"$nulls":12},{"$f":"(N1522/N1404)*100","v":{"$error":"#DIV/0!"}}]
[]
[]
["hlthed_em","jan","feb","mar","apr","may","jun","jul","aug","sep","oct","nov","dec","ytd_avg_total"]
[2003,16325,16569,16632,16698,16640,16407,16268,16247,16547,16869,16935,16916,{"$f":"AVERAGE(B1527:M1527)","v":16587.75},{"$f":"AVERAGE(B1527:M1527)","v":16587.75}]
[2004,16665,16895,16988,17058,16994,16753,16655,16629,16916,17249,17325,17307,16952.833333333332,16952.833333333332]
[2005,17063,17287,17355,17426,17386,17191,17076,17084,17415,17672,17773,17738,17372.166666666668,17372.166666666668]
[2006,17509,17788,17862,17903,17850,17607,17468,17500,17857,18130,18228,18212,17826.166666666668,17826.166666666668]
[2007,17955,18218,18300,18368,18328,18134,18007,18061,18364,18659,18737,18729,18321.666666666668,18321.666666666668]
[2008,18488,18757,18833,18901,18838,18664,18553,18608,18857,19138,19219,19201,18838.083333333332,18838.083333333332]
[2009,18968,19187,19230,19256,19206,18997,18880,18897,19160,19465,19548,19526,{"$f":"AVERAGE(B1533:M1533)","v":19193.333333333332},19193.333333333332]
[2010,19266,19498,19599,19636,19552,19330,19220,19230,19492,19802,19902,19841,19530.666666666668,19530.666666666668]
[2011,19580,19829,19891,19975,19880,19655,19564,19591,19911,20200,20288,20235,19883.25,19883.25]
[2012,19976,20302,20377,20414,20357,20088,19991,20028,20326,20616,20675,20673,20318.583333333332,{"$f":"AVERAGE(B1536:M1536)","v":20318.583333333332}]
[2013,20375,20660,20748,20810,20714,20459,20344,20420,20664,20964,21488,21419,20755.416666666668,{"$f":"AVERAGE(B1537:M1537)","v":20755.416666666668}]
[2014,21132,21388,21481,21534,21484,21271,21163,21229,21511,21829,21916,21906,21487,{"$f":"AVERAGE(B1538:M1538)","v":21487}]
[2015,{"$nulls":12},{"$f":"AVERAGE(B1539:B1539)","v":{"$error":"#DIV/0!"}},{"$f":"AVERAGE(B1539:M1539)","v":{"$error":"#DIV/0!"}}]
[null,"jan-dec","feb-jan","mar-feb","apr-mar","may-apr","jun-may","jul-jun","aug-jul","sep-aug","oct-sep","nov-oct","dec-nov"]
["change_04",{"$f":"B1528-M1527","v":-251},{"$f":"C1528-B1528","v":230},93,70,-64,-241,-98,-26,287,333,76,-18]
["%change_04",{"$f":"(B1541/M1527)*100","v":-1.4838023173327026},{"$f":"(C1541/B1528)*100","v":1.3801380138013801},0.55045871559633031,0.41205556863668474,-0.37519052643920742,-1.4181475814993527,-0.58496985614516805,-0.15610927649354547,1.7259005352095735,1.9685504847481674,0.4406052524784046,-0.1038961038961039]
[null,"jan","feb","mar","apr","may","jun","jul","aug","sep","oct","nov","dec","ytd_avg_total"]
["chg_prv_04-03",{"$f":"B1528-B1527","v":340},326,356,360,354,346,387,382,369,380,390,391,{"$f":"O1528-O1527","v":365.08333333333212}]
["%chg_prv_04-03",{"$f":"(B1544/B1527)*100","v":2.0826952526799389},1.9675297241837166,2.1404521404521404,2.1559468199784404,2.1274038461538463,2.1088559761077588,2.3789033685763461,2.3512032990705976,2.2300114824439476,2.2526527950678759,2.3029229406554474,2.31142113974935,{"$f":"(N1544/O1527)*100","v":2.2009213626521507}]
[]
[null,"jan-dec","feb-jan","mar-feb","apr-mar","may-apr","jun-may","jul-jun","aug-jul","sep-aug","oct-sep","nov-oct","dec-nov"]
["change_05",{"$f":"B1529-M1528","v":-244},{"$f":"C1529-B1529","v":224},68,71,-40,-195,-115,8,331,257,101,-35]
["%change_05",{"$f":"(B1548/M1528)*100","v":-1.4098341711446236},{"$f":"(C1548/B1529)*100","v":1.3127820430170545},0.39335917163186207,0.40910400460962254,-0.22954206358315163,-1.1215920855861037,-0.66895468559129778,4.6849379245724992E-2,1.9374853664247249,1.4757393051966696,0.57152557718424635,-0.19692792437967704]
[null,"jan","feb","mar","apr","may","jun","jul","aug","sep","oct","nov","dec","ytd_avg_total"]
["chg_prv_05-04",{"$f":"B1529-B1528","v":398},392,367,368,392,438,421,455,499,423,448,431,{"$f":"O1529-O1528","v":419.33333333333576}]
["%chg_prv_05-04",{"$f":"(B1551/B1528)*100","v":2.3882388238823884},2.3202130807931343,2.160348481280904,2.1573455270254427,2.3066964811109805,2.6144571121590165,2.5277694386070246,2.7361837753322509,{"$f":"(J1551/J1528)*100","v":2.9498699456136199},{"$f":"(K1551/K1528)*100","v":2.4523160762942782},{"$f":"(L1551/L1528)*100","v":2.5858585858585856},{"$f":"(M1551/M1528)*100","v":2.4903218350956262},{"$f":"(N1551/O1528)*100","v":2.473529498510588}]
[]
[null,"jan-dec","feb-jan","mar-feb","apr-mar","may-apr","jun-may","jul-jun","aug-jul","sep-aug","oct-sep","nov-oct","dec-nov"]
["change_06",{"$f":"B1530-M1529","v":-229},{"$f":"C1530-B1530","v":279},74,41,-53,-243,-139,32,357,273,98,-16]
["%change_06",{"$f":"(B1555/M1529)*100","v":-1.2910136430262713},{"$f":"(C1555/B1530)*100","v":1.593466217373922},0.4160107937935687,0.22953756578210724,-0.29603976987097136,-1.3613445378151261,-0.78945873800193112,0.18319212273872224,2.04,1.528812230497844,0.54054054054054057,-8.7777046302391928E-2]
[null,"jan","feb","mar","apr","may","jun","jul","aug","sep","oct","nov","dec","ytd_avg_total"]
["chg_prv_06-05",{"$f":"B1530-B1529","v":446},501,507,477,464,416,392,{"$f":"I1530-I1529","v":416},{"$f":"J1530-J1529","v":442},{"$f":"K1530-K1529","v":458},{"$f":"L1530-L1529","v":455},{"$f":"M1530-M1529","v":474},{"$f":"O1530-O1529","v":454}]
["%chg_prv_06-05",{"$f":"(B1558/B1529)*100","v":2.613842817792885},2.8981315439347486,2.9213483146067416,2.7372891082290831,2.6688139882664212,2.4198708626606944,2.2956195830405246,{"$f":"(I1558/I1529)*100","v":2.435026925778506},{"$f":"(J1558/J1529)*100","v":2.5380419178868792},{"$f":"(K1558/K1529)*100","v":2.5916704391127205},{"$f":"(L1558/L1529)*100","v":2.5600630169358016},{"$f":"(M1558/M1529)*100","v":2.6722291126395308},{"$f":"(N1558/O1529)*100","v":2.6133758022891023}]
[]
[null,"jan-dec","feb-jan","mar-feb","apr-mar","may-apr","jun-may","jul-jun","aug-jul","sep-aug","oct-sep","nov-oct","dec-nov"]
["change_07",{"$f":"B1531-M1530","v":-257},{"$f":"C1531-B1531","v":263},{"$f":"D1531-C1531","v":82},68,-40,-194,-127,54,303,295,78,-8]
["%change_07",{"$f":"(B1562/M1530)*100","v":-1.4111574785855479},{"$f":"(C1562/B1531)*100","v":1.4647730437204121},0.45010429245800854,0.37158469945355194,-0.21777003484320556,-1.0584897424705368,-0.70034189919488254,0.29988337868606652,1.6776479707657383,1.6064038335874535,0.41802883327080764,-4.2696269413459997E-2]
[null,"jan","feb","mar","apr","may","jun","jul","aug","sep","oct","nov","dec","ytd_avg_total"]
["chg_prv_07-06",{"$f":"B1531-B1530","v":446},{"$f":"C1531-C1530","v":430},438,465,478,527,539,561,{"$f":"J1531-J1530","v":507},{"$f":"K1531-K1530","v":529},{"$f":"L1531-L1530","v":509},{"$f":"M1531-M1530","v":517},{"$f":"O1531-O1530","v":495.5}]
["%chg_prv_07-06",{"$f":"(B1565/B1530)*100","v":2.5472614084185277},2.4173600179896559,2.4521330198186093,2.5973300564151258,2.6778711484593836,2.9931277332878969,3.0856423173803527,3.205714285714286,{"$f":"(J1565/J1530)*100","v":2.8392227137817105},{"$f":"(K1565/K1530)*100","v":2.917815774958632},{"$f":"(L1565/L1530)*100","v":2.7924072854948432},{"$f":"(M1565/M1530)*100","v":2.838787612563145},{"$f":"(N1565/O1530)*100","v":2.7796217171386628}]
[]
[null,"jan-dec","feb-jan","mar-feb","apr-mar","may-apr","jun-may","jul-jun","aug-jul","sep-aug","oct-sep","nov-oct","dec-nov"]
["change_08",{"$f":"B1532-M1531","v":-241},{"$f":"C1532-B1532","v":269},76,68,-63,-174,-111,{"$f":"I1532-H1532","v":55},{"$f":"J1532-I1532","v":249},{"$f":"K1532-J1532","v":281},{"$f":"L1532-K1532","v":81},{"$f":"M1532-L1532","v":-18}]
["%change_08",{"$f":"(B1569/M1531)*100","v":-1.2867745207966255},{"$f":"(C1569/B1532)*100","v":1.454997836434444},0.40518206536226475,0.36106833749269901,-0.33331569758213847,-0.9236649325830768,-0.59472781825975141,0.2964480137983076,1.3381341358555459,1.4901628042636685,0.42324171804786292,-9.3657318278786608E-2]
[null,"jan","feb","mar","apr","may","jun","jul","aug","sep","oct","nov","dec","ytd_avg_total"]
["chg_prv_08-07",{"$f":"B1532-B1531","v":533},539,533,533,510,530,546,547,493,479,482,472,{"$f":"O1532-O1531","v":516.41666666666424}]
["%chg_prv_08-07",{"$f":"(B1572/B1531)*100","v":2.9685324422166528},2.9586123614008124,2.9125683060109289,2.9017857142857144,2.7826276735050195,2.9226866659313995,3.0321541622702282,3.0286252145506896,2.6846003049444569,2.5671257838040624,2.572450232160965,2.5201559079502376,{"$f":"(N1572/O1531)*100","v":2.8186118439006509}]
[]
[null,"jan-dec","feb-jan","mar-feb","apr-mar","may-apr","jun-may","jul-jun","aug-jul","sep-aug","oct-sep","nov-oct","dec-nov"]
["change_09",{"$f":"B1533-M1532","v":-233},{"$f":"C1533-B1533","v":219},43,26,-50,-209,-117,17,{"$f":"J1533-I1533","v":263},{"$f":"K1533-J1533","v":305},{"$f":"L1533-K1533","v":83},{"$f":"M1533-L1533","v":-22}]
["%change_09",{"$f":"(B1576/M1532)*100","v":-1.2134784646632988},{"$f":"(C1576/B1533)*100","v":1.1545761282159426},0.22411007452962944,0.13520540821632865,-0.25965932696302452,-1.0882016036655211,-0.61588671895562463,9.0042372881355928E-2,{"$f":"(J1576/I1533)*100","v":1.3917553050748797},{"$f":"(K1576/J1533)*100","v":1.5918580375782883},{"$f":"(L1576/K1533)*100","v":0.42640637040842538},{"$f":"(M1576/L1533)*100","v":-0.11254348270922858}]
[null,"jan","feb","mar","apr","may","jun","jul","aug","sep","oct","nov","dec","ytd_avg_total"]
["chg_prv_09-08",{"$f":"B1533-B1532","v":480},430,397,355,368,333,327,289,303,327,329,325,{"$f":"O1533-O1532","v":355.25}]
["%chg_prv_09-08",{"$f":"(B1579/B1532)*100","v":2.5962786672436176},2.2924774750759718,2.1080019115382576,1.8782075022485583,1.9534982482216796,1.7841834547792541,1.7625181911281194,1.5530954428202923,1.606830354775415,1.7086424913784093,1.7118476507622666,1.6926201760324981,{"$f":"(N1579/O1532)*100","v":1.8858075618096322}]
[]
[null,"jan-dec","feb-jan","mar-feb","apr-mar","may-apr","jun-may","jul-jun","aug-jul","sep-aug","oct-sep","nov-oct","dec-nov"]
["change_10",{"$f":"B1534-M1533","v":-260},{"$f":"C1534-B1534","v":232},101,37,-84,-222,-110,10,262,310,{"$f":"L1534-K1534","v":100},{"$f":"M1534-L1534","v":-61}]
["%change_10",{"$f":"(B1583/M1533)*100","v":-1.3315579227696404},{"$f":"(C1583/B1534)*100","v":1.2041939167445239},0.51800184634321467,0.18878514209908667,-0.42778569973518027,-1.1354337152209493,-0.56906363166063112,5.2029136316337155E-2,1.3624544981799274,1.5903960599220193,{"$f":"(L1583/K1534)*100","v":0.50499949500050501},{"$f":"(M1583/L1534)*100","v":-0.30650185910963718}]
[null,"jan","feb","mar","apr","may","jun","jul","aug","sep","oct","nov","dec","ytd_avg_total"]
["chg_prv_10-09",{"$f":"B1534-B1533","v":298},311,369,380,346,333,340,333,332,337,{"$f":"L1534-L1533","v":354},{"$f":"M1534-M1533","v":315},{"$f":"O1534-O1533","v":337.33333333333576}]
["%chg_prv_10-09",{"$f":"(B1586/M1533)*100","v":1.5261702345590493},{"$f":"(C1586/C1533)*100","v":1.6208891436910406},1.9188767550702028,1.9734108849189864,1.8015203582213892,1.7529083539506238,1.8008474576271187,1.7621844737259882,1.7327766179540709,1.7313126123811968,{"$f":"(L1586/L1533)*100","v":1.8109269490484958},{"$f":"(M1586/M1533)*100","v":1.6132336372016796},{"$f":"(N1586/O1533)*100","v":1.7575547064953239}]
[]
[null,"jan-dec","feb-jan","mar-feb","apr-mar","may-apr","jun-may","jul-jun","aug-jul","sep-aug","oct-sep","nov-oct","dec-nov"]
["change_11",{"$f":"B1535-M1534","v":-261},{"$f":"C1535-B1535","v":249},62,84,-95,-225,-91,27,320,289,88,-53]
["%change_11",{"$f":"(B1590/M1534)*100","v":-1.3154578902273071},{"$f":"(C1590/B1535)*100","v":1.2717058222676201},0.312673357204095,0.42230154341159315,-0.47559449311639546,-1.1317907444668007,-0.46298651742559149,0.13800858720098141,1.633403093257108,1.4514589925166992,0.4356435643564357,-0.26123817034700314]
[null,"jan","feb","mar","apr","may","jun","jul","aug","sep","oct","nov","dec","ytd_avg_total"]
["chg_prv_11-10",{"$f":"B1535-B1534","v":314},331,292,339,328,325,{"$f":"H1535-H1534","v":344},361,419,398,386,394,{"$f":"O1535-O1534","v":352.58333333333212}]
["%chg_prv_11-10",{"$f":"(B1593/B1534)*100","v":1.6298141804214679},1.6976100112832084,1.4898719322414409,1.7264208596455488,1.6775777414075286,1.6813243662700466,{"$f":"(H1593/H1534)*100","v":1.789802289281998},1.8772750910036402,2.1495998358300841,2.0098979901020098,1.9395035674806553,1.985787006703291,{"$f":"(N1593/O1534)*100","v":1.8052805843801139}]
[]
[null,"jan-dec","feb-jan","mar-feb","apr-mar","may-apr","jun-may","jul-jun","aug-jul","sep-aug","oct-sep","nov-oct","dec-nov"]
["change_12",{"$f":"B1536-M1535","v":-259},{"$f":"C1536-B1536","v":326},{"$f":"D1536-C1536","v":75},{"$f":"E1536-D1536","v":37},{"$f":"F1536-E1536","v":-57},-269,-97,37,298,290,59,-2]
["%change_12",{"$f":"(B1597/M1535)*100","v":-1.2799604645416358},{"$f":"(C1597/B1536)*100","v":1.6319583500200241},{"$f":"(D1597/C1536)*100","v":0.36942173184907889},{"$f":"(E1597/D1536)*100","v":0.18157726848898267},{"$f":"(F1597/E1536)*100","v":-0.27922014303909082},-1.3214127818440831,-0.48287534846674629,0.18508328747936573,1.4879169163171559,1.426744071632392,0.28618548700038804,-9.673518742442563E-3]
[null,"jan","feb","mar","apr","may","jun","jul","aug","sep","oct","nov","dec","ytd_avg_total"]
["chg_prv_12-11",{"$f":"B1536-B1535","v":396},{"$f":"C1536-C1535","v":473},{"$f":"D1536-D1535","v":486},{"$f":"E1536-E1535","v":439},{"$f":"F1536-F1535","v":477},433,{"$f":"H1536-H1535","v":427},437,{"$f":"J1536-J1535","v":415},416,{"$f":"L1536-L1535","v":387},438,{"$f":"O1536/O1535","v":1.0218944756683808}]
["%chg_prv_12-11",{"$f":"(B1600/B1535)*100","v":2.0224719101123596},{"$f":"(C1600/C1535)*100","v":2.38539512834737},{"$f":"(D1600/D1535)*100","v":2.4433160725956462},{"$f":"(E1600/E1535)*100","v":2.1977471839799749},{"$f":"(F1600/F1535)*100","v":2.3993963782696177},2.2030017807173747,{"$f":"(H1600/H1535)*100","v":2.1825802494377426},2.2306160992292376,{"$f":"(J1600/J1535)*100","v":2.0842750238561596},2.0594059405940595,{"$f":"(L1600/L1535)*100","v":1.9075315457413249},2.1645663454410675,{"$f":"(N1600/O1535)*100","v":5.1394740581563918E-3}]
[]
[null,"jan-dec","feb-jan","mar-feb","apr-mar","may-apr","jun-may","jul-jun","aug-jul","sep-aug","oct-sep","nov-oct","dec-nov"]
["change_13",{"$f":"B1537-M1536","v":-298},{"$f":"C1537-B1537","v":285},88,62,-96,-255,-115,76,244,300,524,-69]
["%change_13",{"$f":"(B1604/M1536)*100","v":-1.4414937357906448},{"$f":"(C1604/B1537)*100","v":1.3987730061349692},0.42594385285575997,0.29882398303450936,-0.4613166746756367,-1.231051462778797,-0.56209980937484727,0.37357451828548954,1.1949069539666992,1.4518002322880372,2.4995229917954589,-0.32110945644080419]
[null,"jan","feb","mar","apr","may","jun","jul","aug","sep","oct","nov","dec","ytd_avg_total"]
["chg_prv_13-12",{"$f":"B1537-B1536","v":399},358,371,396,357,371,353,392,338,348,813,746,{"$f":"O1537-O1536","v":436.83333333333576}]
["%chg_prv_13-12",{"$f":"(B1607/B1536)*100","v":1.9973968762515018},1.7633730666929366,1.8206801786327724,1.9398452042715781,1.7536965171685415,1.846873755475906,1.7657946075734079,1.957259836229279,1.6628948145232705,1.6880093131548313,3.9322853688029022,3.6085715667779232,{"$f":"(N1607/O1536)*100","v":2.1499202290186035}]
[]
[null,"jan-dec","feb-jan","mar-feb","apr-mar","may-apr","jun-may","jul-jun","aug-jul","sep-aug","oct-sep","nov-oct","dec-nov"]
["change_14",{"$f":"B1538-M1537","v":-287},{"$f":"C1538-B1538","v":256},93,53,-50,-213,-108,66,282,318,87,-10]
["%change_14",{"$f":"(B1611/M1537)*100","v":-1.3399318362201782},{"$f":"(C1611/B1538)*100","v":1.2114328979746356},0.43482326538245747,0.24672966807876726,-0.23219095384043836,-0.99143548687395266,-0.50773353391942078,0.31186504748854132,1.3283715671958172,1.4783134210403979,0.39855238444271379,-4.5628764373060779E-2]
[null,"jan","feb","mar","apr","may","jun","jul","aug","sep","oct","nov","dec","ytd_avg_total"]
["chg_prv_14-13",{"$f":"B1538-B1537","v":757},{"$f":"C1538-C1537","v":728},733,{"$f":"E1538-E1537","v":724},770,{"$f":"G1538-G1537","v":812},819,{"$f":"I1538-I1537","v":809},847,{"$f":"K1538-K1537","v":865},428,{"$f":"M1538-M1537","v":487},{"$f":"O1538-O1537","v":731.58333333333212}]
["%chg_prv_14-13",{"$f":"(B1614/B1537)*100","v":3.7153374233128833},{"$f":"(C1614/C1537)*100","v":3.5237173281703775},3.5328706381337964,{"$f":"(E1614/E1537)*100","v":3.4790965881787601},3.7172926523124454,{"$f":"(G1614/G1537)*100","v":3.9689134366293564},4.0257569799449469,{"$f":"(I1614/I1537)*100","v":3.9618021547502451},4.0989159891598916,{"$f":"(K1614/K1537)*100","v":4.1261209692806711},1.9918093819806404,{"$f":"(M1614/M1537)*100","v":2.2736822447359821},{"$f":"(N1614/O1537)*100","v":3.5247826872503101}]
[]
[null,"jan-dec","feb-jan","mar-feb","apr-mar","may-apr","jun-may","jul-jun","aug-jul","sep-aug","oct-sep","nov-oct","dec-nov"]
["change_15"]
["%change_15"]
[null,"jan","feb","mar","apr","may","jun","jul","aug","sep","oct","nov","dec","ytd_avg_total"]
["chg_prv_15-14",{"$nulls":12},{"$f":"N1539-N1538","v":{"$error":"#DIV/0!"}}]
["%chg_prv_15-14",{"$nulls":12},{"$f":"(N1621/N1538)*100","v":{"$error":"#DIV/0!"}}]
[]
[]
["const_em","jan","feb","mar","apr","may","jun","jul","aug","sep","oct","nov","dec","ytd_avg_total"]
[2003,6293,6224,6319,6534,6767,6951,7029,7062,7015,6989,6903,6729,{"$f":"AVERAGE(B1626:M1626)","v":6734.583333333333},{"$f":"AVERAGE(B1626:M1626)","v":6734.583333333333}]
[2004,6431,6392,6551,6778,7012,7194,7292,7311,7249,7286,7205,7012,6976.083333333333,6976.083333333333]
[2005,6682,6699,6838,7128,7360,7574,7652,7704,7645,7679,7650,7425,7336.333333333333,7336.333333333333]
[2006,7182,7218,7337,7557,7779,7945,8013,8045,7952,7909,7772,7585,7691.166666666667,7691.166666666667]
[2007,7295,7173,7353,7518,7733,7926,7957,7932,7838,7796,7647,7390,7629.833333333333,7629.833333333333]
[2008,7053,6983,7047,7160,7324,7425,7448,7435,7305,7208,6945,6612,7162.083333333333,7162.083333333333]
[2009,6154,6000,5950,6009,6139,6202,6203,6158,6036,5958,5822,5566,6016.416666666667,6016.416666666667]
[2010,5197,5088,5213,5418,5561,5698,5763,5819,5733,5733,5628,5369,{"$f":"AVERAGE(B1633:M1633)","v":5518.333333333333},5518.333333333333]
[2011,5046,5049,5158,5364,5556,5728,5808,5845,5817,5808,5707,5512,{"$f":"AVERAGE(B1634:M1634)","v":5533.166666666667},5533.166666666667]
[2012,5237,5219,5313,5487,5648,5820,5888,5920,5875,5880,5779,5622,{"$f":"AVERAGE(B1635:M1635)","v":5640.666666666667},{"$f":"AVERAGE(B1635:M1635)","v":5640.666666666667}]
[2013,5340,5373,5487,5648,5834,5995,6060,6086,6053,6052,5996,5773,{"$f":"AVERAGE(B1636:M1636)","v":5808.083333333333},{"$f":"AVERAGE(B1636:M1636)","v":5808.083333333333}]
[2014,5533,5529,5656,5869,6052,6207,6316,6351,6320,6322,6226,6069,{"$f":"AVERAGE(B1637:M1637)","v":6037.5},{"$f":"AVERAGE(B1637:M1637)","v":6037.5}]
[2015,{"$nulls":12},{"$f":"AVERAGE(B1638:B1638)","v":{"$error":"#DIV/0!"}},{"$f":"AVERAGE(B1638:M1638)","v":{"$error":"#DIV/0!"}}]
[null,"jan-dec","feb-jan","mar-feb","apr-mar","may-apr","jun-may","jul-jun","aug-jul","sep-aug","oct-sep","nov-oct","dec-nov"]
["change_04",{"$f":"B1627-M1626","v":-298},{"$f":"C1627-B1627","v":-39},159,227,234,182,98,19,-62,37,-81,-193]
["%change_04",{"$f":"(B1640/M1626)*100","v":-4.4285926586417004},{"$f":"(C1640/B1627)*100","v":-0.60643756802985538},2.4874843554443054,3.4651198290337351,3.452345824727058,2.5955504848830575,1.3622463163747567,0.26055951727921012,-0.84803720421282991,0.51041522968685338,-1.1117211089761185,-2.6786953504510755]
[null,"jan","feb","mar","apr","may","jun","jul","aug","sep","oct","nov","dec","ytd_avg_total"]
["chg_prv_04-03",{"$f":"B1627-B1626","v":138},168,232,244,245,243,263,249,234,297,302,283,{"$f":"O1627-O1626","v":241.5}]
["%chg_prv_04-03",{"$f":"(B1643/B1626)*100","v":2.1929127602097571},2.6992287917737787,3.6714670042728277,3.7343128252219158,3.6205113048618296,3.4958998705222268,3.7416417698107836,3.5259133389974511,3.3357091945830364,4.2495349835455709,4.3749094596552229,4.2056769207906077,{"$f":"(N1643/O1626)*100","v":3.5859679514941534}]
[]
[null,"jan-dec","feb-jan","mar-feb","apr-mar","may-apr","jun-may","jul-jun","aug-jul","sep-aug","oct-sep","nov-oct","dec-nov"]
["change_05",{"$f":"B1628-M1627","v":-330},{"$f":"C1628-B1628","v":17},139,290,232,214,78,52,{"$f":"J1628-I1628","v":-59},{"$f":"K1628-J1628","v":34},{"$f":"L1628-K1628","v":-29},{"$f":"M1628-L1628","v":-225}]
["%change_05",{"$f":"(B1647/M1627)*100","v":-4.7062179121505991},{"$f":"(C1647/B1628)*100","v":0.25441484585453455},2.0749365576951782,4.2410061421468273,3.2547699214365879,2.9076086956521738,1.0298389226300502,0.67956089911134343,{"$f":"(J1647/I1628)*100","v":-0.76583592938733125},{"$f":"(K1647/J1628)*100","v":0.44473512099411378},{"$f":"(L1647/K1628)*100","v":-0.37765334027868214},{"$f":"(M1647/L1628)*100","v":-2.9411764705882351}]
[null,"jan","feb","mar","apr","may","jun","jul","aug","sep","oct","nov","dec","ytd_avg_total"]
["chg_prv_05-04",{"$f":"B1628-B1627","v":251},307,287,350,348,380,360,393,396,393,445,413,{"$f":"O1628-O1627","v":360.25}]
["%chg_prv_05-04",{"$f":"(B1650/B1627)*100","v":3.9029699891152227},4.8028785982478093,4.3810105327430922,5.1637651224550014,4.9629207073588137,5.2821795941062,4.9369171695008225,5.3754616331555187,{"$f":"(J1650/J1627)*100","v":5.4628224582701064},{"$f":"(K1650/K1627)*100","v":5.3939061213285751},{"$f":"(L1650/L1627)*100","v":6.1762664816099928},{"$f":"(M1650/M1627)*100","v":5.8899030233884773},{"$f":"(N1650/O1627)*100","v":5.1640724857549012}]
[]
[null,"jan-dec","feb-jan","mar-feb","apr-mar","may-apr","jun-may","jul-jun","aug-jul","sep-aug","oct-sep","nov-oct","dec-nov"]
["change_06",{"$f":"B1629-M1628","v":-243},{"$f":"C1629-B1629","v":36},119,220,222,166,68,{"$f":"I1629-H1629","v":32},{"$f":"J1629-I1629","v":-93},{"$f":"K1629-J1629","v":-43},{"$f":"L1629-K1629","v":-137},{"$f":"M1629-L1629","v":-187}]
["%change_06",{"$f":"(B1654/M1628)*100","v":-3.2727272727272729},{"$f":"(C1654/B1629)*100","v":0.50125313283208017},1.6486561374341921,2.9985007496251872,2.9376736800317587,2.1339503792261216,0.85588420390182507,{"$f":"(I1654/H1629)*100","v":0.39935105453637842},{"$f":"(J1654/I1629)*100","v":-1.1559975139838408},{"$f":"(K1654/J1629)*100","v":-0.54074446680080479},{"$f":"(L1654/K1629)*100","v":-1.7322038184346946},{"$f":"(M1654/L1629)*100","v":-2.4060730828615542}]
[null,"jan","feb","mar","apr","may","jun","jul","aug","sep","oct","nov","dec","ytd_avg_total"]
["chg_prv_06-05",{"$f":"B1629-B1628","v":500},519,499,429,419,371,361,{"$f":"I1629-I1628","v":341},{"$f":"J1629-J1628","v":307},{"$f":"K1629-K1628","v":230},{"$f":"L1629-L1628","v":122},{"$f":"M1629-M1628","v":160},{"$f":"O1629-O1628","v":354.83333333333394}]
["%chg_prv_06-05",{"$f":"(B1657/B1628)*100","v":7.4827895839568992},7.7474249888042994,7.297455396314712,6.0185185185185182,5.6929347826086953,4.8983364140480594,4.7177208572922114,{"$f":"(I1657/I1628)*100","v":4.4262720664589823},{"$f":"(J1657/J1628)*100","v":4.0156965336821449},{"$f":"(K1657/K1628)*100","v":2.9951816642792028},{"$f":"(L1657/L1628)*100","v":1.5947712418300655},{"$f":"(M1657/M1628)*100","v":2.1548821548821548},{"$f":"(N1657/O1628)*100","v":4.8366577309282652}]
[]
[null,"jan-dec","feb-jan","mar-feb","apr-mar","may-apr","jun-may","jul-jun","aug-jul","sep-aug","oct-sep","nov-oct","dec-nov"]
["change_07",{"$f":"B1630-M1629","v":-290},{"$f":"C1630-B1630","v":-122},{"$f":"D1630-C1630","v":180},165,215,193,31,-25,-94,-42,-149,-257]
["%change_07",{"$f":"(B1661/M1629)*100","v":-3.8233355306526038},{"$f":"(C1661/B1630)*100","v":-1.6723783413296778},2.5094102885821834,2.2439820481436148,2.8598031391327479,2.4957972326393381,0.39111784002018679,-0.31418876460977752,-1.1850731215330308,-0.53585098239346773,-1.9112365315546436,-3.3607950830391005]
[null,"jan","feb","mar","apr","may","jun","jul","aug","sep","oct","nov","dec","ytd_avg_total"]
["chg_prv_07-06",{"$f":"B1630-B1629","v":113},{"$f":"C1630-C1629","v":-45},16,-39,-46,-19,-56,-113,{"$f":"J1630-J1629","v":-114},{"$f":"K1630-K1629","v":-113},{"$f":"L1630-L1629","v":-125},{"$f":"M1630-M1629","v":-195},{"$f":"O1630-O1629","v":-61.33333333333394}]
["%chg_prv_07-06",{"$f":"(B1664/B1629)*100","v":1.5733778891673627},-0.62344139650872821,0.21807278179092274,-0.51607780865422792,-0.59133564725543131,-0.23914411579609818,-0.69886434543866216,-1.4045991298943443,{"$f":"(J1664/J1629)*100","v":-1.4336016096579478},{"$f":"(K1664/K1629)*100","v":-1.4287520546213175},{"$f":"(L1664/L1629)*100","v":-1.6083376222336594},{"$f":"(M1664/M1629)*100","v":-2.5708635464733027},{"$f":"(N1664/O1629)*100","v":-0.79745162199060315}]
[]
[null,"jan-dec","feb-jan","mar-feb","apr-mar","may-apr","jun-may","jul-jun","aug-jul","sep-aug","oct-sep","nov-oct","dec-nov"]
["change_08",{"$f":"B1631-M1630","v":-337},{"$f":"C1631-B1631","v":-70},64,113,164,101,23,{"$f":"I1631-H1631","v":-13},{"$f":"J1631-I1631","v":-130},{"$f":"K1631-J1631","v":-97},{"$f":"L1631-K1631","v":-263},{"$f":"M1631-L1631","v":-333}]
["%change_08",{"$f":"(B1668/M1630)*100","v":-4.5602165087956701},{"$f":"(C1668/B1631)*100","v":-0.99248546717708774},0.91651152799656299,1.603519228040301,2.2905027932960893,1.3790278536318952,0.3097643097643098,{"$f":"(I1668/H1631)*100","v":-0.1745435016111708},{"$f":"(J1668/I1631)*100","v":-1.7484868863483525},{"$f":"(K1668/J1631)*100","v":-1.3278576317590691},{"$f":"(L1668/K1631)*100","v":-3.648723640399556},{"$f":"(M1668/L1631)*100","v":-4.7948164146868244}]
[null,"jan","feb","mar","apr","may","jun","jul","aug","sep","oct","nov","dec","ytd_avg_total"]
["chg_prv_08-07",{"$f":"B1631-B1630","v":-242},-190,-306,-358,-409,-501,-509,-497,-533,-588,-702,-778,{"$f":"O1631-O1630","v":-467.75}]
["%chg_prv_08-07",{"$f":"(B1671/B1630)*100","v":-3.3173406442769018},-2.6488219712811936,-4.1615667074663403,-4.7619047619047619,-5.2890210784947627,-6.320968962906889,-6.3968832474550705,-6.2657589510842158,-6.8002041337075783,-7.5423293996921492,-9.1800706159278143,-10.527740189445197,{"$f":"(N1671/O1630)*100","v":-6.1305402040236796}]
[]
[null,"jan-dec","feb-jan","mar-feb","apr-mar","may-apr","jun-may","jul-jun","aug-jul","sep-aug","oct-sep","nov-oct","dec-nov"]
["change_09",{"$f":"B1632-M1631","v":-458},{"$f":"C1632-B1632","v":-154},-50,59,130,63,1,-45,-122,-78,-136,-256]
["%change_09",{"$f":"(B1675/M1631)*100","v":-6.9267997580157292},{"$f":"(C1675/B1632)*100","v":-2.5024374390640234},-0.83333333333333337,0.99159663865546221,2.1634215343651189,1.0262257696693273,1.6123831022250887E-2,-0.72545542479445435,-1.9811627151672622,-1.2922465208747516,-2.2826451829472978,-4.3971143936791481]
[null,"jan","feb","mar","apr","may","jun","jul","aug","sep","oct","nov","dec","ytd_avg_total"]
["chg_prv_09-08",{"$f":"B1632-B1631","v":-899},-983,-1097,-1151,-1185,-1223,-1245,{"$f":"I1632-I1631","v":-1277},{"$f":"J1632-J1631","v":-1269},{"$f":"K1632-K1631","v":-1250},{"$f":"L1632-L1631","v":-1123},{"$f":"M1632-M1631","v":-1046},{"$f":"O1632-O1631","v":-1145.6666666666661}]
["%chg_prv_09-08",{"$f":"(B1678/B1631)*100","v":-12.746349071317169},-14.07704425032221,-15.566907904072655,-16.075418994413408,-16.1796832332059,-16.471380471380471,-16.715896885069817,{"$f":"(I1678/I1631)*100","v":-17.175521183591123},{"$f":"(J1678/J1631)*100","v":-17.371663244353183},{"$f":"(K1678/K1631)*100","v":-17.341842397336293},{"$f":"(L1678/L1631)*100","v":-16.169906407487399},{"$f":"(M1678/M1631)*100","v":-15.819721718088326},{"$f":"(N1678/O1631)*100","v":-15.996276688579897}]
[]
[null,"jan-dec","feb-jan","mar-feb","apr-mar","may-apr","jun-may","jul-jun","aug-jul","sep-aug","oct-sep","nov-oct","dec-nov"]
["change_10",{"$f":"B1633-M1632","v":-369},{"$f":"C1633-B1633","v":-109},125,205,143,137,65,56,-86,0,{"$f":"L1633-K1633","v":-105},{"$f":"M1633-L1633","v":-259}]
["%change_10",{"$f":"(B1682/B1632)*100","v":-5.9961000974975631},{"$f":"(C1682/B1633)*100","v":-2.097363863767558},2.4567610062893084,3.9324765010550546,2.6393503137689187,2.4635856860276926,1.1407511407511406,0.97171612007634911,-1.4779171678982643,0,{"$f":"(L1682/K1633)*100","v":-1.8315018315018317},{"$f":"(M1682/L1633)*100","v":-4.6019900497512438}]
[null,"jan","feb","mar","apr","may","jun","jul","aug","sep","oct","nov","dec","ytd_avg_total"]
["chg_prv_10-09",{"$f":"B1633-B1632","v":-957},-912,-737,-591,-578,-504,-440,-339,-303,-225,{"$f":"L1633-L1632","v":-194},{"$f":"M1633-M1632","v":-197},{"$f":"O1633-O1632","v":-498.08333333333394}]
["%chg_prv_10-09",{"$f":"(B1685/B1632)*100","v":-15.550861228469287},-15.2,-12.38655462184874,-9.8352471293060404,-9.4152142042677962,-8.1264108352144468,-7.0933419313235531,-5.5050341019811624,-5.0198807157057654,-3.7764350453172204,{"$f":"(L1685/L1632)*100","v":-3.332188251459979},{"$f":"(M1685/M1632)*100","v":-3.5393460294646064},{"$f":"(N1685/O1632)*100","v":-8.2787373436569478}]
[]
[null,"jan-dec","feb-jan","mar-feb","apr-mar","may-apr","jun-may","jul-jun","aug-jul","sep-aug","oct-sep","nov-oct","dec-nov"]
["change_11",{"$f":"B1634-M1633","v":-323},{"$f":"C1634-B1634","v":3},109,206,192,172,80,37,-28,-9,-101,-195]
["%change_11",{"$f":"(B1689/M1633)*100","v":-6.01601788042466},{"$f":"(C1689/B1634)*100","v":5.9453032104637329E-2},2.1588433353139238,3.9937960449786738,3.5794183445190155,3.0957523398128148,1.3966480446927374,0.63705234159779611,-0.47904191616766467,-0.15471892728210418,-1.7389807162534434,-3.416856492027335]
[null,"jan","feb","mar","apr","may","jun","jul","aug","sep","oct","nov","dec","ytd_avg_total"]
["chg_prv_11-10",{"$f":"B1634-B1633","v":-151},-39,-55,-54,-5,30,{"$f":"H1634-H1633","v":45},26,84,75,79,143,{"$f":"O1634-O1633","v":14.83333333333394}]
["%chg_prv_11-10",{"$f":"(B1692/B1633)*100","v":-2.9055224167789109},-0.76650943396226412,-1.0550546710147708,-0.99667774086378735,-8.9911886351375661E-2,0.52650052650052648,{"$f":"(H1692/H1633)*100","v":0.78084331077563762},0.44681216703901011,1.4652014652014651,1.3082155939298796,1.4036958066808813,2.6634382566585959,{"$f":"(N1692/O1633)*100","v":0.26880096647539609}]
[]
[null,"jan-dec","feb-jan","mar-feb","apr-mar","may-apr","jun-may","jul-jun","aug-jul","sep-aug","oct-sep","nov-oct","dec-nov"]
["change_12",{"$f":"B1635-M1634","v":-275},{"$f":"C1635-B1635","v":-18},{"$f":"D1635-C1635","v":94},{"$f":"E1635-D1635","v":174},{"$f":"F1635-E1635","v":161},172,68,32,-45,5,-101,-157]
["%change_12",{"$f":"(B1696/M1634)*100","v":-4.9891146589259794},{"$f":"(C1696/B1635)*100","v":-0.34370822990261601},{"$f":"(D1696/C1635)*100","v":1.8011113240084309},{"$f":"(E1696/D1635)*100","v":3.274985883681536},{"$f":"(F1696/E1635)*100","v":2.9342081283032626},3.0453257790368271,1.168384879725086,0.54347826086956519,-0.7601351351351352,8.5106382978723402E-2,-1.7176870748299318,-2.7167329987887179]
[null,"jan","feb","mar","apr","may","jun","jul","aug","sep","oct","nov","dec","ytd_avg_total"]
["chg_prv_12-11",{"$f":"B1635-B1634","v":191},{"$f":"C1635-C1634","v":170},{"$f":"D1635-D1634","v":155},{"$f":"E1635-E1634","v":123},{"$f":"F1635-F1634","v":92},92,{"$f":"H1635-H1634","v":80},75,{"$f":"J1635-J1634","v":58},72,{"$f":"L1635-L1634","v":72},110,{"$f":"O1635/O1634","v":1.019428296033013}]
["%chg_prv_12-11",{"$f":"(B1699/B1634)*100","v":3.7851763773285771},{"$f":"(C1699/C1634)*100","v":3.3670033670033668},{"$f":"(D1699/D1634)*100","v":3.0050407134548274},{"$f":"(E1699/E1634)*100","v":2.2930648769574944},{"$f":"(F1699/F1634)*100","v":1.6558675305975521},1.6061452513966481,{"$f":"(H1699/H1634)*100","v":1.3774104683195594},1.2831479897348161,{"$f":"(J1699/J1634)*100","v":0.99707753137356026},1.2396694214876034,{"$f":"(L1699/L1634)*100","v":1.2616085509024006},1.995645863570392,{"$f":"(N1699/O1634)*100","v":1.842395787884598E-2}]
[]
[null,"jan-dec","feb-jan","mar-feb","apr-mar","may-apr","jun-may","jul-jun","aug-jul","sep-aug","oct-sep","nov-oct","dec-nov"]
["change_13",{"$f":"B1636-M1635","v":-282},{"$f":"C1636-B1636","v":33},114,161,186,161,65,26,-33,-1,-56,-223]
["%change_13",{"$f":"(B1703/M1635)*100","v":-5.0160085378868731},{"$f":"(C1703/B1636)*100","v":0.6179775280898876},2.1217197096594078,2.9342081283032626,3.2932011331444757,2.7596846074734316,1.0842368640533779,0.42904290429042907,-0.54222806441012161,-1.6520733520568313E-2,-0.92531394580304038,-3.7191460973982653]
[null,"jan","feb","mar","apr","may","jun","jul","aug","sep","oct","nov","dec","ytd_avg_total"]
["chg_prv_13-12",{"$f":"B1636-B1635","v":103},154,174,161,186,175,172,166,178,172,217,151,{"$f":"O1636-O1635","v":167.41666666666606}]
["%chg_prv_13-12",{"$f":"(B1706/B1635)*100","v":1.9667748711094137},2.9507568499712589,3.274985883681536,2.9342081283032626,3.2932011331444757,3.006872852233677,2.9211956521739131,2.8040540540540544,3.0297872340425531,2.925170068027211,3.7549749091538325,2.6858769121309143,{"$f":"(N1706/O1635)*100","v":2.9680297837134981}]
[]
[null,"jan-dec","feb-jan","mar-feb","apr-mar","may-apr","jun-may","jul-jun","aug-jul","sep-aug","oct-sep","nov-oct","dec-nov"]
["change_14",{"$f":"B1637-M1636","v":-240},{"$f":"C1637-B1637","v":-4},127,213,183,155,109,35,-31,2,-96,-157]
["%change_14",{"$f":"(B1710/M1636)*100","v":-4.1572839078468729},{"$f":"(C1710/B1637)*100","v":-7.2293511657328752E-2},2.2969795623078317,3.7659123055162662,3.1180780371443175,2.5611368142762725,1.7560818430803931,0.55414819506016466,-0.48811210832939694,3.1645569620253167E-2,-1.5185068016450489,-2.5216832637327338]
[null,"jan","feb","mar","apr","may","jun","jul","aug","sep","oct","nov","dec","ytd_avg_total"]
["chg_prv_14-13",{"$f":"B1637-B1636","v":193},{"$f":"C1637-C1636","v":156},169,{"$f":"E1637-E1636","v":221},218,{"$f":"G1637-G1636","v":212},256,{"$f":"I1637-I1636","v":265},267,{"$f":"K1637-K1636","v":270},230,{"$f":"M1637-M1636","v":296},{"$f":"O1637-O1636","v":229.41666666666697}]
["%chg_prv_14-13",{"$f":"(B1713/B1636)*100","v":3.6142322097378274},{"$f":"(C1713/C1636)*100","v":2.9034059184812953},3.0800072899580826,{"$f":"(E1713/E1636)*100","v":3.9128895184135972},3.7367158039081252,{"$f":"(G1713/G1636)*100","v":3.5362802335279402},4.224422442244224,{"$f":"(I1713/I1636)*100","v":4.3542556687479461},4.4110358499917393,{"$f":"(K1713/K1636)*100","v":4.4613350958360876},3.835890593729153,{"$f":"(M1713/M1636)*100","v":5.1273168196778105},{"$f":"(N1713/O1636)*100","v":3.9499548043674815}]
[]
[null,"jan-dec","feb-jan","mar-feb","apr-mar","may-apr","jun-may","jul-jun","aug-jul","sep-aug","oct-sep","nov-oct","dec-nov"]
["change_15"]
["%change_15"]
[null,"jan","feb","mar","apr","may","jun","jul","aug","sep","oct","nov","dec","ytd_avg_total"]
["chg_prv_15-14",{"$nulls":12},{"$f":"N1638-N1637","v":{"$error":"#DIV/0!"}}]
["%chg_prv_15-14",{"$nulls":12},{"$f":"(N1720/N1637)*100","v":{"$error":"#DIV/0!"}}]
[]
[]
["lh_em","jan","feb","mar","apr","may","jun","jul","aug","sep","oct","nov","dec","ytd_avg_total"]
[2003,11568,11599,11769,11984,12302,12671,12776,12768,12391,12177,12026,12041,{"$f":"AVERAGE(B1725:M1725)","v":12172.666666666666},{"$f":"AVERAGE(B1725:M1725)","v":12172.666666666666}]
[2004,11760,11838,12077,12355,12691,13051,13128,13083,12729,12519,12348,12336,12492.916666666666,12492.916666666666]
[2005,12064,12151,12365,12711,13010,13413,13514,13497,13041,12782,12629,12609,12815.5,12815.5]
[2006,12339,12438,12674,12960,13268,13638,13790,13764,13322,13125,12994,13005,13109.75,13109.75]
[2007,12703,12790,12987,13260,13630,14012,14092,14045,13637,13441,13278,13244,13426.583333333334,13426.583333333334]
[2008,12905,12971,13156,13396,13709,14052,14129,14056,13563,13300,13040,12959,13436.333333333334,13436.333333333334]
[2009,12607,12616,12748,12977,13337,13656,13746,13675,13245,12956,12735,12631,13077.416666666666,13077.416666666666]
[2010,12315,12359,12578,12915,13243,13616,13720,13712,13351,13085,12872,12818,{"$f":"AVERAGE(B1732:M1732)","v":13048.666666666666},13048.666666666666]
[2011,12477,12614,12881,13233,13535,13947,14032,14023,13629,13418,13249,13195,{"$f":"AVERAGE(B1733:M1733)","v":13352.75},13352.75]
[2012,12904,13038,13334,13620,13946,14311,14387,14404,14018,13796,13598,13591,{"$f":"AVERAGE(B1734:M1734)","v":13745.583333333334},{"$f":"AVERAGE(B1734:M1734)","v":13745.583333333334}]
[2013,13264,13403,13668,13990,14368,14773,14856,14837,14399,14219,14148,14095,{"$f":"AVERAGE(B1735:M1735)","v":14168.333333333334},{"$f":"AVERAGE(B1735:M1735)","v":14168.333333333334}]
[2014,13783,13873,14143,14469,14873,15270,15337,15296,14885,14727,14541,14512,{"$f":"AVERAGE(B1736:M1736)","v":14642.416666666666},{"$f":"AVERAGE(B1736:M1736)","v":14642.416666666666}]
[2015,{"$nulls":12},{"$f":"AVERAGE(B1737:B1737)","v":{"$error":"#DIV/0!"}},{"$f":"AVERAGE(B1737:M1737)","v":{"$error":"#DIV/0!"}}]
[null,"jan-dec","feb-jan","mar-feb","apr-mar","may-apr","jun-may","jul-jun","aug-jul","sep-aug","oct-sep","nov-oct","dec-nov"]
["change_04",{"$f":"B1726-M1725","v":-281},{"$f":"C1726-B1726","v":78},239,278,336,360,77,-45,-354,-210,-171,-12]
["%change_04",{"$f":"(B1739/M1725)*100","v":-2.3336932148492648},{"$f":"(C1739/B1726)*100","v":0.66326530612244894},2.0189221152221659,2.3018961662664572,2.7195467422096318,2.8366558978803877,0.58999310397670679,-0.34277879341864714,-2.7058014216922723,-1.6497761018147539,-1.3659237958303379,-9.718172983479105E-2]
[null,"jan","feb","mar","apr","may","jun","jul","aug","sep","oct","nov","dec","ytd_avg_total"]
["chg_prv_04-03",{"$f":"B1726-B1725","v":192},239,308,371,389,380,352,315,338,342,322,295,{"$f":"O1726-O1725","v":320.25}]
["%chg_prv_04-03",{"$f":"(B1742/B1725)*100","v":1.6597510373443984},2.0605224588326578,2.6170447786557904,3.0957943925233646,3.1620874654527715,2.998974035198485,2.7551659361302443,2.4671052631578947,2.7277862965055282,2.8085735402808574,2.6775320139697323,2.4499626276887301,{"$f":"(N1742/O1725)*100","v":2.6308943534695222}]
[]
[null,"jan-dec","feb-jan","mar-feb","apr-mar","may-apr","jun-may","jul-jun","aug-jul","sep-aug","oct-sep","nov-oct","dec-nov"]
["change_05",{"$f":"B1727-M1726","v":-272},{"$f":"C1727-B1727","v":87},214,346,299,403,101,-17,{"$f":"J1727-I1727","v":-456},{"$f":"K1727-J1727","v":-259},{"$f":"L1727-K1727","v":-153},{"$f":"M1727-L1727","v":-20}]
["%change_05",{"$f":"(B1746/M1726)*100","v":-2.2049286640726331},{"$f":"(C1746/B1727)*100","v":0.72115384615384615},1.7611719200065836,2.798220784472301,2.3522932892770041,3.0976172175249808,0.7530008200999031,-0.12579547136303093,{"$f":"(J1746/I1727)*100","v":-3.3785285619026455},{"$f":"(K1746/J1727)*100","v":-1.9860440150295224},{"$f":"(L1746/K1727)*100","v":-1.1969957753090283},{"$f":"(M1746/L1727)*100","v":-0.15836566632354104}]
[null,"jan","feb","mar","apr","may","jun","jul","aug","sep","oct","nov","dec","ytd_avg_total"]
["chg_prv_05-04",{"$f":"B1727-B1726","v":304},313,288,356,319,362,386,414,312,263,281,273,{"$f":"O1727-O1726","v":322.58333333333394}]
["%chg_prv_05-04",{"$f":"(B1749/B1726)*100","v":2.5850340136054419},2.6440277073830036,2.3846981866357537,2.8814245244840149,2.5135923095106767,2.7737338135008809,2.9402803168799516,3.1644118321485899,{"$f":"(J1749/J1726)*100","v":2.4510959226962057},{"$f":"(K1749/K1726)*100","v":2.1008067737039697},{"$f":"(L1749/L1726)*100","v":2.2756721736313574},{"$f":"(M1749/M1726)*100","v":2.213035019455253},{"$f":"(N1749/O1726)*100","v":2.5821298735950422}]
[]
[null,"jan-dec","feb-jan","mar-feb","apr-mar","may-apr","jun-may","jul-jun","aug-jul","sep-aug","oct-sep","nov-oct","dec-nov"]
["change_06",{"$f":"B1728-M1727","v":-270},{"$f":"C1728-B1728","v":99},236,286,308,370,152,{"$f":"I1728-H1728","v":-26},{"$f":"J1728-I1728","v":-442},{"$f":"K1728-J1728","v":-197},{"$f":"L1728-K1728","v":-131},{"$f":"M1728-L1728","v":11}]
["%change_06",{"$f":"(B1753/M1727)*100","v":-2.1413276231263381},{"$f":"(C1753/B1728)*100","v":0.80233406272793595},1.897411159350378,2.2565882909894275,2.3765432098765431,2.7886644558335845,1.1145329227159408,{"$f":"(I1753/H1728)*100","v":-0.18854242204496011},{"$f":"(J1753/I1728)*100","v":-3.2112757919209534},{"$f":"(K1753/J1728)*100","v":-1.4787569434018917},{"$f":"(L1753/K1728)*100","v":-0.99809523809523804},{"$f":"(M1753/L1728)*100","v":8.4654455902724329E-2}]
[null,"jan","feb","mar","apr","may","jun","jul","aug","sep","oct","nov","dec","ytd_avg_total"]
["chg_prv_06-05",{"$f":"B1728-B1727","v":275},287,309,249,258,225,276,{"$f":"I1728-I1727","v":267},{"$f":"J1728-J1727","v":281},{"$f":"K1728-K1727","v":343},{"$f":"L1728-L1727","v":365},{"$f":"M1728-M1727","v":396},{"$f":"O1728-O1727","v":294.25}]
["%chg_prv_06-05",{"$f":"(B1756/B1727)*100","v":2.2795092838196287},2.3619455188873344,2.4989890820865344,1.9589332074581072,1.9830899308224441,1.6774770744799821,2.0423264762468549,{"$f":"(I1756/I1727)*100","v":1.9782173816403645},{"$f":"(J1756/J1727)*100","v":2.1547427344528796},{"$f":"(K1756/K1727)*100","v":2.6834611171960567},{"$f":"(L1756/L1727)*100","v":2.8901734104046244},{"$f":"(M1756/M1727)*100","v":3.1406138472519629},{"$f":"(N1756/O1727)*100","v":2.296047754672077}]
[]
[null,"jan-dec","feb-jan","mar-feb","apr-mar","may-apr","jun-may","jul-jun","aug-jul","sep-aug","oct-sep","nov-oct","dec-nov"]
["change_07",{"$f":"B1729-M1728","v":-302},{"$f":"C1729-B1729","v":87},{"$f":"D1729-C1729","v":197},273,370,382,80,-47,-408,-196,-163,-34]
["%change_07",{"$f":"(B1760/M1728)*100","v":-2.3221837754709727},{"$f":"(C1760/B1729)*100","v":0.68487758797134535},1.5402658326817826,2.1021021021021022,2.7903469079939671,2.8026412325752017,0.57093919497573509,-0.33352256599489072,-2.9049483802064788,-1.4372662609078242,-1.2127073878431665,-0.2560626600391625]
[null,"jan","feb","mar","apr","may","jun","jul","aug","sep","oct","nov","dec","ytd_avg_total"]
["chg_prv_07-06",{"$f":"B1729-B1728","v":364},{"$f":"C1729-C1728","v":352},313,300,362,374,302,281,{"$f":"J1729-J1728","v":315},{"$f":"K1729-K1728","v":316},{"$f":"L1729-L1728","v":284},{"$f":"M1729-M1728","v":239},{"$f":"O1729-O1728","v":316.83333333333394}]
["%chg_prv_07-06",{"$f":"(B1763/B1728)*100","v":2.9499959478077638},2.8300369834378518,2.4696228499289883,2.3148148148148149,2.7283690081398855,2.7423375861563279,2.189992748368383,2.0415576867189769,{"$f":"(J1763/J1728)*100","v":2.3645098333583547},{"$f":"(K1763/K1728)*100","v":2.4076190476190478},{"$f":"(L1763/L1728)*100","v":2.185624134215792},{"$f":"(M1763/M1728)*100","v":1.8377547097270279},{"$f":"(N1763/O1728)*100","v":2.4167763178804624}]
[]
[null,"jan-dec","feb-jan","mar-feb","apr-mar","may-apr","jun-may","jul-jun","aug-jul","sep-aug","oct-sep","nov-oct","dec-nov"]
["change_08",{"$f":"B1730-M1729","v":-339},{"$f":"C1730-B1730","v":66},185,240,313,343,77,{"$f":"I1730-H1730","v":-73},{"$f":"J1730-I1730","v":-493},{"$f":"K1730-J1730","v":-263},{"$f":"L1730-K1730","v":-260},{"$f":"M1730-L1730","v":-81}]
["%change_08",{"$f":"(B1767/M1729)*100","v":-2.5596496526729084},{"$f":"(C1767/B1730)*100","v":0.51142967841921738},1.4262585768252254,1.8242626938279112,2.3365183636906539,2.5020059814720259,0.5479647025334472,-0.51666784627362161,-3.5073989755264656,-1.9390990193909903,-1.9548872180451129,-0.62116564417177911]
[null,"jan","feb","mar","apr","may","jun","jul","aug","sep","oct","nov","dec","ytd_avg_total"]
["chg_prv_08-07",{"$f":"B1730-B1729","v":202},181,169,136,79,40,37,11,-74,-141,-238,-285,{"$f":"O1730-O1729","v":9.75}]
["%chg_prv_08-07",{"$f":"(B1770/B1729)*100","v":1.5901755490828937},1.4151681000781859,1.3013013013013013,1.0256410256410255,0.57960381511371972,0.28546959748786754,0.26256031791087142,7.8319686721253112E-2,-0.54264134340397452,-1.049029090097463,-1.7924386202741376,-2.1519178495922682,{"$f":"(N1770/O1729)*100","v":7.2617133919649454E-2}]
[]
[null,"jan-dec","feb-jan","mar-feb","apr-mar","may-apr","jun-may","jul-jun","aug-jul","sep-aug","oct-sep","nov-oct","dec-nov"]
["change_09",{"$f":"B1731-M1730","v":-352},{"$f":"C1731-B1731","v":9},132,229,360,319,90,-71,-430,-289,-221,-104]
["%change_09",{"$f":"(B1774/M1730)*100","v":-2.7162589705995832},{"$f":"(C1774/B1731)*100","v":7.1388910922503379E-2},1.0462904248573239,1.7963602133668026,2.7741388610618789,2.3918422433830697,0.65905096660808438,-0.51651389495125855,-3.1444241316270571,-2.1819554548886373,-1.7057733868477927,-0.81664703572830788]
[null,"jan","feb","mar","apr","may","jun","jul","aug","sep","oct","nov","dec","ytd_avg_total"]
["chg_prv_09-08",{"$f":"B1730-B1729","v":202},181,169,136,79,40,37,11,-74,-141,-238,-285,{"$f":"O1731-O1730","v":-358.91666666666788}]
["%chg_prv_09-08",{"$f":"(B1777/B1730)*100","v":1.5652847733436652},1.3954205535425179,1.2845849802371543,1.015228426395939,0.57626376832737614,0.2846569883290635,0.26187274400169863,7.8258394991462726E-2,-0.54560200545602011,-1.0601503759398496,-1.8251533742331287,-2.1992437688093216,{"$f":"(N1777/O1730)*100","v":-2.6712396735220514}]
[]
[null,"jan-dec","feb-jan","mar-feb","apr-mar","may-apr","jun-may","jul-jun","aug-jul","sep-aug","oct-sep","nov-oct","dec-nov"]
["change_10",{"$f":"B1732-M1731","v":-316},{"$f":"C1732-B1732","v":44},219,337,328,373,104,-8,-361,-266,{"$f":"L1732-K1732","v":-213},{"$f":"M1732-L1732","v":-54}]
["%change_10",{"$f":"(B1781/M1731)*100","v":-2.5017813316443669},{"$f":"(C1781/B1732)*100","v":0.35728786033292731},1.77198802492111,2.6792812847829546,2.5396825396825395,2.8165823453900174,0.76380728554641597,-5.8309037900874633E-2,-2.6327304550758459,-1.9923601228372407,{"$f":"(L1781/K1732)*100","v":-1.6278181123423767},{"$f":"(M1781/L1732)*100","v":-0.41951522684897447}]
[null,"jan","feb","mar","apr","may","jun","jul","aug","sep","oct","nov","dec","ytd_avg_total"]
["chg_prv_10-09",{"$f":"B1732-B1731","v":-292},-257,-170,-62,-94,-40,-26,{"$f":"I1732-I1731","v":37},{"$f":"J1732-J1731","v":106},{"$f":"K1732-K1731","v":129},{"$f":"L1732-L1731","v":137},{"$f":"M1732-M1731","v":187},{"$f":"O1732-O1731","v":-28.75}]
["%chg_prv_10-09",{"$f":"(B1784/B1731)*100","v":-2.3161735543745539},-2.0370957514267598,-1.3335425164731722,-0.47776835940510137,-0.70480617830096726,-0.29291154071470415,-0.18914593336243271,{"$f":"(I1784/I1731)*100","v":0.2705667276051188},{"$f":"(J1784/J1731)*100","v":0.80030200075500191},{"$f":"(K1784/K1731)*100","v":0.99567767829577025},{"$f":"(L1784/L1731)*100","v":1.0757754220651747},{"$f":"(M1784/M1731)*100","v":1.4804845222072678},{"$f":"(N1784/O1731)*100","v":-0.21984464311886268}]
[]
[null,"jan-dec","feb-jan","mar-feb","apr-mar","may-apr","jun-may","jul-jun","aug-jul","sep-aug","oct-sep","nov-oct","dec-nov"]
["change_11",{"$f":"B1733-M1732","v":-341},{"$f":"C1733-B1733","v":137},267,352,302,412,85,-9,-394,-211,-169,-54]
["%change_11",{"$f":"(B1788/M1732)*100","v":-2.6603214229989076},{"$f":"(C1788/B1733)*100","v":1.0980203574577221},2.1166957348977324,2.7327070879590094,2.2821733544925564,3.0439601034355377,0.60945006094500609,-6.4139110604332958E-2,-2.809669828139485,-1.5481693447795142,-1.2595021612758981,-0.40757793040984225]
[null,"jan","feb","mar","apr","may","jun","jul","aug","sep","oct","nov","dec","ytd_avg_total"]
["chg_prv_11-10",{"$f":"B1733-B1732","v":162},255,303,318,292,331,{"$f":"H1733-H1732","v":312},311,278,333,377,377,{"$f":"O1733-O1732","v":304.08333333333394}]
["%chg_prv_11-10",{"$f":"(B1791/B1732)*100","v":1.315468940316687},2.0632737276478679,2.4089680394339323,2.4622531939605112,2.2049384580533111,2.4309635722679199,{"$f":"(H1791/H1732)*100","v":2.2740524781341107},2.2680863477246205,2.0822410306344095,2.5448987390141382,2.9288377874456186,2.9411764705882351,{"$f":"(N1791/O1732)*100","v":2.3303785827415364}]
[]
[null,"jan-dec","feb-jan","mar-feb","apr-mar","may-apr","jun-may","jul-jun","aug-jul","sep-aug","oct-sep","nov-oct","dec-nov"]
["change_12",{"$f":"B1734-M1733","v":-291},{"$f":"C1734-B1734","v":134},{"$f":"D1734-C1734","v":296},{"$f":"E1734-D1734","v":286},{"$f":"F1734-E1734","v":326},365,76,17,-386,-222,-198,-7]
["%change_12",{"$f":"(B1795/M1733)*100","v":-2.2053808260704812},{"$f":"(C1795/B1734)*100","v":1.0384376937383757},{"$f":"(D1795/C1734)*100","v":2.2702868538119341},{"$f":"(E1795/D1734)*100","v":2.1448927553622319},{"$f":"(F1795/E1734)*100","v":2.3935389133627019},2.6172379176824898,0.53106002375794847,0.11816222979078334,-2.6798111635656765,-1.5836781281209873,-1.4351986082922585,-5.1478158552728338E-2]
[null,"jan","feb","mar","apr","may","jun","jul","aug","sep","oct","nov","dec","ytd_avg_total"]
["chg_prv_12-11",{"$f":"B1734-B1733","v":427},{"$f":"C1734-C1733","v":424},{"$f":"D1734-D1733","v":453},{"$f":"E1734-E1733","v":387},{"$f":"F1734-F1733","v":411},364,{"$f":"H1734-H1733","v":355},381,{"$f":"J1734-J1733","v":389},378,{"$f":"L1734-L1733","v":349},396,{"$f":"O1734/O1733","v":1.0294196576235857}]
["%chg_prv_12-11",{"$f":"(B1798/M1733)*100","v":3.2360742705570296},{"$f":"(C1798/C1733)*100","v":3.3613445378151261},{"$f":"(D1798/D1733)*100","v":3.5168077012654302},{"$f":"(E1798/E1733)*100","v":2.9245069145318525},{"$f":"(F1798/F1733)*100","v":3.0365718507572961},2.6098802609880263,{"$f":"(H1798/H1733)*100","v":2.5299315849486885},2.7169649860942737,{"$f":"(J1798/J1733)*100","v":2.8542079389537016},2.8171113429721268,{"$f":"(L1798/L1733)*100","v":2.6341610687599064},3.0011367942402423,{"$f":"(N1798/O1733)*100","v":7.7094205884449696E-3}]
[]
[null,"jan-dec","feb-jan","mar-feb","apr-mar","may-apr","jun-may","jul-jun","aug-jul","sep-aug","oct-sep","nov-oct","dec-nov"]
["change_13",{"$f":"B1735-M1734","v":-327},{"$f":"C1735-B1735","v":139},265,322,378,405,83,-19,-438,-180,-71,-53]
["%change_13",{"$f":"(B1802/M1734)*100","v":-2.4060039732175702},{"$f":"(C1802/B1735)*100","v":1.0479493365500603},1.9771692904573603,2.3558677202224172,2.7019299499642599,2.8187639198218264,0.56183578149326474,-0.12789445341949379,-2.9520792613061939,-1.2500868115841379,-0.4993318798790351,-0.37461125247384791]
[null,"jan","feb","mar","apr","may","jun","jul","aug","sep","oct","nov","dec","ytd_avg_total"]
["chg_prv_13-12",{"$f":"B1735-B1734","v":360},365,334,370,422,462,469,433,381,423,550,504,{"$f":"O1735-O1734","v":422.75}]
["%chg_prv_13-12",{"$f":"(B1805/B1734)*100","v":2.7898326100433977},2.7995091271667434,2.5048747562621867,2.7165932452276063,3.0259572637315357,3.2282859338970025,3.2598873983457288,3.006109414051652,2.717934084748181,3.0661061177152797,4.0447124577143692,3.7083363990876315,{"$f":"(N1805/O1734)*100","v":3.0755333531376743}]
[]
[null,"jan-dec","feb-jan","mar-feb","apr-mar","may-apr","jun-may","jul-jun","aug-jul","sep-aug","oct-sep","nov-oct","dec-nov"]
["change_14",{"$f":"B1736-M1735","v":-312},{"$f":"C1736-B1736","v":90},270,326,404,397,67,-41,-411,-158,-186,-29]
["%change_14",{"$f":"(B1809/M1735)*100","v":-2.2135509045760906},{"$f":"(C1809/B1736)*100","v":0.65297830660959155},1.9462264830966625,2.305027221947253,2.7921763770820376,2.6692664559940833,0.4387688277668631,-0.26732737823563929,-2.6869769874476988,-1.061471279811891,-1.2629863515991036,-0.19943607729867274]
[null,"jan","feb","mar","apr","may","jun","jul","aug","sep","oct","nov","dec","ytd_avg_total"]
["chg_prv_14-13",{"$f":"B1736-B1735","v":519},{"$f":"C1736-C1735","v":470},475,{"$f":"E1736-E1735","v":479},505,{"$f":"G1736-G1735","v":497},481,{"$f":"I1736-I1735","v":459},486,{"$f":"K1736-K1735","v":508},393,{"$f":"M1736-M1735","v":417},{"$f":"O1736-O1735","v":474.08333333333212}]
["%chg_prv_14-13",{"$f":"(B1812/B1735)*100","v":3.9128468033775636},{"$f":"(C1812/C1735)*100","v":3.5066776094904126},3.475270705297044,{"$f":"(E1812/E1735)*100","v":3.4238741958541818},3.5147550111358576,{"$f":"(G1812/G1735)*100","v":3.364245583158465},3.2377490576198169,{"$f":"(I1812/I1735)*100","v":3.0936173080811482},3.3752343912771723,{"$f":"(K1812/K1735)*100","v":3.5726844363176031},2.7777777777777777,{"$f":"(M1812/M1735)*100","v":2.9584959205391983},{"$f":"(N1812/O1735)*100","v":3.3460769321256238}]
[]
[null,"jan-dec","feb-jan","mar-feb","apr-mar","may-apr","jun-may","jul-jun","aug-jul","sep-aug","oct-sep","nov-oct","dec-nov"]
["change_15"]
["%change_15"]
[null,"jan","feb","mar","apr","may","jun","jul","aug","sep","oct","nov","dec","ytd_avg_total"]
["chg_prv_15-14",{"$nulls":12},{"$f":"N1737-N1736","v":{"$error":"#DIV/0!"}}]
["%chg_prv_15-14",{"$nulls":12},{"$f":"(N1819/N1736)*100","v":{"$error":"#DIV/0!"}}]
[]
[]
["ecch_uer","jan","feb","mar","apr","may","jun","jul","aug","sep","oct","nov","dec","ytd_avg_total"]
[2003,6.3,6.6,6.6,5.8,5.0999999999999996,5.9,5.2,4.9000000000000004,4.2,4,4.4000000000000004,4.7,{"$f":"AVERAGE(B1824:M1824)","v":5.3083333333333336},{"$f":"AVERAGE(B1824:M1824)","v":5.3083333333333336}]
[2004,6.1,6.1,6.2,5.0999999999999996,4.5,5.2,4.5,4.4000000000000004,3.9,3.8,4.0999999999999996,4.5,4.8666666666666663,4.8666666666666663]
[2005,5.8,6.2,5.9,4.8,4.4000000000000004,4.8,4.2,4,3.8,3.6,4,4.5,4.666666666666667,4.666666666666667]
[2006,5.0999999999999996,5.5,5.3,4.4000000000000004,3.9,4.5999999999999996,4.2,4.0999999999999996,3.8,3.6,3.9,4.4000000000000004,4.3999999999999995,4.3999999999999995]
[2007,5.4,5.5,5.4,5.0999999999999996,4.4000000000000004,4.9000000000000004,4.4000000000000004,4.0999999999999996,3.8,3.5,3.6,4,4.5083333333333329,4.5083333333333329]
[2008,5,5,4.9000000000000004,4.0999999999999996,3.7,4.5999999999999996,4.0999999999999996,4.0999999999999996,3.9,4,4.8,5.7,4.4916666666666663,4.4916666666666663]
[2009,7.4,8.4,9,7.6,7.5,8.1999999999999993,7.5,7.4,6.8,6.6,6.6,7.5,7.5416666666666652,7.5416666666666652]
[2010,8.9,9.1,8.8000000000000007,7.5,6.9,7.3,7,6.9,6.3,6.1,6.1,6.4,{"$f":"AVERAGE(B1831:M1831)","v":7.2749999999999986},7.2749999999999986]
[2011,7.7,7.9,7.6,6.9,6.6,7.3,6.8,6.7,6.1,5.7,5.7,6,{"$f":"AVERAGE(B1832:M1832)","v":6.75},6.75]
[2012,7.1,7.2,6.9,5.8,5.8,6.7,6.5,6.2,5.3,5,5.2,5.7,{"$f":"AVERAGE(B1833:M1833)","v":6.1166666666666671},{"$f":"AVERAGE(B1833:M1833)","v":6.1166666666666671}]
[2013,7.6,7.5,7.0487404816476387,6.6157236049452397,5.9,6.3,6,5.6,5,4.7,4.8,5.2,{"$f":"AVERAGE(B1834:M1834)","v":6.0220386738827401},{"$f":"AVERAGE(B1834:M1834)","v":6.0220386738827401}]
[2014,6.2,6.4,6.1,5.4,4.8,5.4,5.2219377793205188,4.6100640558558403,4,3.9,4.3,4.5,{"$f":"AVERAGE(B1835:M1835)","v":5.0693334862646973},{"$f":"AVERAGE(B1835:M1835)","v":5.0693334862646973}]
[2015,{"$nulls":12},{"$f":"AVERAGE(B1836:B1836)","v":{"$error":"#DIV/0!"}},{"$f":"AVERAGE(B1836:M1836)","v":{"$error":"#DIV/0!"}}]
[null,"jan-dec","feb-jan","mar-feb","apr-mar","may-apr","jun-may","jul-jun","aug-jul","sep-aug","oct-sep","nov-oct","dec-nov"]
["change_04",{"$f":"B1825-M1824","v":1.3999999999999995},{"$f":"C1825-B1825","v":0},0.10000000000000053,-1.1000000000000005,-0.59999999999999964,0.70000000000000018,-0.70000000000000018,-9.9999999999999645E-2,-0.50000000000000044,-0.10000000000000009,0.29999999999999982,0.40000000000000036]
["%change_04",{"$f":"(B1838/M1824)*100","v":29.78723404255318},{"$f":"(C1838/B1825)*100","v":0},1.6393442622950907,-17.741935483870979,-11.764705882352935,15.555555555555559,-13.461538461538463,-2.2222222222222143,-11.363636363636372,-2.5641025641025665,7.8947368421052584,9.7560975609756202]
[null,"jan","feb","mar","apr","may","jun","jul","aug","sep","oct","nov","dec","ytd_avg_total"]
["chg_prv_04-03",{"$f":"B1825-B1824","v":-0.20000000000000018},-0.5,-0.39999999999999947,-0.70000000000000018,-0.59999999999999964,-0.70000000000000018,-0.70000000000000018,-0.5,-0.30000000000000027,-0.20000000000000018,-0.30000000000000071,-0.20000000000000018,{"$f":"O1825-O1824","v":-0.44166666666666732}]
["%chg_prv_04-03",{"$f":"(B1841/B1824)*100","v":-3.1746031746031771},{"$f":"(C1841/C1824)*100","v":-7.5757575757575761},-6.0606060606060534,-12.068965517241383,-11.764705882352935,-11.864406779661019,-13.461538461538463,-10.204081632653059,-7.1428571428571495,-5.0000000000000044,-6.8181818181818343,-4.2553191489361737,{"$f":"(N1841/O1824)*100","v":-8.3202511773940468}]
[]
[null,"jan-dec","feb-jan","mar-feb","apr-mar","may-apr","jun-may","jul-jun","aug-jul","sep-aug","oct-sep","nov-oct","dec-nov"]
["change_05",{"$f":"B1826-M1825","v":1.2999999999999998},{"$f":"C1826-B1826","v":0.40000000000000036},-0.29999999999999982,-1.1000000000000005,-0.39999999999999947,0.39999999999999947,-0.59999999999999964,-0.20000000000000018,-0.20000000000000018,-0.19999999999999973,0.39999999999999991,0.5]
["%change_05",{"$f":"(B1845/M1825)*100","v":28.888888888888886},{"$f":"(C1845/B1826)*100","v":6.8965517241379377},-4.8387096774193523,-18.644067796610177,-8.3333333333333233,9.0909090909090793,-12.499999999999993,-4.7619047619047654,-5.0000000000000044,-5.2631578947368354,11.111111111111107,12.5]
[null,"jan","feb","mar","apr","may","jun","jul","aug","sep","oct","nov","dec","ytd_avg_total"]
["chg_prv_05-04",{"$f":"B1826-B1825","v":-0.29999999999999982},0.10000000000000053,-0.29999999999999982,-0.29999999999999982,-9.9999999999999645E-2,-0.40000000000000036,-0.29999999999999982,-0.40000000000000036,-0.10000000000000009,-0.19999999999999973,-9.9999999999999645E-2,0,{"$f":"O1826-O1825","v":-0.19999999999999929}]
["%chg_prv_05-04",{"$f":"(B1848/B1825)*100","v":-4.9180327868852434},1.6393442622950907,-4.8387096774193523,-5.8823529411764675,-2.2222222222222143,-7.6923076923076987,-6.6666666666666625,-9.0909090909090988,-2.5641025641025665,-5.2631578947368354,-2.4390243902438939,0,{"$f":"(N1848/O1825)*100","v":-4.1095890410958766}]
[]
[null,"jan-dec","feb-jan","mar-feb","apr-mar","may-apr","jun-may","jul-jun","aug-jul","sep-aug","oct-sep","nov-oct","dec-nov"]
["change_06",{"$f":"B1827-M1826","v":0.59999999999999964},{"$f":"C1827-B1827","v":0.40000000000000036},-0.20000000000000018,-0.89999999999999947,-0.50000000000000044,0.69999999999999973,-0.39999999999999947,-0.10000000000000053,-0.29999999999999982,-0.19999999999999973,{"$f":"L1827-K1827","v":0.29999999999999982},{"$f":"M1827-L1827","v":0.50000000000000044}]
["%change_06",{"$f":"(B1852/M1826)*100","v":13.333333333333325},{"$f":"(C1852/B1827)*100","v":7.8431372549019676},-3.6363636363636398,-16.981132075471688,-11.363636363636372,17.948717948717942,-8.6956521739130324,-2.3809523809523938,-7.317073170731704,-5.2631578947368354,8.3333333333333286,12.820512820512834]
[null,"jan","feb","mar","apr","may","jun","jul","aug","sep","oct","nov","dec","ytd_avg_total"]
["chg_prv_06-05",{"$f":"B1827-B1826","v":-0.70000000000000018},-0.70000000000000018,-0.60000000000000053,-0.39999999999999947,-0.50000000000000044,-0.20000000000000018,0,9.9999999999999645E-2,0,0,-0.10000000000000009,-9.9999999999999645E-2,{"$f":"N1827-N1826","v":-0.2666666666666675}]
["%chg_prv_06-05",{"$f":"(B1855/B1826)*100","v":-12.068965517241383},-11.290322580645164,-10.169491525423737,-8.3333333333333233,-11.363636363636372,-4.1666666666666705,0,2.4999999999999911,0,0,-2.5000000000000022,-2.2222222222222143,{"$f":"(N1855/O1826)*100","v":-5.7142857142857313}]
[]
[null,"jan-dec","feb-jan","mar-feb","apr-mar","may-apr","jun-may","jul-jun","aug-jul","sep-aug","oct-sep","nov-oct","dec-nov"]
["change_07",{"$f":"B1828-M1827","v":1},{"$f":"C1828-B1828","v":9.9999999999999645E-2},-9.9999999999999645E-2,-0.30000000000000071,-0.69999999999999929,0.5,-0.5,-0.30000000000000071,-0.29999999999999982,-0.29999999999999982,0.10000000000000009,0.39999999999999991]
["%change_07",{"$f":"(B1859/M1827)*100","v":22.727272727272727},{"$f":"(C1859/B1828)*100","v":1.8518518518518452},-1.8181818181818119,-5.5555555555555687,-13.725490196078418,11.363636363636363,-10.204081632653059,-6.8181818181818343,-7.317073170731704,-7.8947368421052584,2.8571428571428599,11.111111111111107]
[null,"jan","feb","mar","apr","may","jun","jul","aug","sep","oct","nov","dec","ytd_avg_total"]
["chg_prv_07-06",{"$f":"B1828-B1827","v":0.30000000000000071},0,0.10000000000000053,0.69999999999999929,0.50000000000000044,0.30000000000000071,0.20000000000000018,{"$f":"I1828-I1827","v":0},{"$f":"J1828-J1827","v":0},{"$f":"K1828-K1827","v":-0.10000000000000009},{"$f":"L1828-L1827","v":-0.29999999999999982},{"$f":"M1828-M1827","v":-0.40000000000000036},{"$f":"O1828-O1827","v":0.10833333333333339}]
["%chg_prv_07-06",{"$f":"(B1862/B1827)*100","v":5.8823529411764852},0,1.8867924528301987,15.909090909090892,12.820512820512834,6.5217391304347991,4.7619047619047654,0,0,-2.7777777777777799,-7.692307692307689,-9.0909090909090988,{"$f":"(N1862/O1827)*100","v":2.4621212121212137}]
[]
[null,"jan-dec","feb-jan","mar-feb","apr-mar","may-apr","jun-may","jul-jun","aug-jul","sep-aug","oct-sep","nov-oct","dec-nov"]
["change_08",{"$f":"B1829-M1828","v":1},{"$f":"C1829-B1829","v":0},-9.9999999999999645E-2,-0.80000000000000071,-0.39999999999999947,0.89999999999999947,-0.5,{"$f":"I1829-H1829","v":0},{"$f":"J1829-I1829","v":-0.19999999999999973},{"$f":"K1829-J1829","v":0.10000000000000009},{"$f":"L1829-K1829","v":0.79999999999999982},{"$f":"M1829-L1829","v":0.90000000000000036}]
["%change_08",{"$f":"(B1866/M1828)*100","v":25},{"$f":"(C1866/B1829)*100","v":0},-1.9999999999999927,-16.326530612244909,-9.7560975609755971,24.324324324324309,-10.869565217391305,0,-4.8780487804877986,2.5641025641025665,19.999999999999996,18.750000000000007]
[null,"jan","feb","mar","apr","may","jun","jul","aug","sep","oct","nov","dec","ytd_avg_total"]
["chg_prv_08-07",{"$f":"B1829-B1828","v":-0.40000000000000036},-0.5,-0.5,-1,-0.70000000000000018,-0.30000000000000071,-0.30000000000000071,0,0.10000000000000009,0.5,1.1999999999999997,1.7000000000000002,{"$f":"O1829-O1828","v":-1.6666666666666607E-2}]
["%chg_prv_08-07",{"$f":"(B1869/B1828)*100","v":-7.4074074074074137},-9.0909090909090917,-9.2592592592592595,-19.607843137254903,-15.909090909090912,-6.1224489795918506,-6.8181818181818343,0,2.6315789473684239,14.285714285714285,33.333333333333329,42.500000000000007,{"$f":"(N1869/O1828)*100","v":-0.36968576709796547}]
[]
[null,"jan-dec","feb-jan","mar-feb","apr-mar","may-apr","jun-may","jul-jun","aug-jul","sep-aug","oct-sep","nov-oct","dec-nov"]
["change_09",{"$f":"B1830-M1829","v":1.7000000000000002},{"$f":"C1830-B1830","v":1},0.59999999999999964,-1.4000000000000004,-9.9999999999999645E-2,0.69999999999999929,-0.69999999999999929,-9.9999999999999645E-2,-0.60000000000000053,-0.20000000000000018,0,0.90000000000000036]
["%change_09",{"$f":"(B1873/M1829)*100","v":29.824561403508774},{"$f":"(C1873/B1830)*100","v":13.513513513513512},7.1428571428571379,-15.555555555555559,-1.315789473684206,9.3333333333333233,-8.5365853658536501,-1.3333333333333286,-8.1081081081081159,-2.9411764705882382,0,13.636363636363644]
[null,"jan","feb","mar","apr","may","jun","jul","aug","sep","oct","nov","dec","ytd_avg_total"]
["chg_prv_09-08",{"$f":"B1830-B1829","v":2.4000000000000004},3.4000000000000004,4.0999999999999996,3.5,3.8,3.5999999999999996,3.4000000000000004,3.3000000000000007,2.9,2.5999999999999996,1.7999999999999998,1.7999999999999998,{"$f":"O1830-O1829","v":3.0499999999999989}]
["%chg_prv_09-08",{"$f":"(B1876/B1829)*100","v":48.000000000000007},68,83.673469387755091,85.365853658536594,102.70270270270269,78.260869565217391,82.926829268292707,80.487804878048806,74.358974358974365,64.999999999999986,37.5,31.578947368421051,{"$f":"(N1876/O1829)*100","v":67.903525046382171}]
[]
[null,"jan-dec","feb-jan","mar-feb","apr-mar","may-apr","jun-may","jul-jun","aug-jul","sep-aug","oct-sep","nov-oct","dec-nov"]
["change_10",{"$f":"B1835-M1830","v":-1.2999999999999998},{"$f":"C1831-B1831","v":0.19999999999999929},-0.29999999999999893,-1.3000000000000007,-0.59999999999999964,0.39999999999999947,-0.29999999999999982,-9.9999999999999645E-2,-0.60000000000000053,-0.20000000000000018,0,0.30000000000000071]
["%change_10",{"$f":"(B1880/M1830)*100","v":-17.333333333333332},{"$f":"(C1880/B1831)*100","v":2.2471910112359472},-3.296703296703285,-14.772727272727279,-7.9999999999999947,5.7971014492753543,-4.1095890410958882,-1.4285714285714235,-8.6956521739130501,-3.1746031746031771,0,4.9180327868852576]
[null,"jan","feb","mar","apr","may","jun","jul","aug","sep","oct","nov","dec","ytd_avg_total"]
["chg_prv_10-09",{"$f":"B1835-B1830","v":-1.2000000000000002},{"$f":"C1831-C1830","v":0.69999999999999929},-0.19999999999999929,-9.9999999999999645E-2,-0.59999999999999964,-0.89999999999999947,-0.5,-0.5,-0.5,-0.5,{"$f":"L1831-L1830","v":-0.5},{"$f":"M1831-M1830","v":-1.0999999999999996},{"$f":"O1831-O1830","v":-0.26666666666666661}]
["%chg_prv_10-09",{"$f":"(B1883/B1830)*100","v":-16.216216216216218},{"$f":"(C1883/C1830)*100","v":8.333333333333325},-2.2222222222222143,-1.315789473684206,-7.9999999999999947,-10.975609756097555,-6.666666666666667,-6.7567567567567561,-7.3529411764705888,-7.5757575757575761,{"$f":"(L1883/L1830)*100","v":-7.5757575757575761},{"$f":"(M1883/M1830)*100","v":-14.666666666666661},{"$f":"(N1883/O1830)*100","v":-3.5359116022099442}]
[]
[null,"jan-dec","feb-jan","mar-feb","apr-mar","may-apr","jun-may","jul-jun","aug-jul","sep-aug","oct-sep","nov-oct","dec-nov"]
["change_11",{"$f":"B1832-M1831","v":1.2999999999999998},{"$f":"C1832-B1832","v":0.20000000000000018},-0.30000000000000071,-0.69999999999999929,-0.30000000000000071,0.70000000000000018,-0.5,-9.9999999999999645E-2,-0.60000000000000053,-0.39999999999999947,0,0.29999999999999982]
["%change_11",{"$f":"(B1887/M1831)*100","v":20.312499999999996},{"$f":"(C1887/B1832)*100","v":2.5974025974025996},-3.7974683544303889,-9.2105263157894655,-4.3478260869565322,10.606060606060609,-6.8493150684931505,-1.4705882352941124,-8.955223880597023,-6.55737704918032,0,5.2631578947368389]
[null,"jan","feb","mar","apr","may","jun","jul","aug","sep","oct","nov","dec","ytd_avg_total"]
["chg_prv_11-10",{"$f":"B1832-B1831","v":-1.2000000000000002},-1.1999999999999993,-1.2000000000000011,-0.59999999999999964,-0.30000000000000071,0,{"$f":"H1832-H1831","v":-0.20000000000000018},-0.20000000000000018,-0.20000000000000018,-0.39999999999999947,-0.39999999999999947,-0.40000000000000036,{"$f":"O1832-O1831","v":-0.52499999999999858}]
["%chg_prv_11-10",{"$f":"(B1890/B1831)*100","v":-13.483146067415733},-13.186813186813179,-13.636363636363647,-7.9999999999999947,-4.3478260869565322,0,{"$f":"(H1890/H1831)*100","v":-2.8571428571428599},-2.8985507246376838,-3.1746031746031771,-6.55737704918032,-6.55737704918032,-6.2500000000000053,{"$f":"(N1890/O1831)*100","v":-7.2164948453608062}]
[]
[null,"jan-dec","feb-jan","mar-feb","apr-mar","may-apr","jun-may","jul-jun","aug-jul","sep-aug","oct-sep","nov-oct","dec-nov"]
["change_12",{"$f":"B1833-M1832","v":1.0999999999999996},{"$f":"C1833-B1833","v":0.10000000000000053},-0.29999999999999982,-1.1000000000000005,0,0.90000000000000036,-0.20000000000000018,-0.29999999999999982,-0.90000000000000036,-0.29999999999999982,0.20000000000000018,0.5]
["%change_12",{"$f":"(B1894/M1832)*100","v":18.333333333333325},{"$f":"(C1894/B1833)*100","v":1.4084507042253596},-4.1666666666666643,-15.942028985507253,0,15.517241379310351,-2.9850746268656745,-4.6153846153846132,-14.516129032258071,-5.660377358490563,4.0000000000000036,9.615384615384615]
[null,"jan","feb","mar","apr","may","jun","jul","aug","sep","oct","nov","dec","ytd_avg_total"]
["chg_prv_12-11",{"$f":"B1833-B1832","v":-0.60000000000000053},-0.70000000000000018,-0.69999999999999929,-1.1000000000000005,-0.79999999999999982,-0.59999999999999964,{"$f":"H1833-H1832","v":-0.29999999999999982},-0.5,{"$f":"J1833-J1832","v":-0.79999999999999982},-0.70000000000000018,{"$f":"L1833-L1832","v":-0.5},-0.29999999999999982,{"$f":"O1833-O1832","v":-0.63333333333333286}]
["%chg_prv_12-11",{"$f":"(B1897/B1832)*100","v":-7.7922077922077992},-8.8607594936708871,-9.2105263157894655,-15.942028985507253,-12.121212121212119,-8.2191780821917764,{"$f":"(H1897/H1832)*100","v":-4.4117647058823506},-7.4626865671641784,{"$f":"(J1897/J1832)*100","v":-13.114754098360654},-12.280701754385968,{"$f":"(L1897/L1832)*100","v":-8.7719298245614024},-4.9999999999999964,{"$f":"(N1897/O1832)*100","v":-9.3827160493827098}]
[]
[null,"jan-dec","feb-jan","mar-feb","apr-mar","may-apr","jun-may","jul-jun","aug-jul","sep-aug","oct-sep","nov-oct","dec-nov"]
["change_13",{"$f":"B1834-M1833","v":1.8999999999999995},{"$f":"C1834-B1834","v":-9.9999999999999645E-2},-0.45125951835236133,-0.43301687670239897,-0.71572360494523934,0.39999999999999947,-0.29999999999999982,-0.40000000000000036,-0.59999999999999964,-0.29999999999999982,9.9999999999999645E-2,0.40000000000000036]
["%change_13",{"$f":"(B1901/M1833)*100","v":33.333333333333321},{"$f":"(C1901/B1834)*100","v":-1.315789473684206},-6.0167935780314847,-6.1431808679836877,-10.818523379819517,6.7796610169491425,-4.7619047619047592,-6.6666666666666723,-10.714285714285708,-5.9999999999999964,2.1276595744680775,8.333333333333341]
[null,"jan","feb","mar","apr","may","jun","jul","aug","sep","oct","nov","dec","ytd_avg_total"]
["chg_prv_13-12",{"$f":"B1834-B1833","v":0.5},0.29999999999999982,0.14874048164763831,0.81572360494523988,0.10000000000000053,-0.40000000000000036,-0.5,-0.60000000000000053,-0.29999999999999982,-0.29999999999999982,-0.40000000000000036,-0.5,{"$f":"O1834-O1833","v":-9.4627992783927084E-2}]
["%chg_prv_13-12",{"$f":"(B1904/B1833)*100","v":7.042253521126761},4.1666666666666643,2.1556591543135988,14.064200085262756,1.7241379310344922,-5.970149253731349,-7.6923076923076925,-9.6774193548387171,-5.660377358490563,-5.9999999999999964,-7.6923076923076987,-8.7719298245614024,{"$f":"(N1904/O1833)*100","v":-1.5470516531432219}]
[]
[null,"jan-dec","feb-jan","mar-feb","apr-mar","may-apr","jun-may","jul-jun","aug-jul","sep-aug","oct-sep","nov-oct","dec-nov"]
["change_14",{"$f":"B1835-M1834","v":1},{"$f":"C1835-B1835","v":0.20000000000000018},{"$f":"D1835-C1835","v":-0.30000000000000071},{"$f":"E1835-D1835","v":-0.69999999999999929},{"$f":"F1835-E1835","v":-0.60000000000000053},0.60000000000000053,-0.17806222067948152,-0.6118737234646785,-0.61006405585584034,-0.10000000000000009,0.39999999999999991,0.20000000000000018]
["%change_14",{"$f":"(B1908/M1834)*100","v":19.23076923076923},{"$f":"(C1908/B1835)*100","v":3.2258064516129057},{"$f":"(D1908/C1835)*100","v":-4.6875000000000107},{"$f":"(E1908/D1835)*100","v":-11.475409836065563},{"$f":"(F1908/E1835)*100","v":-11.11111111111112},12.500000000000011,-3.2974485311015092,-11.717369094051055,-13.233309742863961,-2.5000000000000022,10.256410256410255,4.6511627906976782]
[null,"jan","feb","mar","apr","may","jun","jul","aug","sep","oct","nov","dec","ytd_avg_total"]
["chg_prv_14-13",{"$f":"B1835-B1834","v":-1.3999999999999995},{"$f":"C1835-C1834","v":-1.0999999999999996},-0.94874048164763902,{"$f":"E1835-E1834","v":-1.2157236049452393},-1.1000000000000005,-0.89999999999999947,{"$f":"H1835-H1834","v":-0.77806222067948116},-0.98993594414415931,{"$f":"J1835-J1834","v":-1},-0.80000000000000027,{"$f":"L1835-L1834","v":-0.5},-0.70000000000000018,{"$f":"O1835-O1834","v":-0.95270518761804279}]
["%chg_prv_14-13",{"$f":"(B1911/B1834)*100","v":-18.421052631578942},{"$f":"(C1911/C1834)*100","v":-14.666666666666661},-13.459716443211589,{"$f":"(E1911/E1834)*100","v":-18.376275635767016},-18.644067796610177,-14.285714285714276,{"$f":"(H1911/H1834)*100","v":-12.967703677991352},-17.677427574002845,{"$f":"(J1911/J1834)*100","v":-20},-17.021276595744688,{"$f":"(L1911/L1834)*100","v":-10.416666666666668},-13.461538461538463,{"$f":"(N1911/O1834)*100","v":-15.820310018098594}]
[]
[null,"jan-dec","feb-jan","mar-feb","apr-mar","may-apr","jun-may","jul-jun","aug-jul","sep-aug","oct-sep","nov-oct","dec-nov"]
["change_15"]
["%change_15"]
[null,"jan","feb","mar","apr","may","jun","jul","aug","sep","oct","nov","dec","ytd_avg_total"]
["chg_prv_15-14",{"$nulls":12},{"$f":"N1836-N1835","v":{"$error":"#DIV/0!"}}]
["%chg_prv_15-14",{"$nulls":12},{"$f":"(N1918/N1835)*100","v":{"$error":"#DIV/0!"}}]
[]
[]
[]
["wi_uer","jan","feb","mar","apr","may","jun","jul","aug","sep","oct","nov","dec","ytd_avg_total"]
[2003,6.2,6.7,6.6,6,5.5,6.2,5.7,5.4,4.9000000000000004,4.7,4.9000000000000004,4.9000000000000004,{"$f":"AVERAGE(B1924:M1924)","v":5.6416666666666666},{"$f":"AVERAGE(B1924:M1924)","v":5.6416666666666666}]
[2004,6,6.2,6.3,5.2,4.8,5.3,4.9000000000000004,4.5999999999999996,4.2,4.0999999999999996,4.4000000000000004,4.4000000000000004,5.0333333333333332,5.0333333333333332]
[2005,5.5,6,5.6,4.8,4.5999999999999996,4.9000000000000004,4.5999999999999996,4.3,4.2,4,4.5,4.5,4.791666666666667,4.791666666666667]
[2006,5.0999999999999996,5.7,5.5,4.8,4.4000000000000004,4.9000000000000004,4.7,4.5,4.0999999999999996,3.9,4.3,4.5,4.7,4.7]
[2007,5.5,5.8,5.5,5.0999999999999996,4.5999999999999996,5.0999999999999996,4.7,4.5,4.2,4,4.0999999999999996,4.3,4.7833333333333341,4.7833333333333341]
[2008,5,5.2,5.0999999999999996,4.3,4.2,4.8,4.5999999999999996,4.7,4.4000000000000004,4.5,5.3,6,4.8416666666666659,4.8416666666666659]
[2009,7.8,8.9,9.5,8.9,8.8000000000000007,9.4,9.1,8.9,8.3000000000000007,8.3000000000000007,8.4,8.8000000000000007,8.7583333333333346,8.7583333333333346]
[2010,10,10.3,10.1,8.8000000000000007,8.3000000000000007,8.5,8.1999999999999993,7.9,7.3,7.2,7.5,7.4,{"$f":"AVERAGE(B1931:M1931)","v":8.4583333333333339},8.4583333333333339]
[2011,8.5,8.6999999999999993,8.4,7.6,7.3,8,7.6,7.4,6.9,6.6,6.7,6.7,{"$f":"AVERAGE(B1932:M1932)","v":7.5333333333333341},7.5333333333333341]
[2012,7.7,8,7.7,6.8,6.7,7.4,7.2,6.8,6.1,5.9,6.2,6.6,{"$f":"AVERAGE(B1933:M1933)","v":6.9249999999999998},{"$f":"AVERAGE(B1933:M1933)","v":6.9249999999999998}]
[2013,8,8.1999999999999993,7.7,7.2,6.7,7,6.8,6.2,5.9,5.7,5.8,5.8,{"$f":"AVERAGE(B1934:M1934)","v":6.7499999999999991},{"$f":"AVERAGE(B1934:M1934)","v":6.7499999999999991}]
[2014,6.7,7,6.7,5.9,5.5,6,5.8,5.0999999999999996,4.7,4.5999999999999996,4.7,5,{"$f":"AVERAGE(B1935:M1935)","v":5.6416666666666666},{"$f":"AVERAGE(B1935:M1935)","v":5.6416666666666666}]
[2015,{"$nulls":12},{"$f":"AVERAGE(B1936:B1936)","v":{"$error":"#DIV/0!"}},{"$f":"AVERAGE(B1936:M1936)","v":{"$error":"#DIV/0!"}}]
[null,"jan-dec","feb-jan","mar-feb","apr-mar","may-apr","jun-may","jul-jun","aug-jul","sep-aug","oct-sep","nov-oct","dec-nov"]
["change_04",{"$f":"B1925-M1924","v":1.0999999999999996},{"$f":"C1925-B1925","v":0.20000000000000018},9.9999999999999645E-2,-1.0999999999999996,-0.40000000000000036,0.5,-0.39999999999999947,-0.30000000000000071,-0.39999999999999947,-0.10000000000000053,0.30000000000000071,0]
["%change_04",{"$f":"(B1938/M1924)*100","v":22.448979591836725},{"$f":"(C1938/B1925)*100","v":3.3333333333333361},1.6129032258064457,-17.460317460317455,-7.6923076923076987,10.416666666666668,-7.547169811320745,-6.1224489795918506,-8.6956521739130324,-2.3809523809523938,7.3170731707317245,0]
[null,"jan","feb","mar","apr","may","jun","jul","aug","sep","oct","nov","dec","ytd_avg_total"]
["chg_prv_04-03",{"$f":"B1925-B1924","v":-0.20000000000000018},-0.5,-0.29999999999999982,-0.79999999999999982,-0.70000000000000018,-0.90000000000000036,-0.79999999999999982,-0.80000000000000071,-0.70000000000000018,-0.60000000000000053,-0.5,-0.5,{"$f":"O1925-O1924","v":-0.60833333333333339}]
["%chg_prv_04-03",{"$f":"(B1941/B1924)*100","v":-3.2258064516129057},-7.4626865671641784,-4.5454545454545432,-13.33333333333333,-12.727272727272732,-14.516129032258071,-14.035087719298241,-14.814814814814827,-14.285714285714288,-12.765957446808521,-10.204081632653059,-10.204081632653059,{"$f":"(N1941/O1924)*100","v":-10.782865583456426}]
[]
[null,"jan-dec","feb-jan","mar-feb","apr-mar","may-apr","jun-may","jul-jun","aug-jul","sep-aug","oct-sep","nov-oct","dec-nov"]
["change_05",{"$f":"B1926-M1925","v":1.0999999999999996},{"$f":"C1926-B1926","v":0.5},-0.40000000000000036,-0.79999999999999982,-0.20000000000000018,0.30000000000000071,-0.30000000000000071,-0.29999999999999982,-9.9999999999999645E-2,-0.20000000000000018,0.5,0]
["%change_05",{"$f":"(B1945/M1925)*100","v":24.999999999999989},{"$f":"(C1945/B1926)*100","v":9.0909090909090917},-6.6666666666666723,-14.285714285714283,-4.1666666666666705,6.5217391304347991,-6.1224489795918506,-6.5217391304347796,-2.3255813953488293,-4.7619047619047654,12.5,0]
[null,"jan","feb","mar","apr","may","jun","jul","aug","sep","oct","nov","dec","ytd_avg_total"]
["chg_prv_05-04",{"$f":"B1926-B1925","v":-0.5},-0.20000000000000018,-0.70000000000000018,-0.40000000000000036,-0.20000000000000018,-0.39999999999999947,-0.30000000000000071,-0.29999999999999982,0,-9.9999999999999645E-2,9.9999999999999645E-2,9.9999999999999645E-2,{"$f":"O1926-O1925","v":-0.24166666666666625}]
["%chg_prv_05-04",{"$f":"(B1948/B1925)*100","v":-8.3333333333333321},-3.2258064516129057,-11.111111111111114,-7.6923076923076987,-4.1666666666666705,-7.547169811320745,-6.1224489795918506,-6.5217391304347796,0,-2.4390243902438939,2.2727272727272645,2.2727272727272645,{"$f":"(N1948/O1925)*100","v":-4.8013245033112506}]
[]
[null,"jan-dec","feb-jan","mar-feb","apr-mar","may-apr","jun-may","jul-jun","aug-jul","sep-aug","oct-sep","nov-oct","dec-nov"]
["change_06",{"$f":"B1927-M1926","v":0.59999999999999964},{"$f":"C1927-B1927","v":0.60000000000000053},-0.20000000000000018,-0.70000000000000018,-0.39999999999999947,0.5,-0.20000000000000018,-0.20000000000000018,-0.40000000000000036,{"$f":"K1927-J1927","v":-0.19999999999999973},{"$f":"L1927-K1927","v":0.39999999999999991},{"$f":"M1927-L1927","v":0.20000000000000018}]
["%change_06",{"$f":"(B1952/M1926)*100","v":13.333333333333325},{"$f":"(C1952/B1927)*100","v":11.764705882352953},-3.5087719298245648,-12.727272727272732,-8.3333333333333233,11.363636363636363,-4.0816326530612272,-4.2553191489361737,-8.8888888888888964,{"$f":"(K1952/J1927)*100","v":-4.8780487804877986},{"$f":"(L1952/K1927)*100","v":10.256410256410255},{"$f":"(M1952/L1927)*100","v":4.6511627906976782}]
[null,"jan","feb","mar","apr","may","jun","jul","aug","sep","oct","nov","dec","ytd_avg_total"]
["chg_prv_06-05",{"$f":"B1927-B1926","v":-0.40000000000000036},-0.29999999999999982,-9.9999999999999645E-2,0,-0.19999999999999929,0,0.10000000000000053,0.20000000000000018,-0.10000000000000053,-0.10000000000000009,-0.20000000000000018,0,{"$f":"O1927-O1926","v":-9.1666666666666785E-2}]
["%chg_prv_06-05",{"$f":"(B1955/B1926)*100","v":-7.2727272727272796},{"$f":"C1935-C1927","v":1.2999999999999998},1.2000000000000002,1.1000000000000005,1.0999999999999996,1.0999999999999996,1.0999999999999996,{"$f":"I1935-I1927","v":0.59999999999999964},{"$f":"J1935-J1927","v":0.60000000000000053},{"$f":"K1935-K1927","v":0.69999999999999973},{"$f":"L1935-L1927","v":0.40000000000000036},{"$f":"M1935-M1927","v":0.5},{"$f":"(N1955/N1926)*100","v":-1.9130434782608718}]
[]
[null,"jan-dec","feb-jan","mar-feb","apr-mar","may-apr","jun-may","jul-jun","aug-jul","sep-aug","oct-sep","nov-oct","dec-nov"]
["change_07",{"$f":"B1928-M1927","v":1},{"$f":"C1928-B1928","v":0.29999999999999982},-0.29999999999999982,-0.40000000000000036,-0.5,0.5,-0.39999999999999947,-0.20000000000000018,-0.29999999999999982,-0.20000000000000018,9.9999999999999645E-2,0.20000000000000018]
["%change_07",{"$f":"(B1959/M1927)*100","v":22.222222222222221},{"$f":"(C1959/B1928)*100","v":5.4545454545454515},-5.1724137931034457,-7.2727272727272796,-9.8039215686274517,10.869565217391305,-7.8431372549019507,-4.2553191489361737,-6.6666666666666625,-4.7619047619047654,2.4999999999999911,4.8780487804878101]
[null,"jan","feb","mar","apr","may","jun","jul","aug","sep","oct","nov","dec","ytd_avg_total"]
["chg_prv_07-06",{"$f":"B1928-B1927","v":0.40000000000000036},9.9999999999999645E-2,0,0.29999999999999982,0.19999999999999929,0.19999999999999929,0,0,{"$f":"J1928-J1927","v":0.10000000000000053},{"$f":"K1928-K1927","v":0.10000000000000009},{"$f":"L1928-L1927","v":-0.20000000000000018},{"$f":"M1928-M1927","v":-0.20000000000000018},{"$f":"O1928-O1927","v":8.3333333333333925E-2}]
["%chg_prv_07-06",{"$f":"(B1962/B1927)*100","v":7.8431372549019676},1.7543859649122744,0,6.2499999999999964,4.545454545454529,4.0816326530612095,0,0,{"$f":"(J1962/J1927)*100","v":2.4390243902439157},{"$f":"(K1962/K1927)*100","v":2.5641025641025665},{"$f":"(L1962/L1927)*100","v":-4.6511627906976782},{"$f":"(M1962/M1927)*100","v":-4.4444444444444482},{"$f":"(N1962/O1927)*100","v":1.7730496453900835}]
[]
[null,"jan-dec","feb-jan","mar-feb","apr-mar","may-apr","jun-may","jul-jun","aug-jul","sep-aug","oct-sep","nov-oct","dec-nov"]
["change_08",{"$f":"B1929-M1928","v":0.70000000000000018},{"$f":"C1929-B1929","v":0.20000000000000018},-0.10000000000000053,-0.79999999999999982,-9.9999999999999645E-2,0.59999999999999964,-0.20000000000000018,{"$f":"I1929-H1929","v":0.10000000000000053},{"$f":"J1929-I1929","v":-0.29999999999999982},{"$f":"K1929-J1929","v":9.9999999999999645E-2},{"$f":"L1929-K1929","v":0.79999999999999982},{"$f":"M1929-L1929","v":0.70000000000000018}]
["%change_08",{"$f":"(B1966/M1928)*100","v":16.279069767441865},{"$f":"(C1966/B1929)*100","v":4.0000000000000036},-1.9230769230769333,-15.686274509803919,-2.3255813953488293,14.285714285714276,-4.1666666666666705,2.1739130434782727,-6.3829787234042508,2.2727272727272645,17.777777777777771,13.207547169811324]
[null,"jan","feb","mar","apr","may","jun","jul","aug","sep","oct","nov","dec","ytd_avg_total"]
["chg_prv_08-07",{"$f":"B1929-B1928","v":-0.5},-0.59999999999999964,-0.40000000000000036,-0.79999999999999982,-0.39999999999999947,-0.29999999999999982,-0.10000000000000053,0.20000000000000018,0.20000000000000018,0.5,1.2000000000000002,1.7000000000000002,{"$f":"O1929-O1928","v":5.8333333333331794E-2}]
["%chg_prv_08-07",{"$f":"(B1969/B1928)*100","v":-9.0909090909090917},-10.344827586206891,-7.2727272727272796,-15.686274509803919,-8.6956521739130324,-5.8823529411764675,-2.1276595744680966,4.4444444444444482,4.7619047619047654,12.5,29.268292682926838,39.534883720930239,{"$f":"(N1969/O1928)*100","v":1.2195121951219188}]
[]
[null,"jan-dec","feb-jan","mar-feb","apr-mar","may-apr","jun-may","jul-jun","aug-jul","sep-aug","oct-sep","nov-oct","dec-nov"]
["change_09",{"$f":"B1930-M1929","v":1.7999999999999998},{"$f":"C1930-B1930","v":1.1000000000000005},0.59999999999999964,-0.59999999999999964,-9.9999999999999645E-2,0.59999999999999964,-0.30000000000000071,-0.19999999999999929,-0.59999999999999964,0,9.9999999999999645E-2,0.40000000000000036]
["%change_09",{"$f":"(B1973/M1929)*100","v":30},{"$f":"(C1973/B1930)*100","v":14.102564102564111},6.7415730337078612,-6.3157894736842062,-1.1235955056179736,6.8181818181818139,-3.1914893617021352,-2.19780219780219,-6.7415730337078612,0,1.2048192771084292,4.7619047619047654]
[null,"jan","feb","mar","apr","may","jun","jul","aug","sep","oct","nov","dec","ytd_avg_total"]
["chg_prv_09-08",{"$f":"B1930-B1929","v":2.8},3.7,4.4000000000000004,4.6000000000000005,4.6000000000000005,4.6000000000000005,4.5,4.2,3.9000000000000004,3.8000000000000007,3.1000000000000005,2.8000000000000007,{"$f":"O1930-O1929","v":3.9166666666666687}]
["%chg_prv_09-08",{"$f":"(B1976/B1929)*100","v":55.999999999999993},71.15384615384616,86.274509803921589,106.97674418604652,109.52380952380953,95.833333333333343,97.826086956521749,89.361702127659569,88.63636363636364,84.444444444444457,58.49056603773586,46.666666666666679,{"$f":"(N1976/O1929)*100","v":80.895008605852041}]
[]
[null,"jan-dec","feb-jan","mar-feb","apr-mar","may-apr","jun-may","jul-jun","aug-jul","sep-aug","oct-sep","nov-oct","dec-nov"]
["change_10",{"$f":"B1931-M1930","v":1.1999999999999993},{"$f":"C1931-B1931","v":0.30000000000000071},-0.20000000000000107,-1.2999999999999989,-0.5,0.19999999999999929,-0.30000000000000071,-0.29999999999999893,-0.60000000000000053,-9.9999999999999645E-2,{"$f":"L1931-K1931","v":0.29999999999999982},{"$f":"M1931-L1931","v":-9.9999999999999645E-2}]
["%change_10",{"$f":"(B1980/M1930)*100","v":13.636363636363628},{"$f":"(C1980/B1931)*100","v":3.0000000000000071},-1.9417475728155442,-12.871287128712861,-5.6818181818181817,2.4096385542168584,-3.5294117647058907,-3.6585365853658409,-7.5949367088607653,-1.3698630136986254,{"$f":"(L1980/K1931)*100","v":4.1666666666666643},{"$f":"(M1980/L1931)*100","v":-1.3333333333333286}]
[null,"jan","feb","mar","apr","may","jun","jul","aug","sep","oct","nov","dec","ytd_avg_total"]
["chg_prv_10-09",{"$f":"B1931-B1930","v":2.2000000000000002},1.4000000000000004,0.59999999999999964,-9.9999999999999645E-2,-0.5,-0.90000000000000036,{"$f":"H1931-H1930","v":-0.90000000000000036},-1,-1.0000000000000009,-1.1000000000000005,-0.90000000000000036,-1.4000000000000004,{"$f":"O1931-O1930","v":-0.30000000000000071}]
["%chg_prv_10-09",{"$f":"(B1983/B1930)*100","v":28.205128205128212},15.730337078651688,6.3157894736842062,-1.1235955056179736,-5.6818181818181817,-9.5744680851063872,{"$f":"(H1983/H1930)*100","v":-9.8901098901098941},-11.235955056179774,-12.048192771084347,-13.253012048192778,-10.714285714285717,-15.909090909090912,{"$f":"(N1983/O1930)*100","v":-3.425309229305431}]
[]
[null,"jan-dec","feb-jan","mar-feb","apr-mar","may-apr","jun-may","jul-jun","aug-jul","sep-aug","oct-sep","nov-oct","dec-nov"]
["change_11",{"$f":"B1932-M1931","v":1.0999999999999996},{"$f":"C1932-B1932","v":0.19999999999999929},-0.29999999999999893,-0.80000000000000071,-0.29999999999999982,0.70000000000000018,-0.40000000000000036,-0.19999999999999929,-0.5,-0.30000000000000071,0.10000000000000053,0]
["%change_11",{"$f":"(B1987/M1931)*100","v":14.86486486486486},{"$f":"(C1987/B1932)*100","v":2.3529411764705799},-3.4482758620689538,-9.5238095238095308,-3.9473684210526292,9.5890410958904138,-5.0000000000000044,-2.6315789473684119,-6.7567567567567561,-4.3478260869565322,1.5151515151515234,0]
[null,"jan","feb","mar","apr","may","jun","jul","aug","sep","oct","nov","dec","ytd_avg_total"]
["chg_prv_11-10",{"$f":"B1932-B1931","v":-1.5},-1.6000000000000014,-1.6999999999999993,-1.2000000000000011,-1.0000000000000009,-0.5,{"$f":"H1932-H1931","v":-0.59999999999999964},-0.5,-0.39999999999999947,-0.60000000000000053,-0.79999999999999982,-0.70000000000000018,{"$f":"O1932-O1931","v":-0.92499999999999982}]
["%chg_prv_11-10",{"$f":"(B1990/B1931)*100","v":-15},-15.533980582524284,-16.831683168316825,-13.636363636363647,-12.048192771084347,-5.8823529411764701,{"$f":"(H1990/H1931)*100","v":-7.317073170731704},-6.329113924050632,-5.4794520547945131,-8.333333333333341,-10.666666666666664,-9.4594594594594614,{"$f":"(N1990/O1931)*100","v":-10.935960591133002}]
[]
[null,"jan-dec","feb-jan","mar-feb","apr-mar","may-apr","jun-may","jul-jun","aug-jul","sep-aug","oct-sep","nov-oct","dec-nov"]
["change_12",{"$f":"B1933-M1932","v":1},{"$f":"C1933-B1933","v":0.29999999999999982},-0.29999999999999982,-0.90000000000000036,-9.9999999999999645E-2,0.70000000000000018,-0.20000000000000018,-0.40000000000000036,-0.70000000000000018,-0.19999999999999929,0.29999999999999982,0.39999999999999947]
["%change_12",{"$f":"(B1994/M1932)*100","v":14.925373134328357},{"$f":"(C1994/B1933)*100","v":3.8961038961038938},-3.7499999999999978,-11.688311688311693,-1.4705882352941124,10.447761194029853,-2.7027027027027049,-5.5555555555555598,-10.294117647058826,-3.2786885245901525,5.0847457627118615,6.4516129032257981]
[null,"jan","feb","mar","apr","may","jun","jul","aug","sep","oct","nov","dec","ytd_avg_total"]
["chg_prv_12-11",{"$f":"B1933-B1932","v":-0.79999999999999982},-0.69999999999999929,-0.70000000000000018,-0.79999999999999982,-0.59999999999999964,-0.59999999999999964,-0.39999999999999947,{"$f":"I1933-I1932","v":-0.60000000000000053},-0.80000000000000071,{"$f":"K1933-K1932","v":-0.69999999999999929},-0.5,{"$f":"M1933-M1932","v":-0.10000000000000053},{"$f":"O1933-O1932","v":-0.60833333333333428}]
["%chg_prv_12-11",{"$f":"(B1997/B1932)*100","v":-9.4117647058823515},-8.0459770114942462,-8.3333333333333357,-10.526315789473681,-8.2191780821917764,-7.4999999999999956,-5.2631578947368354,{"$f":"(I1997/I1932)*100","v":-8.1081081081081159},-11.594202898550735,{"$f":"(K1997/K1932)*100","v":-10.606060606060595},-7.4626865671641784,{"$f":"(M1997/M1932)*100","v":-1.4925373134328437},{"$f":"(N1997/O1932)*100","v":-8.0752212389380649}]
[]
[null,"jan-dec","feb-jan","mar-feb","apr-mar","may-apr","jun-may","jul-jun","aug-jul","sep-aug","oct-sep","nov-oct","dec-nov"]
["change_13",{"$f":"B1934-M1933","v":1.4000000000000004},{"$f":"C1934-B1934","v":0.19999999999999929},-0.49999999999999911,-0.5,-0.5,0.29999999999999982,-0.20000000000000018,-0.59999999999999964,-0.29999999999999982,-0.20000000000000018,9.9999999999999645E-2,0]
["%change_13",{"$f":"(B2001/M1933)*100","v":21.212121212121218},{"$f":"(C2001/B1934)*100","v":2.4999999999999911},-6.0975609756097455,-6.4935064935064926,-6.9444444444444446,4.4776119402985044,-2.8571428571428599,-8.8235294117647012,-4.8387096774193523,-3.3898305084745792,1.7543859649122744,0]
[null,"jan","feb","mar","apr","may","jun","jul","aug","sep","oct","nov","dec","ytd_avg_total"]
["chg_prv_13-12",{"$f":"B1934-B1933","v":0.29999999999999982},0.19999999999999929,0,0.40000000000000036,0,-0.40000000000000036,-0.40000000000000036,-0.59999999999999964,-0.19999999999999929,-0.20000000000000018,-0.40000000000000036,-0.79999999999999982,{"$f":"O1934-O1933","v":-0.17500000000000071}]
["%chg_prv_13-12",{"$f":"(B2004/B1933)*100","v":3.8961038961038938},2.4999999999999911,0,5.8823529411764763,0,-5.4054054054054097,-5.5555555555555598,-8.8235294117647012,-3.2786885245901525,-3.3898305084745792,-6.4516129032258114,-12.121212121212119,{"$f":"(N2004/O1933)*100","v":-2.5270758122743784}]
[]
[null,"jan-dec","feb-jan","mar-feb","apr-mar","may-apr","jun-may","jul-jun","aug-jul","sep-aug","oct-sep","nov-oct","dec-nov"]
["change_14",{"$f":"B1935-M1934","v":0.90000000000000036},{"$f":"C1935-B1935","v":0.29999999999999982},-0.29999999999999982,-0.79999999999999982,-0.40000000000000036,0.5,-0.20000000000000018,-0.70000000000000018,-0.39999999999999947,-0.10000000000000053,0.10000000000000053,0.29999999999999982]
["%change_14",{"$f":"(B2008/M1934)*100","v":15.517241379310351},{"$f":"(C2008/B1935)*100","v":4.4776119402985044},-4.2857142857142829,-11.940298507462684,-6.7796610169491585,9.0909090909090917,-3.3333333333333361,-12.068965517241383,-7.8431372549019507,-2.1276595744680966,2.1739130434782727,6.3829787234042508]
[null,"jan","feb","mar","apr","may","jun","jul","aug","sep","oct","nov","dec","ytd_avg_total"]
["chg_prv_14-13",{"$f":"B1935-B1934","v":-1.2999999999999998},{"$f":"C1935-C1934","v":-1.1999999999999993},-1,{"$f":"E1935-E1934","v":-1.2999999999999998},-1.2000000000000002,{"$f":"G1935-G1934","v":-1},-1,{"$f":"I1935-I1934","v":-1.1000000000000005},-1.2000000000000002,{"$f":"K1935-K1934","v":-1.1000000000000005},-1.0999999999999996,{"$f":"M1935-M1934","v":-0.79999999999999982},{"$f":"O1935-O1934","v":-1.1083333333333325}]
["%chg_prv_14-13",{"$f":"(B2011/B1934)*100","v":-16.249999999999996},{"$f":"(C2011/C1934)*100","v":-14.634146341463408},-12.987012987012985,{"$f":"(E2011/E1934)*100","v":-18.055555555555554},-17.910447761194032,{"$f":"(G2011/G1934)*100","v":-14.285714285714285},-14.705882352941178,{"$f":"(I2011/I1934)*100","v":-17.741935483870979},-20.33898305084746,{"$f":"(K2011/K1934)*100","v":-19.298245614035096},-18.965517241379303,{"$f":"(M2011/M1934)*100","v":-13.793103448275859},{"$f":"(N2011/O1934)*100","v":-16.419753086419743}]
[]
[null,"jan-dec","feb-jan","mar-feb","apr-mar","may-apr","jun-may","jul-jun","aug-jul","sep-aug","oct-sep","nov-oct","dec-nov"]
["change_15"]
["%change_15"]
[null,"jan","feb","mar","apr","may","jun","jul","aug","sep","oct","nov","dec","ytd_avg_total"]
["chg_prv_15-14",{"$nulls":12},{"$f":"N1936-N1935","v":{"$error":"#DIV/0!"}}]
["%chg_prv_15-14",{"$nulls":12},{"$f":"(N2018/N1935)*100","v":{"$error":"#DIV/0!"}}]
[]
[]
[]
["us_uer","jan","feb","mar","apr","may","jun","jul","aug","sep","oct","nov","dec","ytd_avg_total"]
[2003,6.5,6.4,6.2,5.8,5.8,6.5,6.3,6,5.8,5.6,5.6,5.4,{"$f":"AVERAGE(B2024:M2024)","v":5.9916666666666671},{"$f":"AVERAGE(B2024:M2024)","v":5.9916666666666671}]
[2004,6.3,6,6,5.4,5.3,5.8,5.7,5.4,5.0999999999999996,5.0999999999999996,5.2,5.0999999999999996,5.5333333333333341,5.5333333333333341]
[2005,5.7,5.8,5.4,4.9000000000000004,4.9000000000000004,5.2,5.2,4.9000000000000004,4.8,4.5999999999999996,4.8,4.5999999999999996,5.0666666666666655,5.0666666666666655]
[2006,5.0999999999999996,5.0999999999999996,4.8,4.5,4.4000000000000004,4.8,5,4.5999999999999996,4.4000000000000004,4.0999999999999996,4.3,4.3,4.6166666666666663,4.6166666666666663]
[2007,5,4.9000000000000004,4.5,4.3,4.3,4.7,4.9000000000000004,4.5999999999999996,4.5,4.4000000000000004,4.5,4.8,4.6166666666666663,4.6166666666666663]
[2008,5.4,5.2,5.2,4.8,5.2,5.7,6,6.1,6,6.1,6.5,7.1,5.7749999999999995,5.7749999999999995]
[2009,8.5,8.9,9,8.6,9.1,9.6999999999999993,9.6999999999999993,9.6,9.5,9.5,9.4,9.6999999999999993,9.2666666666666675,9.2666666666666675]
[2010,10.6,10.4,10.199999999999999,9.5,9.3000000000000007,9.6,9.6999999999999993,9.5,9.1999999999999993,9,9.3000000000000007,9.1,{"$f":"AVERAGE(B2031:M2031)","v":9.6166666666666654},9.6166666666666654]
[2011,9.8000000000000007,9.5,9.1999999999999993,8.6999999999999993,8.6999999999999993,9.3000000000000007,9.3000000000000007,9.1,8.8000000000000007,8.5,8.1999999999999993,8.3000000000000007,{"$f":"AVERAGE(B2032:M2032)","v":8.9499999999999993},8.9499999999999993]
[2012,8.8000000000000007,8.6999999999999993,8.4,7.7,7.9,8.4,8.6,8.1999999999999993,7.6,7.5,7.4,7.6,{"$f":"AVERAGE(B2033:M2033)","v":8.0666666666666664},{"$f":"AVERAGE(B2033:M2033)","v":8.0666666666666664}]
[2013,8.5,8.1,7.6,7.1,7.3,7.8,7.7,7.3,7,7,6.6,6.7,{"$f":"AVERAGE(B2034:M2034)","v":7.3916666666666666},{"$f":"AVERAGE(B2034:M2034)","v":7.3916666666666666}]
[2014,7,7,6.8,5.9,6.1,6.3,6.5,6.3,5.7,5.5,5.5,5.4,{"$f":"AVERAGE(B2035:M2035)","v":6.166666666666667},{"$f":"AVERAGE(B2035:M2035)","v":6.166666666666667}]
[2015,{"$nulls":12},{"$f":"AVERAGE(B2036:B2036)","v":{"$error":"#DIV/0!"}},{"$f":"AVERAGE(B2036:M2036)","v":{"$error":"#DIV/0!"}}]
[null,"jan-dec","feb-jan","mar-feb","apr-mar","may-apr","jun-may","jul-jun","aug-jul","sep-aug","oct-sep","nov-oct","dec-nov"]
["change_04",{"$f":"B2025-M2024","v":0.89999999999999947},{"$f":"C2025-B2025","v":-0.29999999999999982},0,-0.59999999999999964,-0.10000000000000053,0.5,-9.9999999999999645E-2,-0.29999999999999982,-0.30000000000000071,0,0.10000000000000053,-0.10000000000000053]
["%change_04",{"$f":"(B2038/M2024)*100","v":16.666666666666654},{"$f":"(C2038/B2025)*100","v":-4.7619047619047592},0,-9.9999999999999929,-1.8518518518518614,9.433962264150944,-1.7241379310344769,-5.2631578947368389,-5.5555555555555687,0,1.960784313725501,-1.9230769230769333]
[null,"jan","feb","mar","apr","may","jun","jul","aug","sep","oct","nov","dec","ytd_avg_total"]
["chg_prv_04-03",{"$f":"B2025-B2024","v":-0.20000000000000018},-0.40000000000000036,-0.20000000000000018,-0.39999999999999947,-0.5,-0.70000000000000018,-0.59999999999999964,-0.59999999999999964,-0.70000000000000018,-0.5,-0.39999999999999947,-0.30000000000000071,{"$f":"O2025-O2024","v":-0.45833333333333304}]
["%chg_prv_04-03",{"$f":"(B2041/B2024)*100","v":-3.0769230769230793},-6.2500000000000053,-3.2258064516129057,-6.8965517241379226,-8.6206896551724146,-10.769230769230772,-9.5238095238095184,-9.9999999999999929,-12.068965517241383,-8.9285714285714288,-7.1428571428571344,-5.5555555555555687,{"$f":"(N2041/O2024)*100","v":-7.6495132127955427}]
[]
[null,"jan-dec","feb-jan","mar-feb","apr-mar","may-apr","jun-may","jul-jun","aug-jul","sep-aug","oct-sep","nov-oct","dec-nov"]
["change_05",{"$f":"B2026-M2025","v":0.60000000000000053},{"$f":"C2026-B2026","v":9.9999999999999645E-2},-0.39999999999999947,-0.5,0,0.29999999999999982,0,-0.29999999999999982,-0.10000000000000053,-0.20000000000000018,0.20000000000000018,-0.20000000000000018]
["%change_05",{"$f":"(B2045/M2025)*100","v":11.764705882352953},{"$f":"(C2045/B2026)*100","v":1.7543859649122744},-6.8965517241379226,-9.2592592592592595,0,6.122448979591832,0,-5.7692307692307656,-2.0408163265306229,-4.1666666666666705,4.3478260869565259,-4.1666666666666705]
[null,"jan","feb","mar","apr","may","jun","jul","aug","sep","oct","nov","dec","ytd_avg_total"]
["chg_prv_05-04",{"$f":"B2026-B2025","v":-0.59999999999999964},-0.20000000000000018,-0.59999999999999964,-0.5,-0.39999999999999947,-0.59999999999999964,-0.5,-0.5,-0.29999999999999982,-0.5,-0.40000000000000036,-0.5,{"$f":"O2026-O2025","v":-0.46666666666666856}]
["%chg_prv_05-04",{"$f":"(B2048/B2025)*100","v":-9.5238095238095184},-3.3333333333333361,-9.9999999999999929,-9.2592592592592595,-7.547169811320745,-10.344827586206891,-8.7719298245614024,-9.2592592592592595,-5.8823529411764675,-9.8039215686274517,-7.6923076923076987,-9.8039215686274517,{"$f":"(N2048/O2025)*100","v":-8.4337349397590682}]
[]
[null,"jan-dec","feb-jan","mar-feb","apr-mar","may-apr","jun-may","jul-jun","aug-jul","sep-aug","oct-sep","nov-oct","dec-nov"]
["change_06",{"$f":"B2027-M2026","v":0.5},{"$f":"C2027-B2027","v":0},-0.29999999999999982,-0.29999999999999982,-9.9999999999999645E-2,0.39999999999999947,0.20000000000000018,-0.40000000000000036,-0.19999999999999929,{"$f":"K2027-J2027","v":-0.30000000000000071},{"$f":"L2027-K2027","v":0.20000000000000018},{"$f":"M2027-L2027","v":0}]
["%change_06",{"$f":"(B2052/M2026)*100","v":10.869565217391305},{"$f":"(C2052/B2027)*100","v":0},-5.8823529411764675,-6.2499999999999964,-2.2222222222222143,9.0909090909090793,4.1666666666666705,-8.0000000000000071,-4.3478260869565064,{"$f":"(K2052/J2027)*100","v":-6.8181818181818343},{"$f":"(L2052/K2027)*100","v":4.8780487804878101},{"$f":"(M2052/L2027)*100","v":0}]
[null,"jan","feb","mar","apr","may","jun","jul","aug","sep","oct","nov","dec","ytd_avg_total"]
["chg_prv_06-05",{"$f":"B2027-B2026","v":-0.60000000000000053},-0.70000000000000018,-0.60000000000000053,-0.40000000000000036,-0.5,-0.40000000000000036,-0.20000000000000018,-0.30000000000000071,-0.39999999999999947,-0.5,-0.5,-0.29999999999999982,{"$f":"O2027-O2026","v":-0.44999999999999929}]
["%chg_prv_06-05",{"$f":"(B2055/B2026)*100","v":-10.526315789473694},-12.068965517241383,-11.11111111111112,-8.1632653061224545,-10.204081632653059,-7.6923076923076987,-3.8461538461538494,-6.1224489795918506,-8.3333333333333233,{"$f":"(K2055/K2026)*100","v":-10.869565217391305},{"$f":"(L2055/L2026)*100","v":-10.416666666666668},{"$f":"(M2055/M2026)*100","v":-6.5217391304347796},{"$f":"(N2055/O2026)*100","v":-8.8815789473684088}]
[]
[null,"jan-dec","feb-jan","mar-feb","apr-mar","may-apr","jun-may","jul-jun","aug-jul","sep-aug","oct-sep","nov-oct","dec-nov"]
["change_07",{"$f":"B2028-M2027","v":0.70000000000000018},{"$f":"C2028-B2028","v":-9.9999999999999645E-2},-0.40000000000000036,-0.20000000000000018,0,0.40000000000000036,0.20000000000000018,-0.30000000000000071,-9.9999999999999645E-2,-9.9999999999999645E-2,9.9999999999999645E-2,0.29999999999999982]
["%change_07",{"$f":"(B2059/M2027)*100","v":16.279069767441865},{"$f":"(C2059/B2028)*100","v":-1.9999999999999927},-8.1632653061224545,-4.4444444444444482,0,9.3023255813953565,4.2553191489361737,-6.1224489795918506,-2.1739130434782532,-2.2222222222222143,2.2727272727272645,6.6666666666666625]
[null,"jan","feb","mar","apr","may","jun","jul","aug","sep","oct","nov","dec","ytd_avg_total"]
["chg_prv_07-06",{"$f":"B2028-B2027","v":-9.9999999999999645E-2},-0.19999999999999929,-0.29999999999999982,-0.20000000000000018,-0.10000000000000053,-9.9999999999999645E-2,-9.9999999999999645E-2,0,{"$f":"J2028-J2027","v":9.9999999999999645E-2},{"$f":"K2028-K2027","v":0.30000000000000071},{"$f":"L2028-L2027","v":0.20000000000000018},{"$f":"M2028-M2027","v":0.5},{"$f":"O2028-O2027","v":0}]
["%chg_prv_07-06",{"$f":"(B2062/B2027)*100","v":-1.9607843137254832},-3.9215686274509665,-6.2499999999999964,-4.4444444444444482,-2.2727272727272845,-2.0833333333333259,-1.9999999999999927,0,{"$f":"(J2062/J2027)*100","v":2.2727272727272645},{"$f":"(K2062/K2027)*100","v":7.3170731707317245},{"$f":"(L2062/L2027)*100","v":4.6511627906976782},{"$f":"(M2062/M2027)*100","v":11.627906976744185},{"$f":"(N2062/O2027)*100","v":0}]
[]
[null,"jan-dec","feb-jan","mar-feb","apr-mar","may-apr","jun-may","jul-jun","aug-jul","sep-aug","oct-sep","nov-oct","dec-nov"]
["change_08",{"$f":"B2029-M2028","v":0.60000000000000053},{"$f":"C2029-B2029","v":-0.20000000000000018},0,-0.40000000000000036,0.40000000000000036,0.5,0.29999999999999982,{"$f":"I2029-H2029","v":9.9999999999999645E-2},{"$f":"J2029-I2029","v":-9.9999999999999645E-2},{"$f":"K2029-J2029","v":9.9999999999999645E-2},{"$f":"L2029-K2029","v":0.40000000000000036},{"$f":"M2029-L2029","v":0.59999999999999964}]
["%change_08",{"$f":"(B2066/M2028)*100","v":12.500000000000011},{"$f":"(C2066/B2029)*100","v":-3.7037037037037068},0,-7.6923076923076987,8.333333333333341,9.615384615384615,5.2631578947368389,1.6666666666666607,-1.6393442622950762,1.6666666666666607,6.5573770491803334,9.2307692307692264]
[null,"jan","feb","mar","apr","may","jun","jul","aug","sep","oct","nov","dec","ytd_avg_total"]
["chg_prv_08-07",{"$f":"B2029-B2028","v":0.40000000000000036},0.29999999999999982,0.70000000000000018,0.5,0.90000000000000036,1,1.0999999999999996,1.5,1.5,1.6999999999999993,2,2.2999999999999998,{"$f":"O2029-O2028","v":1.1583333333333332}]
["%chg_prv_08-07",{"$f":"(B2069/B2028)*100","v":8.0000000000000071},6.122448979591832,15.555555555555559,11.627906976744185,20.930232558139544,21.276595744680851,22.448979591836725,32.608695652173914,33.333333333333329,38.636363636363619,44.444444444444443,47.916666666666664,{"$f":"(N2069/O2028)*100","v":25.090252707581229}]
[]
[null,"jan-dec","feb-jan","mar-feb","apr-mar","may-apr","jun-may","jul-jun","aug-jul","sep-aug","oct-sep","nov-oct","dec-nov"]
["change_09",{"$f":"B2030-M2029","v":1.4000000000000004},{"$f":"C2030-B2030","v":0.40000000000000036},9.9999999999999645E-2,-0.40000000000000036,0.5,0.59999999999999964,0,-9.9999999999999645E-2,-9.9999999999999645E-2,0,-9.9999999999999645E-2,0.29999999999999893]
["%change_09",{"$f":"(B2073/M2029)*100","v":19.718309859154935},{"$f":"(C2073/B2030)*100","v":4.7058823529411802},1.1235955056179736,-4.4444444444444482,5.8139534883720927,6.5934065934065895,0,-1.0309278350515427,-1.041666666666663,0,-1.0526315789473648,3.1914893617021165]
[null,"jan","feb","mar","apr","may","jun","jul","aug","sep","oct","nov","dec","ytd_avg_total"]
["chg_prv_09-08",{"$f":"B2030-B2029","v":3.0999999999999996},3.7,3.8,3.8,3.8999999999999995,3.9999999999999991,3.6999999999999993,3.5,3.5,3.4000000000000004,2.9000000000000004,2.5999999999999996,{"$f":"O2030-O2029","v":3.491666666666668}]
["%chg_prv_09-08",{"$f":"(B2076/B2029)*100","v":57.407407407407398},71.15384615384616,73.076923076923066,79.166666666666657,74.999999999999986,70.175438596491219,61.666666666666657,57.37704918032788,58.333333333333336,55.73770491803279,44.61538461538462,36.619718309859152,{"$f":"(N2076/O2029)*100","v":60.461760461760491}]
[]
[null,"jan-dec","feb-jan","mar-feb","apr-mar","may-apr","jun-may","jul-jun","aug-jul","sep-aug","oct-sep","nov-oct","dec-nov"]
["change_10",{"$f":"M2031-B2030","v":0.59999999999999964},{"$f":"C2031-B2031","v":-0.19999999999999929},-0.20000000000000107,-0.69999999999999929,-0.19999999999999929,0.29999999999999893,9.9999999999999645E-2,-0.19999999999999929,-0.30000000000000071,-0.19999999999999929,{"$f":"L2031-K2031","v":0.30000000000000071},{"$f":"M2031-L2031","v":-0.20000000000000107}]
["%change_10",{"$f":"(B2080/M2030)*100","v":6.185567010309275},{"$f":"(C2080/B2031)*100","v":-1.886792452830182},-1.9230769230769333,-6.8627450980392091,-2.1052631578947296,3.2258064516128915,1.041666666666663,-2.0618556701030855,-3.1578947368421129,-2.1739130434782532,{"$f":"(L2080/K2031)*100","v":3.333333333333341},{"$f":"(M2080/L2031)*100","v":-2.1505376344086136}]
[null,"jan","feb","mar","apr","may","jun","jul","aug","sep","oct","nov","dec","ytd_avg_total"]
["chg_prv_10-09",{"$f":"B2031-B2030","v":2.0999999999999996},1.5,1.1999999999999993,0.90000000000000036,0.20000000000000107,-9.9999999999999645E-2,{"$f":"H2031-H2030","v":0},-9.9999999999999645E-2,-0.30000000000000071,-0.5,-9.9999999999999645E-2,-0.59999999999999964,{"$f":"O2031-O2030","v":0.34999999999999787}]
["%chg_prv_10-09",{"$f":"(B2083/B2030)*100","v":24.70588235294117},16.853932584269664,13.333333333333325,10.465116279069772,2.19780219780221,-1.0309278350515427,{"$f":"(H2083/H2030)*100","v":0},-1.041666666666663,-3.1578947368421129,-5.2631578947368416,-1.0638297872340388,-6.185567010309275,{"$f":"(N2083/O2030)*100","v":3.7769784172661636}]
[]
[null,"jan-dec","feb-jan","mar-feb","apr-mar","may-apr","jun-may","jul-jun","aug-jul","sep-aug","oct-sep","nov-oct","dec-nov"]
["change_11",{"$f":"B2032-M2031","v":0.70000000000000107},{"$f":"C2032-B2032","v":-0.30000000000000071},-0.30000000000000071,-0.5,0,0.60000000000000142,0,{"$f":"I2032-H2032","v":-0.20000000000000107},{"$f":"J2032-I2032","v":-0.29999999999999893},{"$f":"K2032-J2032","v":-0.30000000000000071},{"$f":"L2032-K2032","v":-0.30000000000000071},{"$f":"M2032-L2032","v":0.10000000000000142}]
["%change_11",{"$f":"(B2087/M2031)*100","v":7.6923076923077041},{"$f":"(C2087/B2032)*100","v":-3.0612244897959253},-3.1578947368421129,-5.4347826086956523,0,6.8965517241379475,0,{"$f":"(I2087/H2032)*100","v":-2.1505376344086136},{"$f":"(J2087/I2032)*100","v":-3.296703296703285},{"$f":"(K2087/J2032)*100","v":-3.4090909090909172},{"$f":"(L2087/K2032)*100","v":-3.5294117647058907},{"$f":"(M2087/L2032)*100","v":1.2195121951219685}]
[null,"jan","feb","mar","apr","may","jun","jul","aug","sep","oct","nov","dec","ytd_avg_total"]
["chg_prv_11-10",{"$f":"B2032-B2031","v":-0.79999999999999893},-0.90000000000000036,-1,-0.80000000000000071,-0.60000000000000142,-0.29999999999999893,{"$f":"H2032-H2031","v":-0.39999999999999858},-0.40000000000000036,-0.39999999999999858,-0.5,-1.1000000000000014,-0.79999999999999893,{"$f":"O2032-O2031","v":-0.66666666666666607}]
["%chg_prv_11-10",{"$f":"(B2090/B2031)*100","v":-7.547169811320745},-8.6538461538461569,-9.8039215686274517,-8.4210526315789558,-6.4516129032258211,-3.1249999999999889,{"$f":"(H2090/H2031)*100","v":-4.1237113402061709},-4.2105263157894779,-4.3478260869565064,-5.5555555555555554,-11.827956989247326,-8.7912087912087795,{"$f":"(N2090/O2031)*100","v":-6.9324090121317097}]
[]
[null,"jan-dec","feb-jan","mar-feb","apr-mar","may-apr","jun-may","jul-jun","aug-jul","sep-aug","oct-sep","nov-oct","dec-nov"]
["change_12",{"$f":"B2033-M2032","v":0.5},{"$f":"C2033-B2033","v":-0.10000000000000142},-0.29999999999999893,-0.70000000000000018,0.20000000000000018,0.5,0.19999999999999929,-0.40000000000000036,-0.59999999999999964,-9.9999999999999645E-2,-9.9999999999999645E-2,0.19999999999999929]
["%change_12",{"$f":"(B2094/M2032)*100","v":6.0240963855421681},{"$f":"(C2094/B2033)*100","v":-1.1363636363636525},-3.4482758620689538,-8.3333333333333357,2.5974025974025996,6.329113924050632,2.3809523809523725,-4.6511627906976782,-7.317073170731704,-1.315789473684206,-1.3333333333333286,2.7027027027026933]
[null,"jan","feb","mar","apr","may","jun","jul","aug","sep","oct","nov","dec","ytd_avg_total"]
["chg_prv_12-11",{"$f":"B2033-B2032","v":-1},-0.80000000000000071,-0.79999999999999893,-0.99999999999999911,-0.79999999999999893,-0.90000000000000036,-0.70000000000000107,{"$f":"I2033-I2032","v":-0.90000000000000036},{"$f":"J2033-J2032","v":-1.2000000000000011},{"$f":"K2033-K2032","v":-1},{"$f":"L2033-L2032","v":-0.79999999999999893},{"$f":"M2033-M2032","v":-0.70000000000000107},{"$f":"O2033-O2032","v":-0.88333333333333286}]
["%chg_prv_12-11",{"$f":"(B2097/B2032)*100","v":-10.204081632653059},-8.4210526315789558,-8.6956521739130324,-11.494252873563209,-9.1954022988505635,-9.6774193548387117,-7.5268817204301186,{"$f":"(I2097/I2032)*100","v":-9.8901098901098941},{"$f":"(J2097/J2032)*100","v":-13.636363636363647},{"$f":"(K2097/K2032)*100","v":-11.76470588235294},{"$f":"(L2097/L2032)*100","v":-9.7560975609755971},{"$f":"(M2097/M2032)*100","v":-8.4337349397590486},{"$f":"(N2097/O2032)*100","v":-9.8696461824953392}]
[]
[null,"jan-dec","feb-jan","mar-feb","apr-mar","may-apr","jun-may","jul-jun","aug-jul","sep-aug","oct-sep","nov-oct","dec-nov"]
["change_13",{"$f":"B2034-M2033","v":0.90000000000000036},{"$f":"C2034-B2034","v":-0.40000000000000036},-0.5,-0.5,0.20000000000000018,0.5,-9.9999999999999645E-2,{"$f":"I2034-H2034","v":-0.40000000000000036},-0.29999999999999982,{"$f":"K2034-J2034","v":0},{"$f":"L2034-K2034","v":-0.40000000000000036},0.10000000000000053]
["%change_13",{"$f":"(B2101/M2033)*100","v":11.842105263157899},{"$f":"(C2101/B2034)*100","v":-4.7058823529411802},-6.1728395061728403,-6.5789473684210522,2.8169014084507067,6.8493150684931505,-1.2820512820512775,-5.1948051948051992,-4.1095890410958882,{"$f":"(K2101/J2034)*100","v":0},{"$f":"(L2101/K2034)*100","v":-5.7142857142857197},1.5151515151515234]
[null,"jan","feb","mar","apr","may","jun","jul","aug","sep","oct","nov","dec","ytd_avg_total"]
["chg_prv_13-12",{"$f":"B2034-B2033","v":-0.30000000000000071},-0.59999999999999964,-0.80000000000000071,-0.60000000000000053,-0.60000000000000053,-0.60000000000000053,{"$f":"H2034-H2033","v":-0.89999999999999947},-0.89999999999999947,{"$f":"J2034-J2033","v":-0.59999999999999964},-0.5,-0.80000000000000071,{"$f":"M2034-M2033","v":-0.89999999999999947},{"$f":"O2034-O2033","v":-0.67499999999999982}]
["%chg_prv_13-12",{"$f":"(B2104/B2033)*100","v":-3.4090909090909172},-6.8965517241379279,-9.5238095238095308,-7.7922077922077992,-7.5949367088607653,-7.1428571428571495,{"$f":"(H2104/H2033)*100","v":-10.465116279069761},-10.975609756097555,{"$f":"(J2104/J2033)*100","v":-7.8947368421052584},-6.666666666666667,-10.810810810810819,{"$f":"(M2104/M2033)*100","v":-11.842105263157888},{"$f":"(N2104/N2033)*100","v":-8.367768595041321}]
[]
[null,"jan-dec","feb-jan","mar-feb","apr-mar","may-apr","jun-may","jul-jun","aug-jul","sep-aug","oct-sep","nov-oct","dec-nov"]
["change_14",{"$f":"B2035-M2034","v":0.29999999999999982},{"$f":"C2035-B2035","v":0},-0.20000000000000018,-0.89999999999999947,0.19999999999999929,0.20000000000000018,0.20000000000000018,-0.20000000000000018,{"$f":"J2035-I2035","v":-0.59999999999999964},{"$f":"K2035-J2035","v":-0.20000000000000018},{"$f":"L2035-K2035","v":0},{"$f":"M2035-L2035","v":-9.9999999999999645E-2}]
["%change_14",{"$f":"(B2108/M2034)*100","v":4.4776119402985044},{"$f":"(C2108/B2035)*100","v":0},-2.8571428571428599,-13.235294117647051,3.3898305084745637,3.2786885245901667,3.1746031746031771,-3.0769230769230793,{"$f":"(J2108/I2035)*100","v":-9.5238095238095184},{"$f":"(K2108/J2035)*100","v":-3.5087719298245648},{"$f":"(L2108/K2035)*100","v":0},{"$f":"(M2108/L2035)*100","v":-1.8181818181818119}]
[null,"jan","feb","mar","apr","may","jun","jul","aug","sep","oct","nov","dec","ytd_avg_total"]
["chg_prv_14-13",{"$f":"B2035-B2034","v":-1.5},-1.0999999999999996,-0.79999999999999982,-1.1999999999999993,-1.2000000000000002,-1.5,{"$f":"H2035-H2034","v":-1.2000000000000002},-1,{"$f":"J2035-J2034","v":-1.2999999999999998},-1.5,{"$f":"L2035-L2034","v":-1.0999999999999996},-1.2999999999999998,{"$f":"O2035-O2034","v":-1.2249999999999996}]
["%chg_prv_14-13",{"$f":"(B2111/B2034)*100","v":-17.647058823529413},-13.580246913580243,-10.526315789473681,-16.901408450704217,-16.438356164383563,-19.230769230769234,{"$f":"(H2111/H2034)*100","v":-15.584415584415586},-13.698630136986301,{"$f":"(J2111/J2034)*100","v":-18.571428571428569},-21.428571428571427,{"$f":"(L2111/L2034)*100","v":-16.666666666666664},-19.402985074626862,{"$f":"(N2111/O2034)*100","v":-16.572717023675303}]
[]
[null,"jan-dec","feb-jan","mar-feb","apr-mar","may-apr","jun-may","jul-jun","aug-jul","sep-aug","oct-sep","nov-oct","dec-nov"]
["change_15"]
["%change_15"]
[null,"jan","feb","mar","apr","may","jun","jul","aug","sep","oct","nov","dec","ytd_avg_total"]
["chg_prv_15-14",{"$nulls":12},{"$f":"N2036-N2035","v":{"$error":"#DIV/0!"}}]
["%chg_prv_15-14",{"$nulls":12},{"$f":"(N2118/N2035)*100","v":{"$error":"#DIV/0!"}}]

{"sheet":"graphs","index":2,"n_rows":37,"n_cols":36,"rows_kept":37,"cut":false,"hidden":false,"merged":[]}
[{"$nulls":29},"employment"]
[{"$nulls":29},"date","ecch","wi","us","ecch","wi","us"]
[{"$nulls":29},"2007-01-01",81.2,2814.4,134952,{"$f":"(AE3/AE$3)*100","v":100},{"$f":"(AF3/AF$3)*100","v":100},100]
[{"$nulls":29},"2007-02-01",81.8,2810,135641,{"$f":"(AE4/AE$3)*100","v":100.73891625615762},99.843661171119948,100.51055189993478]
[{"$nulls":29},"2007-03-01",81.900000000000006,2830,136533,100.86206896551724,100.5542922114838,101.17152765427709]
[{"$nulls":29},"2007-04-01",83.4,2862.4,137335,102.70935960591135,101.70551449687322,101.76581302981802]
[{"$nulls":29},"2007-05-01",84.3,2904.3,138277,103.81773399014777,103.19428652643548,102.4638389946055]
[{"$nulls":29},"2007-06-01",84,2942.8,138779,103.44827586206897,104.56225127913588,102.83582310747525]
[{"$nulls":29},"2007-07-01",83.9,2906.3,137379,103.32512315270937,103.26534963047187,101.79841721500978]
[{"$nulls":29},"2007-08-01",83.7,2907.7,137488,103.07881773399015,103.31509380329732,101.87918667378031]
[{"$nulls":29},"2007-09-01",84,2908,138046,103.44827586206897,103.32575326890279,102.2926670223487]
[{"$nulls":29},"2007-10-02",84.7,2909.2,138786,104.31034482758621,103.36839113132461,102.84101013693758]
[{"$nulls":29},"2007-11-01",85.2,2910.5,139090,104.92610837438423,103.41458214894826,103.06627541644437]
[{"$nulls":29},"2007-12-01",85.1,2906.9,138875,104.80295566502463,103.28666856168279,102.90695951153002]
[{"$nulls":29},"2008-01-01",81.7,2828.3,135840,100.61576354679802,100.49388857305289,100.65801173750665]
[{"$nulls":29},"2008-02-01",82.5,2824,136356,101.60098522167486,100.34110289937463,101.04036990930108]
[{"$nulls":29},"2008-03-01",82.5,2836.9,136944,101.60098522167486,100.79945992040933,101.47608038413658]
[{"$nulls":29},"2008-04-01",83.4,2863.3,137543,102.70935960591135,101.73749289368961,101.91994190527002]
[{"$nulls":29},"2008-05-01",84.1,2903.7,138190,103.57142857142856,103.17296759522453,102.39937162843084]
[{"$nulls":29},"2008-06-01",83.4,2923.2,138451,102.70935960591135,103.86583285957929,102.59277372695476]
[{"$nulls":29},"2008-07-01",83.1,2886.7,137050,102.3399014778325,102.56893121091528,101.5546268302804]
[{"$nulls":29},"2008-08-01",82.2,2884.6,137002,101.23152709359606,102.4943149516771,101.51905862825301]
[{"$nulls":29},"2008-09-01",82.5,2878,137119,101.60098522167486,102.25980670835702,101.60575612069476]
[{"$nulls":29},"2008-10-01",83.5,2892.1,137492,102.83251231527093,102.76080159181353,101.88215069061593]
[{"$nulls":29},"2008-11-01",83.6,2877.9,136882,102.95566502463053,102.25625355315519,101.43013812318453]
[{"$nulls":29},"2008-12-01",83.2,2843.5,135917,102.46305418719213,101.03396816372938,100.71506906159226]
[{"$nulls":29},"2009-01-09",80.099999999999994,2753.8,132302,98.645320197044327,97.84678794769755,98.036338846404647]
[{"$nulls":29},"2009-02-09",80.5,2733.2,132138,99.137931034482747,97.114837976122786,97.914814156144402]
[{"$nulls":29},"2009-03-09",80.599999999999994,2723.5,132077,99.261083743842349,96.770181921546325,97.869612899401275]
[{"$nulls":29},"2009-04-09",81,2736,132336,99.753694581280783,97.21432632177374,98.061532989507384]
[{"$nulls":29},"2009-05-09",82.1,2774.5,132720,101.10837438423643,98.582291074474128,98.34607860572649]
[{"$nulls":29},"2009-06-09",80.900000000000006,2802.7,132625,99.630541871921181,99.584280841387141,98.275683205880597]
[{"$nulls":29},"2009-07-09",80.2,2775.9,131127,98.768472906403943,98.632035247299598,97.16565890094256]
[{"$nulls":29},"2009-08-09",80.400000000000006,2772,131046,99.01477832512316,98.493462194428645,97.105637560021336]
[{"$nulls":29},"2009-09-09",80.599999999999994,2755.3,131435,99.261083743842349,97.900085275724848,97.393888197284966]
[{"$nulls":29},"2009-10-09",81.2,2761,132143,100,98.102615122228528,97.918519177188927]
[{"$nulls":29},"2009-11-09",81.599999999999994,2751.2,132223,100.49261083743841,97.754405912450252,97.977799513901246]

{"sheet":"Sheet1","index":3,"n_rows":15,"n_cols":14,"rows_kept":15,"cut":false,"hidden":false,"merged":[]}
["year","us_man","us_tot","us_man%",null,"wi_man","wi_tot","wi_man%",null,"ec_man","ec_hcsa","ec_tot","ec_man%","ec_hcsa%"]
[2000,{"$f":"AVERAGE(data!P86:P96)","v":17269},{"$f":"AVERAGE(data!V86:V96)","v":131742.36363636365},{"$f":"(B2/C2)*100","v":13.108160141764296},null,{"$f":"AVERAGE(data!I86:I96)","v":594.66363636363644},{"$f":"AVERAGE(data!O86:O96)","v":2831.8818181818183},{"$f":"(F2/G2)*100","v":20.998886060345356},null,{"$f":"AVERAGE(data!B86:B96)","v":12.790909090909089},{"$f":"AVERAGE(data!E86:E96)","v":11.127272727272727},{"$f":"AVERAGE(data!H86:H96)","v":76.672727272727272},{"$f":"(J2/L2)*100","v":16.682475693621054},{"$f":"(K2/L2)*100","v":14.512686744130898}]
[2001,{"$f":"AVERAGE(data!P98:P108)","v":16506.727272727272},{"$f":"AVERAGE(data!V98:V108)","v":131948.27272727274},{"$f":"(B3/C3)*100","v":12.509998752954839},null,{"$f":"AVERAGE(data!I98:I108)","v":562.24545454545466},{"$f":"AVERAGE(data!O98:O108)","v":2815.2909090909088},{"$f":"(F3/G3)*100","v":19.971131677010618},null,{"$f":"AVERAGE(data!B98:B108)","v":12.118181818181817},{"$f":"AVERAGE(data!E98:E108)","v":11.654545454545456},{"$f":"AVERAGE(data!H98:H108)","v":76.718181818181819},{"$f":"(J3/L3)*100","v":15.795710392226567},{"$f":"(K3/L3)*100","v":15.191373385472215}]
[2002,{"$f":"AVERAGE(data!P110:P120)","v":15289.454545454546},{"$f":"AVERAGE(data!V110:V120)","v":130395.63636363637},{"$f":"(B4/C4)*100","v":11.725434203040816},null,{"$f":"AVERAGE(data!I110:I120)","v":528.94545454545448},{"$f":"AVERAGE(data!O110:O120)","v":2780.2727272727275},{"$f":"(F4/G4)*100","v":19.024948500801095},null,{"$f":"AVERAGE(data!B110:B120)","v":11.372727272727271},{"$f":"AVERAGE(data!E110:E120)","v":11.972727272727271},{"$f":"AVERAGE(data!H110:H120)","v":76.336363636363643},{"$f":"(J4/L4)*100","v":14.898177920685956},{"$f":"(K4/L4)*100","v":15.684172918899602}]
[2003,{"$f":"AVERAGE(data!P122:P132)","v":14528.09090909091},{"$f":"AVERAGE(data!#REF!)","v":{"$error":"#REF!"}},{"$f":"(B5/C5)*100","v":{"$error":"#REF!"}},null,{"$f":"AVERAGE(data!I122:I132)","v":504.69090909090903},{"$f":"AVERAGE(data!O122:O132)","v":2771.6272727272726},{"$f":"(F5/G5)*100","v":18.209191187323494},null,{"$f":"AVERAGE(data!B122:B132)","v":10.836363636363636},{"$f":"AVERAGE(data!E122:E132)","v":12.381818181818186},{"$f":"AVERAGE(data!H122:H132)","v":77.018181818181816},{"$f":"(J5/L5)*100","v":14.069877242681775},{"$f":"(K5/L5)*100","v":16.076487252124654}]
[2004,{"$f":"AVERAGE(data!P134:P144)","v":14316.181818181818},{"$f":"AVERAGE(data!#REF!)","v":{"$error":"#REF!"}},{"$f":"(B6/C6)*100","v":{"$error":"#REF!"}},null,{"$f":"AVERAGE(data!I134:I144)","v":502.5181818181818},{"$f":"AVERAGE(data!O134:O144)","v":2801.3818181818183},{"$f":"(F6/G6)*100","v":17.938225291414625},null,{"$f":"AVERAGE(data!B134:B144)","v":10.463636363636363},{"$f":"AVERAGE(data!E134:E144)","v":12.554545454545455},{"$f":"AVERAGE(data!H134:H144)","v":77.836363636363643},{"$f":"(J6/L6)*100","v":13.443120766176126},{"$f":"(K6/L6)*100","v":16.129409016584908}]
[]
[]
["2003-2000",{"$f":"B5-B2","v":-2740.9090909090901},{"$f":"C5-C2","v":{"$error":"#REF!"}},{"$f":"D5-D2","v":{"$error":"#REF!"}},null,{"$f":"F5-F2","v":-89.972727272727411},-60.254545454545678,-2.7896948730218618,null,-1.9545454545454533,1.2545454545454593,0.3454545454545439,-2.612598450939279,1.563800507993756]
["%",{"$f":"(B9/B2)*100","v":-15.871846029932771},{"$f":"(C9/C2)*100","v":{"$error":"#REF!"}},null,null,{"$f":"(F9/F2)*100","v":-15.130020026600238},{"$f":"(G9/G2)*100","v":-2.1277210463970393},null,null,{"$f":"(J9/J2)*100","v":-15.280739161336168},{"$f":"(K9/K2)*100","v":11.274509803921612},{"$f":"(L9/L2)*100","v":0.45055726820014025}]
[null,{"$f":"B9*1000","v":-2740909.0909090899},{"$f":"C9*1000","v":{"$error":"#REF!"}},null,null,{"$f":"F9*1000","v":-89972.72727272741},{"$f":"G9*1000","v":-60254.545454545674},null,null,{"$f":"J9*1000","v":-1954.5454545454531},{"$f":"K9*1000","v":1254.5454545454593},{"$f":"L9*1000","v":345.4545454545439}]
[]
["2004-2003",{"$f":"B6-B5","v":-211.9090909090919},{"$f":"C6-C5","v":{"$error":"#REF!"}},{"$f":"D6-D5","v":{"$error":"#REF!"}},null,{"$f":"F6-F5","v":-2.1727272727272293},29.754545454545678,-0.27096589590886921,null,-0.37272727272727302,0.1727272727272684,0.81818181818182723,-0.62675647650564947,5.292176446025465E-2]
["%",{"$f":"(B13/B5)*100","v":-1.4586162231163518},{"$f":"(C13/C5)*100","v":{"$error":"#REF!"}},null,null,{"$f":"(F13/F5)*100","v":-0.43050652064268907},{"$f":"(G13/G5)*100","v":1.0735406505531784},null,null,{"$f":"(J13/J5)*100","v":-3.4395973154362443},{"$f":"(K13/K5)*100","v":1.3950073421438705},{"$f":"(L13/L5)*100","v":1.0623229461756492}]
[null,{"$f":"B13*1000","v":-211909.0909090919},{"$f":"C13*1000","v":{"$error":"#REF!"}},null,null,{"$f":"F13*1000","v":-2172.7272727272293},{"$f":"G13*1000","v":29754.545454545678},null,null,{"$f":"J13*1000","v":-372.72727272727303},{"$f":"K13*1000","v":172.7272727272684},{"$f":"L13*1000","v":818.18181818182723}]

{"sheet":"Sheet3","index":4,"n_rows":7,"n_cols":13,"rows_kept":7,"cut":false,"hidden":false,"merged":[]}
["Area   ","Wisconsin ","Wisconsin ","Wisconsin ","Wisconsin ","Wisconsin ","Wisconsin ","Eau Claire, WI Metro SA ","Eau Claire, WI Metro SA ","Eau Claire, WI Metro SA ","Eau Claire, WI Metro SA ","Eau Claire, WI Metro SA ","Eau Claire, WI Metro SA "]
[" Year   ",2010,2010,2010,2010,2010,2010,2010,2010,2010,2010,2010,2010]
[" Series Code   ",0,20000000,30000000,42000000,65000000,70000000,0,15000000,30000000,42000000,65000000,70000000]
[" Series Desc   ","Total Nonfarm ","Construction ","Manufacturing ","Retail Trade ","Educational and Health Services ","Leisure and Hospitality ","Total Nonfarm ","Natural Resources and Mining and Construction ","Manufacturing ","Retail Trade ","Educational and Health Services ","Leisure and Hospitality "]
["Jan Emp",2642300,80500,416500,289500,415500,231900,76000,2700,9400,10100,13900,7400]
["Feb Emp",2650800,81400,415700,281700,417600,232400,77000,2700,9400,9900,13900,7400]
["Mar Emp",2655700,82900,416500,280200,417800,235200,77100,2800,9400,9900,13900,7400]

{"sheet":"Sheet2","index":5,"n_rows":13,"n_cols":17,"rows_kept":13,"cut":false,"hidden":false,"merged":[]}
["Area   "," Year   "," Series Code   "," Series Desc   ","Jan Emp","Feb Emp","Mar Emp","Apr Emp","May Emp","Jun Emp","Jul Emp","Aug Emp","Sep Emp","Oct Emp","Nov Emp","Dec Emp","Avg Ann Emp"]
["Wisconsin ",2010,0,"Total Nonfarm ",2642300,2650800,2655700," "," "," "," "," "," "," "," "," "," "]
["Wisconsin ",2010,20000000,"Construction ",80500,81400,82900,{"$nulls":7}," "," "," "]
["Wisconsin ",2010,30000000,"Manufacturing ",416500,415700,416500,{"$nulls":7}," "," "," "]
["Wisconsin ",2010,42000000,"Retail Trade ",289500,281700,280200,{"$nulls":7}," "," "," "]
["Wisconsin ",2010,65000000,"Educational and Health Services ",415500,417600,417800,{"$nulls":7}," "," "," "]
["Wisconsin ",2010,70000000,"Leisure and Hospitality ",231900,232400,235200,{"$nulls":7}," "," "," "]
["Eau Claire, WI Metro SA ",2010,0,"Total Nonfarm ",76000,77000,77100,{"$nulls":7}," "," "," "]
["Eau Claire, WI Metro SA ",2010,15000000,"Natural Resources and Mining and Construction ",2700,2700,2800," "," "," "," "," "," "," "," "," "," "]
["Eau Claire, WI Metro SA ",2010,30000000,"Manufacturing ",9400,9400,9400," "," "," "," "," "," "," "," "," "," "]
["Eau Claire, WI Metro SA ",2010,42000000,"Retail Trade ",10100,9900,9900," "," "," "," "," "," "," "," "," "," "]
["Eau Claire, WI Metro SA ",2010,65000000,"Educational and Health Services ",13900,13900,13900," "," "," "," "," "," "," "," "," "," "]
["Eau Claire, WI Metro SA ",2010,70000000,"Leisure and Hospitality ",7400,7400,7400," "," "," "," "," "," "," "," "," "," "]